{"text_format":"1","workbook":"xlsx","n_sheets":3,"sheets":["Map","Data","control"],"not_rendered":{"charts":0,"images":0,"macros":1,"external_links":0,"defined_names":11,"comments":0,"pivot_tables":0},"unopened":[],"bounds":{"document_bytes":16777216,"sheet_cells":100000,"rows_first":2000,"rows_last":500,"rows_between":2000,"halvings":0,"cell_chars":16384,"cell_head_chars":4096},"cells_cut":0,"cells_raw":0,"read":"whole","date_system":"1900"}

{"sheet":"Map","index":0,"n_rows":17,"n_cols":3,"rows_kept":17,"cut":false,"hidden":false,"merged":[]}
[]
[]
[]
[]
[]
[]
[]
[null,null,{"$f":"control!D19","v":"90% to 100%"}]
[null,null,{"$f":"control!D20","v":"80% to 90%"}]
[null,null,{"$f":"control!D21","v":"70% to 80%"}]
[null,null,{"$f":"control!D22","v":"60% to 70%"}]
[null,null,{"$f":"control!D23","v":"50% to 60%"}]
[null,null,{"$f":"control!D24","v":"40% to 50%"}]
[null,null,{"$f":"control!D25","v":"30% to 40%"}]
[null,null,{"$f":"control!D26","v":"20% to 30%"}]
[null,null,{"$f":"control!D27","v":"10% to 20%"}]
[null,null,{"$f":"control!D28","v":"0%  to 10%"}]

{"sheet":"Data","index":1,"n_rows":27,"n_cols":7,"rows_kept":27,"cut":false,"hidden":false,"merged":[]}
["ID","Name","Shape index","Values","Плотность","Площадь","Города"]
["S_BLG","Белгородская область",1,{"$f":"(INDEX(rngStat,ROW()-1,valSelectedStat)-$D$26)/$D$27","v":0.80845626750701649},56.390506375764723,27.134,11]
["S_BRY","Брянская область",2,0.5303040130785035,37.071463407636919,34.856999999999999,16]
["S_VRN","Воронежская область",3,0.62015986684677615,43.312394668300904,52.216000000000001,15]
["S_KLG","Калужская область",4,0.48085087322247233,33.636699466030834,29.776999999999997,22]
["S_KIR","Кировская область",5,0.1629437080480084,11.55648229684151,120.374,18]
["S_KUR","Курская область",6,0.54785543037272799,38.29049571623829,29.997,10]
["S_LIP","Липецкая область",7,0.68983299883620353,48.151536574208848,24.046999999999997,8]
["S_NEN","Ненецкий автономный округ",8,0,0.23923986199875572,176.81,1]
["S_NNV","Нижегородская область",9,0.62106763631268647,43.375443725203596,76.623999999999995,28]
["S_ORL","Орловская область",10,0.47109039625394733,32.958786305370765,24.651999999999997,7]
["S_PNZ","Пензенская область",11,0.4526150977714703,31.675585901457836,43.351999999999997,11]
["S_KOM","Республика Коми",12,2.9415514097857556E-2,2.2822920815597905,416.774,10]
["S_MAR","Республика Марий Эл",13,0.42661165340041118,29.869518716577542,23.375,4]
["S_MRD","Республика Мордовия",14,0.45199808272100978,31.632731169626453,26.128,7]
["S_TAT","Республика Татарстан",15,0.79839183930071933,55.691482305776233,67.846999999999994,22]
["S_SAM","Самарская область",16,0.84865205844953751,59.182301876225146,53.564999999999998,11]
["S_SMO","Смоленская область",17,0.2759564516243041,19.405773518953776,49.778999999999996,15]
["S_TMB","Тамбовская область",18,0.45127648609758608,31.58261273286519,34.461999999999996,8]
["S_TUL","Тульская область",19,0.86023450238002774,59.986759609019039,25.679000000000002,19]
["S_UDM","Удмуртская республика",20,0.51902056662150242,36.287772520862546,42.061000000000007,6]
["S_ULN","Ульяновская область",21,0.49942034867689683,34.926440924127917,37.180999999999997,6]
["S_CHU","Чувашская республика",22,1,69.694161260426327,18.343,9]
["S_NEW","Новая область",23,0.71644685698438937,50,35,5]
[]
[null,null,"MIN",{"$f":"MIN(OFFSET($D$1,1,valSelectedStat,ROWS(rngStat),1))","v":0.23923986199875572}]
[null,null,"BASE",{"$f":"MAX(OFFSET($D$1,1,valSelectedStat,ROWS(rngStat),1))-D$26","v":69.454921398427572}]

{"sheet":"control","index":2,"n_rows":57,"n_cols":28,"rows_kept":57,"cut":false,"hidden":false,"merged":[[4,5,4,9],[6,5,8,9]]}
[]
[null,"Control"]
[]
[null,"Метрики","Плотность населения"]
[null,null,"Площадь территории",null,null,"Цветовая схемы выбирается тут:"]
[null,null,"Города"]
[null,null,null,null,null,"Пересоздайте shape индексы, если вы добавили свою карту"]
[]
[]
[]
[]
[]
[]
[]
[null,"Выбрано",1]
[]
[null,null,null,null,null,1,{"$f":"F17+1","v":2},{"$f":"G17+1","v":3},4,5,6,7,8,9,10,11,12,13,14,15,16,17,18,19,20,21,22,23]
[null,"Threshold","RGB","Legend",null,{"$f":"$C$31","v":"Green Yellow Red"},{"$f":"$C$32","v":"Green to Pink"},{"$f":"$C$33","v":"Green to Purple"},{"$f":"$C$34","v":"Green to Brown"},{"$f":"$C$35","v":"Blue to Red"},{"$f":"$C$36","v":"Blue to Red Brown"},{"$f":"$C$37","v":"Brown to Purple"},{"$f":"$C$38","v":"Brown Blue Green"},{"$f":"$C$39","v":"Purple to Green"},{"$f":"$C$40","v":"Pink to Green"},{"$f":"$C$41","v":"Red to Blue"},{"$f":"$C$42","v":"Red to Green"},{"$f":"$C$43","v":"Red Yellow Blue"},{"$f":"$C$44","v":"Spectral"},{"$f":"$C$45","v":"Red Yellow Green"},{"$f":"$C$46","v":"Light"},{"$f":"$C$47","v":"Pairwise"},{"$f":"$C$48","v":"Light to Dark Blue"},{"$f":"$C$49","v":"Light to Dark Red"},{"$f":"$C$50","v":"Light to Dark Brown"},{"$f":"$C$51","v":"Light to Dark Green"},{"$f":"$C$52","v":"Light to Dark Yellow"},{"$f":"$C$53","v":"Light Grey to Black"}]
[null,1,3631104,{"$f":"TEXT(B20,\"0%\")&\" to 100%\"","v":"90% to 100%"}]
[null,0.9,5281818,{"$f":"TEXT(B21,\"0%\")&\" to \"&TEXT(B20,\"0%\")","v":"80% to 90%"}]
[null,0.8,6536550,"70% to 80%"]
[null,0.7,7002534,"60% to 70%"]
[null,0.6,9170905,"50% to 60%"]
[null,0.5,9167102,"40% to 50%"]
[null,0.4,6401789,"30% to 40%"]
[null,0.3,4419060,"20% to 30%"]
[null,0.2,2568407,{"$f":"TEXT(B28,\"0%\")&\" to \"&TEXT(B27,\"0%\")","v":"10% to 20%"}]
[null,0.1,2490533,{"$f":"\"0%  to \"&TEXT(B28,\"0%\")","v":"0%  to 10%"}]
[null,null,null,null,null,{"$f":"IF(F$17=myColorScaleSelection,\"▲\",\"\")","v":"▲"},"","","","","","","","","","","","","","","","","","","","","",""]
[null,null,null,null,null,{"$f":"IF(F$17=myColorScaleSelection,\"Current Selection\",\"\")","v":"Current Selection"},"","","","","","","","","","","","","","","","","","","","","",""]
[null,"Color Scales","Green Yellow Red"]
[null,null,"Green to Pink"]
[null,null,"Green to Purple"]
[null,null,"Green to Brown"]
[null,null,"Blue to Red"]
[null,null,"Blue to Red Brown"]
[null,null,"Brown to Purple"]
[null,null,"Brown Blue Green"]
[null,null,"Purple to Green"]
[null,null,"Pink to Green"]
[null,null,"Red to Blue"]
[null,null,"Red to Green"]
[null,null,"Red Yellow Blue"]
[null,null,"Spectral"]
[null,null,"Red Yellow Green"]
[null,null,"Light"]
[null,null,"Pairwise"]
[null,null,"Light to Dark Blue"]
[null,null,"Light to Dark Red"]
[null,null,"Light to Dark Brown"]
[null,null,"Light to Dark Green"]
[null,null,"Light to Dark Yellow"]
[null,null,"Light Grey to Black"]
[]
[null,"Выбрано",1]
[]
[null,"Show Status Bar",true]