{"text_format":"1","workbook":"xlsx","n_sheets":3,"sheets":["Лист1","Лист2","Лист3"],"not_rendered":{"charts":0,"images":0,"macros":1,"external_links":0,"defined_names":0,"comments":0,"pivot_tables":0},"unopened":[],"bounds":{"document_bytes":16777216,"sheet_cells":100000,"rows_first":2000,"rows_last":500,"rows_between":2000,"halvings":0,"cell_chars":16384,"cell_head_chars":4096},"cells_cut":0,"cells_raw":0,"read":"whole","date_system":"1900"}

{"sheet":"Лист1","index":0,"n_rows":19,"n_cols":7,"rows_kept":19,"cut":false,"hidden":false,"merged":[[16,0,17,4],[17,6,18,17],[5,1,5,2],[5,3,5,4],[5,0,6,0],[3,0,4,4],[7,6,14,17]]}
[]
[]
[]
["УЧЕТ ЧЕКОВ"]
[]
["ФАМИЛИЯ","материалы",null,"работы"]
[null,"комент","сумма","комент","сумма"]
[null,null,null,null,null,null,"В ЭТИХ ПОЛЯХ ВВОДЯТСЯ ДАННЫЕ, И СОДЕРЖИМОЕ ЯЧЕЕК В8:Е8 ПЕРЕКИДЫВАЕТСЯ НА СЛЕД. ЛИСТ В СООТВЕТСТВИИ С ФАМИЛИЕЙ. МЕНЯЕМ ПОЛЕ А8 НА 1 ЛИСТЕ, И МЕНЯЮТСЯ СООТВЕТСТВЕННО ДАННЫЕ НА ВТОРОМ (В СЕРОЙ ОБЛАСТИ)"]
[]
[]
[]
[]
[]
[]
[]
[]
["ПОЛЕ ВВОДА"]
[null,null,null,null,null,null,"НА ЛИСТЕ 2 ВИСИТ МАКРОС, КОТОРЫЙ ПО ИДЕЕ ПОХОЖ НА ТОТ, КОТОРЫЙ НУЖЕН. Но я не знаю синтаксиса VBA чтобы что-то менять осознанно)))"]
["ИВАНОВ","ПЛИТКА",27000,"ЗП ВАСЯ",2000]

{"sheet":"Лист2","index":1,"n_rows":120,"n_cols":17,"rows_kept":120,"cut":false,"hidden":false,"merged":[[25,5,31,16],[32,5,38,16],[23,5,24,16]]}
[null,null,null,null,null,null,"ИВАНОВ",null,null,null,"ПЕТРОВ",null,null,null,"СИДОРОВ"]
[null,null,null,null,null,{"$f":"IF(Лист1!$A$8=Лист2!$G1,Лист1!B$8,0)","v":0},{"$f":"IF(Лист1!$A$8=Лист2!$G1,Лист1!$C$8,0)","v":0},{"$f":"IF(Лист1!$A$8=Лист2!$G1,Лист1!$D$8,0)","v":0},{"$f":"IF(Лист1!$A$8=Лист2!$G1,Лист1!$E$8,0)","v":0},{"$f":"IF(Лист1!$A$8=Лист2!$K1,Лист1!B$8,0)","v":0},{"$f":"IF(Лист1!$A$8=Лист2!$K1,Лист1!$C$8,0)","v":0},{"$f":"IF(Лист1!$A$8=Лист2!$K1,Лист1!$D$8,0)","v":0},{"$f":"IF(Лист1!$A$8=Лист2!$K1,Лист1!$E$8,0)","v":0},{"$f":"IF(Лист1!$A$8=Лист2!$O1,Лист1!B$8,0)","v":0},{"$f":"IF(Лист1!$A$8=Лист2!$O1,Лист1!$C$8,0)","v":0},{"$f":"IF(Лист1!$A$8=Лист2!$O1,Лист1!$D$8,0)","v":0},{"$f":"IF(Лист1!$A$8=Лист2!$O1,Лист1!$E$8,0)","v":0}]
[]
[]
[]
[]
[]
[]
[]
[]
[]
[]
[]
[]
[]
[]
[56,{"$f":"IF(Лист1!$A$8=Лист2!$A17,Лист1!B$8,0)","v":0}]
[{"$f":"A17","v":56},{"$f":"IF(Лист1!$A$8=Лист2!$A17,Лист1!$C$8,0)","v":0}]
[{"$f":"A17","v":56},{"$f":"IF(Лист1!$A$8=Лист2!$A17,Лист1!$D$8,0)","v":0}]
[{"$f":"A17","v":56},{"$f":"IF(Лист1!$A$8=Лист2!$A17,Лист1!$E$8,0)","v":0}]
[56,{"$f":"IF(Лист1!$A$8=Лист2!$A21,Лист1!B$8,0)","v":0}]
[{"$f":"A21","v":56},{"$f":"IF(Лист1!$A$8=Лист2!$A21,Лист1!$C$8,0)","v":0},null,null,null,"итого",{"$f":"SUM(G2:G21)","v":0},"итого",{"$f":"SUM(I2:I21)","v":0},"итого",{"$f":"SUM(K2:K21)","v":0},"итого",{"$f":"SUM(M2:M21)","v":0},"итого",{"$f":"SUM(O2:O21)","v":0},"итого",{"$f":"SUM(Q2:Q21)","v":0}]
[{"$f":"A21","v":56},{"$f":"IF(Лист1!$A$8=Лист2!$A21,Лист1!$D$8,0)","v":0}]
[{"$f":"A21","v":56},{"$f":"IF(Лист1!$A$8=Лист2!$A21,Лист1!$E$8,0)","v":0},null,null,null,"внизу должнасуммироваться вся история изменений ячеек количество строк можно тоже сделать постоянным. Например 80 шт."]
[56,{"$f":"IF(Лист1!$A$8=Лист2!$A25,Лист1!B$8,0)","v":0}]
[{"$f":"A25","v":56},{"$f":"IF(Лист1!$A$8=Лист2!$A25,Лист1!$C$8,0)","v":0},null,null,null,"Я СДЕЛАЛ, ЧТОБЫ ДАННЫЕ РАЗНОСИЛИСЬ ПО СТОЛБЦАМ, как здесь, НО ОНИ НЕ СОХРАНЯЮТСЯ. НАДО ЧТОБЫ КАЖДЫЙ РАЗ, ПРИ ВВОДЕ НОВЫХ ДАННЫХ ИЗ ФОРМЫ НА ПЕРВОМ ЛИСТЕ ОНИ СОХРАНЯЛИСЬ В СТОЛБИК В СООТВЕТСТВУЮЩЕЙ КОЛОНКЕ. "]
[{"$f":"A25","v":56},{"$f":"IF(Лист1!$A$8=Лист2!$A25,Лист1!$D$8,0)","v":0}]
[{"$f":"A25","v":56},{"$f":"IF(Лист1!$A$8=Лист2!$A25,Лист1!$E$8,0)","v":0}]
[56,{"$f":"IF(Лист1!$A$8=Лист2!$A29,Лист1!B$8,0)","v":0}]
[{"$f":"A29","v":56},{"$f":"IF(Лист1!$A$8=Лист2!$A29,Лист1!$C$8,0)","v":0}]
[{"$f":"A29","v":56},{"$f":"IF(Лист1!$A$8=Лист2!$A29,Лист1!$D$8,0)","v":0}]
[{"$f":"A29","v":56},{"$f":"IF(Лист1!$A$8=Лист2!$A29,Лист1!$E$8,0)","v":0}]
[null,{"$f":"IF(Лист1!$A$8=Лист2!$A33,Лист1!B$8,0)","v":0},{"$f":"IF(Лист1!$A$8=Лист2!$A33,Лист1!$C$8,0)","v":0},{"$f":"IF(Лист1!$A$8=Лист2!$A33,Лист1!$D$8,0)","v":0},{"$f":"IF(Лист1!$A$8=Лист2!$A33,Лист1!$E$8,0)","v":0},"Количество колонок можно сделать постоянным для упрощения, только при задействовании новой - вписывать новую фамилию, и функция начнет \"видеть\" соответств. Диапазон. А ече круче - сделать так, чтобы выводилась дата изменения в примечании к ячейке."]
[null,{"$f":"IF(Лист1!$A$8=Лист2!$A34,Лист1!B$8,0)","v":0},{"$f":"IF(Лист1!$A$8=Лист2!$A34,Лист1!$C$8,0)","v":0},{"$f":"IF(Лист1!$A$8=Лист2!$A34,Лист1!$D$8,0)","v":0},{"$f":"IF(Лист1!$A$8=Лист2!$A34,Лист1!$E$8,0)","v":0}]
[null,{"$f":"IF(Лист1!$A$8=Лист2!$A35,Лист1!B$8,0)","v":0},{"$f":"IF(Лист1!$A$8=Лист2!$A35,Лист1!$C$8,0)","v":0},{"$f":"IF(Лист1!$A$8=Лист2!$A35,Лист1!$D$8,0)","v":0},{"$f":"IF(Лист1!$A$8=Лист2!$A35,Лист1!$E$8,0)","v":0}]
[null,{"$f":"IF(Лист1!$A$8=Лист2!$A36,Лист1!B$8,0)","v":0},{"$f":"IF(Лист1!$A$8=Лист2!$A36,Лист1!$C$8,0)","v":0},{"$f":"IF(Лист1!$A$8=Лист2!$A36,Лист1!$D$8,0)","v":0},{"$f":"IF(Лист1!$A$8=Лист2!$A36,Лист1!$E$8,0)","v":0}]
[null,{"$f":"IF(Лист1!$A$8=Лист2!$A37,Лист1!B$8,0)","v":0},{"$f":"IF(Лист1!$A$8=Лист2!$A37,Лист1!$C$8,0)","v":0},{"$f":"IF(Лист1!$A$8=Лист2!$A37,Лист1!$D$8,0)","v":0},{"$f":"IF(Лист1!$A$8=Лист2!$A37,Лист1!$E$8,0)","v":0}]
[null,{"$f":"IF(Лист1!$A$8=Лист2!$A38,Лист1!B$8,0)","v":0},{"$f":"IF(Лист1!$A$8=Лист2!$A38,Лист1!$C$8,0)","v":0},{"$f":"IF(Лист1!$A$8=Лист2!$A38,Лист1!$D$8,0)","v":0},{"$f":"IF(Лист1!$A$8=Лист2!$A38,Лист1!$E$8,0)","v":0}]
[null,{"$f":"IF(Лист1!$A$8=Лист2!$A39,Лист1!B$8,0)","v":0},{"$f":"IF(Лист1!$A$8=Лист2!$A39,Лист1!$C$8,0)","v":0},{"$f":"IF(Лист1!$A$8=Лист2!$A39,Лист1!$D$8,0)","v":0},{"$f":"IF(Лист1!$A$8=Лист2!$A39,Лист1!$E$8,0)","v":0}]
[null,{"$f":"IF(Лист1!$A$8=Лист2!$A40,Лист1!B$8,0)","v":0},{"$f":"IF(Лист1!$A$8=Лист2!$A40,Лист1!$C$8,0)","v":0},{"$f":"IF(Лист1!$A$8=Лист2!$A40,Лист1!$D$8,0)","v":0},{"$f":"IF(Лист1!$A$8=Лист2!$A40,Лист1!$E$8,0)","v":0}]
[null,{"$f":"IF(Лист1!$A$8=Лист2!$A41,Лист1!B$8,0)","v":0},{"$f":"IF(Лист1!$A$8=Лист2!$A41,Лист1!$C$8,0)","v":0},{"$f":"IF(Лист1!$A$8=Лист2!$A41,Лист1!$D$8,0)","v":0},{"$f":"IF(Лист1!$A$8=Лист2!$A41,Лист1!$E$8,0)","v":0}]
[null,{"$f":"IF(Лист1!$A$8=Лист2!$A42,Лист1!B$8,0)","v":0},{"$f":"IF(Лист1!$A$8=Лист2!$A42,Лист1!$C$8,0)","v":0},{"$f":"IF(Лист1!$A$8=Лист2!$A42,Лист1!$D$8,0)","v":0},{"$f":"IF(Лист1!$A$8=Лист2!$A42,Лист1!$E$8,0)","v":0}]
[null,{"$f":"IF(Лист1!$A$8=Лист2!$A43,Лист1!B$8,0)","v":0},{"$f":"IF(Лист1!$A$8=Лист2!$A43,Лист1!$C$8,0)","v":0},{"$f":"IF(Лист1!$A$8=Лист2!$A43,Лист1!$D$8,0)","v":0},{"$f":"IF(Лист1!$A$8=Лист2!$A43,Лист1!$E$8,0)","v":0}]
[null,{"$f":"IF(Лист1!$A$8=Лист2!$A44,Лист1!B$8,0)","v":0},{"$f":"IF(Лист1!$A$8=Лист2!$A44,Лист1!$C$8,0)","v":0},{"$f":"IF(Лист1!$A$8=Лист2!$A44,Лист1!$D$8,0)","v":0},{"$f":"IF(Лист1!$A$8=Лист2!$A44,Лист1!$E$8,0)","v":0}]
[null,{"$f":"IF(Лист1!$A$8=Лист2!$A45,Лист1!B$8,0)","v":0},{"$f":"IF(Лист1!$A$8=Лист2!$A45,Лист1!$C$8,0)","v":0},{"$f":"IF(Лист1!$A$8=Лист2!$A45,Лист1!$D$8,0)","v":0},{"$f":"IF(Лист1!$A$8=Лист2!$A45,Лист1!$E$8,0)","v":0}]
[null,{"$f":"IF(Лист1!$A$8=Лист2!$A46,Лист1!B$8,0)","v":0},{"$f":"IF(Лист1!$A$8=Лист2!$A46,Лист1!$C$8,0)","v":0},{"$f":"IF(Лист1!$A$8=Лист2!$A46,Лист1!$D$8,0)","v":0},{"$f":"IF(Лист1!$A$8=Лист2!$A46,Лист1!$E$8,0)","v":0}]
[null,{"$f":"IF(Лист1!$A$8=Лист2!$A47,Лист1!B$8,0)","v":0},{"$f":"IF(Лист1!$A$8=Лист2!$A47,Лист1!$C$8,0)","v":0},{"$f":"IF(Лист1!$A$8=Лист2!$A47,Лист1!$D$8,0)","v":0},{"$f":"IF(Лист1!$A$8=Лист2!$A47,Лист1!$E$8,0)","v":0}]
[null,{"$f":"IF(Лист1!$A$8=Лист2!$A48,Лист1!B$8,0)","v":0},{"$f":"IF(Лист1!$A$8=Лист2!$A48,Лист1!$C$8,0)","v":0},{"$f":"IF(Лист1!$A$8=Лист2!$A48,Лист1!$D$8,0)","v":0},{"$f":"IF(Лист1!$A$8=Лист2!$A48,Лист1!$E$8,0)","v":0}]
[null,{"$f":"IF(Лист1!$A$8=Лист2!$A49,Лист1!B$8,0)","v":0},{"$f":"IF(Лист1!$A$8=Лист2!$A49,Лист1!$C$8,0)","v":0},{"$f":"IF(Лист1!$A$8=Лист2!$A49,Лист1!$D$8,0)","v":0},{"$f":"IF(Лист1!$A$8=Лист2!$A49,Лист1!$E$8,0)","v":0}]
[null,{"$f":"IF(Лист1!$A$8=Лист2!$A50,Лист1!B$8,0)","v":0},{"$f":"IF(Лист1!$A$8=Лист2!$A50,Лист1!$C$8,0)","v":0},{"$f":"IF(Лист1!$A$8=Лист2!$A50,Лист1!$D$8,0)","v":0},{"$f":"IF(Лист1!$A$8=Лист2!$A50,Лист1!$E$8,0)","v":0}]
[null,{"$f":"IF(Лист1!$A$8=Лист2!$A51,Лист1!B$8,0)","v":0},{"$f":"IF(Лист1!$A$8=Лист2!$A51,Лист1!$C$8,0)","v":0},{"$f":"IF(Лист1!$A$8=Лист2!$A51,Лист1!$D$8,0)","v":0},{"$f":"IF(Лист1!$A$8=Лист2!$A51,Лист1!$E$8,0)","v":0}]
[null,{"$f":"IF(Лист1!$A$8=Лист2!$A52,Лист1!B$8,0)","v":0},{"$f":"IF(Лист1!$A$8=Лист2!$A52,Лист1!$C$8,0)","v":0},{"$f":"IF(Лист1!$A$8=Лист2!$A52,Лист1!$D$8,0)","v":0},{"$f":"IF(Лист1!$A$8=Лист2!$A52,Лист1!$E$8,0)","v":0}]
[null,{"$f":"IF(Лист1!$A$8=Лист2!$A53,Лист1!B$8,0)","v":0},{"$f":"IF(Лист1!$A$8=Лист2!$A53,Лист1!$C$8,0)","v":0},{"$f":"IF(Лист1!$A$8=Лист2!$A53,Лист1!$D$8,0)","v":0},{"$f":"IF(Лист1!$A$8=Лист2!$A53,Лист1!$E$8,0)","v":0}]
[null,{"$f":"IF(Лист1!$A$8=Лист2!$A54,Лист1!B$8,0)","v":0},{"$f":"IF(Лист1!$A$8=Лист2!$A54,Лист1!$C$8,0)","v":0},{"$f":"IF(Лист1!$A$8=Лист2!$A54,Лист1!$D$8,0)","v":0},{"$f":"IF(Лист1!$A$8=Лист2!$A54,Лист1!$E$8,0)","v":0}]
[null,{"$f":"IF(Лист1!$A$8=Лист2!$A55,Лист1!B$8,0)","v":0},{"$f":"IF(Лист1!$A$8=Лист2!$A55,Лист1!$C$8,0)","v":0},{"$f":"IF(Лист1!$A$8=Лист2!$A55,Лист1!$D$8,0)","v":0},{"$f":"IF(Лист1!$A$8=Лист2!$A55,Лист1!$E$8,0)","v":0}]
[null,{"$f":"IF(Лист1!$A$8=Лист2!$A56,Лист1!B$8,0)","v":0},{"$f":"IF(Лист1!$A$8=Лист2!$A56,Лист1!$C$8,0)","v":0},{"$f":"IF(Лист1!$A$8=Лист2!$A56,Лист1!$D$8,0)","v":0},{"$f":"IF(Лист1!$A$8=Лист2!$A56,Лист1!$E$8,0)","v":0}]
[null,{"$f":"IF(Лист1!$A$8=Лист2!$A57,Лист1!B$8,0)","v":0},{"$f":"IF(Лист1!$A$8=Лист2!$A57,Лист1!$C$8,0)","v":0},{"$f":"IF(Лист1!$A$8=Лист2!$A57,Лист1!$D$8,0)","v":0},{"$f":"IF(Лист1!$A$8=Лист2!$A57,Лист1!$E$8,0)","v":0}]
[null,{"$f":"IF(Лист1!$A$8=Лист2!$A58,Лист1!B$8,0)","v":0},{"$f":"IF(Лист1!$A$8=Лист2!$A58,Лист1!$C$8,0)","v":0},{"$f":"IF(Лист1!$A$8=Лист2!$A58,Лист1!$D$8,0)","v":0},{"$f":"IF(Лист1!$A$8=Лист2!$A58,Лист1!$E$8,0)","v":0}]
[null,{"$f":"IF(Лист1!$A$8=Лист2!$A59,Лист1!B$8,0)","v":0},{"$f":"IF(Лист1!$A$8=Лист2!$A59,Лист1!$C$8,0)","v":0},{"$f":"IF(Лист1!$A$8=Лист2!$A59,Лист1!$D$8,0)","v":0},{"$f":"IF(Лист1!$A$8=Лист2!$A59,Лист1!$E$8,0)","v":0}]
[null,{"$f":"IF(Лист1!$A$8=Лист2!$A60,Лист1!B$8,0)","v":0},{"$f":"IF(Лист1!$A$8=Лист2!$A60,Лист1!$C$8,0)","v":0},{"$f":"IF(Лист1!$A$8=Лист2!$A60,Лист1!$D$8,0)","v":0},{"$f":"IF(Лист1!$A$8=Лист2!$A60,Лист1!$E$8,0)","v":0}]
[null,{"$f":"IF(Лист1!$A$8=Лист2!$A61,Лист1!B$8,0)","v":0},{"$f":"IF(Лист1!$A$8=Лист2!$A61,Лист1!$C$8,0)","v":0},{"$f":"IF(Лист1!$A$8=Лист2!$A61,Лист1!$D$8,0)","v":0},{"$f":"IF(Лист1!$A$8=Лист2!$A61,Лист1!$E$8,0)","v":0}]
[null,{"$f":"IF(Лист1!$A$8=Лист2!$A62,Лист1!B$8,0)","v":0},{"$f":"IF(Лист1!$A$8=Лист2!$A62,Лист1!$C$8,0)","v":0},{"$f":"IF(Лист1!$A$8=Лист2!$A62,Лист1!$D$8,0)","v":0},{"$f":"IF(Лист1!$A$8=Лист2!$A62,Лист1!$E$8,0)","v":0}]
[null,{"$f":"IF(Лист1!$A$8=Лист2!$A63,Лист1!B$8,0)","v":0},{"$f":"IF(Лист1!$A$8=Лист2!$A63,Лист1!$C$8,0)","v":0},{"$f":"IF(Лист1!$A$8=Лист2!$A63,Лист1!$D$8,0)","v":0},{"$f":"IF(Лист1!$A$8=Лист2!$A63,Лист1!$E$8,0)","v":0}]
[null,{"$f":"IF(Лист1!$A$8=Лист2!$A64,Лист1!B$8,0)","v":0},{"$f":"IF(Лист1!$A$8=Лист2!$A64,Лист1!$C$8,0)","v":0},{"$f":"IF(Лист1!$A$8=Лист2!$A64,Лист1!$D$8,0)","v":0},{"$f":"IF(Лист1!$A$8=Лист2!$A64,Лист1!$E$8,0)","v":0}]
[null,{"$f":"IF(Лист1!$A$8=Лист2!$A65,Лист1!B$8,0)","v":0},{"$f":"IF(Лист1!$A$8=Лист2!$A65,Лист1!$C$8,0)","v":0},{"$f":"IF(Лист1!$A$8=Лист2!$A65,Лист1!$D$8,0)","v":0},{"$f":"IF(Лист1!$A$8=Лист2!$A65,Лист1!$E$8,0)","v":0}]
[null,{"$f":"IF(Лист1!$A$8=Лист2!$A66,Лист1!B$8,0)","v":0},{"$f":"IF(Лист1!$A$8=Лист2!$A66,Лист1!$C$8,0)","v":0},{"$f":"IF(Лист1!$A$8=Лист2!$A66,Лист1!$D$8,0)","v":0},{"$f":"IF(Лист1!$A$8=Лист2!$A66,Лист1!$E$8,0)","v":0}]
[null,{"$f":"IF(Лист1!$A$8=Лист2!$A67,Лист1!B$8,0)","v":0},{"$f":"IF(Лист1!$A$8=Лист2!$A67,Лист1!$C$8,0)","v":0},{"$f":"IF(Лист1!$A$8=Лист2!$A67,Лист1!$D$8,0)","v":0},{"$f":"IF(Лист1!$A$8=Лист2!$A67,Лист1!$E$8,0)","v":0}]
[null,{"$f":"IF(Лист1!$A$8=Лист2!$A68,Лист1!B$8,0)","v":0},{"$f":"IF(Лист1!$A$8=Лист2!$A68,Лист1!$C$8,0)","v":0},{"$f":"IF(Лист1!$A$8=Лист2!$A68,Лист1!$D$8,0)","v":0},{"$f":"IF(Лист1!$A$8=Лист2!$A68,Лист1!$E$8,0)","v":0}]
[null,{"$f":"IF(Лист1!$A$8=Лист2!$A69,Лист1!B$8,0)","v":0},{"$f":"IF(Лист1!$A$8=Лист2!$A69,Лист1!$C$8,0)","v":0},{"$f":"IF(Лист1!$A$8=Лист2!$A69,Лист1!$D$8,0)","v":0},{"$f":"IF(Лист1!$A$8=Лист2!$A69,Лист1!$E$8,0)","v":0}]
[null,{"$f":"IF(Лист1!$A$8=Лист2!$A70,Лист1!B$8,0)","v":0},{"$f":"IF(Лист1!$A$8=Лист2!$A70,Лист1!$C$8,0)","v":0},{"$f":"IF(Лист1!$A$8=Лист2!$A70,Лист1!$D$8,0)","v":0},{"$f":"IF(Лист1!$A$8=Лист2!$A70,Лист1!$E$8,0)","v":0}]
[null,{"$f":"IF(Лист1!$A$8=Лист2!$A71,Лист1!B$8,0)","v":0},{"$f":"IF(Лист1!$A$8=Лист2!$A71,Лист1!$C$8,0)","v":0},{"$f":"IF(Лист1!$A$8=Лист2!$A71,Лист1!$D$8,0)","v":0},{"$f":"IF(Лист1!$A$8=Лист2!$A71,Лист1!$E$8,0)","v":0}]
[null,{"$f":"IF(Лист1!$A$8=Лист2!$A72,Лист1!B$8,0)","v":0},{"$f":"IF(Лист1!$A$8=Лист2!$A72,Лист1!$C$8,0)","v":0},{"$f":"IF(Лист1!$A$8=Лист2!$A72,Лист1!$D$8,0)","v":0},{"$f":"IF(Лист1!$A$8=Лист2!$A72,Лист1!$E$8,0)","v":0}]
[null,{"$f":"IF(Лист1!$A$8=Лист2!$A73,Лист1!B$8,0)","v":0},{"$f":"IF(Лист1!$A$8=Лист2!$A73,Лист1!$C$8,0)","v":0},{"$f":"IF(Лист1!$A$8=Лист2!$A73,Лист1!$D$8,0)","v":0},{"$f":"IF(Лист1!$A$8=Лист2!$A73,Лист1!$E$8,0)","v":0}]
[null,{"$f":"IF(Лист1!$A$8=Лист2!$A74,Лист1!B$8,0)","v":0},{"$f":"IF(Лист1!$A$8=Лист2!$A74,Лист1!$C$8,0)","v":0},{"$f":"IF(Лист1!$A$8=Лист2!$A74,Лист1!$D$8,0)","v":0},{"$f":"IF(Лист1!$A$8=Лист2!$A74,Лист1!$E$8,0)","v":0}]
[null,{"$f":"IF(Лист1!$A$8=Лист2!$A75,Лист1!B$8,0)","v":0},{"$f":"IF(Лист1!$A$8=Лист2!$A75,Лист1!$C$8,0)","v":0},{"$f":"IF(Лист1!$A$8=Лист2!$A75,Лист1!$D$8,0)","v":0},{"$f":"IF(Лист1!$A$8=Лист2!$A75,Лист1!$E$8,0)","v":0}]
[null,{"$f":"IF(Лист1!$A$8=Лист2!$A76,Лист1!B$8,0)","v":0},{"$f":"IF(Лист1!$A$8=Лист2!$A76,Лист1!$C$8,0)","v":0},{"$f":"IF(Лист1!$A$8=Лист2!$A76,Лист1!$D$8,0)","v":0},{"$f":"IF(Лист1!$A$8=Лист2!$A76,Лист1!$E$8,0)","v":0}]
[null,{"$f":"IF(Лист1!$A$8=Лист2!$A77,Лист1!B$8,0)","v":0},{"$f":"IF(Лист1!$A$8=Лист2!$A77,Лист1!$C$8,0)","v":0},{"$f":"IF(Лист1!$A$8=Лист2!$A77,Лист1!$D$8,0)","v":0},{"$f":"IF(Лист1!$A$8=Лист2!$A77,Лист1!$E$8,0)","v":0}]
[null,{"$f":"IF(Лист1!$A$8=Лист2!$A78,Лист1!B$8,0)","v":0},{"$f":"IF(Лист1!$A$8=Лист2!$A78,Лист1!$C$8,0)","v":0},{"$f":"IF(Лист1!$A$8=Лист2!$A78,Лист1!$D$8,0)","v":0},{"$f":"IF(Лист1!$A$8=Лист2!$A78,Лист1!$E$8,0)","v":0}]
[null,{"$f":"IF(Лист1!$A$8=Лист2!$A79,Лист1!B$8,0)","v":0},{"$f":"IF(Лист1!$A$8=Лист2!$A79,Лист1!$C$8,0)","v":0},{"$f":"IF(Лист1!$A$8=Лист2!$A79,Лист1!$D$8,0)","v":0},{"$f":"IF(Лист1!$A$8=Лист2!$A79,Лист1!$E$8,0)","v":0}]
[null,{"$f":"IF(Лист1!$A$8=Лист2!$A80,Лист1!B$8,0)","v":0},{"$f":"IF(Лист1!$A$8=Лист2!$A80,Лист1!$C$8,0)","v":0},{"$f":"IF(Лист1!$A$8=Лист2!$A80,Лист1!$D$8,0)","v":0},{"$f":"IF(Лист1!$A$8=Лист2!$A80,Лист1!$E$8,0)","v":0}]
[null,{"$f":"IF(Лист1!$A$8=Лист2!$A81,Лист1!B$8,0)","v":0},{"$f":"IF(Лист1!$A$8=Лист2!$A81,Лист1!$C$8,0)","v":0},{"$f":"IF(Лист1!$A$8=Лист2!$A81,Лист1!$D$8,0)","v":0},{"$f":"IF(Лист1!$A$8=Лист2!$A81,Лист1!$E$8,0)","v":0}]
[null,{"$f":"IF(Лист1!$A$8=Лист2!$A82,Лист1!B$8,0)","v":0},{"$f":"IF(Лист1!$A$8=Лист2!$A82,Лист1!$C$8,0)","v":0},{"$f":"IF(Лист1!$A$8=Лист2!$A82,Лист1!$D$8,0)","v":0},{"$f":"IF(Лист1!$A$8=Лист2!$A82,Лист1!$E$8,0)","v":0}]
[null,{"$f":"IF(Лист1!$A$8=Лист2!$A83,Лист1!B$8,0)","v":0},{"$f":"IF(Лист1!$A$8=Лист2!$A83,Лист1!$C$8,0)","v":0},{"$f":"IF(Лист1!$A$8=Лист2!$A83,Лист1!$D$8,0)","v":0},{"$f":"IF(Лист1!$A$8=Лист2!$A83,Лист1!$E$8,0)","v":0}]
[null,{"$f":"IF(Лист1!$A$8=Лист2!$A84,Лист1!B$8,0)","v":0},{"$f":"IF(Лист1!$A$8=Лист2!$A84,Лист1!$C$8,0)","v":0},{"$f":"IF(Лист1!$A$8=Лист2!$A84,Лист1!$D$8,0)","v":0},{"$f":"IF(Лист1!$A$8=Лист2!$A84,Лист1!$E$8,0)","v":0}]
[null,{"$f":"IF(Лист1!$A$8=Лист2!$A85,Лист1!B$8,0)","v":0},{"$f":"IF(Лист1!$A$8=Лист2!$A85,Лист1!$C$8,0)","v":0},{"$f":"IF(Лист1!$A$8=Лист2!$A85,Лист1!$D$8,0)","v":0},{"$f":"IF(Лист1!$A$8=Лист2!$A85,Лист1!$E$8,0)","v":0}]
[null,{"$f":"IF(Лист1!$A$8=Лист2!$A86,Лист1!B$8,0)","v":0},{"$f":"IF(Лист1!$A$8=Лист2!$A86,Лист1!$C$8,0)","v":0},{"$f":"IF(Лист1!$A$8=Лист2!$A86,Лист1!$D$8,0)","v":0},{"$f":"IF(Лист1!$A$8=Лист2!$A86,Лист1!$E$8,0)","v":0}]
[null,{"$f":"IF(Лист1!$A$8=Лист2!$A87,Лист1!B$8,0)","v":0},{"$f":"IF(Лист1!$A$8=Лист2!$A87,Лист1!$C$8,0)","v":0},{"$f":"IF(Лист1!$A$8=Лист2!$A87,Лист1!$D$8,0)","v":0},{"$f":"IF(Лист1!$A$8=Лист2!$A87,Лист1!$E$8,0)","v":0}]
[null,{"$f":"IF(Лист1!$A$8=Лист2!$A88,Лист1!B$8,0)","v":0},{"$f":"IF(Лист1!$A$8=Лист2!$A88,Лист1!$C$8,0)","v":0},{"$f":"IF(Лист1!$A$8=Лист2!$A88,Лист1!$D$8,0)","v":0},{"$f":"IF(Лист1!$A$8=Лист2!$A88,Лист1!$E$8,0)","v":0}]
[null,{"$f":"IF(Лист1!$A$8=Лист2!$A89,Лист1!B$8,0)","v":0},{"$f":"IF(Лист1!$A$8=Лист2!$A89,Лист1!$C$8,0)","v":0},{"$f":"IF(Лист1!$A$8=Лист2!$A89,Лист1!$D$8,0)","v":0},{"$f":"IF(Лист1!$A$8=Лист2!$A89,Лист1!$E$8,0)","v":0}]
[null,{"$f":"IF(Лист1!$A$8=Лист2!$A90,Лист1!B$8,0)","v":0},{"$f":"IF(Лист1!$A$8=Лист2!$A90,Лист1!$C$8,0)","v":0},{"$f":"IF(Лист1!$A$8=Лист2!$A90,Лист1!$D$8,0)","v":0},{"$f":"IF(Лист1!$A$8=Лист2!$A90,Лист1!$E$8,0)","v":0}]
[null,{"$f":"IF(Лист1!$A$8=Лист2!$A91,Лист1!B$8,0)","v":0},{"$f":"IF(Лист1!$A$8=Лист2!$A91,Лист1!$C$8,0)","v":0},{"$f":"IF(Лист1!$A$8=Лист2!$A91,Лист1!$D$8,0)","v":0},{"$f":"IF(Лист1!$A$8=Лист2!$A91,Лист1!$E$8,0)","v":0}]
[null,{"$f":"IF(Лист1!$A$8=Лист2!$A92,Лист1!B$8,0)","v":0},{"$f":"IF(Лист1!$A$8=Лист2!$A92,Лист1!$C$8,0)","v":0},{"$f":"IF(Лист1!$A$8=Лист2!$A92,Лист1!$D$8,0)","v":0},{"$f":"IF(Лист1!$A$8=Лист2!$A92,Лист1!$E$8,0)","v":0}]
[null,{"$f":"IF(Лист1!$A$8=Лист2!$A93,Лист1!B$8,0)","v":0},{"$f":"IF(Лист1!$A$8=Лист2!$A93,Лист1!$C$8,0)","v":0},{"$f":"IF(Лист1!$A$8=Лист2!$A93,Лист1!$D$8,0)","v":0},{"$f":"IF(Лист1!$A$8=Лист2!$A93,Лист1!$E$8,0)","v":0}]
[null,{"$f":"IF(Лист1!$A$8=Лист2!$A94,Лист1!B$8,0)","v":0},{"$f":"IF(Лист1!$A$8=Лист2!$A94,Лист1!$C$8,0)","v":0},{"$f":"IF(Лист1!$A$8=Лист2!$A94,Лист1!$D$8,0)","v":0},{"$f":"IF(Лист1!$A$8=Лист2!$A94,Лист1!$E$8,0)","v":0}]
[null,{"$f":"IF(Лист1!$A$8=Лист2!$A95,Лист1!B$8,0)","v":0},{"$f":"IF(Лист1!$A$8=Лист2!$A95,Лист1!$C$8,0)","v":0},{"$f":"IF(Лист1!$A$8=Лист2!$A95,Лист1!$D$8,0)","v":0},{"$f":"IF(Лист1!$A$8=Лист2!$A95,Лист1!$E$8,0)","v":0}]
[null,{"$f":"IF(Лист1!$A$8=Лист2!$A96,Лист1!B$8,0)","v":0},{"$f":"IF(Лист1!$A$8=Лист2!$A96,Лист1!$C$8,0)","v":0},{"$f":"IF(Лист1!$A$8=Лист2!$A96,Лист1!$D$8,0)","v":0},{"$f":"IF(Лист1!$A$8=Лист2!$A96,Лист1!$E$8,0)","v":0}]
[null,{"$f":"IF(Лист1!$A$8=Лист2!$A97,Лист1!B$8,0)","v":0},{"$f":"IF(Лист1!$A$8=Лист2!$A97,Лист1!$C$8,0)","v":0},{"$f":"IF(Лист1!$A$8=Лист2!$A97,Лист1!$D$8,0)","v":0},{"$f":"IF(Лист1!$A$8=Лист2!$A97,Лист1!$E$8,0)","v":0}]
[null,{"$f":"IF(Лист1!$A$8=Лист2!$A98,Лист1!B$8,0)","v":0},{"$f":"IF(Лист1!$A$8=Лист2!$A98,Лист1!$C$8,0)","v":0},{"$f":"IF(Лист1!$A$8=Лист2!$A98,Лист1!$D$8,0)","v":0},{"$f":"IF(Лист1!$A$8=Лист2!$A98,Лист1!$E$8,0)","v":0}]
[null,{"$f":"IF(Лист1!$A$8=Лист2!$A99,Лист1!B$8,0)","v":0},{"$f":"IF(Лист1!$A$8=Лист2!$A99,Лист1!$C$8,0)","v":0},{"$f":"IF(Лист1!$A$8=Лист2!$A99,Лист1!$D$8,0)","v":0},{"$f":"IF(Лист1!$A$8=Лист2!$A99,Лист1!$E$8,0)","v":0}]
[null,{"$f":"IF(Лист1!$A$8=Лист2!$A100,Лист1!B$8,0)","v":0},{"$f":"IF(Лист1!$A$8=Лист2!$A100,Лист1!$C$8,0)","v":0},{"$f":"IF(Лист1!$A$8=Лист2!$A100,Лист1!$D$8,0)","v":0},{"$f":"IF(Лист1!$A$8=Лист2!$A100,Лист1!$E$8,0)","v":0}]
[null,{"$f":"IF(Лист1!$A$8=Лист2!$A101,Лист1!B$8,0)","v":0},{"$f":"IF(Лист1!$A$8=Лист2!$A101,Лист1!$C$8,0)","v":0},{"$f":"IF(Лист1!$A$8=Лист2!$A101,Лист1!$D$8,0)","v":0},{"$f":"IF(Лист1!$A$8=Лист2!$A101,Лист1!$E$8,0)","v":0}]
[null,{"$f":"IF(Лист1!$A$8=Лист2!$A102,Лист1!B$8,0)","v":0},{"$f":"IF(Лист1!$A$8=Лист2!$A102,Лист1!$C$8,0)","v":0},{"$f":"IF(Лист1!$A$8=Лист2!$A102,Лист1!$D$8,0)","v":0},{"$f":"IF(Лист1!$A$8=Лист2!$A102,Лист1!$E$8,0)","v":0}]
[null,{"$f":"IF(Лист1!$A$8=Лист2!$A103,Лист1!B$8,0)","v":0},{"$f":"IF(Лист1!$A$8=Лист2!$A103,Лист1!$C$8,0)","v":0},{"$f":"IF(Лист1!$A$8=Лист2!$A103,Лист1!$D$8,0)","v":0},{"$f":"IF(Лист1!$A$8=Лист2!$A103,Лист1!$E$8,0)","v":0}]
[null,{"$f":"IF(Лист1!$A$8=Лист2!$A104,Лист1!B$8,0)","v":0},{"$f":"IF(Лист1!$A$8=Лист2!$A104,Лист1!$C$8,0)","v":0},{"$f":"IF(Лист1!$A$8=Лист2!$A104,Лист1!$D$8,0)","v":0},{"$f":"IF(Лист1!$A$8=Лист2!$A104,Лист1!$E$8,0)","v":0}]
[null,{"$f":"IF(Лист1!$A$8=Лист2!$A105,Лист1!B$8,0)","v":0},{"$f":"IF(Лист1!$A$8=Лист2!$A105,Лист1!$C$8,0)","v":0},{"$f":"IF(Лист1!$A$8=Лист2!$A105,Лист1!$D$8,0)","v":0},{"$f":"IF(Лист1!$A$8=Лист2!$A105,Лист1!$E$8,0)","v":0}]
[null,{"$f":"IF(Лист1!$A$8=Лист2!$A106,Лист1!B$8,0)","v":0},{"$f":"IF(Лист1!$A$8=Лист2!$A106,Лист1!$C$8,0)","v":0},{"$f":"IF(Лист1!$A$8=Лист2!$A106,Лист1!$D$8,0)","v":0},{"$f":"IF(Лист1!$A$8=Лист2!$A106,Лист1!$E$8,0)","v":0}]
[null,{"$f":"IF(Лист1!$A$8=Лист2!$A107,Лист1!B$8,0)","v":0},{"$f":"IF(Лист1!$A$8=Лист2!$A107,Лист1!$C$8,0)","v":0},{"$f":"IF(Лист1!$A$8=Лист2!$A107,Лист1!$D$8,0)","v":0},{"$f":"IF(Лист1!$A$8=Лист2!$A107,Лист1!$E$8,0)","v":0}]
[null,{"$f":"IF(Лист1!$A$8=Лист2!$A108,Лист1!B$8,0)","v":0},{"$f":"IF(Лист1!$A$8=Лист2!$A108,Лист1!$C$8,0)","v":0},{"$f":"IF(Лист1!$A$8=Лист2!$A108,Лист1!$D$8,0)","v":0},{"$f":"IF(Лист1!$A$8=Лист2!$A108,Лист1!$E$8,0)","v":0}]
[null,{"$f":"IF(Лист1!$A$8=Лист2!$A109,Лист1!B$8,0)","v":0},{"$f":"IF(Лист1!$A$8=Лист2!$A109,Лист1!$C$8,0)","v":0},{"$f":"IF(Лист1!$A$8=Лист2!$A109,Лист1!$D$8,0)","v":0},{"$f":"IF(Лист1!$A$8=Лист2!$A109,Лист1!$E$8,0)","v":0}]
[null,{"$f":"IF(Лист1!$A$8=Лист2!$A110,Лист1!B$8,0)","v":0},{"$f":"IF(Лист1!$A$8=Лист2!$A110,Лист1!$C$8,0)","v":0},{"$f":"IF(Лист1!$A$8=Лист2!$A110,Лист1!$D$8,0)","v":0},{"$f":"IF(Лист1!$A$8=Лист2!$A110,Лист1!$E$8,0)","v":0}]
[null,{"$f":"IF(Лист1!$A$8=Лист2!$A111,Лист1!B$8,0)","v":0},{"$f":"IF(Лист1!$A$8=Лист2!$A111,Лист1!$C$8,0)","v":0},{"$f":"IF(Лист1!$A$8=Лист2!$A111,Лист1!$D$8,0)","v":0},{"$f":"IF(Лист1!$A$8=Лист2!$A111,Лист1!$E$8,0)","v":0}]
[null,{"$f":"IF(Лист1!$A$8=Лист2!$A112,Лист1!B$8,0)","v":0},{"$f":"IF(Лист1!$A$8=Лист2!$A112,Лист1!$C$8,0)","v":0},{"$f":"IF(Лист1!$A$8=Лист2!$A112,Лист1!$D$8,0)","v":0},{"$f":"IF(Лист1!$A$8=Лист2!$A112,Лист1!$E$8,0)","v":0}]
[null,{"$f":"IF(Лист1!$A$8=Лист2!$A113,Лист1!B$8,0)","v":0},{"$f":"IF(Лист1!$A$8=Лист2!$A113,Лист1!$C$8,0)","v":0},{"$f":"IF(Лист1!$A$8=Лист2!$A113,Лист1!$D$8,0)","v":0},{"$f":"IF(Лист1!$A$8=Лист2!$A113,Лист1!$E$8,0)","v":0}]
[null,{"$f":"IF(Лист1!$A$8=Лист2!$A114,Лист1!B$8,0)","v":0},{"$f":"IF(Лист1!$A$8=Лист2!$A114,Лист1!$C$8,0)","v":0},{"$f":"IF(Лист1!$A$8=Лист2!$A114,Лист1!$D$8,0)","v":0},{"$f":"IF(Лист1!$A$8=Лист2!$A114,Лист1!$E$8,0)","v":0}]
[null,{"$f":"IF(Лист1!$A$8=Лист2!$A115,Лист1!B$8,0)","v":0},{"$f":"IF(Лист1!$A$8=Лист2!$A115,Лист1!$C$8,0)","v":0},{"$f":"IF(Лист1!$A$8=Лист2!$A115,Лист1!$D$8,0)","v":0},{"$f":"IF(Лист1!$A$8=Лист2!$A115,Лист1!$E$8,0)","v":0}]
[null,{"$f":"IF(Лист1!$A$8=Лист2!$A116,Лист1!B$8,0)","v":0},{"$f":"IF(Лист1!$A$8=Лист2!$A116,Лист1!$C$8,0)","v":0},{"$f":"IF(Лист1!$A$8=Лист2!$A116,Лист1!$D$8,0)","v":0},{"$f":"IF(Лист1!$A$8=Лист2!$A116,Лист1!$E$8,0)","v":0}]
[null,{"$f":"IF(Лист1!$A$8=Лист2!$A117,Лист1!B$8,0)","v":0},{"$f":"IF(Лист1!$A$8=Лист2!$A117,Лист1!$C$8,0)","v":0},{"$f":"IF(Лист1!$A$8=Лист2!$A117,Лист1!$D$8,0)","v":0},{"$f":"IF(Лист1!$A$8=Лист2!$A117,Лист1!$E$8,0)","v":0}]
[null,{"$f":"IF(Лист1!$A$8=Лист2!$A118,Лист1!B$8,0)","v":0},{"$f":"IF(Лист1!$A$8=Лист2!$A118,Лист1!$C$8,0)","v":0},{"$f":"IF(Лист1!$A$8=Лист2!$A118,Лист1!$D$8,0)","v":0},{"$f":"IF(Лист1!$A$8=Лист2!$A118,Лист1!$E$8,0)","v":0}]
[null,{"$f":"IF(Лист1!$A$8=Лист2!$A119,Лист1!B$8,0)","v":0},{"$f":"IF(Лист1!$A$8=Лист2!$A119,Лист1!$C$8,0)","v":0},{"$f":"IF(Лист1!$A$8=Лист2!$A119,Лист1!$D$8,0)","v":0},{"$f":"IF(Лист1!$A$8=Лист2!$A119,Лист1!$E$8,0)","v":0}]
[null,{"$f":"IF(Лист1!$A$8=Лист2!$A120,Лист1!B$8,0)","v":0},{"$f":"IF(Лист1!$A$8=Лист2!$A120,Лист1!$C$8,0)","v":0},{"$f":"IF(Лист1!$A$8=Лист2!$A120,Лист1!$D$8,0)","v":0},{"$f":"IF(Лист1!$A$8=Лист2!$A120,Лист1!$E$8,0)","v":0}]

{"sheet":"Лист3","index":2,"n_rows":0,"n_cols":0,"rows_kept":0,"cut":false,"hidden":false,"merged":[]}