{"text_format":"1","workbook":"xlsx","n_sheets":5,"sheets":["DATA","REF","SELECT","PnL","Charts"],"not_rendered":{"charts":4,"images":2,"macros":1,"external_links":0,"defined_names":44,"comments":0,"pivot_tables":0},"unopened":[],"bounds":{"document_bytes":16777216,"sheet_cells":100000,"rows_first":2000,"rows_last":500,"rows_between":2000,"halvings":0,"cell_chars":16384,"cell_head_chars":4096},"cells_cut":0,"cells_raw":0,"read":"whole","date_system":"1900"}

{"sheet":"DATA","index":0,"n_rows":9376,"n_cols":10,"rows_kept":9376,"cut":false,"hidden":false,"merged":[]}
["TYPE","SUBTYPE","SEG","BUS","GEO","MONTH","YEAR","MTDRE","ACT_RE","BP"]
["DA","A1","ALL","B1","G1",1,2013,0,149,160]
["DA","A1","ALL","B1","G1",2,2013,0,515,525]
["DA","A1","ALL","B1","G1",3,2013,0,584,611]
["DA","A1","ALL","B1","G1",4,2013,0,552,565]
["DA","A1","ALL","B1","G1",5,2013,0,1299,1393]
["DA","A1","ALL","B1","G1",6,2013,0,1342,1340]
["DA","A1","ALL","B1","G1",7,2013,0,1737,1822]
["DA","A1","ALL","B1","G1",8,2013,0,1454,1534]
["DA","A1","ALL","B1","G1",9,2013,0,1478,1527]
["DA","A1","ALL","B1","G1",10,2013,0,1131,1230]
["DA","A1","ALL","B1","G1",11,2013,0,625,682]
["DA","A1","ALL","B1","G1",12,2013,0,1375,1434]
["DA","A1","ALL","B1","G1",1,2014,0,236,251]
["DA","A1","ALL","B1","G1",2,2014,0,395,415]
["DA","A1","ALL","B1","G1",3,2014,0,696,730]
["DA","A1","ALL","B1","G1",4,2014,0,791,846]
["DA","A1","ALL","B1","G1",5,2014,0,1003,1085]
["DA","A1","ALL","B1","G1",6,2014,0,1875,2060]
["DA","A1","ALL","B1","G1",7,2014,0,1190,1240]
["DA","A1","ALL","B1","G1",8,2014,0,1197,1295]
["DA","A1","ALL","B1","G1",9,2014,0,846,916]
["DA","A1","ALL","B1","G1",10,2014,0,605,671]
["DA","A1","ALL","B1","G1",11,2014,0,629,649]
["DA","A1","ALL","B1","G1",12,2014,0,1340,1319]
["DA","A1","ALL","B1","G2",1,2013,0,270,265]
["DA","A1","ALL","B1","G2",2,2013,0,598,605]
["DA","A1","ALL","B1","G2",3,2013,0,1016,1117]
["DA","A1","ALL","B1","G2",4,2013,0,1097,1127]
["DA","A1","ALL","B1","G2",5,2013,0,894,934]
["DA","A1","ALL","B1","G2",6,2013,0,1020,1101]
["DA","A1","ALL","B1","G2",7,2013,0,2405,2727]
["DA","A1","ALL","B1","G2",8,2013,0,1520,1614]
["DA","A1","ALL","B1","G2",9,2013,0,1379,1548]
["DA","A1","ALL","B1","G2",10,2013,0,1152,1288]
["DA","A1","ALL","B1","G2",11,2013,0,618,635]
["DA","A1","ALL","B1","G2",12,2013,0,1511,1532]
["DA","A1","ALL","B1","G2",1,2014,0,211,226]
["DA","A1","ALL","B1","G2",2,2014,0,510,522]
["DA","A1","ALL","B1","G2",3,2014,0,794,775]
["DA","A1","ALL","B1","G2",4,2014,0,1089,1061]
["DA","A1","ALL","B1","G2",5,2014,0,1039,1116]
["DA","A1","ALL","B1","G2",6,2014,0,1687,1803]
["DA","A1","ALL","B1","G2",7,2014,0,1702,1849]
["DA","A1","ALL","B1","G2",8,2014,0,2798,3111]
["DA","A1","ALL","B1","G2",9,2014,0,1398,1502]
["DA","A1","ALL","B1","G2",10,2014,0,1224,1364]
["DA","A1","ALL","B1","G2",11,2014,0,846,900]
["DA","A1","ALL","B1","G2",12,2014,0,1278,1310]
["DA","A1","ALL","B1","G3",1,2013,0,155,161]
["DA","A1","ALL","B1","G3",2,2013,0,276,306]
["DA","A1","ALL","B1","G3",3,2013,0,483,513]
["DA","A1","ALL","B1","G3",4,2013,0,602,646]
["DA","A1","ALL","B1","G3",5,2013,0,594,641]
["DA","A1","ALL","B1","G3",6,2013,0,832,928]
["DA","A1","ALL","B1","G3",7,2013,0,1175,1324]
["DA","A1","ALL","B1","G3",8,2013,0,1379,1428]
["DA","A1","ALL","B1","G3",9,2013,0,661,699]
["DA","A1","ALL","B1","G3",10,2013,0,839,893]
["DA","A1","ALL","B1","G3",11,2013,0,327,364]
["DA","A1","ALL","B1","G3",12,2013,0,755,820]
["DA","A1","ALL","B1","G3",1,2014,0,184,176]
["DA","A1","ALL","B1","G3",2,2014,0,401,401]
["DA","A1","ALL","B1","G3",3,2014,0,517,555]
["DA","A1","ALL","B1","G3",4,2014,0,803,812]
["DA","A1","ALL","B1","G3",5,2014,0,671,728]
["DA","A1","ALL","B1","G3",6,2014,0,1054,1092]
["DA","A1","ALL","B1","G3",7,2014,0,1725,1913]
["DA","A1","ALL","B1","G3",8,2014,0,830,885]
["DA","A1","ALL","B1","G3",9,2014,0,1102,1146]
["DA","A1","ALL","B1","G3",10,2014,0,623,634]
["DA","A1","ALL","B1","G3",11,2014,0,471,497]
["DA","A1","ALL","B1","G3",12,2014,0,1001,1068]
["DA","A1","ALL","B1","G4",1,2013,0,131,130]
["DA","A1","ALL","B1","G4",2,2013,0,183,206]
["DA","A1","ALL","B1","G4",3,2013,0,314,346]
["DA","A1","ALL","B1","G4",4,2013,0,565,606]
["DA","A1","ALL","B1","G4",5,2013,0,667,719]
["DA","A1","ALL","B1","G4",6,2013,0,651,643]
["DA","A1","ALL","B1","G4",7,2013,0,1232,1295]
["DA","A1","ALL","B1","G4",8,2013,0,834,910]
["DA","A1","ALL","B1","G4",9,2013,0,533,587]
["DA","A1","ALL","B1","G4",10,2013,0,508,539]
["DA","A1","ALL","B1","G4",11,2013,0,335,369]
["DA","A1","ALL","B1","G4",12,2013,0,688,655]
["DA","A1","ALL","B1","G4",1,2014,0,138,149]
["DA","A1","ALL","B1","G4",2,2014,0,272,281]
["DA","A1","ALL","B1","G4",3,2014,0,342,371]
["DA","A1","ALL","B1","G4",4,2014,0,447,466]
["DA","A1","ALL","B1","G4",5,2014,0,486,507]
["DA","A1","ALL","B1","G4",6,2014,0,919,912]
["DA","A1","ALL","B1","G4",7,2014,0,951,1002]
["DA","A1","ALL","B1","G4",8,2014,0,987,1040]
["DA","A1","ALL","B1","G4",9,2014,0,655,735]
["DA","A1","ALL","B1","G4",10,2014,0,435,474]
["DA","A1","ALL","B1","G4",11,2014,0,313,313]
["DA","A1","ALL","B1","G4",12,2014,0,632,656]
["DA","A1","ALL","B1","G5",1,2013,0,140,151]
["DA","A1","ALL","B1","G5",2,2013,0,455,449]
["DA","A1","ALL","B1","G5",3,2013,0,440,483]
["DA","A1","ALL","B1","G5",4,2013,0,562,552]
["DA","A1","ALL","B1","G5",5,2013,0,1032,1066]
["DA","A1","ALL","B1","G5",6,2013,0,1055,1152]
["DA","A1","ALL","B1","G5",7,2013,0,1108,1136]
["DA","A1","ALL","B1","G5",8,2013,0,1652,1760]
["DA","A1","ALL","B1","G5",9,2013,0,997,971]
["DA","A1","ALL","B1","G5",10,2013,0,824,886]
["DA","A1","ALL","B1","G5",11,2013,0,492,487]
["DA","A1","ALL","B1","G5",12,2013,0,802,864]
["DA","A1","ALL","B1","G5",1,2014,0,152,158]
["DA","A1","ALL","B1","G5",2,2014,0,309,318]
["DA","A1","ALL","B1","G5",3,2014,0,536,568]
["DA","A1","ALL","B1","G5",4,2014,0,471,465]
["DA","A1","ALL","B1","G5",5,2014,0,554,620]
["DA","A1","ALL","B1","G5",6,2014,0,923,919]
["DA","A1","ALL","B1","G5",7,2014,0,1160,1217]
["DA","A1","ALL","B1","G5",8,2014,0,984,1037]
["DA","A1","ALL","B1","G5",9,2014,0,849,924]
["DA","A1","ALL","B1","G5",10,2014,0,512,571]
["DA","A1","ALL","B1","G5",11,2014,0,513,552]
["DA","A1","ALL","B1","G5",12,2014,0,935,976]
["DA","A1","ALL","B2","G1",1,2013,0,61,64]
["DA","A1","ALL","B2","G1",2,2013,0,114,110]
["DA","A1","ALL","B2","G1",3,2013,0,177,182]
["DA","A1","ALL","B2","G1",4,2013,0,249,250]
["DA","A1","ALL","B2","G1",5,2013,0,293,339]
["DA","A1","ALL","B2","G1",6,2013,0,426,440]
["DA","A1","ALL","B2","G1",7,2013,0,416,416]
["DA","A1","ALL","B2","G1",8,2013,0,400,436]
["DA","A1","ALL","B2","G1",9,2013,0,326,330]
["DA","A1","ALL","B2","G1",10,2013,0,218,214]
["DA","A1","ALL","B2","G1",11,2013,0,133,135]
["DA","A1","ALL","B2","G1",12,2013,0,355,367]
["DA","A1","ALL","B2","G1",1,2014,0,79,81]
["DA","A1","ALL","B2","G1",2,2014,0,124,130]
["DA","A1","ALL","B2","G1",3,2014,0,221,237]
["DA","A1","ALL","B2","G1",4,2014,0,246,251]
["DA","A1","ALL","B2","G1",5,2014,0,287,286]
["DA","A1","ALL","B2","G1",6,2014,0,409,407]
["DA","A1","ALL","B2","G1",7,2014,0,377,402]
["DA","A1","ALL","B2","G1",8,2014,0,420,448]
["DA","A1","ALL","B2","G1",9,2014,0,265,263]
["DA","A1","ALL","B2","G1",10,2014,0,309,314]
["DA","A1","ALL","B2","G1",11,2014,0,162,166]
["DA","A1","ALL","B2","G1",12,2014,0,367,383]
["DA","A1","ALL","B2","G2",1,2013,0,75,76]
["DA","A1","ALL","B2","G2",2,2013,0,157,181]
["DA","A1","ALL","B2","G2",3,2013,0,209,234]
["DA","A1","ALL","B2","G2",4,2013,0,257,257]
["DA","A1","ALL","B2","G2",5,2013,0,434,447]
["DA","A1","ALL","B2","G2",6,2013,0,373,420]
["DA","A1","ALL","B2","G2",7,2013,0,565,578]
["DA","A1","ALL","B2","G2",8,2013,0,685,770]
["DA","A1","ALL","B2","G2",9,2013,0,498,536]
["DA","A1","ALL","B2","G2",10,2013,0,288,303]
["DA","A1","ALL","B2","G2",11,2013,0,217,220]
["DA","A1","ALL","B2","G2",12,2013,0,461,482]
["DA","A1","ALL","B2","G2",1,2014,0,50,51]
["DA","A1","ALL","B2","G2",2,2014,0,115,130]
["DA","A1","ALL","B2","G2",3,2014,0,227,236]
["DA","A1","ALL","B2","G2",4,2014,0,319,345]
["DA","A1","ALL","B2","G2",5,2014,0,381,428]
["DA","A1","ALL","B2","G2",6,2014,0,446,474]
["DA","A1","ALL","B2","G2",7,2014,0,713,740]
["DA","A1","ALL","B2","G2",8,2014,0,459,493]
["DA","A1","ALL","B2","G2",9,2014,0,500,496]
["DA","A1","ALL","B2","G2",10,2014,0,279,299]
["DA","A1","ALL","B2","G2",11,2014,0,212,218]
["DA","A1","ALL","B2","G2",12,2014,0,459,503]
["DA","A1","ALL","B2","G3",1,2013,0,37,40]
["DA","A1","ALL","B2","G3",2,2013,0,95,108]
["DA","A1","ALL","B2","G3",3,2013,0,184,190]
["DA","A1","ALL","B2","G3",4,2013,0,229,259]
["DA","A1","ALL","B2","G3",5,2013,0,218,224]
["DA","A1","ALL","B2","G3",6,2013,0,315,314]
["DA","A1","ALL","B2","G3",7,2013,0,376,384]
["DA","A1","ALL","B2","G3",8,2013,0,353,379]
["DA","A1","ALL","B2","G3",9,2013,0,252,279]
["DA","A1","ALL","B2","G3",10,2013,0,245,253]
["DA","A1","ALL","B2","G3",11,2013,0,120,123]
["DA","A1","ALL","B2","G3",12,2013,0,267,291]
["DA","A1","ALL","B2","G3",1,2014,0,57,60]
["DA","A1","ALL","B2","G3",2,2014,0,95,97]
["DA","A1","ALL","B2","G3",3,2014,0,127,128]
["DA","A1","ALL","B2","G3",4,2014,0,163,177]
["DA","A1","ALL","B2","G3",5,2014,0,229,223]
["DA","A1","ALL","B2","G3",6,2014,0,309,321]
["DA","A1","ALL","B2","G3",7,2014,0,406,460]
["DA","A1","ALL","B2","G3",8,2014,0,293,307]
["DA","A1","ALL","B2","G3",9,2014,0,239,245]
["DA","A1","ALL","B2","G3",10,2014,0,193,199]
["DA","A1","ALL","B2","G3",11,2014,0,82,93]
["DA","A1","ALL","B2","G3",12,2014,0,271,264]
["DA","A1","ALL","B2","G4",1,2013,0,32,34]
["DA","A1","ALL","B2","G4",2,2013,0,64,71]
["DA","A1","ALL","B2","G4",3,2013,0,92,97]
["DA","A1","ALL","B2","G4",4,2013,0,170,173]
["DA","A1","ALL","B2","G4",5,2013,0,116,121]
["DA","A1","ALL","B2","G4",6,2013,0,258,256]
["DA","A1","ALL","B2","G4",7,2013,0,297,302]
["DA","A1","ALL","B2","G4",8,2013,0,202,203]
["DA","A1","ALL","B2","G4",9,2013,0,205,206]
["DA","A1","ALL","B2","G4",10,2013,0,138,147]
["DA","A1","ALL","B2","G4",11,2013,0,105,110]
["DA","A1","ALL","B2","G4",12,2013,0,175,178]
["DA","A1","ALL","B2","G4",1,2014,0,33,36]
["DA","A1","ALL","B2","G4",2,2014,0,57,64]
["DA","A1","ALL","B2","G4",3,2014,0,107,107]
["DA","A1","ALL","B2","G4",4,2014,0,106,110]
["DA","A1","ALL","B2","G4",5,2014,0,166,176]
["DA","A1","ALL","B2","G4",6,2014,0,232,240]
["DA","A1","ALL","B2","G4",7,2014,0,323,325]
["DA","A1","ALL","B2","G4",8,2014,0,261,271]
["DA","A1","ALL","B2","G4",9,2014,0,164,175]
["DA","A1","ALL","B2","G4",10,2014,0,212,217]
["DA","A1","ALL","B2","G4",11,2014,0,107,107]
["DA","A1","ALL","B2","G4",12,2014,0,170,177]
["DA","A1","ALL","B2","G5",1,2013,0,53,58]
["DA","A1","ALL","B2","G5",2,2013,0,92,95]
["DA","A1","ALL","B2","G5",3,2013,0,165,173]
["DA","A1","ALL","B2","G5",4,2013,0,152,172]
["DA","A1","ALL","B2","G5",5,2013,0,220,243]
["DA","A1","ALL","B2","G5",6,2013,0,291,312]
["DA","A1","ALL","B2","G5",7,2013,0,445,446]
["DA","A1","ALL","B2","G5",8,2013,0,305,314]
["DA","A1","ALL","B2","G5",9,2013,0,265,277]
["DA","A1","ALL","B2","G5",10,2013,0,186,194]
["DA","A1","ALL","B2","G5",11,2013,0,101,113]
["DA","A1","ALL","B2","G5",12,2013,0,250,265]
["DA","A1","ALL","B2","G5",1,2014,0,44,45]
["DA","A1","ALL","B2","G5",2,2014,0,100,115]
["DA","A1","ALL","B2","G5",3,2014,0,145,148]
["DA","A1","ALL","B2","G5",4,2014,0,181,193]
["DA","A1","ALL","B2","G5",5,2014,0,177,189]
["DA","A1","ALL","B2","G5",6,2014,0,248,251]
["DA","A1","ALL","B2","G5",7,2014,0,299,305]
["DA","A1","ALL","B2","G5",8,2014,0,386,382]
["DA","A1","ALL","B2","G5",9,2014,0,226,261]
["DA","A1","ALL","B2","G5",10,2014,0,177,193]
["DA","A1","ALL","B2","G5",11,2014,0,130,132]
["DA","A1","ALL","B2","G5",12,2014,0,271,272]
["DA","A1","ALL","B3","G1",1,2013,0,30,32]
["DA","A1","ALL","B3","G1",2,2013,0,47,47]
["DA","A1","ALL","B3","G1",3,2013,0,100,104]
["DA","A1","ALL","B3","G1",4,2013,0,157,153]
["DA","A1","ALL","B3","G1",5,2013,0,114,124]
["DA","A1","ALL","B3","G1",6,2013,0,171,184]
["DA","A1","ALL","B3","G1",7,2013,0,271,267]
["DA","A1","ALL","B3","G1",8,2013,0,260,288]
["DA","A1","ALL","B3","G1",9,2013,0,123,124]
["DA","A1","ALL","B3","G1",10,2013,0,118,120]
["DA","A1","ALL","B3","G1",11,2013,0,72,72]
["DA","A1","ALL","B3","G1",12,2013,0,186,196]
["DA","A1","ALL","B3","G1",1,2014,0,37,40]
["DA","A1","ALL","B3","G1",2,2014,0,55,59]
["DA","A1","ALL","B3","G1",3,2014,0,95,102]
["DA","A1","ALL","B3","G1",4,2014,0,99,105]
["DA","A1","ALL","B3","G1",5,2014,0,115,113]
["DA","A1","ALL","B3","G1",6,2014,0,149,150]
["DA","A1","ALL","B3","G1",7,2014,0,221,238]
["DA","A1","ALL","B3","G1",8,2014,0,252,272]
["DA","A1","ALL","B3","G1",9,2014,0,155,174]
["DA","A1","ALL","B3","G1",10,2014,0,93,105]
["DA","A1","ALL","B3","G1",11,2014,0,105,106]
["DA","A1","ALL","B3","G1",12,2014,0,161,166]
["DA","A1","ALL","B3","G2",1,2013,0,40,43]
["DA","A1","ALL","B3","G2",2,2013,0,72,74]
["DA","A1","ALL","B3","G2",3,2013,0,92,91]
["DA","A1","ALL","B3","G2",4,2013,0,97,98]
["DA","A1","ALL","B3","G2",5,2013,0,227,222]
["DA","A1","ALL","B3","G2",6,2013,0,250,274]
["DA","A1","ALL","B3","G2",7,2013,0,251,254]
["DA","A1","ALL","B3","G2",8,2013,0,253,258]
["DA","A1","ALL","B3","G2",9,2013,0,164,165]
["DA","A1","ALL","B3","G2",10,2013,0,137,140]
["DA","A1","ALL","B3","G2",11,2013,0,75,74]
["DA","A1","ALL","B3","G2",12,2013,0,222,233]
["DA","A1","ALL","B3","G2",1,2014,0,38,39]
["DA","A1","ALL","B3","G2",2,2014,0,97,104]
["DA","A1","ALL","B3","G2",3,2014,0,129,133]
["DA","A1","ALL","B3","G2",4,2014,0,87,91]
["DA","A1","ALL","B3","G2",5,2014,0,177,186]
["DA","A1","ALL","B3","G2",6,2014,0,237,238]
["DA","A1","ALL","B3","G2",7,2014,0,269,282]
["DA","A1","ALL","B3","G2",8,2014,0,246,255]
["DA","A1","ALL","B3","G2",9,2014,0,225,242]
["DA","A1","ALL","B3","G2",10,2014,0,201,210]
["DA","A1","ALL","B3","G2",11,2014,0,64,72]
["DA","A1","ALL","B3","G2",12,2014,0,224,244]
["DA","A1","ALL","B3","G3",1,2013,0,28,30]
["DA","A1","ALL","B3","G3",2,2013,0,53,58]
["DA","A1","ALL","B3","G3",3,2013,0,83,83]
["DA","A1","ALL","B3","G3",4,2013,0,81,87]
["DA","A1","ALL","B3","G3",5,2013,0,117,112]
["DA","A1","ALL","B3","G3",6,2013,0,136,156]
["DA","A1","ALL","B3","G3",7,2013,0,246,252]
["DA","A1","ALL","B3","G3",8,2013,0,157,154]
["DA","A1","ALL","B3","G3",9,2013,0,125,141]
["DA","A1","ALL","B3","G3",10,2013,0,86,93]
["DA","A1","ALL","B3","G3",11,2013,0,60,62]
["DA","A1","ALL","B3","G3",12,2013,0,131,137]
["DA","A1","ALL","B3","G3",1,2014,0,20,22]
["DA","A1","ALL","B3","G3",2,2014,0,48,53]
["DA","A1","ALL","B3","G3",3,2014,0,80,83]
["DA","A1","ALL","B3","G3",4,2014,0,88,101]
["DA","A1","ALL","B3","G3",5,2014,0,137,138]
["DA","A1","ALL","B3","G3",6,2014,0,150,158]
["DA","A1","ALL","B3","G3",7,2014,0,147,161]
["DA","A1","ALL","B3","G3",8,2014,0,166,165]
["DA","A1","ALL","B3","G3",9,2014,0,169,177]
["DA","A1","ALL","B3","G3",10,2014,0,105,112]
["DA","A1","ALL","B3","G3",11,2014,0,75,78]
["DA","A1","ALL","B3","G3",12,2014,0,106,108]
["DA","A1","ALL","B3","G4",1,2013,0,21,22]
["DA","A1","ALL","B3","G4",2,2013,0,42,47]
["DA","A1","ALL","B3","G4",3,2013,0,62,63]
["DA","A1","ALL","B3","G4",4,2013,0,72,70]
["DA","A1","ALL","B3","G4",5,2013,0,91,93]
["DA","A1","ALL","B3","G4",6,2013,0,76,75]
["DA","A1","ALL","B3","G4",7,2013,0,178,187]
["DA","A1","ALL","B3","G4",8,2013,0,140,157]
["DA","A1","ALL","B3","G4",9,2013,0,86,86]
["DA","A1","ALL","B3","G4",10,2013,0,64,65]
["DA","A1","ALL","B3","G4",11,2013,0,57,56]
["DA","A1","ALL","B3","G4",12,2013,0,120,121]
["DA","A1","ALL","B3","G4",1,2014,0,16,15]
["DA","A1","ALL","B3","G4",2,2014,0,26,27]
["DA","A1","ALL","B3","G4",3,2014,0,53,59]
["DA","A1","ALL","B3","G4",4,2014,0,53,58]
["DA","A1","ALL","B3","G4",5,2014,0,97,112]
["DA","A1","ALL","B3","G4",6,2014,0,74,81]
["DA","A1","ALL","B3","G4",7,2014,0,110,124]
["DA","A1","ALL","B3","G4",8,2014,0,147,158]
["DA","A1","ALL","B3","G4",9,2014,0,106,111]
["DA","A1","ALL","B3","G4",10,2014,0,62,66]
["DA","A1","ALL","B3","G4",11,2014,0,41,42]
["DA","A1","ALL","B3","G4",12,2014,0,79,81]
["DA","A1","ALL","B3","G5",1,2013,0,27,28]
["DA","A1","ALL","B3","G5",2,2013,0,44,48]
["DA","A1","ALL","B3","G5",3,2013,0,75,74]
["DA","A1","ALL","B3","G5",4,2013,0,77,79]
["DA","A1","ALL","B3","G5",5,2013,0,83,87]
["DA","A1","ALL","B3","G5",6,2013,0,134,142]
["DA","A1","ALL","B3","G5",7,2013,0,149,153]
["DA","A1","ALL","B3","G5",8,2013,0,212,230]
["DA","A1","ALL","B3","G5",9,2013,0,97,97]
["DA","A1","ALL","B3","G5",10,2013,0,89,89]
["DA","A1","ALL","B3","G5",11,2013,0,63,62]
["DA","A1","ALL","B3","G5",12,2013,0,108,112]
["DA","A1","ALL","B3","G5",1,2014,0,26,27]
["DA","A1","ALL","B3","G5",2,2014,0,46,48]
["DA","A1","ALL","B3","G5",3,2014,0,79,76]
["DA","A1","ALL","B3","G5",4,2014,0,102,102]
["DA","A1","ALL","B3","G5",5,2014,0,105,113]
["DA","A1","ALL","B3","G5",6,2014,0,102,112]
["DA","A1","ALL","B3","G5",7,2014,0,210,221]
["DA","A1","ALL","B3","G5",8,2014,0,165,168]
["DA","A1","ALL","B3","G5",9,2014,0,138,144]
["DA","A1","ALL","B3","G5",10,2014,0,114,127]
["DA","A1","ALL","B3","G5",11,2014,0,60,60]
["DA","A1","ALL","B3","G5",12,2014,0,113,118]
["DA","A2","ALL","B1","G1",1,2013,0,111,112]
["DA","A2","ALL","B1","G1",2,2013,0,279,311]
["DA","A2","ALL","B1","G1",3,2013,0,331,357]
["DA","A2","ALL","B1","G1",4,2013,0,451,476]
["DA","A2","ALL","B1","G1",5,2013,0,371,372]
["DA","A2","ALL","B1","G1",6,2013,0,657,727]
["DA","A2","ALL","B1","G1",7,2013,0,942,1065]
["DA","A2","ALL","B1","G1",8,2013,0,957,973]
["DA","A2","ALL","B1","G1",9,2013,0,761,753]
["DA","A2","ALL","B1","G1",10,2013,0,486,537]
["DA","A2","ALL","B1","G1",11,2013,0,331,330]
["DA","A2","ALL","B1","G1",12,2013,0,715,724]
["DA","A2","ALL","B1","G1",1,2014,0,146,146]
["DA","A2","ALL","B1","G1",2,2014,0,245,251]
["DA","A2","ALL","B1","G1",3,2014,0,448,460]
["DA","A2","ALL","B1","G1",4,2014,0,442,465]
["DA","A2","ALL","B1","G1",5,2014,0,456,442]
["DA","A2","ALL","B1","G1",6,2014,0,925,884]
["DA","A2","ALL","B1","G1",7,2014,0,790,857]
["DA","A2","ALL","B1","G1",8,2014,0,909,999]
["DA","A2","ALL","B1","G1",9,2014,0,712,798]
["DA","A2","ALL","B1","G1",10,2014,0,597,623]
["DA","A2","ALL","B1","G1",11,2014,0,298,318]
["DA","A2","ALL","B1","G1",12,2014,0,520,540]
["DA","A2","ALL","B1","G2",1,2013,0,164,184]
["DA","A2","ALL","B1","G2",2,2013,0,312,338]
["DA","A2","ALL","B1","G2",3,2013,0,567,591]
["DA","A2","ALL","B1","G2",4,2013,0,578,624]
["DA","A2","ALL","B1","G2",5,2013,0,579,626]
["DA","A2","ALL","B1","G2",6,2013,0,947,1055]
["DA","A2","ALL","B1","G2",7,2013,0,1452,1469]
["DA","A2","ALL","B1","G2",8,2013,0,1205,1189]
["DA","A2","ALL","B1","G2",9,2013,0,710,733]
["DA","A2","ALL","B1","G2",10,2013,0,537,538]
["DA","A2","ALL","B1","G2",11,2013,0,261,276]
["DA","A2","ALL","B1","G2",12,2013,0,688,751]
["DA","A2","ALL","B1","G2",1,2014,0,187,200]
["DA","A2","ALL","B1","G2",2,2014,0,348,374]
["DA","A2","ALL","B1","G2",3,2014,0,369,368]
["DA","A2","ALL","B1","G2",4,2014,0,541,553]
["DA","A2","ALL","B1","G2",5,2014,0,618,618]
["DA","A2","ALL","B1","G2",6,2014,0,629,664]
["DA","A2","ALL","B1","G2",7,2014,0,940,930]
["DA","A2","ALL","B1","G2",8,2014,0,817,876]
["DA","A2","ALL","B1","G2",9,2014,0,744,780]
["DA","A2","ALL","B1","G2",10,2014,0,456,440]
["DA","A2","ALL","B1","G2",11,2014,0,275,314]
["DA","A2","ALL","B1","G2",12,2014,0,1083,1116]
["DA","A2","ALL","B1","G3",1,2013,0,99,104]
["DA","A2","ALL","B1","G3",2,2013,0,158,174]
["DA","A2","ALL","B1","G3",3,2013,0,346,368]
["DA","A2","ALL","B1","G3",4,2013,0,491,511]
["DA","A2","ALL","B1","G3",5,2013,0,425,486]
["DA","A2","ALL","B1","G3",6,2013,0,652,657]
["DA","A2","ALL","B1","G3",7,2013,0,714,783]
["DA","A2","ALL","B1","G3",8,2013,0,641,709]
["DA","A2","ALL","B1","G3",9,2013,0,431,436]
["DA","A2","ALL","B1","G3",10,2013,0,439,434]
["DA","A2","ALL","B1","G3",11,2013,0,189,210]
["DA","A2","ALL","B1","G3",12,2013,0,596,596]
["DA","A2","ALL","B1","G3",1,2014,0,82,87]
["DA","A2","ALL","B1","G3",2,2014,0,208,210]
["DA","A2","ALL","B1","G3",3,2014,0,309,330]
["DA","A2","ALL","B1","G3",4,2014,0,277,310]
["DA","A2","ALL","B1","G3",5,2014,0,477,497]
["DA","A2","ALL","B1","G3",6,2014,0,516,516]
["DA","A2","ALL","B1","G3",7,2014,0,603,600]
["DA","A2","ALL","B1","G3",8,2014,0,700,789]
["DA","A2","ALL","B1","G3",9,2014,0,643,679]
["DA","A2","ALL","B1","G3",10,2014,0,322,342]
["DA","A2","ALL","B1","G3",11,2014,0,269,285]
["DA","A2","ALL","B1","G3",12,2014,0,386,386]
["DA","A2","ALL","B1","G4",1,2013,0,58,61]
["DA","A2","ALL","B1","G4",2,2013,0,145,164]
["DA","A2","ALL","B1","G4",3,2013,0,177,185]
["DA","A2","ALL","B1","G4",4,2013,0,162,175]
["DA","A2","ALL","B1","G4",5,2013,0,235,255]
["DA","A2","ALL","B1","G4",6,2013,0,425,419]
["DA","A2","ALL","B1","G4",7,2013,0,515,591]
["DA","A2","ALL","B1","G4",8,2013,0,421,437]
["DA","A2","ALL","B1","G4",9,2013,0,328,352]
["DA","A2","ALL","B1","G4",10,2013,0,345,375]
["DA","A2","ALL","B1","G4",11,2013,0,205,200]
["DA","A2","ALL","B1","G4",12,2013,0,305,347]
["DA","A2","ALL","B1","G4",1,2014,0,69,79]
["DA","A2","ALL","B1","G4",2,2014,0,189,195]
["DA","A2","ALL","B1","G4",3,2014,0,185,205]
["DA","A2","ALL","B1","G4",4,2014,0,178,176]
["DA","A2","ALL","B1","G4",5,2014,0,219,243]
["DA","A2","ALL","B1","G4",6,2014,0,397,426]
["DA","A2","ALL","B1","G4",7,2014,0,562,575]
["DA","A2","ALL","B1","G4",8,2014,0,447,488]
["DA","A2","ALL","B1","G4",9,2014,0,247,262]
["DA","A2","ALL","B1","G4",10,2014,0,239,261]
["DA","A2","ALL","B1","G4",11,2014,0,186,207]
["DA","A2","ALL","B1","G4",12,2014,0,372,395]
["DA","A2","ALL","B1","G5",1,2013,0,108,113]
["DA","A2","ALL","B1","G5",2,2013,0,154,157]
["DA","A2","ALL","B1","G5",3,2013,0,220,226]
["DA","A2","ALL","B1","G5",4,2013,0,335,371]
["DA","A2","ALL","B1","G5",5,2013,0,299,327]
["DA","A2","ALL","B1","G5",6,2013,0,582,604]
["DA","A2","ALL","B1","G5",7,2013,0,642,688]
["DA","A2","ALL","B1","G5",8,2013,0,507,495]
["DA","A2","ALL","B1","G5",9,2013,0,562,575]
["DA","A2","ALL","B1","G5",10,2013,0,353,359]
["DA","A2","ALL","B1","G5",11,2013,0,170,164]
["DA","A2","ALL","B1","G5",12,2013,0,512,530]
["DA","A2","ALL","B1","G5",1,2014,0,97,108]
["DA","A2","ALL","B1","G5",2,2014,0,152,170]
["DA","A2","ALL","B1","G5",3,2014,0,238,272]
["DA","A2","ALL","B1","G5",4,2014,0,294,295]
["DA","A2","ALL","B1","G5",5,2014,0,280,297]
["DA","A2","ALL","B1","G5",6,2014,0,454,456]
["DA","A2","ALL","B1","G5",7,2014,0,765,756]
["DA","A2","ALL","B1","G5",8,2014,0,530,570]
["DA","A2","ALL","B1","G5",9,2014,0,417,435]
["DA","A2","ALL","B1","G5",10,2014,0,323,331]
["DA","A2","ALL","B1","G5",11,2014,0,324,344]
["DA","A2","ALL","B1","G5",12,2014,0,468,502]
["DA","A2","ALL","B2","G1",1,2013,0,33,32]
["DA","A2","ALL","B2","G1",2,2013,0,96,102]
["DA","A2","ALL","B2","G1",3,2013,0,108,116]
["DA","A2","ALL","B2","G1",4,2013,0,118,123]
["DA","A2","ALL","B2","G1",5,2013,0,164,183]
["DA","A2","ALL","B2","G1",6,2013,0,182,182]
["DA","A2","ALL","B2","G1",7,2013,0,324,342]
["DA","A2","ALL","B2","G1",8,2013,0,236,256]
["DA","A2","ALL","B2","G1",9,2013,0,148,151]
["DA","A2","ALL","B2","G1",10,2013,0,171,183]
["DA","A2","ALL","B2","G1",11,2013,0,86,83]
["DA","A2","ALL","B2","G1",12,2013,0,188,196]
["DA","A2","ALL","B2","G1",1,2014,0,27,28]
["DA","A2","ALL","B2","G1",2,2014,0,101,98]
["DA","A2","ALL","B2","G1",3,2014,0,101,102]
["DA","A2","ALL","B2","G1",4,2014,0,104,111]
["DA","A2","ALL","B2","G1",5,2014,0,138,133]
["DA","A2","ALL","B2","G1",6,2014,0,277,270]
["DA","A2","ALL","B2","G1",7,2014,0,217,229]
["DA","A2","ALL","B2","G1",8,2014,0,209,224]
["DA","A2","ALL","B2","G1",9,2014,0,118,115]
["DA","A2","ALL","B2","G1",10,2014,0,117,131]
["DA","A2","ALL","B2","G1",11,2014,0,89,95]
["DA","A2","ALL","B2","G1",12,2014,0,231,253]
["DA","A2","ALL","B2","G2",1,2013,0,55,58]
["DA","A2","ALL","B2","G2",2,2013,0,77,78]
["DA","A2","ALL","B2","G2",3,2013,0,171,176]
["DA","A2","ALL","B2","G2",4,2013,0,122,125]
["DA","A2","ALL","B2","G2",5,2013,0,218,235]
["DA","A2","ALL","B2","G2",6,2013,0,186,197]
["DA","A2","ALL","B2","G2",7,2013,0,392,397]
["DA","A2","ALL","B2","G2",8,2013,0,414,408]
["DA","A2","ALL","B2","G2",9,2013,0,155,162]
["DA","A2","ALL","B2","G2",10,2013,0,227,240]
["DA","A2","ALL","B2","G2",11,2013,0,112,111]
["DA","A2","ALL","B2","G2",12,2013,0,237,234]
["DA","A2","ALL","B2","G2",1,2014,0,36,37]
["DA","A2","ALL","B2","G2",2,2014,0,102,109]
["DA","A2","ALL","B2","G2",3,2014,0,113,109]
["DA","A2","ALL","B2","G2",4,2014,0,110,116]
["DA","A2","ALL","B2","G2",5,2014,0,167,172]
["DA","A2","ALL","B2","G2",6,2014,0,141,157]
["DA","A2","ALL","B2","G2",7,2014,0,338,389]
["DA","A2","ALL","B2","G2",8,2014,0,198,212]
["DA","A2","ALL","B2","G2",9,2014,0,221,237]
["DA","A2","ALL","B2","G2",10,2014,0,179,191]
["DA","A2","ALL","B2","G2",11,2014,0,95,103]
["DA","A2","ALL","B2","G2",12,2014,0,240,252]
["DA","A2","ALL","B2","G3",1,2013,0,38,40]
["DA","A2","ALL","B2","G3",2,2013,0,68,70]
["DA","A2","ALL","B2","G3",3,2013,0,71,72]
["DA","A2","ALL","B2","G3",4,2013,0,108,119]
["DA","A2","ALL","B2","G3",5,2013,0,92,100]
["DA","A2","ALL","B2","G3",6,2013,0,187,196]
["DA","A2","ALL","B2","G3",7,2013,0,203,218]
["DA","A2","ALL","B2","G3",8,2013,0,124,141]
["DA","A2","ALL","B2","G3",9,2013,0,172,188]
["DA","A2","ALL","B2","G3",10,2013,0,87,90]
["DA","A2","ALL","B2","G3",11,2013,0,80,88]
["DA","A2","ALL","B2","G3",12,2013,0,172,180]
["DA","A2","ALL","B2","G3",1,2014,0,38,37]
["DA","A2","ALL","B2","G3",2,2014,0,55,57]
["DA","A2","ALL","B2","G3",3,2014,0,68,74]
["DA","A2","ALL","B2","G3",4,2014,0,119,116]
["DA","A2","ALL","B2","G3",5,2014,0,82,82]
["DA","A2","ALL","B2","G3",6,2014,0,238,254]
["DA","A2","ALL","B2","G3",7,2014,0,248,247]
["DA","A2","ALL","B2","G3",8,2014,0,228,258]
["DA","A2","ALL","B2","G3",9,2014,0,194,206]
["DA","A2","ALL","B2","G3",10,2014,0,98,98]
["DA","A2","ALL","B2","G3",11,2014,0,50,53]
["DA","A2","ALL","B2","G3",12,2014,0,115,127]
["DA","A2","ALL","B2","G4",1,2013,0,12,13]
["DA","A2","ALL","B2","G4",2,2013,0,57,58]
["DA","A2","ALL","B2","G4",3,2013,0,40,42]
["DA","A2","ALL","B2","G4",4,2013,0,71,73]
["DA","A2","ALL","B2","G4",5,2013,0,106,104]
["DA","A2","ALL","B2","G4",6,2013,0,145,161]
["DA","A2","ALL","B2","G4",7,2013,0,166,163]
["DA","A2","ALL","B2","G4",8,2013,0,146,147]
["DA","A2","ALL","B2","G4",9,2013,0,104,111]
["DA","A2","ALL","B2","G4",10,2013,0,102,106]
["DA","A2","ALL","B2","G4",11,2013,0,36,36]
["DA","A2","ALL","B2","G4",12,2013,0,100,108]
["DA","A2","ALL","B2","G4",1,2014,0,22,22]
["DA","A2","ALL","B2","G4",2,2014,0,29,30]
["DA","A2","ALL","B2","G4",3,2014,0,50,52]
["DA","A2","ALL","B2","G4",4,2014,0,52,56]
["DA","A2","ALL","B2","G4",5,2014,0,75,82]
["DA","A2","ALL","B2","G4",6,2014,0,117,129]
["DA","A2","ALL","B2","G4",7,2014,0,135,149]
["DA","A2","ALL","B2","G4",8,2014,0,116,121]
["DA","A2","ALL","B2","G4",9,2014,0,93,101]
["DA","A2","ALL","B2","G4",10,2014,0,100,114]
["DA","A2","ALL","B2","G4",11,2014,0,65,68]
["DA","A2","ALL","B2","G4",12,2014,0,93,97]
["DA","A2","ALL","B2","G5",1,2013,0,21,22]
["DA","A2","ALL","B2","G5",2,2013,0,37,40]
["DA","A2","ALL","B2","G5",3,2013,0,82,95]
["DA","A2","ALL","B2","G5",4,2013,0,59,65]
["DA","A2","ALL","B2","G5",5,2013,0,102,101]
["DA","A2","ALL","B2","G5",6,2013,0,202,204]
["DA","A2","ALL","B2","G5",7,2013,0,252,277]
["DA","A2","ALL","B2","G5",8,2013,0,267,278]
["DA","A2","ALL","B2","G5",9,2013,0,139,145]
["DA","A2","ALL","B2","G5",10,2013,0,147,143]
["DA","A2","ALL","B2","G5",11,2013,0,52,56]
["DA","A2","ALL","B2","G5",12,2013,0,132,150]
["DA","A2","ALL","B2","G5",1,2014,0,22,24]
["DA","A2","ALL","B2","G5",2,2014,0,50,55]
["DA","A2","ALL","B2","G5",3,2014,0,96,96]
["DA","A2","ALL","B2","G5",4,2014,0,67,68]
["DA","A2","ALL","B2","G5",5,2014,0,152,164]
["DA","A2","ALL","B2","G5",6,2014,0,120,123]
["DA","A2","ALL","B2","G5",7,2014,0,268,297]
["DA","A2","ALL","B2","G5",8,2014,0,187,193]
["DA","A2","ALL","B2","G5",9,2014,0,106,112]
["DA","A2","ALL","B2","G5",10,2014,0,98,107]
["DA","A2","ALL","B2","G5",11,2014,0,54,55]
["DA","A2","ALL","B2","G5",12,2014,0,143,161]
["DA","A2","ALL","B3","G1",1,2013,0,18,19]
["DA","A2","ALL","B3","G1",2,2013,0,32,34]
["DA","A2","ALL","B3","G1",3,2013,0,58,60]
["DA","A2","ALL","B3","G1",4,2013,0,75,80]
["DA","A2","ALL","B3","G1",5,2013,0,62,67]
["DA","A2","ALL","B3","G1",6,2013,0,85,89]
["DA","A2","ALL","B3","G1",7,2013,0,96,104]
["DA","A2","ALL","B3","G1",8,2013,0,120,127]
["DA","A2","ALL","B3","G1",9,2013,0,90,88]
["DA","A2","ALL","B3","G1",10,2013,0,59,61]
["DA","A2","ALL","B3","G1",11,2013,0,41,42]
["DA","A2","ALL","B3","G1",12,2013,0,77,74]
["DA","A2","ALL","B3","G1",1,2014,0,21,21]
["DA","A2","ALL","B3","G1",2,2014,0,35,35]
["DA","A2","ALL","B3","G1",3,2014,0,54,61]
["DA","A2","ALL","B3","G1",4,2014,0,61,62]
["DA","A2","ALL","B3","G1",5,2014,0,75,78]
["DA","A2","ALL","B3","G1",6,2014,0,101,99]
["DA","A2","ALL","B3","G1",7,2014,0,120,123]
["DA","A2","ALL","B3","G1",8,2014,0,116,130]
["DA","A2","ALL","B3","G1",9,2014,0,77,80]
["DA","A2","ALL","B3","G1",10,2014,0,76,79]
["DA","A2","ALL","B3","G1",11,2014,0,52,55]
["DA","A2","ALL","B3","G1",12,2014,0,110,117]
["DA","A2","ALL","B3","G2",1,2013,0,15,17]
["DA","A2","ALL","B3","G2",2,2013,0,27,31]
["DA","A2","ALL","B3","G2",3,2013,0,96,102]
["DA","A2","ALL","B3","G2",4,2013,0,55,58]
["DA","A2","ALL","B3","G2",5,2013,0,115,127]
["DA","A2","ALL","B3","G2",6,2013,0,134,134]
["DA","A2","ALL","B3","G2",7,2013,0,126,136]
["DA","A2","ALL","B3","G2",8,2013,0,200,203]
["DA","A2","ALL","B3","G2",9,2013,0,135,148]
["DA","A2","ALL","B3","G2",10,2013,0,108,112]
["DA","A2","ALL","B3","G2",11,2013,0,45,44]
["DA","A2","ALL","B3","G2",12,2013,0,134,141]
["DA","A2","ALL","B3","G2",1,2014,0,16,16]
["DA","A2","ALL","B3","G2",2,2014,0,38,40]
["DA","A2","ALL","B3","G2",3,2014,0,80,85]
["DA","A2","ALL","B3","G2",4,2014,0,55,62]
["DA","A2","ALL","B3","G2",5,2014,0,118,125]
["DA","A2","ALL","B3","G2",6,2014,0,144,162]
["DA","A2","ALL","B3","G2",7,2014,0,176,183]
["DA","A2","ALL","B3","G2",8,2014,0,175,183]
["DA","A2","ALL","B3","G2",9,2014,0,135,149]
["DA","A2","ALL","B3","G2",10,2014,0,85,85]
["DA","A2","ALL","B3","G2",11,2014,0,57,59]
["DA","A2","ALL","B3","G2",12,2014,0,77,82]
["DA","A2","ALL","B3","G3",1,2013,0,15,16]
["DA","A2","ALL","B3","G3",2,2013,0,27,28]
["DA","A2","ALL","B3","G3",3,2013,0,49,52]
["DA","A2","ALL","B3","G3",4,2013,0,42,48]
["DA","A2","ALL","B3","G3",5,2013,0,55,58]
["DA","A2","ALL","B3","G3",6,2013,0,88,97]
["DA","A2","ALL","B3","G3",7,2013,0,120,136]
["DA","A2","ALL","B3","G3",8,2013,0,84,94]
["DA","A2","ALL","B3","G3",9,2013,0,52,53]
["DA","A2","ALL","B3","G3",10,2013,0,57,58]
["DA","A2","ALL","B3","G3",11,2013,0,25,27]
["DA","A2","ALL","B3","G3",12,2013,0,88,92]
["DA","A2","ALL","B3","G3",1,2014,0,13,14]
["DA","A2","ALL","B3","G3",2,2014,0,24,24]
["DA","A2","ALL","B3","G3",3,2014,0,33,33]
["DA","A2","ALL","B3","G3",4,2014,0,63,71]
["DA","A2","ALL","B3","G3",5,2014,0,55,59]
["DA","A2","ALL","B3","G3",6,2014,0,72,75]
["DA","A2","ALL","B3","G3",7,2014,0,84,86]
["DA","A2","ALL","B3","G3",8,2014,0,79,85]
["DA","A2","ALL","B3","G3",9,2014,0,70,80]
["DA","A2","ALL","B3","G3",10,2014,0,55,57]
["DA","A2","ALL","B3","G3",11,2014,0,39,39]
["DA","A2","ALL","B3","G3",12,2014,0,69,72]
["DA","A2","ALL","B3","G4",1,2013,0,9,9]
["DA","A2","ALL","B3","G4",2,2013,0,16,17]
["DA","A2","ALL","B3","G4",3,2013,0,32,34]
["DA","A2","ALL","B3","G4",4,2013,0,42,44]
["DA","A2","ALL","B3","G4",5,2013,0,35,38]
["DA","A2","ALL","B3","G4",6,2013,0,67,71]
["DA","A2","ALL","B3","G4",7,2013,0,52,56]
["DA","A2","ALL","B3","G4",8,2013,0,90,92]
["DA","A2","ALL","B3","G4",9,2013,0,60,61]
["DA","A2","ALL","B3","G4",10,2013,0,43,44]
["DA","A2","ALL","B3","G4",11,2013,0,26,29]
["DA","A2","ALL","B3","G4",12,2013,0,52,53]
["DA","A2","ALL","B3","G4",1,2014,0,12,12]
["DA","A2","ALL","B3","G4",2,2014,0,19,21]
["DA","A2","ALL","B3","G4",3,2014,0,26,27]
["DA","A2","ALL","B3","G4",4,2014,0,44,48]
["DA","A2","ALL","B3","G4",5,2014,0,44,45]
["DA","A2","ALL","B3","G4",6,2014,0,65,64]
["DA","A2","ALL","B3","G4",7,2014,0,69,71]
["DA","A2","ALL","B3","G4",8,2014,0,74,81]
["DA","A2","ALL","B3","G4",9,2014,0,45,48]
["DA","A2","ALL","B3","G4",10,2014,0,41,42]
["DA","A2","ALL","B3","G4",11,2014,0,27,29]
["DA","A2","ALL","B3","G4",12,2014,0,58,62]
["DA","A2","ALL","B3","G5",1,2013,0,14,14]
["DA","A2","ALL","B3","G5",2,2013,0,18,20]
["DA","A2","ALL","B3","G5",3,2013,0,40,45]
["DA","A2","ALL","B3","G5",4,2013,0,48,55]
["DA","A2","ALL","B3","G5",5,2013,0,57,57]
["DA","A2","ALL","B3","G5",6,2013,0,66,68]
["DA","A2","ALL","B3","G5",7,2013,0,124,134]
["DA","A2","ALL","B3","G5",8,2013,0,98,96]
["DA","A2","ALL","B3","G5",9,2013,0,70,75]
["DA","A2","ALL","B3","G5",10,2013,0,66,64]
["DA","A2","ALL","B3","G5",11,2013,0,35,37]
["DA","A2","ALL","B3","G5",12,2013,0,70,78]
["DA","A2","ALL","B3","G5",1,2014,0,10,10]
["DA","A2","ALL","B3","G5",2,2014,0,26,27]
["DA","A2","ALL","B3","G5",3,2014,0,34,36]
["DA","A2","ALL","B3","G5",4,2014,0,30,32]
["DA","A2","ALL","B3","G5",5,2014,0,50,50]
["DA","A2","ALL","B3","G5",6,2014,0,77,75]
["DA","A2","ALL","B3","G5",7,2014,0,96,98]
["DA","A2","ALL","B3","G5",8,2014,0,124,124]
["DA","A2","ALL","B3","G5",9,2014,0,91,89]
["DA","A2","ALL","B3","G5",10,2014,0,47,53]
["DA","A2","ALL","B3","G5",11,2014,0,43,45]
["DA","A2","ALL","B3","G5",12,2014,0,60,61]
["DEDUC","D1","S1","B1","G1",1,2013,0,103,103]
["DEDUC","D1","S1","B1","G1",2,2013,0,267,291]
["DEDUC","D1","S1","B1","G1",3,2013,0,294,293]
["DEDUC","D1","S1","B1","G1",4,2013,0,300,326]
["DEDUC","D1","S1","B1","G1",5,2013,0,353,388]
["DEDUC","D1","S1","B1","G1",6,2013,0,607,690]
["DEDUC","D1","S1","B1","G1",7,2013,0,729,796]
["DEDUC","D1","S1","B1","G1",8,2013,0,859,924]
["DEDUC","D1","S1","B1","G1",9,2013,0,604,673]
["DEDUC","D1","S1","B1","G1",10,2013,0,483,520]
["DEDUC","D1","S1","B1","G1",11,2013,0,242,264]
["DEDUC","D1","S1","B1","G1",12,2013,0,610,617]
["DEDUC","D1","S1","B1","G1",1,2014,0,92,96]
["DEDUC","D1","S1","B1","G1",2,2014,0,228,244]
["DEDUC","D1","S1","B1","G1",3,2014,0,364,404]
["DEDUC","D1","S1","B1","G1",4,2014,0,323,346]
["DEDUC","D1","S1","B1","G1",5,2014,0,420,444]
["DEDUC","D1","S1","B1","G1",6,2014,0,659,669]
["DEDUC","D1","S1","B1","G1",7,2014,0,579,625]
["DEDUC","D1","S1","B1","G1",8,2014,0,638,645]
["DEDUC","D1","S1","B1","G1",9,2014,0,494,542]
["DEDUC","D1","S1","B1","G1",10,2014,0,414,438]
["DEDUC","D1","S1","B1","G1",11,2014,0,276,281]
["DEDUC","D1","S1","B1","G1",12,2014,0,695,703]
["DEDUC","D1","S1","B1","G2",1,2013,0,130,139]
["DEDUC","D1","S1","B1","G2",2,2013,0,301,291]
["DEDUC","D1","S1","B1","G2",3,2013,0,366,397]
["DEDUC","D1","S1","B1","G2",4,2013,0,493,525]
["DEDUC","D1","S1","B1","G2",5,2013,0,677,691]
["DEDUC","D1","S1","B1","G2",6,2013,0,700,733]
["DEDUC","D1","S1","B1","G2",7,2013,0,816,884]
["DEDUC","D1","S1","B1","G2",8,2013,0,1002,1097]
["DEDUC","D1","S1","B1","G2",9,2013,0,1024,1050]
["DEDUC","D1","S1","B1","G2",10,2013,0,563,573]
["DEDUC","D1","S1","B1","G2",11,2013,0,427,450]
["DEDUC","D1","S1","B1","G2",12,2013,0,1001,1092]
["DEDUC","D1","S1","B1","G2",1,2014,0,103,107]
["DEDUC","D1","S1","B1","G2",2,2014,0,349,337]
["DEDUC","D1","S1","B1","G2",3,2014,0,368,355]
["DEDUC","D1","S1","B1","G2",4,2014,0,780,840]
["DEDUC","D1","S1","B1","G2",5,2014,0,691,795]
["DEDUC","D1","S1","B1","G2",6,2014,0,818,790]
["DEDUC","D1","S1","B1","G2",7,2014,0,1260,1326]
["DEDUC","D1","S1","B1","G2",8,2014,0,958,948]
["DEDUC","D1","S1","B1","G2",9,2014,0,512,563]
["DEDUC","D1","S1","B1","G2",10,2014,0,754,763]
["DEDUC","D1","S1","B1","G2",11,2014,0,341,356]
["DEDUC","D1","S1","B1","G2",12,2014,0,536,596]
["DEDUC","D1","S1","B1","G3",1,2013,0,73,83]
["DEDUC","D1","S1","B1","G3",2,2013,0,186,198]
["DEDUC","D1","S1","B1","G3",3,2013,0,208,220]
["DEDUC","D1","S1","B1","G3",4,2013,0,249,259]
["DEDUC","D1","S1","B1","G3",5,2013,0,406,408]
["DEDUC","D1","S1","B1","G3",6,2013,0,573,611]
["DEDUC","D1","S1","B1","G3",7,2013,0,506,491]
["DEDUC","D1","S1","B1","G3",8,2013,0,765,791]
["DEDUC","D1","S1","B1","G3",9,2013,0,481,532]
["DEDUC","D1","S1","B1","G3",10,2013,0,318,318]
["DEDUC","D1","S1","B1","G3",11,2013,0,213,218]
["DEDUC","D1","S1","B1","G3",12,2013,0,526,516]
["DEDUC","D1","S1","B1","G3",1,2014,0,109,114]
["DEDUC","D1","S1","B1","G3",2,2014,0,175,179]
["DEDUC","D1","S1","B1","G3",3,2014,0,268,267]
["DEDUC","D1","S1","B1","G3",4,2014,0,281,290]
["DEDUC","D1","S1","B1","G3",5,2014,0,388,403]
["DEDUC","D1","S1","B1","G3",6,2014,0,412,414]
["DEDUC","D1","S1","B1","G3",7,2014,0,848,856]
["DEDUC","D1","S1","B1","G3",8,2014,0,695,732]
["DEDUC","D1","S1","B1","G3",9,2014,0,605,599]
["DEDUC","D1","S1","B1","G3",10,2014,0,295,307]
["DEDUC","D1","S1","B1","G3",11,2014,0,256,273]
["DEDUC","D1","S1","B1","G3",12,2014,0,566,587]
["DEDUC","D1","S1","B1","G4",1,2013,0,79,90]
["DEDUC","D1","S1","B1","G4",2,2013,0,99,101]
["DEDUC","D1","S1","B1","G4",3,2013,0,155,156]
["DEDUC","D1","S1","B1","G4",4,2013,0,161,160]
["DEDUC","D1","S1","B1","G4",5,2013,0,300,331]
["DEDUC","D1","S1","B1","G4",6,2013,0,377,412]
["DEDUC","D1","S1","B1","G4",7,2013,0,406,432]
["DEDUC","D1","S1","B1","G4",8,2013,0,501,556]
["DEDUC","D1","S1","B1","G4",9,2013,0,266,272]
["DEDUC","D1","S1","B1","G4",10,2013,0,317,328]
["DEDUC","D1","S1","B1","G4",11,2013,0,177,188]
["DEDUC","D1","S1","B1","G4",12,2013,0,236,249]
["DEDUC","D1","S1","B1","G4",1,2014,0,62,64]
["DEDUC","D1","S1","B1","G4",2,2014,0,131,137]
["DEDUC","D1","S1","B1","G4",3,2014,0,190,188]
["DEDUC","D1","S1","B1","G4",4,2014,0,221,222]
["DEDUC","D1","S1","B1","G4",5,2014,0,362,366]
["DEDUC","D1","S1","B1","G4",6,2014,0,304,307]
["DEDUC","D1","S1","B1","G4",7,2014,0,444,456]
["DEDUC","D1","S1","B1","G4",8,2014,0,425,488]
["DEDUC","D1","S1","B1","G4",9,2014,0,378,407]
["DEDUC","D1","S1","B1","G4",10,2014,0,208,227]
["DEDUC","D1","S1","B1","G4",11,2014,0,108,116]
["DEDUC","D1","S1","B1","G4",12,2014,0,369,385]
["DEDUC","D1","S1","B1","G5",1,2013,0,65,69]
["DEDUC","D1","S1","B1","G5",2,2013,0,169,173]
["DEDUC","D1","S1","B1","G5",3,2013,0,225,251]
["DEDUC","D1","S1","B1","G5",4,2013,0,288,312]
["DEDUC","D1","S1","B1","G5",5,2013,0,322,353]
["DEDUC","D1","S1","B1","G5",6,2013,0,461,472]
["DEDUC","D1","S1","B1","G5",7,2013,0,537,560]
["DEDUC","D1","S1","B1","G5",8,2013,0,583,612]
["DEDUC","D1","S1","B1","G5",9,2013,0,419,425]
["DEDUC","D1","S1","B1","G5",10,2013,0,256,277]
["DEDUC","D1","S1","B1","G5",11,2013,0,199,210]
["DEDUC","D1","S1","B1","G5",12,2013,0,409,403]
["DEDUC","D1","S1","B1","G5",1,2014,0,95,99]
["DEDUC","D1","S1","B1","G5",2,2014,0,189,203]
["DEDUC","D1","S1","B1","G5",3,2014,0,280,303]
["DEDUC","D1","S1","B1","G5",4,2014,0,254,284]
["DEDUC","D1","S1","B1","G5",5,2014,0,308,316]
["DEDUC","D1","S1","B1","G5",6,2014,0,507,504]
["DEDUC","D1","S1","B1","G5",7,2014,0,569,587]
["DEDUC","D1","S1","B1","G5",8,2014,0,586,617]
["DEDUC","D1","S1","B1","G5",9,2014,0,417,439]
["DEDUC","D1","S1","B1","G5",10,2014,0,338,349]
["DEDUC","D1","S1","B1","G5",11,2014,0,162,169]
["DEDUC","D1","S1","B1","G5",12,2014,0,514,507]
["DEDUC","D1","S1","B2","G1",1,2013,0,30,33]
["DEDUC","D1","S1","B2","G1",2,2013,0,50,52]
["DEDUC","D1","S1","B2","G1",3,2013,0,121,127]
["DEDUC","D1","S1","B2","G1",4,2013,0,126,126]
["DEDUC","D1","S1","B2","G1",5,2013,0,116,123]
["DEDUC","D1","S1","B2","G1",6,2013,0,193,207]
["DEDUC","D1","S1","B2","G1",7,2013,0,212,214]
["DEDUC","D1","S1","B2","G1",8,2013,0,281,305]
["DEDUC","D1","S1","B2","G1",9,2013,0,168,171]
["DEDUC","D1","S1","B2","G1",10,2013,0,155,153]
["DEDUC","D1","S1","B2","G1",11,2013,0,86,84]
["DEDUC","D1","S1","B2","G1",12,2013,0,119,122]
["DEDUC","D1","S1","B2","G1",1,2014,0,38,41]
["DEDUC","D1","S1","B2","G1",2,2014,0,77,78]
["DEDUC","D1","S1","B2","G1",3,2014,0,81,82]
["DEDUC","D1","S1","B2","G1",4,2014,0,115,126]
["DEDUC","D1","S1","B2","G1",5,2014,0,115,128]
["DEDUC","D1","S1","B2","G1",6,2014,0,195,209]
["DEDUC","D1","S1","B2","G1",7,2014,0,198,214]
["DEDUC","D1","S1","B2","G1",8,2014,0,268,271]
["DEDUC","D1","S1","B2","G1",9,2014,0,189,197]
["DEDUC","D1","S1","B2","G1",10,2014,0,123,122]
["DEDUC","D1","S1","B2","G1",11,2014,0,84,87]
["DEDUC","D1","S1","B2","G1",12,2014,0,136,145]
["DEDUC","D1","S1","B2","G2",1,2013,0,40,42]
["DEDUC","D1","S1","B2","G2",2,2013,0,97,105]
["DEDUC","D1","S1","B2","G2",3,2013,0,133,137]
["DEDUC","D1","S1","B2","G2",4,2013,0,122,123]
["DEDUC","D1","S1","B2","G2",5,2013,0,211,214]
["DEDUC","D1","S1","B2","G2",6,2013,0,301,313]
["DEDUC","D1","S1","B2","G2",7,2013,0,338,332]
["DEDUC","D1","S1","B2","G2",8,2013,0,308,312]
["DEDUC","D1","S1","B2","G2",9,2013,0,215,225]
["DEDUC","D1","S1","B2","G2",10,2013,0,137,133]
["DEDUC","D1","S1","B2","G2",11,2013,0,74,80]
["DEDUC","D1","S1","B2","G2",12,2013,0,210,219]
["DEDUC","D1","S1","B2","G2",1,2014,0,40,39]
["DEDUC","D1","S1","B2","G2",2,2014,0,94,96]
["DEDUC","D1","S1","B2","G2",3,2014,0,163,173]
["DEDUC","D1","S1","B2","G2",4,2014,0,142,154]
["DEDUC","D1","S1","B2","G2",5,2014,0,155,164]
["DEDUC","D1","S1","B2","G2",6,2014,0,179,190]
["DEDUC","D1","S1","B2","G2",7,2014,0,279,299]
["DEDUC","D1","S1","B2","G2",8,2014,0,290,299]
["DEDUC","D1","S1","B2","G2",9,2014,0,258,280]
["DEDUC","D1","S1","B2","G2",10,2014,0,193,191]
["DEDUC","D1","S1","B2","G2",11,2014,0,111,119]
["DEDUC","D1","S1","B2","G2",12,2014,0,224,237]
["DEDUC","D1","S1","B2","G3",1,2013,0,29,30]
["DEDUC","D1","S1","B2","G3",2,2013,0,41,43]
["DEDUC","D1","S1","B2","G3",3,2013,0,57,59]
["DEDUC","D1","S1","B2","G3",4,2013,0,84,87]
["DEDUC","D1","S1","B2","G3",5,2013,0,155,168]
["DEDUC","D1","S1","B2","G3",6,2013,0,88,92]
["DEDUC","D1","S1","B2","G3",7,2013,0,169,179]
["DEDUC","D1","S1","B2","G3",8,2013,0,205,230]
["DEDUC","D1","S1","B2","G3",9,2013,0,122,120]
["DEDUC","D1","S1","B2","G3",10,2013,0,114,124]
["DEDUC","D1","S1","B2","G3",11,2013,0,70,78]
["DEDUC","D1","S1","B2","G3",12,2013,0,125,135]
["DEDUC","D1","S1","B2","G3",1,2014,0,23,24]
["DEDUC","D1","S1","B2","G3",2,2014,0,45,47]
["DEDUC","D1","S1","B2","G3",3,2014,0,82,92]
["DEDUC","D1","S1","B2","G3",4,2014,0,85,87]
["DEDUC","D1","S1","B2","G3",5,2014,0,110,118]
["DEDUC","D1","S1","B2","G3",6,2014,0,125,135]
["DEDUC","D1","S1","B2","G3",7,2014,0,217,234]
["DEDUC","D1","S1","B2","G3",8,2014,0,181,183]
["DEDUC","D1","S1","B2","G3",9,2014,0,171,192]
["DEDUC","D1","S1","B2","G3",10,2014,0,84,90]
["DEDUC","D1","S1","B2","G3",11,2014,0,57,61]
["DEDUC","D1","S1","B2","G3",12,2014,0,165,165]
["DEDUC","D1","S1","B2","G4",1,2013,0,24,24]
["DEDUC","D1","S1","B2","G4",2,2013,0,26,28]
["DEDUC","D1","S1","B2","G4",3,2013,0,58,61]
["DEDUC","D1","S1","B2","G4",4,2013,0,88,86]
["DEDUC","D1","S1","B2","G4",5,2013,0,110,110]
["DEDUC","D1","S1","B2","G4",6,2013,0,104,111]
["DEDUC","D1","S1","B2","G4",7,2013,0,129,128]
["DEDUC","D1","S1","B2","G4",8,2013,0,146,143]
["DEDUC","D1","S1","B2","G4",9,2013,0,77,86]
["DEDUC","D1","S1","B2","G4",10,2013,0,57,62]
["DEDUC","D1","S1","B2","G4",11,2013,0,38,42]
["DEDUC","D1","S1","B2","G4",12,2013,0,133,136]
["DEDUC","D1","S1","B2","G4",1,2014,0,22,23]
["DEDUC","D1","S1","B2","G4",2,2014,0,31,32]
["DEDUC","D1","S1","B2","G4",3,2014,0,59,62]
["DEDUC","D1","S1","B2","G4",4,2014,0,57,61]
["DEDUC","D1","S1","B2","G4",5,2014,0,61,61]
["DEDUC","D1","S1","B2","G4",6,2014,0,108,112]
["DEDUC","D1","S1","B2","G4",7,2014,0,103,105]
["DEDUC","D1","S1","B2","G4",8,2014,0,99,104]
["DEDUC","D1","S1","B2","G4",9,2014,0,83,92]
["DEDUC","D1","S1","B2","G4",10,2014,0,91,91]
["DEDUC","D1","S1","B2","G4",11,2014,0,36,39]
["DEDUC","D1","S1","B2","G4",12,2014,0,57,57]
["DEDUC","D1","S1","B2","G5",1,2013,0,21,21]
["DEDUC","D1","S1","B2","G5",2,2013,0,44,44]
["DEDUC","D1","S1","B2","G5",3,2013,0,72,77]
["DEDUC","D1","S1","B2","G5",4,2013,0,112,110]
["DEDUC","D1","S1","B2","G5",5,2013,0,112,111]
["DEDUC","D1","S1","B2","G5",6,2013,0,139,156]
["DEDUC","D1","S1","B2","G5",7,2013,0,165,171]
["DEDUC","D1","S1","B2","G5",8,2013,0,179,203]
["DEDUC","D1","S1","B2","G5",9,2013,0,162,165]
["DEDUC","D1","S1","B2","G5",10,2013,0,91,90]
["DEDUC","D1","S1","B2","G5",11,2013,0,75,79]
["DEDUC","D1","S1","B2","G5",12,2013,0,175,176]
["DEDUC","D1","S1","B2","G5",1,2014,0,20,20]
["DEDUC","D1","S1","B2","G5",2,2014,0,44,49]
["DEDUC","D1","S1","B2","G5",3,2014,0,76,76]
["DEDUC","D1","S1","B2","G5",4,2014,0,59,65]
["DEDUC","D1","S1","B2","G5",5,2014,0,117,132]
["DEDUC","D1","S1","B2","G5",6,2014,0,150,171]
["DEDUC","D1","S1","B2","G5",7,2014,0,174,195]
["DEDUC","D1","S1","B2","G5",8,2014,0,158,155]
["DEDUC","D1","S1","B2","G5",9,2014,0,89,95]
["DEDUC","D1","S1","B2","G5",10,2014,0,94,93]
["DEDUC","D1","S1","B2","G5",11,2014,0,60,64]
["DEDUC","D1","S1","B2","G5",12,2014,0,104,105]
["DEDUC","D1","S1","B3","G1",1,2013,0,20,20]
["DEDUC","D1","S1","B3","G1",2,2013,0,34,37]
["DEDUC","D1","S1","B3","G1",3,2013,0,45,47]
["DEDUC","D1","S1","B3","G1",4,2013,0,44,48]
["DEDUC","D1","S1","B3","G1",5,2013,0,61,66]
["DEDUC","D1","S1","B3","G1",6,2013,0,121,121]
["DEDUC","D1","S1","B3","G1",7,2013,0,85,91]
["DEDUC","D1","S1","B3","G1",8,2013,0,111,111]
["DEDUC","D1","S1","B3","G1",9,2013,0,98,102]
["DEDUC","D1","S1","B3","G1",10,2013,0,57,55]
["DEDUC","D1","S1","B3","G1",11,2013,0,52,53]
["DEDUC","D1","S1","B3","G1",12,2013,0,66,69]
["DEDUC","D1","S1","B3","G1",1,2014,0,17,18]
["DEDUC","D1","S1","B3","G1",2,2014,0,39,44]
["DEDUC","D1","S1","B3","G1",3,2014,0,59,59]
["DEDUC","D1","S1","B3","G1",4,2014,0,69,72]
["DEDUC","D1","S1","B3","G1",5,2014,0,47,50]
["DEDUC","D1","S1","B3","G1",6,2014,0,82,87]
["DEDUC","D1","S1","B3","G1",7,2014,0,101,106]
["DEDUC","D1","S1","B3","G1",8,2014,0,123,126]
["DEDUC","D1","S1","B3","G1",9,2014,0,97,99]
["DEDUC","D1","S1","B3","G1",10,2014,0,46,48]
["DEDUC","D1","S1","B3","G1",11,2014,0,41,42]
["DEDUC","D1","S1","B3","G1",12,2014,0,113,111]
["DEDUC","D1","S1","B3","G2",1,2013,0,18,19]
["DEDUC","D1","S1","B3","G2",2,2013,0,47,49]
["DEDUC","D1","S1","B3","G2",3,2013,0,64,65]
["DEDUC","D1","S1","B3","G2",4,2013,0,85,86]
["DEDUC","D1","S1","B3","G2",5,2013,0,78,83]
["DEDUC","D1","S1","B3","G2",6,2013,0,139,146]
["DEDUC","D1","S1","B3","G2",7,2013,0,134,134]
["DEDUC","D1","S1","B3","G2",8,2013,0,127,131]
["DEDUC","D1","S1","B3","G2",9,2013,0,103,106]
["DEDUC","D1","S1","B3","G2",10,2013,0,80,83]
["DEDUC","D1","S1","B3","G2",11,2013,0,43,43]
["DEDUC","D1","S1","B3","G2",12,2013,0,140,152]
["DEDUC","D1","S1","B3","G2",1,2014,0,18,21]
["DEDUC","D1","S1","B3","G2",2,2014,0,30,32]
["DEDUC","D1","S1","B3","G2",3,2014,0,51,54]
["DEDUC","D1","S1","B3","G2",4,2014,0,71,79]
["DEDUC","D1","S1","B3","G2",5,2014,0,93,98]
["DEDUC","D1","S1","B3","G2",6,2014,0,113,124]
["DEDUC","D1","S1","B3","G2",7,2014,0,119,129]
["DEDUC","D1","S1","B3","G2",8,2014,0,108,109]
["DEDUC","D1","S1","B3","G2",9,2014,0,144,143]
["DEDUC","D1","S1","B3","G2",10,2014,0,76,82]
["DEDUC","D1","S1","B3","G2",11,2014,0,57,60]
["DEDUC","D1","S1","B3","G2",12,2014,0,103,116]
["DEDUC","D1","S1","B3","G3",1,2013,0,12,13]
["DEDUC","D1","S1","B3","G3",2,2013,0,23,23]
["DEDUC","D1","S1","B3","G3",3,2013,0,37,37]
["DEDUC","D1","S1","B3","G3",4,2013,0,38,41]
["DEDUC","D1","S1","B3","G3",5,2013,0,44,47]
["DEDUC","D1","S1","B3","G3",6,2013,0,65,66]
["DEDUC","D1","S1","B3","G3",7,2013,0,84,87]
["DEDUC","D1","S1","B3","G3",8,2013,0,68,67]
["DEDUC","D1","S1","B3","G3",9,2013,0,54,55]
["DEDUC","D1","S1","B3","G3",10,2013,0,52,57]
["DEDUC","D1","S1","B3","G3",11,2013,0,34,36]
["DEDUC","D1","S1","B3","G3",12,2013,0,51,54]
["DEDUC","D1","S1","B3","G3",1,2014,0,14,15]
["DEDUC","D1","S1","B3","G3",2,2014,0,31,31]
["DEDUC","D1","S1","B3","G3",3,2014,0,40,41]
["DEDUC","D1","S1","B3","G3",4,2014,0,43,48]
["DEDUC","D1","S1","B3","G3",5,2014,0,67,71]
["DEDUC","D1","S1","B3","G3",6,2014,0,72,73]
["DEDUC","D1","S1","B3","G3",7,2014,0,95,99]
["DEDUC","D1","S1","B3","G3",8,2014,0,83,88]
["DEDUC","D1","S1","B3","G3",9,2014,0,85,85]
["DEDUC","D1","S1","B3","G3",10,2014,0,38,40]
["DEDUC","D1","S1","B3","G3",11,2014,0,25,26]
["DEDUC","D1","S1","B3","G3",12,2014,0,50,56]
["DEDUC","D1","S1","B3","G4",1,2013,0,9,9]
["DEDUC","D1","S1","B3","G4",2,2013,0,21,22]
["DEDUC","D1","S1","B3","G4",3,2013,0,27,27]
["DEDUC","D1","S1","B3","G4",4,2013,0,25,27]
["DEDUC","D1","S1","B3","G4",5,2013,0,45,46]
["DEDUC","D1","S1","B3","G4",6,2013,0,57,65]
["DEDUC","D1","S1","B3","G4",7,2013,0,80,88]
["DEDUC","D1","S1","B3","G4",8,2013,0,47,50]
["DEDUC","D1","S1","B3","G4",9,2013,0,52,55]
["DEDUC","D1","S1","B3","G4",10,2013,0,41,45]
["DEDUC","D1","S1","B3","G4",11,2013,0,22,24]
["DEDUC","D1","S1","B3","G4",12,2013,0,51,57]
["DEDUC","D1","S1","B3","G4",1,2014,0,8,8]
["DEDUC","D1","S1","B3","G4",2,2014,0,20,21]
["DEDUC","D1","S1","B3","G4",3,2014,0,24,25]
["DEDUC","D1","S1","B3","G4",4,2014,0,26,28]
["DEDUC","D1","S1","B3","G4",5,2014,0,39,41]
["DEDUC","D1","S1","B3","G4",6,2014,0,52,59]
["DEDUC","D1","S1","B3","G4",7,2014,0,62,66]
["DEDUC","D1","S1","B3","G4",8,2014,0,61,61]
["DEDUC","D1","S1","B3","G4",9,2014,0,59,65]
["DEDUC","D1","S1","B3","G4",10,2014,0,30,31]
["DEDUC","D1","S1","B3","G4",11,2014,0,23,25]
["DEDUC","D1","S1","B3","G4",12,2014,0,48,49]
["DEDUC","D1","S1","B3","G5",1,2013,0,9,9]
["DEDUC","D1","S1","B3","G5",2,2013,0,24,26]
["DEDUC","D1","S1","B3","G5",3,2013,0,33,34]
["DEDUC","D1","S1","B3","G5",4,2013,0,40,39]
["DEDUC","D1","S1","B3","G5",5,2013,0,46,48]
["DEDUC","D1","S1","B3","G5",6,2013,0,61,66]
["DEDUC","D1","S1","B3","G5",7,2013,0,79,82]
["DEDUC","D1","S1","B3","G5",8,2013,0,83,96]
["DEDUC","D1","S1","B3","G5",9,2013,0,63,71]
["DEDUC","D1","S1","B3","G5",10,2013,0,47,46]
["DEDUC","D1","S1","B3","G5",11,2013,0,34,36]
["DEDUC","D1","S1","B3","G5",12,2013,0,60,65]
["DEDUC","D1","S1","B3","G5",1,2014,0,15,16]
["DEDUC","D1","S1","B3","G5",2,2014,0,21,22]
["DEDUC","D1","S1","B3","G5",3,2014,0,36,38]
["DEDUC","D1","S1","B3","G5",4,2014,0,37,41]
["DEDUC","D1","S1","B3","G5",5,2014,0,62,60]
["DEDUC","D1","S1","B3","G5",6,2014,0,84,93]
["DEDUC","D1","S1","B3","G5",7,2014,0,83,83]
["DEDUC","D1","S1","B3","G5",8,2014,0,95,93]
["DEDUC","D1","S1","B3","G5",9,2014,0,89,89]
["DEDUC","D1","S1","B3","G5",10,2014,0,55,56]
["DEDUC","D1","S1","B3","G5",11,2014,0,31,30]
["DEDUC","D1","S1","B3","G5",12,2014,0,72,71]
["DEDUC","D1","S2","B1","G1",1,2013,0,163,157]
["DEDUC","D1","S2","B1","G1",2,2013,0,346,375]
["DEDUC","D1","S2","B1","G1",3,2013,0,432,493]
["DEDUC","D1","S2","B1","G1",4,2013,0,675,742]
["DEDUC","D1","S2","B1","G1",5,2013,0,841,939]
["DEDUC","D1","S2","B1","G1",6,2013,0,1066,1108]
["DEDUC","D1","S2","B1","G1",7,2013,0,959,1004]
["DEDUC","D1","S2","B1","G1",8,2013,0,1124,1173]
["DEDUC","D1","S2","B1","G1",9,2013,0,876,969]
["DEDUC","D1","S2","B1","G1",10,2013,0,679,688]
["DEDUC","D1","S2","B1","G1",11,2013,0,342,385]
["DEDUC","D1","S2","B1","G1",12,2013,0,856,881]
["DEDUC","D1","S2","B1","G1",1,2014,0,158,167]
["DEDUC","D1","S2","B1","G1",2,2014,0,379,393]
["DEDUC","D1","S2","B1","G1",3,2014,0,487,510]
["DEDUC","D1","S2","B1","G1",4,2014,0,598,650]
["DEDUC","D1","S2","B1","G1",5,2014,0,766,749]
["DEDUC","D1","S2","B1","G1",6,2014,0,883,913]
["DEDUC","D1","S2","B1","G1",7,2014,0,1012,1039]
["DEDUC","D1","S2","B1","G1",8,2014,0,1002,1108]
["DEDUC","D1","S2","B1","G1",9,2014,0,1040,1113]
["DEDUC","D1","S2","B1","G1",10,2014,0,467,461]
["DEDUC","D1","S2","B1","G1",11,2014,0,462,478]
["DEDUC","D1","S2","B1","G1",12,2014,0,880,1006]
["DEDUC","D1","S2","B1","G2",1,2013,0,209,219]
["DEDUC","D1","S2","B1","G2",2,2013,0,376,371]
["DEDUC","D1","S2","B1","G2",3,2013,0,563,587]
["DEDUC","D1","S2","B1","G2",4,2013,0,579,581]
["DEDUC","D1","S2","B1","G2",5,2013,0,860,892]
["DEDUC","D1","S2","B1","G2",6,2013,0,1183,1219]
["DEDUC","D1","S2","B1","G2",7,2013,0,1316,1406]
["DEDUC","D1","S2","B1","G2",8,2013,0,1609,1632]
["DEDUC","D1","S2","B1","G2",9,2013,0,1172,1346]
["DEDUC","D1","S2","B1","G2",10,2013,0,803,847]
["DEDUC","D1","S2","B1","G2",11,2013,0,464,449]
["DEDUC","D1","S2","B1","G2",12,2013,0,962,1073]
["DEDUC","D1","S2","B1","G2",1,2014,0,182,194]
["DEDUC","D1","S2","B1","G2",2,2014,0,371,393]
["DEDUC","D1","S2","B1","G2",3,2014,0,568,620]
["DEDUC","D1","S2","B1","G2",4,2014,0,795,864]
["DEDUC","D1","S2","B1","G2",5,2014,0,929,956]
["DEDUC","D1","S2","B1","G2",6,2014,0,988,1033]
["DEDUC","D1","S2","B1","G2",7,2014,0,1665,1861]
["DEDUC","D1","S2","B1","G2",8,2014,0,1412,1479]
["DEDUC","D1","S2","B1","G2",9,2014,0,1243,1195]
["DEDUC","D1","S2","B1","G2",10,2014,0,716,782]
["DEDUC","D1","S2","B1","G2",11,2014,0,509,547]
["DEDUC","D1","S2","B1","G2",12,2014,0,1140,1244]
["DEDUC","D1","S2","B1","G3",1,2013,0,139,143]
["DEDUC","D1","S2","B1","G3",2,2013,0,287,293]
["DEDUC","D1","S2","B1","G3",3,2013,0,301,335]
["DEDUC","D1","S2","B1","G3",4,2013,0,549,544]
["DEDUC","D1","S2","B1","G3",5,2013,0,501,537]
["DEDUC","D1","S2","B1","G3",6,2013,0,794,891]
["DEDUC","D1","S2","B1","G3",7,2013,0,996,1039]
["DEDUC","D1","S2","B1","G3",8,2013,0,748,746]
["DEDUC","D1","S2","B1","G3",9,2013,0,698,751]
["DEDUC","D1","S2","B1","G3",10,2013,0,563,566]
["DEDUC","D1","S2","B1","G3",11,2013,0,352,361]
["DEDUC","D1","S2","B1","G3",12,2013,0,518,587]
["DEDUC","D1","S2","B1","G3",1,2014,0,107,118]
["DEDUC","D1","S2","B1","G3",2,2014,0,245,270]
["DEDUC","D1","S2","B1","G3",3,2014,0,397,408]
["DEDUC","D1","S2","B1","G3",4,2014,0,430,444]
["DEDUC","D1","S2","B1","G3",5,2014,0,409,459]
["DEDUC","D1","S2","B1","G3",6,2014,0,798,864]
["DEDUC","D1","S2","B1","G3",7,2014,0,876,988]
["DEDUC","D1","S2","B1","G3",8,2014,0,663,700]
["DEDUC","D1","S2","B1","G3",9,2014,0,629,684]
["DEDUC","D1","S2","B1","G3",10,2014,0,547,629]
["DEDUC","D1","S2","B1","G3",11,2014,0,274,279]
["DEDUC","D1","S2","B1","G3",12,2014,0,618,608]
["DEDUC","D1","S2","B1","G4",1,2013,0,82,86]
["DEDUC","D1","S2","B1","G4",2,2013,0,177,172]
["DEDUC","D1","S2","B1","G4",3,2013,0,250,261]
["DEDUC","D1","S2","B1","G4",4,2013,0,291,307]
["DEDUC","D1","S2","B1","G4",5,2013,0,369,356]
["DEDUC","D1","S2","B1","G4",6,2013,0,476,482]
["DEDUC","D1","S2","B1","G4",7,2013,0,499,496]
["DEDUC","D1","S2","B1","G4",8,2013,0,756,779]
["DEDUC","D1","S2","B1","G4",9,2013,0,526,550]
["DEDUC","D1","S2","B1","G4",10,2013,0,318,330]
["DEDUC","D1","S2","B1","G4",11,2013,0,206,205]
["DEDUC","D1","S2","B1","G4",12,2013,0,414,411]
["DEDUC","D1","S2","B1","G4",1,2014,0,82,84]
["DEDUC","D1","S2","B1","G4",2,2014,0,180,189]
["DEDUC","D1","S2","B1","G4",3,2014,0,321,310]
["DEDUC","D1","S2","B1","G4",4,2014,0,344,369]
["DEDUC","D1","S2","B1","G4",5,2014,0,382,400]
["DEDUC","D1","S2","B1","G4",6,2014,0,601,595]
["DEDUC","D1","S2","B1","G4",7,2014,0,678,678]
["DEDUC","D1","S2","B1","G4",8,2014,0,638,652]
["DEDUC","D1","S2","B1","G4",9,2014,0,606,606]
["DEDUC","D1","S2","B1","G4",10,2014,0,381,371]
["DEDUC","D1","S2","B1","G4",11,2014,0,216,223]
["DEDUC","D1","S2","B1","G4",12,2014,0,513,564]
["DEDUC","D1","S2","B1","G5",1,2013,0,109,115]
["DEDUC","D1","S2","B1","G5",2,2013,0,310,315]
["DEDUC","D1","S2","B1","G5",3,2013,0,316,338]
["DEDUC","D1","S2","B1","G5",4,2013,0,334,370]
["DEDUC","D1","S2","B1","G5",5,2013,0,629,670]
["DEDUC","D1","S2","B1","G5",6,2013,0,862,894]
["DEDUC","D1","S2","B1","G5",7,2013,0,745,728]
["DEDUC","D1","S2","B1","G5",8,2013,0,863,928]
["DEDUC","D1","S2","B1","G5",9,2013,0,612,645]
["DEDUC","D1","S2","B1","G5",10,2013,0,597,572]
["DEDUC","D1","S2","B1","G5",11,2013,0,238,251]
["DEDUC","D1","S2","B1","G5",12,2013,0,575,642]
["DEDUC","D1","S2","B1","G5",1,2014,0,123,125]
["DEDUC","D1","S2","B1","G5",2,2014,0,259,267]
["DEDUC","D1","S2","B1","G5",3,2014,0,402,431]
["DEDUC","D1","S2","B1","G5",4,2014,0,362,376]
["DEDUC","D1","S2","B1","G5",5,2014,0,585,594]
["DEDUC","D1","S2","B1","G5",6,2014,0,624,657]
["DEDUC","D1","S2","B1","G5",7,2014,0,938,956]
["DEDUC","D1","S2","B1","G5",8,2014,0,950,1075]
["DEDUC","D1","S2","B1","G5",9,2014,0,798,873]
["DEDUC","D1","S2","B1","G5",10,2014,0,485,500]
["DEDUC","D1","S2","B1","G5",11,2014,0,327,361]
["DEDUC","D1","S2","B1","G5",12,2014,0,872,874]
["DEDUC","D1","S2","B2","G1",1,2013,0,45,48]
["DEDUC","D1","S2","B2","G1",2,2013,0,76,81]
["DEDUC","D1","S2","B2","G1",3,2013,0,132,148]
["DEDUC","D1","S2","B2","G1",4,2013,0,166,174]
["DEDUC","D1","S2","B2","G1",5,2013,0,202,203]
["DEDUC","D1","S2","B2","G1",6,2013,0,322,315]
["DEDUC","D1","S2","B2","G1",7,2013,0,340,358]
["DEDUC","D1","S2","B2","G1",8,2013,0,376,399]
["DEDUC","D1","S2","B2","G1",9,2013,0,305,337]
["DEDUC","D1","S2","B2","G1",10,2013,0,204,223]
["DEDUC","D1","S2","B2","G1",11,2013,0,133,140]
["DEDUC","D1","S2","B2","G1",12,2013,0,314,313]
["DEDUC","D1","S2","B2","G1",1,2014,0,40,43]
["DEDUC","D1","S2","B2","G1",2,2014,0,112,128]
["DEDUC","D1","S2","B2","G1",3,2014,0,143,150]
["DEDUC","D1","S2","B2","G1",4,2014,0,128,135]
["DEDUC","D1","S2","B2","G1",5,2014,0,239,234]
["DEDUC","D1","S2","B2","G1",6,2014,0,351,366]
["DEDUC","D1","S2","B2","G1",7,2014,0,343,350]
["DEDUC","D1","S2","B2","G1",8,2014,0,257,272]
["DEDUC","D1","S2","B2","G1",9,2014,0,244,272]
["DEDUC","D1","S2","B2","G1",10,2014,0,194,204]
["DEDUC","D1","S2","B2","G1",11,2014,0,140,154]
["DEDUC","D1","S2","B2","G1",12,2014,0,276,278]
["DEDUC","D1","S2","B2","G2",1,2013,0,63,66]
["DEDUC","D1","S2","B2","G2",2,2013,0,141,147]
["DEDUC","D1","S2","B2","G2",3,2013,0,216,225]
["DEDUC","D1","S2","B2","G2",4,2013,0,179,187]
["DEDUC","D1","S2","B2","G2",5,2013,0,274,290]
["DEDUC","D1","S2","B2","G2",6,2013,0,368,381]
["DEDUC","D1","S2","B2","G2",7,2013,0,506,509]
["DEDUC","D1","S2","B2","G2",8,2013,0,458,485]
["DEDUC","D1","S2","B2","G2",9,2013,0,315,346]
["DEDUC","D1","S2","B2","G2",10,2013,0,174,178]
["DEDUC","D1","S2","B2","G2",11,2013,0,123,123]
["DEDUC","D1","S2","B2","G2",12,2013,0,325,332]
["DEDUC","D1","S2","B2","G2",1,2014,0,68,69]
["DEDUC","D1","S2","B2","G2",2,2014,0,127,139]
["DEDUC","D1","S2","B2","G2",3,2014,0,190,206]
["DEDUC","D1","S2","B2","G2",4,2014,0,186,180]
["DEDUC","D1","S2","B2","G2",5,2014,0,250,276]
["DEDUC","D1","S2","B2","G2",6,2014,0,308,309]
["DEDUC","D1","S2","B2","G2",7,2014,0,430,474]
["DEDUC","D1","S2","B2","G2",8,2014,0,502,529]
["DEDUC","D1","S2","B2","G2",9,2014,0,322,333]
["DEDUC","D1","S2","B2","G2",10,2014,0,243,248]
["DEDUC","D1","S2","B2","G2",11,2014,0,165,177]
["DEDUC","D1","S2","B2","G2",12,2014,0,358,397]
["DEDUC","D1","S2","B2","G3",1,2013,0,35,37]
["DEDUC","D1","S2","B2","G3",2,2013,0,64,61]
["DEDUC","D1","S2","B2","G3",3,2013,0,136,144]
["DEDUC","D1","S2","B2","G3",4,2013,0,100,108]
["DEDUC","D1","S2","B2","G3",5,2013,0,213,231]
["DEDUC","D1","S2","B2","G3",6,2013,0,219,222]
["DEDUC","D1","S2","B2","G3",7,2013,0,227,229]
["DEDUC","D1","S2","B2","G3",8,2013,0,241,234]
["DEDUC","D1","S2","B2","G3",9,2013,0,220,223]
["DEDUC","D1","S2","B2","G3",10,2013,0,112,123]
["DEDUC","D1","S2","B2","G3",11,2013,0,88,96]
["DEDUC","D1","S2","B2","G3",12,2013,0,285,280]
["DEDUC","D1","S2","B2","G3",1,2014,0,28,30]
["DEDUC","D1","S2","B2","G3",2,2014,0,95,98]
["DEDUC","D1","S2","B2","G3",3,2014,0,128,136]
["DEDUC","D1","S2","B2","G3",4,2014,0,176,186]
["DEDUC","D1","S2","B2","G3",5,2014,0,175,181]
["DEDUC","D1","S2","B2","G3",6,2014,0,208,213]
["DEDUC","D1","S2","B2","G3",7,2014,0,321,325]
["DEDUC","D1","S2","B2","G3",8,2014,0,240,267]
["DEDUC","D1","S2","B2","G3",9,2014,0,209,213]
["DEDUC","D1","S2","B2","G3",10,2014,0,120,138]
["DEDUC","D1","S2","B2","G3",11,2014,0,99,103]
["DEDUC","D1","S2","B2","G3",12,2014,0,222,222]
["DEDUC","D1","S2","B2","G4",1,2013,0,28,31]
["DEDUC","D1","S2","B2","G4",2,2013,0,63,66]
["DEDUC","D1","S2","B2","G4",3,2013,0,96,99]
["DEDUC","D1","S2","B2","G4",4,2013,0,95,99]
["DEDUC","D1","S2","B2","G4",5,2013,0,99,101]
["DEDUC","D1","S2","B2","G4",6,2013,0,148,152]
["DEDUC","D1","S2","B2","G4",7,2013,0,212,224]
["DEDUC","D1","S2","B2","G4",8,2013,0,188,195]
["DEDUC","D1","S2","B2","G4",9,2013,0,163,179]
["DEDUC","D1","S2","B2","G4",10,2013,0,97,101]
["DEDUC","D1","S2","B2","G4",11,2013,0,64,66]
["DEDUC","D1","S2","B2","G4",12,2013,0,124,129]
["DEDUC","D1","S2","B2","G4",1,2014,0,22,23]
["DEDUC","D1","S2","B2","G4",2,2014,0,55,54]
["DEDUC","D1","S2","B2","G4",3,2014,0,78,80]
["DEDUC","D1","S2","B2","G4",4,2014,0,87,89]
["DEDUC","D1","S2","B2","G4",5,2014,0,117,120]
["DEDUC","D1","S2","B2","G4",6,2014,0,174,181]
["DEDUC","D1","S2","B2","G4",7,2014,0,175,193]
["DEDUC","D1","S2","B2","G4",8,2014,0,242,249]
["DEDUC","D1","S2","B2","G4",9,2014,0,134,142]
["DEDUC","D1","S2","B2","G4",10,2014,0,100,105]
["DEDUC","D1","S2","B2","G4",11,2014,0,56,61]
["DEDUC","D1","S2","B2","G4",12,2014,0,158,175]
["DEDUC","D1","S2","B2","G5",1,2013,0,40,43]
["DEDUC","D1","S2","B2","G5",2,2013,0,72,80]
["DEDUC","D1","S2","B2","G5",3,2013,0,127,136]
["DEDUC","D1","S2","B2","G5",4,2013,0,116,120]
["DEDUC","D1","S2","B2","G5",5,2013,0,150,159]
["DEDUC","D1","S2","B2","G5",6,2013,0,256,258]
["DEDUC","D1","S2","B2","G5",7,2013,0,206,216]
["DEDUC","D1","S2","B2","G5",8,2013,0,211,227]
["DEDUC","D1","S2","B2","G5",9,2013,0,156,171]
["DEDUC","D1","S2","B2","G5",10,2013,0,115,128]
["DEDUC","D1","S2","B2","G5",11,2013,0,105,105]
["DEDUC","D1","S2","B2","G5",12,2013,0,181,200]
["DEDUC","D1","S2","B2","G5",1,2014,0,37,40]
["DEDUC","D1","S2","B2","G5",2,2014,0,100,102]
["DEDUC","D1","S2","B2","G5",3,2014,0,113,118]
["DEDUC","D1","S2","B2","G5",4,2014,0,123,138]
["DEDUC","D1","S2","B2","G5",5,2014,0,131,140]
["DEDUC","D1","S2","B2","G5",6,2014,0,153,166]
["DEDUC","D1","S2","B2","G5",7,2014,0,342,346]
["DEDUC","D1","S2","B2","G5",8,2014,0,208,221]
["DEDUC","D1","S2","B2","G5",9,2014,0,156,166]
["DEDUC","D1","S2","B2","G5",10,2014,0,131,148]
["DEDUC","D1","S2","B2","G5",11,2014,0,68,70]
["DEDUC","D1","S2","B2","G5",12,2014,0,196,218]
["DEDUC","D1","S2","B3","G1",1,2013,0,27,28]
["DEDUC","D1","S2","B3","G1",2,2013,0,53,59]
["DEDUC","D1","S2","B3","G1",3,2013,0,58,61]
["DEDUC","D1","S2","B3","G1",4,2013,0,84,93]
["DEDUC","D1","S2","B3","G1",5,2013,0,111,119]
["DEDUC","D1","S2","B3","G1",6,2013,0,133,132]
["DEDUC","D1","S2","B3","G1",7,2013,0,146,145]
["DEDUC","D1","S2","B3","G1",8,2013,0,146,158]
["DEDUC","D1","S2","B3","G1",9,2013,0,125,130]
["DEDUC","D1","S2","B3","G1",10,2013,0,87,87]
["DEDUC","D1","S2","B3","G1",11,2013,0,52,57]
["DEDUC","D1","S2","B3","G1",12,2013,0,131,136]
["DEDUC","D1","S2","B3","G1",1,2014,0,27,29]
["DEDUC","D1","S2","B3","G1",2,2014,0,53,54]
["DEDUC","D1","S2","B3","G1",3,2014,0,76,87]
["DEDUC","D1","S2","B3","G1",4,2014,0,77,79]
["DEDUC","D1","S2","B3","G1",5,2014,0,122,125]
["DEDUC","D1","S2","B3","G1",6,2014,0,117,124]
["DEDUC","D1","S2","B3","G1",7,2014,0,173,181]
["DEDUC","D1","S2","B3","G1",8,2014,0,178,186]
["DEDUC","D1","S2","B3","G1",9,2014,0,117,115]
["DEDUC","D1","S2","B3","G1",10,2014,0,79,87]
["DEDUC","D1","S2","B3","G1",11,2014,0,54,57]
["DEDUC","D1","S2","B3","G1",12,2014,0,122,138]
["DEDUC","D1","S2","B3","G2",1,2013,0,25,26]
["DEDUC","D1","S2","B3","G2",2,2013,0,51,54]
["DEDUC","D1","S2","B3","G2",3,2013,0,75,77]
["DEDUC","D1","S2","B3","G2",4,2013,0,106,111]
["DEDUC","D1","S2","B3","G2",5,2013,0,138,134]
["DEDUC","D1","S2","B3","G2",6,2013,0,139,159]
["DEDUC","D1","S2","B3","G2",7,2013,0,241,262]
["DEDUC","D1","S2","B3","G2",8,2013,0,164,171]
["DEDUC","D1","S2","B3","G2",9,2013,0,183,195]
["DEDUC","D1","S2","B3","G2",10,2013,0,129,130]
["DEDUC","D1","S2","B3","G2",11,2013,0,70,75]
["DEDUC","D1","S2","B3","G2",12,2013,0,133,148]
["DEDUC","D1","S2","B3","G2",1,2014,0,29,30]
["DEDUC","D1","S2","B3","G2",2,2014,0,59,65]
["DEDUC","D1","S2","B3","G2",3,2014,0,90,92]
["DEDUC","D1","S2","B3","G2",4,2014,0,86,97]
["DEDUC","D1","S2","B3","G2",5,2014,0,131,137]
["DEDUC","D1","S2","B3","G2",6,2014,0,163,157]
["DEDUC","D1","S2","B3","G2",7,2014,0,255,284]
["DEDUC","D1","S2","B3","G2",8,2014,0,224,245]
["DEDUC","D1","S2","B3","G2",9,2014,0,195,218]
["DEDUC","D1","S2","B3","G2",10,2014,0,121,132]
["DEDUC","D1","S2","B3","G2",11,2014,0,79,82]
["DEDUC","D1","S2","B3","G2",12,2014,0,141,157]
["DEDUC","D1","S2","B3","G3",1,2013,0,15,17]
["DEDUC","D1","S2","B3","G3",2,2013,0,37,38]
["DEDUC","D1","S2","B3","G3",3,2013,0,55,62]
["DEDUC","D1","S2","B3","G3",4,2013,0,59,60]
["DEDUC","D1","S2","B3","G3",5,2013,0,88,88]
["DEDUC","D1","S2","B3","G3",6,2013,0,105,108]
["DEDUC","D1","S2","B3","G3",7,2013,0,127,135]
["DEDUC","D1","S2","B3","G3",8,2013,0,110,119]
["DEDUC","D1","S2","B3","G3",9,2013,0,114,117]
["DEDUC","D1","S2","B3","G3",10,2013,0,78,81]
["DEDUC","D1","S2","B3","G3",11,2013,0,48,52]
["DEDUC","D1","S2","B3","G3",12,2013,0,86,85]
["DEDUC","D1","S2","B3","G3",1,2014,0,20,19]
["DEDUC","D1","S2","B3","G3",2,2014,0,37,41]
["DEDUC","D1","S2","B3","G3",3,2014,0,64,66]
["DEDUC","D1","S2","B3","G3",4,2014,0,56,55]
["DEDUC","D1","S2","B3","G3",5,2014,0,89,97]
["DEDUC","D1","S2","B3","G3",6,2014,0,115,116]
["DEDUC","D1","S2","B3","G3",7,2014,0,148,153]
["DEDUC","D1","S2","B3","G3",8,2014,0,165,171]
["DEDUC","D1","S2","B3","G3",9,2014,0,104,113]
["DEDUC","D1","S2","B3","G3",10,2014,0,74,76]
["DEDUC","D1","S2","B3","G3",11,2014,0,45,50]
["DEDUC","D1","S2","B3","G3",12,2014,0,105,120]
["DEDUC","D1","S2","B3","G4",1,2013,0,15,15]
["DEDUC","D1","S2","B3","G4",2,2013,0,27,27]
["DEDUC","D1","S2","B3","G4",3,2013,0,43,44]
["DEDUC","D1","S2","B3","G4",4,2013,0,37,36]
["DEDUC","D1","S2","B3","G4",5,2013,0,62,65]
["DEDUC","D1","S2","B3","G4",6,2013,0,79,88]
["DEDUC","D1","S2","B3","G4",7,2013,0,114,111]
["DEDUC","D1","S2","B3","G4",8,2013,0,96,97]
["DEDUC","D1","S2","B3","G4",9,2013,0,79,85]
["DEDUC","D1","S2","B3","G4",10,2013,0,44,47]
["DEDUC","D1","S2","B3","G4",11,2013,0,32,33]
["DEDUC","D1","S2","B3","G4",12,2013,0,77,82]
["DEDUC","D1","S2","B3","G4",1,2014,0,14,14]
["DEDUC","D1","S2","B3","G4",2,2014,0,24,25]
["DEDUC","D1","S2","B3","G4",3,2014,0,31,33]
["DEDUC","D1","S2","B3","G4",4,2014,0,50,50]
["DEDUC","D1","S2","B3","G4",5,2014,0,51,54]
["DEDUC","D1","S2","B3","G4",6,2014,0,89,92]
["DEDUC","D1","S2","B3","G4",7,2014,0,104,112]
["DEDUC","D1","S2","B3","G4",8,2014,0,103,111]
["DEDUC","D1","S2","B3","G4",9,2014,0,68,66]
["DEDUC","D1","S2","B3","G4",10,2014,0,54,58]
["DEDUC","D1","S2","B3","G4",11,2014,0,36,39]
["DEDUC","D1","S2","B3","G4",12,2014,0,64,67]
["DEDUC","D1","S2","B3","G5",1,2013,0,18,20]
["DEDUC","D1","S2","B3","G5",2,2013,0,30,30]
["DEDUC","D1","S2","B3","G5",3,2013,0,63,70]
["DEDUC","D1","S2","B3","G5",4,2013,0,60,62]
["DEDUC","D1","S2","B3","G5",5,2013,0,64,68]
["DEDUC","D1","S2","B3","G5",6,2013,0,103,108]
["DEDUC","D1","S2","B3","G5",7,2013,0,115,126]
["DEDUC","D1","S2","B3","G5",8,2013,0,93,102]
["DEDUC","D1","S2","B3","G5",9,2013,0,102,108]
["DEDUC","D1","S2","B3","G5",10,2013,0,86,89]
["DEDUC","D1","S2","B3","G5",11,2013,0,38,40]
["DEDUC","D1","S2","B3","G5",12,2013,0,88,88]
["DEDUC","D1","S2","B3","G5",1,2014,0,18,19]
["DEDUC","D1","S2","B3","G5",2,2014,0,27,31]
["DEDUC","D1","S2","B3","G5",3,2014,0,58,56]
["DEDUC","D1","S2","B3","G5",4,2014,0,60,64]
["DEDUC","D1","S2","B3","G5",5,2014,0,72,76]
["DEDUC","D1","S2","B3","G5",6,2014,0,97,100]
["DEDUC","D1","S2","B3","G5",7,2014,0,147,151]
["DEDUC","D1","S2","B3","G5",8,2014,0,118,120]
["DEDUC","D1","S2","B3","G5",9,2014,0,96,110]
["DEDUC","D1","S2","B3","G5",10,2014,0,65,68]
["DEDUC","D1","S2","B3","G5",11,2014,0,43,49]
["DEDUC","D1","S2","B3","G5",12,2014,0,86,92]
["DEDUC","D2","S1","B1","G1",1,2013,0,69,69]
["DEDUC","D2","S1","B1","G1",2,2013,0,146,148]
["DEDUC","D2","S1","B1","G1",3,2013,0,118,115]
["DEDUC","D2","S1","B1","G1",4,2013,0,195,192]
["DEDUC","D2","S1","B1","G1",5,2013,0,251,270]
["DEDUC","D2","S1","B1","G1",6,2013,0,339,344]
["DEDUC","D2","S1","B1","G1",7,2013,0,409,448]
["DEDUC","D2","S1","B1","G1",8,2013,0,325,336]
["DEDUC","D2","S1","B1","G1",9,2013,0,262,283]
["DEDUC","D2","S1","B1","G1",10,2013,0,174,180]
["DEDUC","D2","S1","B1","G1",11,2013,0,125,129]
["DEDUC","D2","S1","B1","G1",12,2013,0,208,208]
["DEDUC","D2","S1","B1","G1",1,2014,0,43,44]
["DEDUC","D2","S1","B1","G1",2,2014,0,76,82]
["DEDUC","D2","S1","B1","G1",3,2014,0,141,144]
["DEDUC","D2","S1","B1","G1",4,2014,0,191,199]
["DEDUC","D2","S1","B1","G1",5,2014,0,258,277]
["DEDUC","D2","S1","B1","G1",6,2014,0,366,375]
["DEDUC","D2","S1","B1","G1",7,2014,0,594,654]
["DEDUC","D2","S1","B1","G1",8,2014,0,492,502]
["DEDUC","D2","S1","B1","G1",9,2014,0,220,240]
["DEDUC","D2","S1","B1","G1",10,2014,0,296,302]
["DEDUC","D2","S1","B1","G1",11,2014,0,136,148]
["DEDUC","D2","S1","B1","G1",12,2014,0,264,267]
["DEDUC","D2","S1","B1","G2",1,2013,0,64,64]
["DEDUC","D2","S1","B1","G2",2,2013,0,134,150]
["DEDUC","D2","S1","B1","G2",3,2013,0,215,223]
["DEDUC","D2","S1","B1","G2",4,2013,0,179,192]
["DEDUC","D2","S1","B1","G2",5,2013,0,359,376]
["DEDUC","D2","S1","B1","G2",6,2013,0,367,413]
["DEDUC","D2","S1","B1","G2",7,2013,0,432,459]
["DEDUC","D2","S1","B1","G2",8,2013,0,326,352]
["DEDUC","D2","S1","B1","G2",9,2013,0,262,270]
["DEDUC","D2","S1","B1","G2",10,2013,0,267,284]
["DEDUC","D2","S1","B1","G2",11,2013,0,150,156]
["DEDUC","D2","S1","B1","G2",12,2013,0,328,347]
["DEDUC","D2","S1","B1","G2",1,2014,0,61,64]
["DEDUC","D2","S1","B1","G2",2,2014,0,128,136]
["DEDUC","D2","S1","B1","G2",3,2014,0,187,207]
["DEDUC","D2","S1","B1","G2",4,2014,0,307,329]
["DEDUC","D2","S1","B1","G2",5,2014,0,248,279]
["DEDUC","D2","S1","B1","G2",6,2014,0,539,575]
["DEDUC","D2","S1","B1","G2",7,2014,0,502,539]
["DEDUC","D2","S1","B1","G2",8,2014,0,631,632]
["DEDUC","D2","S1","B1","G2",9,2014,0,415,444]
["DEDUC","D2","S1","B1","G2",10,2014,0,386,430]
["DEDUC","D2","S1","B1","G2",11,2014,0,165,167]
["DEDUC","D2","S1","B1","G2",12,2014,0,298,306]
["DEDUC","D2","S1","B1","G3",1,2013,0,42,44]
["DEDUC","D2","S1","B1","G3",2,2013,0,63,65]
["DEDUC","D2","S1","B1","G3",3,2013,0,157,163]
["DEDUC","D2","S1","B1","G3",4,2013,0,110,116]
["DEDUC","D2","S1","B1","G3",5,2013,0,210,224]
["DEDUC","D2","S1","B1","G3",6,2013,0,237,237]
["DEDUC","D2","S1","B1","G3",7,2013,0,330,329]
["DEDUC","D2","S1","B1","G3",8,2013,0,287,312]
["DEDUC","D2","S1","B1","G3",9,2013,0,257,281]
["DEDUC","D2","S1","B1","G3",10,2013,0,189,194]
["DEDUC","D2","S1","B1","G3",11,2013,0,90,95]
["DEDUC","D2","S1","B1","G3",12,2013,0,213,226]
["DEDUC","D2","S1","B1","G3",1,2014,0,54,59]
["DEDUC","D2","S1","B1","G3",2,2014,0,85,93]
["DEDUC","D2","S1","B1","G3",3,2014,0,153,152]
["DEDUC","D2","S1","B1","G3",4,2014,0,177,190]
["DEDUC","D2","S1","B1","G3",5,2014,0,207,221]
["DEDUC","D2","S1","B1","G3",6,2014,0,275,301]
["DEDUC","D2","S1","B1","G3",7,2014,0,222,249]
["DEDUC","D2","S1","B1","G3",8,2014,0,359,358]
["DEDUC","D2","S1","B1","G3",9,2014,0,277,286]
["DEDUC","D2","S1","B1","G3",10,2014,0,203,212]
["DEDUC","D2","S1","B1","G3",11,2014,0,137,133]
["DEDUC","D2","S1","B1","G3",12,2014,0,175,197]
["DEDUC","D2","S1","B1","G4",1,2013,0,36,39]
["DEDUC","D2","S1","B1","G4",2,2013,0,49,50]
["DEDUC","D2","S1","B1","G4",3,2013,0,97,106]
["DEDUC","D2","S1","B1","G4",4,2013,0,94,101]
["DEDUC","D2","S1","B1","G4",5,2013,0,158,162]
["DEDUC","D2","S1","B1","G4",6,2013,0,159,163]
["DEDUC","D2","S1","B1","G4",7,2013,0,170,186]
["DEDUC","D2","S1","B1","G4",8,2013,0,288,309]
["DEDUC","D2","S1","B1","G4",9,2013,0,136,144]
["DEDUC","D2","S1","B1","G4",10,2013,0,113,110]
["DEDUC","D2","S1","B1","G4",11,2013,0,88,91]
["DEDUC","D2","S1","B1","G4",12,2013,0,123,125]
["DEDUC","D2","S1","B1","G4",1,2014,0,24,25]
["DEDUC","D2","S1","B1","G4",2,2014,0,76,81]
["DEDUC","D2","S1","B1","G4",3,2014,0,86,84]
["DEDUC","D2","S1","B1","G4",4,2014,0,132,134]
["DEDUC","D2","S1","B1","G4",5,2014,0,175,185]
["DEDUC","D2","S1","B1","G4",6,2014,0,149,167]
["DEDUC","D2","S1","B1","G4",7,2014,0,303,307]
["DEDUC","D2","S1","B1","G4",8,2014,0,256,259]
["DEDUC","D2","S1","B1","G4",9,2014,0,136,144]
["DEDUC","D2","S1","B1","G4",10,2014,0,147,149]
["DEDUC","D2","S1","B1","G4",11,2014,0,81,94]
["DEDUC","D2","S1","B1","G4",12,2014,0,234,239]
["DEDUC","D2","S1","B1","G5",1,2013,0,37,41]
["DEDUC","D2","S1","B1","G5",2,2013,0,80,84]
["DEDUC","D2","S1","B1","G5",3,2013,0,98,111]
["DEDUC","D2","S1","B1","G5",4,2013,0,111,114]
["DEDUC","D2","S1","B1","G5",5,2013,0,213,218]
["DEDUC","D2","S1","B1","G5",6,2013,0,254,259]
["DEDUC","D2","S1","B1","G5",7,2013,0,301,319]
["DEDUC","D2","S1","B1","G5",8,2013,0,204,217]
["DEDUC","D2","S1","B1","G5",9,2013,0,231,234]
["DEDUC","D2","S1","B1","G5",10,2013,0,116,121]
["DEDUC","D2","S1","B1","G5",11,2013,0,123,131]
["DEDUC","D2","S1","B1","G5",12,2013,0,280,295]
["DEDUC","D2","S1","B1","G5",1,2014,0,34,39]
["DEDUC","D2","S1","B1","G5",2,2014,0,109,109]
["DEDUC","D2","S1","B1","G5",3,2014,0,113,120]
["DEDUC","D2","S1","B1","G5",4,2014,0,154,172]
["DEDUC","D2","S1","B1","G5",5,2014,0,201,206]
["DEDUC","D2","S1","B1","G5",6,2014,0,185,193]
["DEDUC","D2","S1","B1","G5",7,2014,0,298,332]
["DEDUC","D2","S1","B1","G5",8,2014,0,275,268]
["DEDUC","D2","S1","B1","G5",9,2014,0,203,230]
["DEDUC","D2","S1","B1","G5",10,2014,0,121,132]
["DEDUC","D2","S1","B1","G5",11,2014,0,131,136]
["DEDUC","D2","S1","B1","G5",12,2014,0,151,166]
["DEDUC","D2","S1","B2","G1",1,2013,0,18,21]
["DEDUC","D2","S1","B2","G1",2,2013,0,25,26]
["DEDUC","D2","S1","B2","G1",3,2013,0,29,33]
["DEDUC","D2","S1","B2","G1",4,2013,0,58,63]
["DEDUC","D2","S1","B2","G1",5,2013,0,101,103]
["DEDUC","D2","S1","B2","G1",6,2013,0,77,73]
["DEDUC","D2","S1","B2","G1",7,2013,0,92,92]
["DEDUC","D2","S1","B2","G1",8,2013,0,59,63]
["DEDUC","D2","S1","B2","G1",9,2013,0,90,93]
["DEDUC","D2","S1","B2","G1",10,2013,0,48,50]
["DEDUC","D2","S1","B2","G1",11,2013,0,39,40]
["DEDUC","D2","S1","B2","G1",12,2013,0,69,72]
["DEDUC","D2","S1","B2","G1",1,2014,0,17,18]
["DEDUC","D2","S1","B2","G1",2,2014,0,31,34]
["DEDUC","D2","S1","B2","G1",3,2014,0,44,48]
["DEDUC","D2","S1","B2","G1",4,2014,0,76,81]
["DEDUC","D2","S1","B2","G1",5,2014,0,93,93]
["DEDUC","D2","S1","B2","G1",6,2014,0,94,103]
["DEDUC","D2","S1","B2","G1",7,2014,0,102,111]
["DEDUC","D2","S1","B2","G1",8,2014,0,83,82]
["DEDUC","D2","S1","B2","G1",9,2014,0,71,79]
["DEDUC","D2","S1","B2","G1",10,2014,0,89,87]
["DEDUC","D2","S1","B2","G1",11,2014,0,59,57]
["DEDUC","D2","S1","B2","G1",12,2014,0,96,100]
["DEDUC","D2","S1","B2","G2",1,2013,0,14,14]
["DEDUC","D2","S1","B2","G2",2,2013,0,42,44]
["DEDUC","D2","S1","B2","G2",3,2013,0,54,53]
["DEDUC","D2","S1","B2","G2",4,2013,0,81,92]
["DEDUC","D2","S1","B2","G2",5,2013,0,61,64]
["DEDUC","D2","S1","B2","G2",6,2013,0,92,92]
["DEDUC","D2","S1","B2","G2",7,2013,0,147,145]
["DEDUC","D2","S1","B2","G2",8,2013,0,176,197]
["DEDUC","D2","S1","B2","G2",9,2013,0,110,115]
["DEDUC","D2","S1","B2","G2",10,2013,0,64,64]
["DEDUC","D2","S1","B2","G2",11,2013,0,41,42]
["DEDUC","D2","S1","B2","G2",12,2013,0,66,75]
["DEDUC","D2","S1","B2","G2",1,2014,0,17,17]
["DEDUC","D2","S1","B2","G2",2,2014,0,53,54]
["DEDUC","D2","S1","B2","G2",3,2014,0,60,60]
["DEDUC","D2","S1","B2","G2",4,2014,0,54,57]
["DEDUC","D2","S1","B2","G2",5,2014,0,68,70]
["DEDUC","D2","S1","B2","G2",6,2014,0,115,122]
["DEDUC","D2","S1","B2","G2",7,2014,0,138,145]
["DEDUC","D2","S1","B2","G2",8,2014,0,144,151]
["DEDUC","D2","S1","B2","G2",9,2014,0,85,91]
["DEDUC","D2","S1","B2","G2",10,2014,0,96,101]
["DEDUC","D2","S1","B2","G2",11,2014,0,59,65]
["DEDUC","D2","S1","B2","G2",12,2014,0,90,88]
["DEDUC","D2","S1","B2","G3",1,2013,0,15,16]
["DEDUC","D2","S1","B2","G3",2,2013,0,19,20]
["DEDUC","D2","S1","B2","G3",3,2013,0,24,26]
["DEDUC","D2","S1","B2","G3",4,2013,0,37,38]
["DEDUC","D2","S1","B2","G3",5,2013,0,52,57]
["DEDUC","D2","S1","B2","G3",6,2013,0,70,76]
["DEDUC","D2","S1","B2","G3",7,2013,0,96,110]
["DEDUC","D2","S1","B2","G3",8,2013,0,78,88]
["DEDUC","D2","S1","B2","G3",9,2013,0,76,83]
["DEDUC","D2","S1","B2","G3",10,2013,0,40,42]
["DEDUC","D2","S1","B2","G3",11,2013,0,26,26]
["DEDUC","D2","S1","B2","G3",12,2013,0,70,81]
["DEDUC","D2","S1","B2","G3",1,2014,0,13,14]
["DEDUC","D2","S1","B2","G3",2,2014,0,29,30]
["DEDUC","D2","S1","B2","G3",3,2014,0,40,44]
["DEDUC","D2","S1","B2","G3",4,2014,0,34,37]
["DEDUC","D2","S1","B2","G3",5,2014,0,64,68]
["DEDUC","D2","S1","B2","G3",6,2014,0,57,61]
["DEDUC","D2","S1","B2","G3",7,2014,0,92,97]
["DEDUC","D2","S1","B2","G3",8,2014,0,75,78]
["DEDUC","D2","S1","B2","G3",9,2014,0,77,78]
["DEDUC","D2","S1","B2","G3",10,2014,0,44,46]
["DEDUC","D2","S1","B2","G3",11,2014,0,31,34]
["DEDUC","D2","S1","B2","G3",12,2014,0,51,49]
["DEDUC","D2","S1","B2","G4",1,2013,0,7,7]
["DEDUC","D2","S1","B2","G4",2,2013,0,18,18]
["DEDUC","D2","S1","B2","G4",3,2013,0,24,26]
["DEDUC","D2","S1","B2","G4",4,2013,0,34,36]
["DEDUC","D2","S1","B2","G4",5,2013,0,47,51]
["DEDUC","D2","S1","B2","G4",6,2013,0,56,55]
["DEDUC","D2","S1","B2","G4",7,2013,0,72,78]
["DEDUC","D2","S1","B2","G4",8,2013,0,56,59]
["DEDUC","D2","S1","B2","G4",9,2013,0,45,51]
["DEDUC","D2","S1","B2","G4",10,2013,0,36,39]
["DEDUC","D2","S1","B2","G4",11,2013,0,13,13]
["DEDUC","D2","S1","B2","G4",12,2013,0,59,64]
["DEDUC","D2","S1","B2","G4",1,2014,0,10,10]
["DEDUC","D2","S1","B2","G4",2,2014,0,22,23]
["DEDUC","D2","S1","B2","G4",3,2014,0,23,24]
["DEDUC","D2","S1","B2","G4",4,2014,0,31,31]
["DEDUC","D2","S1","B2","G4",5,2014,0,57,58]
["DEDUC","D2","S1","B2","G4",6,2014,0,64,63]
["DEDUC","D2","S1","B2","G4",7,2014,0,71,79]
["DEDUC","D2","S1","B2","G4",8,2014,0,59,62]
["DEDUC","D2","S1","B2","G4",9,2014,0,58,60]
["DEDUC","D2","S1","B2","G4",10,2014,0,27,28]
["DEDUC","D2","S1","B2","G4",11,2014,0,30,31]
["DEDUC","D2","S1","B2","G4",12,2014,0,43,45]
["DEDUC","D2","S1","B2","G5",1,2013,0,11,11]
["DEDUC","D2","S1","B2","G5",2,2013,0,17,19]
["DEDUC","D2","S1","B2","G5",3,2013,0,35,38]
["DEDUC","D2","S1","B2","G5",4,2013,0,36,42]
["DEDUC","D2","S1","B2","G5",5,2013,0,52,53]
["DEDUC","D2","S1","B2","G5",6,2013,0,52,52]
["DEDUC","D2","S1","B2","G5",7,2013,0,86,87]
["DEDUC","D2","S1","B2","G5",8,2013,0,77,77]
["DEDUC","D2","S1","B2","G5",9,2013,0,62,68]
["DEDUC","D2","S1","B2","G5",10,2013,0,40,41]
["DEDUC","D2","S1","B2","G5",11,2013,0,30,31]
["DEDUC","D2","S1","B2","G5",12,2013,0,69,74]
["DEDUC","D2","S1","B2","G5",1,2014,0,11,12]
["DEDUC","D2","S1","B2","G5",2,2014,0,29,28]
["DEDUC","D2","S1","B2","G5",3,2014,0,35,39]
["DEDUC","D2","S1","B2","G5",4,2014,0,46,48]
["DEDUC","D2","S1","B2","G5",5,2014,0,65,70]
["DEDUC","D2","S1","B2","G5",6,2014,0,54,57]
["DEDUC","D2","S1","B2","G5",7,2014,0,107,113]
["DEDUC","D2","S1","B2","G5",8,2014,0,106,109]
["DEDUC","D2","S1","B2","G5",9,2014,0,59,65]
["DEDUC","D2","S1","B2","G5",10,2014,0,33,35]
["DEDUC","D2","S1","B2","G5",11,2014,0,39,40]
["DEDUC","D2","S1","B2","G5",12,2014,0,41,42]
["DEDUC","D2","S1","B3","G1",1,2013,0,8,9]
["DEDUC","D2","S1","B3","G1",2,2013,0,16,18]
["DEDUC","D2","S1","B3","G1",3,2013,0,31,32]
["DEDUC","D2","S1","B3","G1",4,2013,0,31,34]
["DEDUC","D2","S1","B3","G1",5,2013,0,38,41]
["DEDUC","D2","S1","B3","G1",6,2013,0,41,42]
["DEDUC","D2","S1","B3","G1",7,2013,0,62,65]
["DEDUC","D2","S1","B3","G1",8,2013,0,69,68]
["DEDUC","D2","S1","B3","G1",9,2013,0,47,47]
["DEDUC","D2","S1","B3","G1",10,2013,0,32,33]
["DEDUC","D2","S1","B3","G1",11,2013,0,17,18]
["DEDUC","D2","S1","B3","G1",12,2013,0,44,47]
["DEDUC","D2","S1","B3","G1",1,2014,0,11,11]
["DEDUC","D2","S1","B3","G1",2,2014,0,16,17]
["DEDUC","D2","S1","B3","G1",3,2014,0,27,28]
["DEDUC","D2","S1","B3","G1",4,2014,0,29,28]
["DEDUC","D2","S1","B3","G1",5,2014,0,36,39]
["DEDUC","D2","S1","B3","G1",6,2014,0,49,51]
["DEDUC","D2","S1","B3","G1",7,2014,0,62,67]
["DEDUC","D2","S1","B3","G1",8,2014,0,62,66]
["DEDUC","D2","S1","B3","G1",9,2014,0,68,73]
["DEDUC","D2","S1","B3","G1",10,2014,0,36,38]
["DEDUC","D2","S1","B3","G1",11,2014,0,18,21]
["DEDUC","D2","S1","B3","G1",12,2014,0,37,41]
["DEDUC","D2","S1","B3","G2",1,2013,0,12,14]
["DEDUC","D2","S1","B3","G2",2,2013,0,19,20]
["DEDUC","D2","S1","B3","G2",3,2013,0,25,27]
["DEDUC","D2","S1","B3","G2",4,2013,0,29,29]
["DEDUC","D2","S1","B3","G2",5,2013,0,57,59]
["DEDUC","D2","S1","B3","G2",6,2013,0,59,61]
["DEDUC","D2","S1","B3","G2",7,2013,0,71,75]
["DEDUC","D2","S1","B3","G2",8,2013,0,72,73]
["DEDUC","D2","S1","B3","G2",9,2013,0,40,45]
["DEDUC","D2","S1","B3","G2",10,2013,0,54,58]
["DEDUC","D2","S1","B3","G2",11,2013,0,23,23]
["DEDUC","D2","S1","B3","G2",12,2013,0,65,69]
["DEDUC","D2","S1","B3","G2",1,2014,0,8,8]
["DEDUC","D2","S1","B3","G2",2,2014,0,22,24]
["DEDUC","D2","S1","B3","G2",3,2014,0,25,27]
["DEDUC","D2","S1","B3","G2",4,2014,0,33,32]
["DEDUC","D2","S1","B3","G2",5,2014,0,34,36]
["DEDUC","D2","S1","B3","G2",6,2014,0,69,74]
["DEDUC","D2","S1","B3","G2",7,2014,0,76,79]
["DEDUC","D2","S1","B3","G2",8,2014,0,92,98]
["DEDUC","D2","S1","B3","G2",9,2014,0,45,46]
["DEDUC","D2","S1","B3","G2",10,2014,0,46,47]
["DEDUC","D2","S1","B3","G2",11,2014,0,19,19]
["DEDUC","D2","S1","B3","G2",12,2014,0,54,55]
["DEDUC","D2","S1","B3","G3",1,2013,0,7,7]
["DEDUC","D2","S1","B3","G3",2,2013,0,12,13]
["DEDUC","D2","S1","B3","G3",3,2013,0,17,18]
["DEDUC","D2","S1","B3","G3",4,2013,0,19,20]
["DEDUC","D2","S1","B3","G3",5,2013,0,22,24]
["DEDUC","D2","S1","B3","G3",6,2013,0,29,29]
["DEDUC","D2","S1","B3","G3",7,2013,0,42,45]
["DEDUC","D2","S1","B3","G3",8,2013,0,38,38]
["DEDUC","D2","S1","B3","G3",9,2013,0,30,30]
["DEDUC","D2","S1","B3","G3",10,2013,0,25,25]
["DEDUC","D2","S1","B3","G3",11,2013,0,12,12]
["DEDUC","D2","S1","B3","G3",12,2013,0,27,28]
["DEDUC","D2","S1","B3","G3",1,2014,0,9,9]
["DEDUC","D2","S1","B3","G3",2,2014,0,13,14]
["DEDUC","D2","S1","B3","G3",3,2014,0,20,22]
["DEDUC","D2","S1","B3","G3",4,2014,0,21,20]
["DEDUC","D2","S1","B3","G3",5,2014,0,33,37]
["DEDUC","D2","S1","B3","G3",6,2014,0,32,35]
["DEDUC","D2","S1","B3","G3",7,2014,0,49,50]
["DEDUC","D2","S1","B3","G3",8,2014,0,49,49]
["DEDUC","D2","S1","B3","G3",9,2014,0,37,36]
["DEDUC","D2","S1","B3","G3",10,2014,0,22,23]
["DEDUC","D2","S1","B3","G3",11,2014,0,17,18]
["DEDUC","D2","S1","B3","G3",12,2014,0,36,39]
["DEDUC","D2","S1","B3","G4",1,2013,0,5,5]
["DEDUC","D2","S1","B3","G4",2,2013,0,9,10]
["DEDUC","D2","S1","B3","G4",3,2013,0,15,16]
["DEDUC","D2","S1","B3","G4",4,2013,0,12,13]
["DEDUC","D2","S1","B3","G4",5,2013,0,20,23]
["DEDUC","D2","S1","B3","G4",6,2013,0,21,23]
["DEDUC","D2","S1","B3","G4",7,2013,0,28,30]
["DEDUC","D2","S1","B3","G4",8,2013,0,30,31]
["DEDUC","D2","S1","B3","G4",9,2013,0,29,31]
["DEDUC","D2","S1","B3","G4",10,2013,0,16,17]
["DEDUC","D2","S1","B3","G4",11,2013,0,11,11]
["DEDUC","D2","S1","B3","G4",12,2013,0,20,21]
["DEDUC","D2","S1","B3","G4",1,2014,0,5,6]
["DEDUC","D2","S1","B3","G4",2,2014,0,8,9]
["DEDUC","D2","S1","B3","G4",3,2014,0,13,13]
["DEDUC","D2","S1","B3","G4",4,2014,0,12,13]
["DEDUC","D2","S1","B3","G4",5,2014,0,21,22]
["DEDUC","D2","S1","B3","G4",6,2014,0,36,35]
["DEDUC","D2","S1","B3","G4",7,2014,0,25,26]
["DEDUC","D2","S1","B3","G4",8,2014,0,38,39]
["DEDUC","D2","S1","B3","G4",9,2014,0,27,30]
["DEDUC","D2","S1","B3","G4",10,2014,0,21,22]
["DEDUC","D2","S1","B3","G4",11,2014,0,12,14]
["DEDUC","D2","S1","B3","G4",12,2014,0,20,22]
["DEDUC","D2","S1","B3","G5",1,2013,0,6,7]
["DEDUC","D2","S1","B3","G5",2,2013,0,10,11]
["DEDUC","D2","S1","B3","G5",3,2013,0,21,22]
["DEDUC","D2","S1","B3","G5",4,2013,0,21,23]
["DEDUC","D2","S1","B3","G5",5,2013,0,28,29]
["DEDUC","D2","S1","B3","G5",6,2013,0,43,43]
["DEDUC","D2","S1","B3","G5",7,2013,0,48,54]
["DEDUC","D2","S1","B3","G5",8,2013,0,38,41]
["DEDUC","D2","S1","B3","G5",9,2013,0,30,32]
["DEDUC","D2","S1","B3","G5",10,2013,0,24,25]
["DEDUC","D2","S1","B3","G5",11,2013,0,16,16]
["DEDUC","D2","S1","B3","G5",12,2013,0,31,32]
["DEDUC","D2","S1","B3","G5",1,2014,0,6,6]
["DEDUC","D2","S1","B3","G5",2,2014,0,12,12]
["DEDUC","D2","S1","B3","G5",3,2014,0,16,17]
["DEDUC","D2","S1","B3","G5",4,2014,0,19,21]
["DEDUC","D2","S1","B3","G5",5,2014,0,25,26]
["DEDUC","D2","S1","B3","G5",6,2014,0,42,45]
["DEDUC","D2","S1","B3","G5",7,2014,0,49,51]
["DEDUC","D2","S1","B3","G5",8,2014,0,45,47]
["DEDUC","D2","S1","B3","G5",9,2014,0,31,33]
["DEDUC","D2","S1","B3","G5",10,2014,0,23,24]
["DEDUC","D2","S1","B3","G5",11,2014,0,19,20]
["DEDUC","D2","S1","B3","G5",12,2014,0,39,43]
["DEDUC","D2","S2","B1","G1",1,2013,0,73,79]
["DEDUC","D2","S2","B1","G1",2,2013,0,154,172]
["DEDUC","D2","S2","B1","G1",3,2013,0,233,223]
["DEDUC","D2","S2","B1","G1",4,2013,0,252,267]
["DEDUC","D2","S2","B1","G1",5,2013,0,380,404]
["DEDUC","D2","S2","B1","G1",6,2013,0,568,609]
["DEDUC","D2","S2","B1","G1",7,2013,0,701,689]
["DEDUC","D2","S2","B1","G1",8,2013,0,599,668]
["DEDUC","D2","S2","B1","G1",9,2013,0,376,372]
["DEDUC","D2","S2","B1","G1",10,2013,0,373,408]
["DEDUC","D2","S2","B1","G1",11,2013,0,212,224]
["DEDUC","D2","S2","B1","G1",12,2013,0,388,393]
["DEDUC","D2","S2","B1","G1",1,2014,0,62,65]
["DEDUC","D2","S2","B1","G1",2,2014,0,140,141]
["DEDUC","D2","S2","B1","G1",3,2014,0,191,204]
["DEDUC","D2","S2","B1","G1",4,2014,0,331,340]
["DEDUC","D2","S2","B1","G1",5,2014,0,324,367]
["DEDUC","D2","S2","B1","G1",6,2014,0,382,415]
["DEDUC","D2","S2","B1","G1",7,2014,0,803,836]
["DEDUC","D2","S2","B1","G1",8,2014,0,645,677]
["DEDUC","D2","S2","B1","G1",9,2014,0,505,527]
["DEDUC","D2","S2","B1","G1",10,2014,0,302,305]
["DEDUC","D2","S2","B1","G1",11,2014,0,211,212]
["DEDUC","D2","S2","B1","G1",12,2014,0,498,502]
["DEDUC","D2","S2","B1","G2",1,2013,0,89,93]
["DEDUC","D2","S2","B1","G2",2,2013,0,192,199]
["DEDUC","D2","S2","B1","G2",3,2013,0,281,275]
["DEDUC","D2","S2","B1","G2",4,2013,0,448,486]
["DEDUC","D2","S2","B1","G2",5,2013,0,409,409]
["DEDUC","D2","S2","B1","G2",6,2013,0,530,545]
["DEDUC","D2","S2","B1","G2",7,2013,0,882,939]
["DEDUC","D2","S2","B1","G2",8,2013,0,687,718]
["DEDUC","D2","S2","B1","G2",9,2013,0,521,545]
["DEDUC","D2","S2","B1","G2",10,2013,0,344,361]
["DEDUC","D2","S2","B1","G2",11,2013,0,280,288]
["DEDUC","D2","S2","B1","G2",12,2013,0,788,782]
["DEDUC","D2","S2","B1","G2",1,2014,0,108,122]
["DEDUC","D2","S2","B1","G2",2,2014,0,179,192]
["DEDUC","D2","S2","B1","G2",3,2014,0,350,381]
["DEDUC","D2","S2","B1","G2",4,2014,0,462,504]
["DEDUC","D2","S2","B1","G2",5,2014,0,448,469]
["DEDUC","D2","S2","B1","G2",6,2014,0,732,778]
["DEDUC","D2","S2","B1","G2",7,2014,0,706,722]
["DEDUC","D2","S2","B1","G2",8,2014,0,696,744]
["DEDUC","D2","S2","B1","G2",9,2014,0,595,618]
["DEDUC","D2","S2","B1","G2",10,2014,0,381,384]
["DEDUC","D2","S2","B1","G2",11,2014,0,324,332]
["DEDUC","D2","S2","B1","G2",12,2014,0,560,572]
["DEDUC","D2","S2","B1","G3",1,2013,0,61,66]
["DEDUC","D2","S2","B1","G3",2,2013,0,108,113]
["DEDUC","D2","S2","B1","G3",3,2013,0,196,215]
["DEDUC","D2","S2","B1","G3",4,2013,0,176,183]
["DEDUC","D2","S2","B1","G3",5,2013,0,260,256]
["DEDUC","D2","S2","B1","G3",6,2013,0,324,362]
["DEDUC","D2","S2","B1","G3",7,2013,0,468,500]
["DEDUC","D2","S2","B1","G3",8,2013,0,384,390]
["DEDUC","D2","S2","B1","G3",9,2013,0,353,371]
["DEDUC","D2","S2","B1","G3",10,2013,0,247,267]
["DEDUC","D2","S2","B1","G3",11,2013,0,150,149]
["DEDUC","D2","S2","B1","G3",12,2013,0,308,304]
["DEDUC","D2","S2","B1","G3",1,2014,0,70,77]
["DEDUC","D2","S2","B1","G3",2,2014,0,128,138]
["DEDUC","D2","S2","B1","G3",3,2014,0,237,245]
["DEDUC","D2","S2","B1","G3",4,2014,0,266,273]
["DEDUC","D2","S2","B1","G3",5,2014,0,275,304]
["DEDUC","D2","S2","B1","G3",6,2014,0,434,483]
["DEDUC","D2","S2","B1","G3",7,2014,0,494,511]
["DEDUC","D2","S2","B1","G3",8,2014,0,466,492]
["DEDUC","D2","S2","B1","G3",9,2014,0,294,317]
["DEDUC","D2","S2","B1","G3",10,2014,0,224,217]
["DEDUC","D2","S2","B1","G3",11,2014,0,188,199]
["DEDUC","D2","S2","B1","G3",12,2014,0,324,336]
["DEDUC","D2","S2","B1","G4",1,2013,0,50,52]
["DEDUC","D2","S2","B1","G4",2,2013,0,107,116]
["DEDUC","D2","S2","B1","G4",3,2013,0,128,131]
["DEDUC","D2","S2","B1","G4",4,2013,0,149,164]
["DEDUC","D2","S2","B1","G4",5,2013,0,182,193]
["DEDUC","D2","S2","B1","G4",6,2013,0,337,341]
["DEDUC","D2","S2","B1","G4",7,2013,0,358,404]
["DEDUC","D2","S2","B1","G4",8,2013,0,379,381]
["DEDUC","D2","S2","B1","G4",9,2013,0,287,292]
["DEDUC","D2","S2","B1","G4",10,2013,0,200,206]
["DEDUC","D2","S2","B1","G4",11,2013,0,131,135]
["DEDUC","D2","S2","B1","G4",12,2013,0,193,211]
["DEDUC","D2","S2","B1","G4",1,2014,0,54,59]
["DEDUC","D2","S2","B1","G4",2,2014,0,91,92]
["DEDUC","D2","S2","B1","G4",3,2014,0,136,142]
["DEDUC","D2","S2","B1","G4",4,2014,0,200,204]
["DEDUC","D2","S2","B1","G4",5,2014,0,230,226]
["DEDUC","D2","S2","B1","G4",6,2014,0,258,287]
["DEDUC","D2","S2","B1","G4",7,2014,0,262,267]
["DEDUC","D2","S2","B1","G4",8,2014,0,268,281]
["DEDUC","D2","S2","B1","G4",9,2014,0,287,306]
["DEDUC","D2","S2","B1","G4",10,2014,0,195,214]
["DEDUC","D2","S2","B1","G4",11,2014,0,109,116]
["DEDUC","D2","S2","B1","G4",12,2014,0,264,274]
["DEDUC","D2","S2","B1","G5",1,2013,0,56,58]
["DEDUC","D2","S2","B1","G5",2,2013,0,103,106]
["DEDUC","D2","S2","B1","G5",3,2013,0,188,190]
["DEDUC","D2","S2","B1","G5",4,2013,0,190,198]
["DEDUC","D2","S2","B1","G5",5,2013,0,274,286]
["DEDUC","D2","S2","B1","G5",6,2013,0,336,338]
["DEDUC","D2","S2","B1","G5",7,2013,0,418,445]
["DEDUC","D2","S2","B1","G5",8,2013,0,490,512]
["DEDUC","D2","S2","B1","G5",9,2013,0,332,342]
["DEDUC","D2","S2","B1","G5",10,2013,0,286,302]
["DEDUC","D2","S2","B1","G5",11,2013,0,162,183]
["DEDUC","D2","S2","B1","G5",12,2013,0,240,269]
["DEDUC","D2","S2","B1","G5",1,2014,0,76,76]
["DEDUC","D2","S2","B1","G5",2,2014,0,124,139]
["DEDUC","D2","S2","B1","G5",3,2014,0,199,212]
["DEDUC","D2","S2","B1","G5",4,2014,0,202,219]
["DEDUC","D2","S2","B1","G5",5,2014,0,288,297]
["DEDUC","D2","S2","B1","G5",6,2014,0,377,416]
["DEDUC","D2","S2","B1","G5",7,2014,0,394,434]
["DEDUC","D2","S2","B1","G5",8,2014,0,437,453]
["DEDUC","D2","S2","B1","G5",9,2014,0,278,293]
["DEDUC","D2","S2","B1","G5",10,2014,0,235,267]
["DEDUC","D2","S2","B1","G5",11,2014,0,164,173]
["DEDUC","D2","S2","B1","G5",12,2014,0,301,325]
["DEDUC","D2","S2","B2","G1",1,2013,0,20,21]
["DEDUC","D2","S2","B2","G1",2,2013,0,44,49]
["DEDUC","D2","S2","B2","G1",3,2013,0,55,60]
["DEDUC","D2","S2","B2","G1",4,2013,0,73,73]
["DEDUC","D2","S2","B2","G1",5,2013,0,101,107]
["DEDUC","D2","S2","B2","G1",6,2013,0,187,205]
["DEDUC","D2","S2","B2","G1",7,2013,0,157,170]
["DEDUC","D2","S2","B2","G1",8,2013,0,138,154]
["DEDUC","D2","S2","B2","G1",9,2013,0,137,143]
["DEDUC","D2","S2","B2","G1",10,2013,0,69,74]
["DEDUC","D2","S2","B2","G1",11,2013,0,57,62]
["DEDUC","D2","S2","B2","G1",12,2013,0,114,121]
["DEDUC","D2","S2","B2","G1",1,2014,0,23,25]
["DEDUC","D2","S2","B2","G1",2,2014,0,60,64]
["DEDUC","D2","S2","B2","G1",3,2014,0,78,82]
["DEDUC","D2","S2","B2","G1",4,2014,0,111,115]
["DEDUC","D2","S2","B2","G1",5,2014,0,117,126]
["DEDUC","D2","S2","B2","G1",6,2014,0,153,162]
["DEDUC","D2","S2","B2","G1",7,2014,0,168,182]
["DEDUC","D2","S2","B2","G1",8,2014,0,141,150]
["DEDUC","D2","S2","B2","G1",9,2014,0,123,136]
["DEDUC","D2","S2","B2","G1",10,2014,0,102,108]
["DEDUC","D2","S2","B2","G1",11,2014,0,69,70]
["DEDUC","D2","S2","B2","G1",12,2014,0,104,113]
["DEDUC","D2","S2","B2","G2",1,2013,0,27,28]
["DEDUC","D2","S2","B2","G2",2,2013,0,80,82]
["DEDUC","D2","S2","B2","G2",3,2013,0,78,85]
["DEDUC","D2","S2","B2","G2",4,2013,0,130,140]
["DEDUC","D2","S2","B2","G2",5,2013,0,159,175]
["DEDUC","D2","S2","B2","G2",6,2013,0,217,213]
["DEDUC","D2","S2","B2","G2",7,2013,0,249,262]
["DEDUC","D2","S2","B2","G2",8,2013,0,211,219]
["DEDUC","D2","S2","B2","G2",9,2013,0,162,163]
["DEDUC","D2","S2","B2","G2",10,2013,0,100,112]
["DEDUC","D2","S2","B2","G2",11,2013,0,86,93]
["DEDUC","D2","S2","B2","G2",12,2013,0,154,170]
["DEDUC","D2","S2","B2","G2",1,2014,0,30,34]
["DEDUC","D2","S2","B2","G2",2,2014,0,78,76]
["DEDUC","D2","S2","B2","G2",3,2014,0,94,102]
["DEDUC","D2","S2","B2","G2",4,2014,0,122,129]
["DEDUC","D2","S2","B2","G2",5,2014,0,118,125]
["DEDUC","D2","S2","B2","G2",6,2014,0,197,209]
["DEDUC","D2","S2","B2","G2",7,2014,0,168,190]
["DEDUC","D2","S2","B2","G2",8,2014,0,189,201]
["DEDUC","D2","S2","B2","G2",9,2014,0,183,191]
["DEDUC","D2","S2","B2","G2",10,2014,0,109,114]
["DEDUC","D2","S2","B2","G2",11,2014,0,86,98]
["DEDUC","D2","S2","B2","G2",12,2014,0,137,140]
["DEDUC","D2","S2","B2","G3",1,2013,0,20,23]
["DEDUC","D2","S2","B2","G3",2,2013,0,39,43]
["DEDUC","D2","S2","B2","G3",3,2013,0,53,55]
["DEDUC","D2","S2","B2","G3",4,2013,0,59,60]
["DEDUC","D2","S2","B2","G3",5,2013,0,62,65]
["DEDUC","D2","S2","B2","G3",6,2013,0,102,100]
["DEDUC","D2","S2","B2","G3",7,2013,0,135,131]
["DEDUC","D2","S2","B2","G3",8,2013,0,120,133]
["DEDUC","D2","S2","B2","G3",9,2013,0,100,102]
["DEDUC","D2","S2","B2","G3",10,2013,0,50,50]
["DEDUC","D2","S2","B2","G3",11,2013,0,55,59]
["DEDUC","D2","S2","B2","G3",12,2013,0,91,97]
["DEDUC","D2","S2","B2","G3",1,2014,0,18,18]
["DEDUC","D2","S2","B2","G3",2,2014,0,31,35]
["DEDUC","D2","S2","B2","G3",3,2014,0,57,57]
["DEDUC","D2","S2","B2","G3",4,2014,0,79,84]
["DEDUC","D2","S2","B2","G3",5,2014,0,83,93]
["DEDUC","D2","S2","B2","G3",6,2014,0,126,138]
["DEDUC","D2","S2","B2","G3",7,2014,0,152,159]
["DEDUC","D2","S2","B2","G3",8,2014,0,108,119]
["DEDUC","D2","S2","B2","G3",9,2014,0,98,104]
["DEDUC","D2","S2","B2","G3",10,2014,0,86,83]
["DEDUC","D2","S2","B2","G3",11,2014,0,60,63]
["DEDUC","D2","S2","B2","G3",12,2014,0,113,111]
["DEDUC","D2","S2","B2","G4",1,2013,0,12,12]
["DEDUC","D2","S2","B2","G4",2,2013,0,22,23]
["DEDUC","D2","S2","B2","G4",3,2013,0,45,46]
["DEDUC","D2","S2","B2","G4",4,2013,0,38,38]
["DEDUC","D2","S2","B2","G4",5,2013,0,50,52]
["DEDUC","D2","S2","B2","G4",6,2013,0,65,67]
["DEDUC","D2","S2","B2","G4",7,2013,0,108,112]
["DEDUC","D2","S2","B2","G4",8,2013,0,89,95]
["DEDUC","D2","S2","B2","G4",9,2013,0,69,71]
["DEDUC","D2","S2","B2","G4",10,2013,0,58,64]
["DEDUC","D2","S2","B2","G4",11,2013,0,34,34]
["DEDUC","D2","S2","B2","G4",12,2013,0,57,65]
["DEDUC","D2","S2","B2","G4",1,2014,0,15,17]
["DEDUC","D2","S2","B2","G4",2,2014,0,22,24]
["DEDUC","D2","S2","B2","G4",3,2014,0,35,36]
["DEDUC","D2","S2","B2","G4",4,2014,0,40,42]
["DEDUC","D2","S2","B2","G4",5,2014,0,60,61]
["DEDUC","D2","S2","B2","G4",6,2014,0,77,80]
["DEDUC","D2","S2","B2","G4",7,2014,0,125,131]
["DEDUC","D2","S2","B2","G4",8,2014,0,138,146]
["DEDUC","D2","S2","B2","G4",9,2014,0,71,74]
["DEDUC","D2","S2","B2","G4",10,2014,0,64,65]
["DEDUC","D2","S2","B2","G4",11,2014,0,30,32]
["DEDUC","D2","S2","B2","G4",12,2014,0,58,64]
["DEDUC","D2","S2","B2","G5",1,2013,0,19,20]
["DEDUC","D2","S2","B2","G5",2,2013,0,38,41]
["DEDUC","D2","S2","B2","G5",3,2013,0,66,68]
["DEDUC","D2","S2","B2","G5",4,2013,0,52,56]
["DEDUC","D2","S2","B2","G5",5,2013,0,65,70]
["DEDUC","D2","S2","B2","G5",6,2013,0,104,113]
["DEDUC","D2","S2","B2","G5",7,2013,0,135,141]
["DEDUC","D2","S2","B2","G5",8,2013,0,106,105]
["DEDUC","D2","S2","B2","G5",9,2013,0,92,95]
["DEDUC","D2","S2","B2","G5",10,2013,0,86,93]
["DEDUC","D2","S2","B2","G5",11,2013,0,57,55]
["DEDUC","D2","S2","B2","G5",12,2013,0,81,89]
["DEDUC","D2","S2","B2","G5",1,2014,0,19,21]
["DEDUC","D2","S2","B2","G5",2,2014,0,28,30]
["DEDUC","D2","S2","B2","G5",3,2014,0,59,65]
["DEDUC","D2","S2","B2","G5",4,2014,0,68,72]
["DEDUC","D2","S2","B2","G5",5,2014,0,83,90]
["DEDUC","D2","S2","B2","G5",6,2014,0,89,91]
["DEDUC","D2","S2","B2","G5",7,2014,0,119,128]
["DEDUC","D2","S2","B2","G5",8,2014,0,87,96]
["DEDUC","D2","S2","B2","G5",9,2014,0,95,104]
["DEDUC","D2","S2","B2","G5",10,2014,0,80,91]
["DEDUC","D2","S2","B2","G5",11,2014,0,53,53]
["DEDUC","D2","S2","B2","G5",12,2014,0,77,81]
["DEDUC","D2","S2","B3","G1",1,2013,0,14,15]
["DEDUC","D2","S2","B3","G1",2,2013,0,24,26]
["DEDUC","D2","S2","B3","G1",3,2013,0,35,35]
["DEDUC","D2","S2","B3","G1",4,2013,0,38,40]
["DEDUC","D2","S2","B3","G1",5,2013,0,58,64]
["DEDUC","D2","S2","B3","G1",6,2013,0,63,70]
["DEDUC","D2","S2","B3","G1",7,2013,0,87,85]
["DEDUC","D2","S2","B3","G1",8,2013,0,74,84]
["DEDUC","D2","S2","B3","G1",9,2013,0,72,75]
["DEDUC","D2","S2","B3","G1",10,2013,0,50,54]
["DEDUC","D2","S2","B3","G1",11,2013,0,22,24]
["DEDUC","D2","S2","B3","G1",12,2013,0,66,64]
["DEDUC","D2","S2","B3","G1",1,2014,0,13,13]
["DEDUC","D2","S2","B3","G1",2,2014,0,24,27]
["DEDUC","D2","S2","B3","G1",3,2014,0,33,35]
["DEDUC","D2","S2","B3","G1",4,2014,0,41,41]
["DEDUC","D2","S2","B3","G1",5,2014,0,51,58]
["DEDUC","D2","S2","B3","G1",6,2014,0,77,81]
["DEDUC","D2","S2","B3","G1",7,2014,0,88,93]
["DEDUC","D2","S2","B3","G1",8,2014,0,70,76]
["DEDUC","D2","S2","B3","G1",9,2014,0,63,65]
["DEDUC","D2","S2","B3","G1",10,2014,0,50,53]
["DEDUC","D2","S2","B3","G1",11,2014,0,30,31]
["DEDUC","D2","S2","B3","G1",12,2014,0,64,69]
["DEDUC","D2","S2","B3","G2",1,2013,0,16,16]
["DEDUC","D2","S2","B3","G2",2,2013,0,28,30]
["DEDUC","D2","S2","B3","G2",3,2013,0,41,45]
["DEDUC","D2","S2","B3","G2",4,2013,0,51,54]
["DEDUC","D2","S2","B3","G2",5,2013,0,66,71]
["DEDUC","D2","S2","B3","G2",6,2013,0,74,76]
["DEDUC","D2","S2","B3","G2",7,2013,0,136,137]
["DEDUC","D2","S2","B3","G2",8,2013,0,82,85]
["DEDUC","D2","S2","B3","G2",9,2013,0,82,83]
["DEDUC","D2","S2","B3","G2",10,2013,0,50,51]
["DEDUC","D2","S2","B3","G2",11,2013,0,37,40]
["DEDUC","D2","S2","B3","G2",12,2013,0,68,74]
["DEDUC","D2","S2","B3","G2",1,2014,0,15,16]
["DEDUC","D2","S2","B3","G2",2,2014,0,33,37]
["DEDUC","D2","S2","B3","G2",3,2014,0,41,43]
["DEDUC","D2","S2","B3","G2",4,2014,0,53,53]
["DEDUC","D2","S2","B3","G2",5,2014,0,64,64]
["DEDUC","D2","S2","B3","G2",6,2014,0,75,77]
["DEDUC","D2","S2","B3","G2",7,2014,0,134,144]
["DEDUC","D2","S2","B3","G2",8,2014,0,104,109]
["DEDUC","D2","S2","B3","G2",9,2014,0,79,85]
["DEDUC","D2","S2","B3","G2",10,2014,0,61,62]
["DEDUC","D2","S2","B3","G2",11,2014,0,37,39]
["DEDUC","D2","S2","B3","G2",12,2014,0,83,86]
["DEDUC","D2","S2","B3","G3",1,2013,0,9,9]
["DEDUC","D2","S2","B3","G3",2,2013,0,17,17]
["DEDUC","D2","S2","B3","G3",3,2013,0,28,30]
["DEDUC","D2","S2","B3","G3",4,2013,0,28,29]
["DEDUC","D2","S2","B3","G3",5,2013,0,39,39]
["DEDUC","D2","S2","B3","G3",6,2013,0,59,60]
["DEDUC","D2","S2","B3","G3",7,2013,0,70,74]
["DEDUC","D2","S2","B3","G3",8,2013,0,72,73]
["DEDUC","D2","S2","B3","G3",9,2013,0,54,56]
["DEDUC","D2","S2","B3","G3",10,2013,0,31,32]
["DEDUC","D2","S2","B3","G3",11,2013,0,26,29]
["DEDUC","D2","S2","B3","G3",12,2013,0,56,61]
["DEDUC","D2","S2","B3","G3",1,2014,0,10,10]
["DEDUC","D2","S2","B3","G3",2,2014,0,17,17]
["DEDUC","D2","S2","B3","G3",3,2014,0,30,31]
["DEDUC","D2","S2","B3","G3",4,2014,0,36,39]
["DEDUC","D2","S2","B3","G3",5,2014,0,37,40]
["DEDUC","D2","S2","B3","G3",6,2014,0,54,60]
["DEDUC","D2","S2","B3","G3",7,2014,0,79,87]
["DEDUC","D2","S2","B3","G3",8,2014,0,81,83]
["DEDUC","D2","S2","B3","G3",9,2014,0,43,48]
["DEDUC","D2","S2","B3","G3",10,2014,0,40,41]
["DEDUC","D2","S2","B3","G3",11,2014,0,25,26]
["DEDUC","D2","S2","B3","G3",12,2014,0,55,61]
["DEDUC","D2","S2","B3","G4",1,2013,0,8,9]
["DEDUC","D2","S2","B3","G4",2,2013,0,18,20]
["DEDUC","D2","S2","B3","G4",3,2013,0,19,21]
["DEDUC","D2","S2","B3","G4",4,2013,0,26,27]
["DEDUC","D2","S2","B3","G4",5,2013,0,23,25]
["DEDUC","D2","S2","B3","G4",6,2013,0,43,44]
["DEDUC","D2","S2","B3","G4",7,2013,0,49,52]
["DEDUC","D2","S2","B3","G4",8,2013,0,46,49]
["DEDUC","D2","S2","B3","G4",9,2013,0,42,41]
["DEDUC","D2","S2","B3","G4",10,2013,0,25,27]
["DEDUC","D2","S2","B3","G4",11,2013,0,16,17]
["DEDUC","D2","S2","B3","G4",12,2013,0,30,31]
["DEDUC","D2","S2","B3","G4",1,2014,0,6,6]
["DEDUC","D2","S2","B3","G4",2,2014,0,13,14]
["DEDUC","D2","S2","B3","G4",3,2014,0,21,22]
["DEDUC","D2","S2","B3","G4",4,2014,0,28,30]
["DEDUC","D2","S2","B3","G4",5,2014,0,30,31]
["DEDUC","D2","S2","B3","G4",6,2014,0,44,47]
["DEDUC","D2","S2","B3","G4",7,2014,0,39,42]
["DEDUC","D2","S2","B3","G4",8,2014,0,45,46]
["DEDUC","D2","S2","B3","G4",9,2014,0,38,40]
["DEDUC","D2","S2","B3","G4",10,2014,0,26,27]
["DEDUC","D2","S2","B3","G4",11,2014,0,18,19]
["DEDUC","D2","S2","B3","G4",12,2014,0,34,35]
["DEDUC","D2","S2","B3","G5",1,2013,0,8,9]
["DEDUC","D2","S2","B3","G5",2,2013,0,21,21]
["DEDUC","D2","S2","B3","G5",3,2013,0,31,32]
["DEDUC","D2","S2","B3","G5",4,2013,0,28,31]
["DEDUC","D2","S2","B3","G5",5,2013,0,34,37]
["DEDUC","D2","S2","B3","G5",6,2013,0,53,58]
["DEDUC","D2","S2","B3","G5",7,2013,0,70,71]
["DEDUC","D2","S2","B3","G5",8,2013,0,62,67]
["DEDUC","D2","S2","B3","G5",9,2013,0,43,50]
["DEDUC","D2","S2","B3","G5",10,2013,0,38,40]
["DEDUC","D2","S2","B3","G5",11,2013,0,25,27]
["DEDUC","D2","S2","B3","G5",12,2013,0,46,49]
["DEDUC","D2","S2","B3","G5",1,2014,0,10,11]
["DEDUC","D2","S2","B3","G5",2,2014,0,17,19]
["DEDUC","D2","S2","B3","G5",3,2014,0,28,28]
["DEDUC","D2","S2","B3","G5",4,2014,0,37,37]
["DEDUC","D2","S2","B3","G5",5,2014,0,41,46]
["DEDUC","D2","S2","B3","G5",6,2014,0,54,62]
["DEDUC","D2","S2","B3","G5",7,2014,0,64,68]
["DEDUC","D2","S2","B3","G5",8,2014,0,64,69]
["DEDUC","D2","S2","B3","G5",9,2014,0,52,56]
["DEDUC","D2","S2","B3","G5",10,2014,0,35,37]
["DEDUC","D2","S2","B3","G5",11,2014,0,26,28]
["DEDUC","D2","S2","B3","G5",12,2014,0,43,48]
["DEDUC","D3","S1","B1","G1",1,2013,0,28,28]
["DEDUC","D3","S1","B1","G1",2,2013,0,59,63]
["DEDUC","D3","S1","B1","G1",3,2013,0,107,111]
["DEDUC","D3","S1","B1","G1",4,2013,0,74,77]
["DEDUC","D3","S1","B1","G1",5,2013,0,126,132]
["DEDUC","D3","S1","B1","G1",6,2013,0,210,230]
["DEDUC","D3","S1","B1","G1",7,2013,0,153,169]
["DEDUC","D3","S1","B1","G1",8,2013,0,223,244]
["DEDUC","D3","S1","B1","G1",9,2013,0,105,111]
["DEDUC","D3","S1","B1","G1",10,2013,0,154,162]
["DEDUC","D3","S1","B1","G1",11,2013,0,82,85]
["DEDUC","D3","S1","B1","G1",12,2013,0,138,145]
["DEDUC","D3","S1","B1","G1",1,2014,0,30,30]
["DEDUC","D3","S1","B1","G1",2,2014,0,63,71]
["DEDUC","D3","S1","B1","G1",3,2014,0,64,73]
["DEDUC","D3","S1","B1","G1",4,2014,0,88,87]
["DEDUC","D3","S1","B1","G1",5,2014,0,109,110]
["DEDUC","D3","S1","B1","G1",6,2014,0,167,171]
["DEDUC","D3","S1","B1","G1",7,2014,0,179,193]
["DEDUC","D3","S1","B1","G1",8,2014,0,218,226]
["DEDUC","D3","S1","B1","G1",9,2014,0,211,233]
["DEDUC","D3","S1","B1","G1",10,2014,0,106,105]
["DEDUC","D3","S1","B1","G1",11,2014,0,57,59]
["DEDUC","D3","S1","B1","G1",12,2014,0,144,142]
["DEDUC","D3","S1","B1","G2",1,2013,0,30,32]
["DEDUC","D3","S1","B1","G2",2,2013,0,64,67]
["DEDUC","D3","S1","B1","G2",3,2013,0,96,93]
["DEDUC","D3","S1","B1","G2",4,2013,0,127,134]
["DEDUC","D3","S1","B1","G2",5,2013,0,217,224]
["DEDUC","D3","S1","B1","G2",6,2013,0,228,227]
["DEDUC","D3","S1","B1","G2",7,2013,0,213,233]
["DEDUC","D3","S1","B1","G2",8,2013,0,199,204]
["DEDUC","D3","S1","B1","G2",9,2013,0,123,124]
["DEDUC","D3","S1","B1","G2",10,2013,0,145,160]
["DEDUC","D3","S1","B1","G2",11,2013,0,93,100]
["DEDUC","D3","S1","B1","G2",12,2013,0,200,201]
["DEDUC","D3","S1","B1","G2",1,2014,0,44,45]
["DEDUC","D3","S1","B1","G2",2,2014,0,64,69]
["DEDUC","D3","S1","B1","G2",3,2014,0,138,147]
["DEDUC","D3","S1","B1","G2",4,2014,0,127,129]
["DEDUC","D3","S1","B1","G2",5,2014,0,148,167]
["DEDUC","D3","S1","B1","G2",6,2014,0,207,205]
["DEDUC","D3","S1","B1","G2",7,2014,0,250,264]
["DEDUC","D3","S1","B1","G2",8,2014,0,276,296]
["DEDUC","D3","S1","B1","G2",9,2014,0,151,146]
["DEDUC","D3","S1","B1","G2",10,2014,0,129,129]
["DEDUC","D3","S1","B1","G2",11,2014,0,129,143]
["DEDUC","D3","S1","B1","G2",12,2014,0,161,167]
["DEDUC","D3","S1","B1","G3",1,2013,0,25,26]
["DEDUC","D3","S1","B1","G3",2,2013,0,60,62]
["DEDUC","D3","S1","B1","G3",3,2013,0,67,70]
["DEDUC","D3","S1","B1","G3",4,2013,0,54,62]
["DEDUC","D3","S1","B1","G3",5,2013,0,111,120]
["DEDUC","D3","S1","B1","G3",6,2013,0,132,149]
["DEDUC","D3","S1","B1","G3",7,2013,0,147,158]
["DEDUC","D3","S1","B1","G3",8,2013,0,169,162]
["DEDUC","D3","S1","B1","G3",9,2013,0,111,117]
["DEDUC","D3","S1","B1","G3",10,2013,0,108,118]
["DEDUC","D3","S1","B1","G3",11,2013,0,64,67]
["DEDUC","D3","S1","B1","G3",12,2013,0,155,172]
["DEDUC","D3","S1","B1","G3",1,2014,0,16,16]
["DEDUC","D3","S1","B1","G3",2,2014,0,42,46]
["DEDUC","D3","S1","B1","G3",3,2014,0,79,81]
["DEDUC","D3","S1","B1","G3",4,2014,0,67,71]
["DEDUC","D3","S1","B1","G3",5,2014,0,96,108]
["DEDUC","D3","S1","B1","G3",6,2014,0,137,151]
["DEDUC","D3","S1","B1","G3",7,2014,0,164,173]
["DEDUC","D3","S1","B1","G3",8,2014,0,183,180]
["DEDUC","D3","S1","B1","G3",9,2014,0,115,132]
["DEDUC","D3","S1","B1","G3",10,2014,0,96,101]
["DEDUC","D3","S1","B1","G3",11,2014,0,69,78]
["DEDUC","D3","S1","B1","G3",12,2014,0,114,121]
["DEDUC","D3","S1","B1","G4",1,2013,0,13,13]
["DEDUC","D3","S1","B1","G4",2,2013,0,35,37]
["DEDUC","D3","S1","B1","G4",3,2013,0,45,46]
["DEDUC","D3","S1","B1","G4",4,2013,0,76,78]
["DEDUC","D3","S1","B1","G4",5,2013,0,59,61]
["DEDUC","D3","S1","B1","G4",6,2013,0,97,99]
["DEDUC","D3","S1","B1","G4",7,2013,0,124,120]
["DEDUC","D3","S1","B1","G4",8,2013,0,87,91]
["DEDUC","D3","S1","B1","G4",9,2013,0,76,80]
["DEDUC","D3","S1","B1","G4",10,2013,0,48,51]
["DEDUC","D3","S1","B1","G4",11,2013,0,42,43]
["DEDUC","D3","S1","B1","G4",12,2013,0,69,73]
["DEDUC","D3","S1","B1","G4",1,2014,0,17,18]
["DEDUC","D3","S1","B1","G4",2,2014,0,28,31]
["DEDUC","D3","S1","B1","G4",3,2014,0,61,66]
["DEDUC","D3","S1","B1","G4",4,2014,0,49,53]
["DEDUC","D3","S1","B1","G4",5,2014,0,73,78]
["DEDUC","D3","S1","B1","G4",6,2014,0,100,104]
["DEDUC","D3","S1","B1","G4",7,2014,0,142,148]
["DEDUC","D3","S1","B1","G4",8,2014,0,109,107]
["DEDUC","D3","S1","B1","G4",9,2014,0,61,66]
["DEDUC","D3","S1","B1","G4",10,2014,0,62,62]
["DEDUC","D3","S1","B1","G4",11,2014,0,42,41]
["DEDUC","D3","S1","B1","G4",12,2014,0,89,93]
["DEDUC","D3","S1","B1","G5",1,2013,0,27,27]
["DEDUC","D3","S1","B1","G5",2,2013,0,42,45]
["DEDUC","D3","S1","B1","G5",3,2013,0,48,52]
["DEDUC","D3","S1","B1","G5",4,2013,0,83,82]
["DEDUC","D3","S1","B1","G5",5,2013,0,141,153]
["DEDUC","D3","S1","B1","G5",6,2013,0,104,110]
["DEDUC","D3","S1","B1","G5",7,2013,0,178,175]
["DEDUC","D3","S1","B1","G5",8,2013,0,150,151]
["DEDUC","D3","S1","B1","G5",9,2013,0,95,100]
["DEDUC","D3","S1","B1","G5",10,2013,0,75,78]
["DEDUC","D3","S1","B1","G5",11,2013,0,48,48]
["DEDUC","D3","S1","B1","G5",12,2013,0,83,93]
["DEDUC","D3","S1","B1","G5",1,2014,0,23,25]
["DEDUC","D3","S1","B1","G5",2,2014,0,53,55]
["DEDUC","D3","S1","B1","G5",3,2014,0,63,67]
["DEDUC","D3","S1","B1","G5",4,2014,0,65,68]
["DEDUC","D3","S1","B1","G5",5,2014,0,81,82]
["DEDUC","D3","S1","B1","G5",6,2014,0,125,131]
["DEDUC","D3","S1","B1","G5",7,2014,0,202,220]
["DEDUC","D3","S1","B1","G5",8,2014,0,167,170]
["DEDUC","D3","S1","B1","G5",9,2014,0,145,146]
["DEDUC","D3","S1","B1","G5",10,2014,0,84,90]
["DEDUC","D3","S1","B1","G5",11,2014,0,46,53]
["DEDUC","D3","S1","B1","G5",12,2014,0,118,121]
["DEDUC","D3","S1","B2","G1",1,2013,0,9,10]
["DEDUC","D3","S1","B2","G1",2,2013,0,13,13]
["DEDUC","D3","S1","B2","G1",3,2013,0,26,27]
["DEDUC","D3","S1","B2","G1",4,2013,0,21,23]
["DEDUC","D3","S1","B2","G1",5,2013,0,44,45]
["DEDUC","D3","S1","B2","G1",6,2013,0,48,53]
["DEDUC","D3","S1","B2","G1",7,2013,0,83,80]
["DEDUC","D3","S1","B2","G1",8,2013,0,55,60]
["DEDUC","D3","S1","B2","G1",9,2013,0,39,41]
["DEDUC","D3","S1","B2","G1",10,2013,0,31,32]
["DEDUC","D3","S1","B2","G1",11,2013,0,16,16]
["DEDUC","D3","S1","B2","G1",12,2013,0,44,46]
["DEDUC","D3","S1","B2","G1",1,2014,0,8,8]
["DEDUC","D3","S1","B2","G1",2,2014,0,16,17]
["DEDUC","D3","S1","B2","G1",3,2014,0,30,30]
["DEDUC","D3","S1","B2","G1",4,2014,0,30,32]
["DEDUC","D3","S1","B2","G1",5,2014,0,41,46]
["DEDUC","D3","S1","B2","G1",6,2014,0,51,53]
["DEDUC","D3","S1","B2","G1",7,2014,0,57,65]
["DEDUC","D3","S1","B2","G1",8,2014,0,65,66]
["DEDUC","D3","S1","B2","G1",9,2014,0,61,58]
["DEDUC","D3","S1","B2","G1",10,2014,0,35,37]
["DEDUC","D3","S1","B2","G1",11,2014,0,20,20]
["DEDUC","D3","S1","B2","G1",12,2014,0,46,48]
["DEDUC","D3","S1","B2","G2",1,2013,0,11,10]
["DEDUC","D3","S1","B2","G2",2,2013,0,15,15]
["DEDUC","D3","S1","B2","G2",3,2013,0,24,23]
["DEDUC","D3","S1","B2","G2",4,2013,0,39,41]
["DEDUC","D3","S1","B2","G2",5,2013,0,46,44]
["DEDUC","D3","S1","B2","G2",6,2013,0,66,66]
["DEDUC","D3","S1","B2","G2",7,2013,0,75,76]
["DEDUC","D3","S1","B2","G2",8,2013,0,78,80]
["DEDUC","D3","S1","B2","G2",9,2013,0,50,52]
["DEDUC","D3","S1","B2","G2",10,2013,0,37,37]
["DEDUC","D3","S1","B2","G2",11,2013,0,19,20]
["DEDUC","D3","S1","B2","G2",12,2013,0,41,43]
["DEDUC","D3","S1","B2","G2",1,2014,0,11,11]
["DEDUC","D3","S1","B2","G2",2,2014,0,18,20]
["DEDUC","D3","S1","B2","G2",3,2014,0,32,33]
["DEDUC","D3","S1","B2","G2",4,2014,0,41,45]
["DEDUC","D3","S1","B2","G2",5,2014,0,55,53]
["DEDUC","D3","S1","B2","G2",6,2014,0,69,70]
["DEDUC","D3","S1","B2","G2",7,2014,0,89,89]
["DEDUC","D3","S1","B2","G2",8,2014,0,54,59]
["DEDUC","D3","S1","B2","G2",9,2014,0,69,73]
["DEDUC","D3","S1","B2","G2",10,2014,0,41,45]
["DEDUC","D3","S1","B2","G2",11,2014,0,28,28]
["DEDUC","D3","S1","B2","G2",12,2014,0,38,41]
["DEDUC","D3","S1","B2","G3",1,2013,0,9,9]
["DEDUC","D3","S1","B2","G3",2,2013,0,16,16]
["DEDUC","D3","S1","B2","G3",3,2013,0,22,22]
["DEDUC","D3","S1","B2","G3",4,2013,0,34,36]
["DEDUC","D3","S1","B2","G3",5,2013,0,35,36]
["DEDUC","D3","S1","B2","G3",6,2013,0,34,36]
["DEDUC","D3","S1","B2","G3",7,2013,0,40,41]
["DEDUC","D3","S1","B2","G3",8,2013,0,60,63]
["DEDUC","D3","S1","B2","G3",9,2013,0,28,30]
["DEDUC","D3","S1","B2","G3",10,2013,0,17,18]
["DEDUC","D3","S1","B2","G3",11,2013,0,13,14]
["DEDUC","D3","S1","B2","G3",12,2013,0,35,34]
["DEDUC","D3","S1","B2","G3",1,2014,0,6,6]
["DEDUC","D3","S1","B2","G3",2,2014,0,10,10]
["DEDUC","D3","S1","B2","G3",3,2014,0,14,16]
["DEDUC","D3","S1","B2","G3",4,2014,0,25,26]
["DEDUC","D3","S1","B2","G3",5,2014,0,21,22]
["DEDUC","D3","S1","B2","G3",6,2014,0,41,44]
["DEDUC","D3","S1","B2","G3",7,2014,0,69,78]
["DEDUC","D3","S1","B2","G3",8,2014,0,40,45]
["DEDUC","D3","S1","B2","G3",9,2014,0,35,34]
["DEDUC","D3","S1","B2","G3",10,2014,0,21,23]
["DEDUC","D3","S1","B2","G3",11,2014,0,15,17]
["DEDUC","D3","S1","B2","G3",12,2014,0,25,26]
["DEDUC","D3","S1","B2","G4",1,2013,0,6,6]
["DEDUC","D3","S1","B2","G4",2,2013,0,10,10]
["DEDUC","D3","S1","B2","G4",3,2013,0,17,17]
["DEDUC","D3","S1","B2","G4",4,2013,0,19,20]
["DEDUC","D3","S1","B2","G4",5,2013,0,19,20]
["DEDUC","D3","S1","B2","G4",6,2013,0,36,38]
["DEDUC","D3","S1","B2","G4",7,2013,0,39,42]
["DEDUC","D3","S1","B2","G4",8,2013,0,22,22]
["DEDUC","D3","S1","B2","G4",9,2013,0,27,29]
["DEDUC","D3","S1","B2","G4",10,2013,0,19,18]
["DEDUC","D3","S1","B2","G4",11,2013,0,8,8]
["DEDUC","D3","S1","B2","G4",12,2013,0,17,17]
["DEDUC","D3","S1","B2","G4",1,2014,0,5,5]
["DEDUC","D3","S1","B2","G4",2,2014,0,10,10]
["DEDUC","D3","S1","B2","G4",3,2014,0,14,16]
["DEDUC","D3","S1","B2","G4",4,2014,0,26,29]
["DEDUC","D3","S1","B2","G4",5,2014,0,23,23]
["DEDUC","D3","S1","B2","G4",6,2014,0,29,32]
["DEDUC","D3","S1","B2","G4",7,2014,0,44,47]
["DEDUC","D3","S1","B2","G4",8,2014,0,31,32]
["DEDUC","D3","S1","B2","G4",9,2014,0,20,21]
["DEDUC","D3","S1","B2","G4",10,2014,0,20,21]
["DEDUC","D3","S1","B2","G4",11,2014,0,9,10]
["DEDUC","D3","S1","B2","G4",12,2014,0,24,25]
["DEDUC","D3","S1","B2","G5",1,2013,0,8,9]
["DEDUC","D3","S1","B2","G5",2,2013,0,13,13]
["DEDUC","D3","S1","B2","G5",3,2013,0,19,20]
["DEDUC","D3","S1","B2","G5",4,2013,0,17,18]
["DEDUC","D3","S1","B2","G5",5,2013,0,31,33]
["DEDUC","D3","S1","B2","G5",6,2013,0,26,29]
["DEDUC","D3","S1","B2","G5",7,2013,0,39,40]
["DEDUC","D3","S1","B2","G5",8,2013,0,36,40]
["DEDUC","D3","S1","B2","G5",9,2013,0,23,24]
["DEDUC","D3","S1","B2","G5",10,2013,0,19,20]
["DEDUC","D3","S1","B2","G5",11,2013,0,19,22]
["DEDUC","D3","S1","B2","G5",12,2013,0,32,34]
["DEDUC","D3","S1","B2","G5",1,2014,0,6,6]
["DEDUC","D3","S1","B2","G5",2,2014,0,13,13]
["DEDUC","D3","S1","B2","G5",3,2014,0,13,13]
["DEDUC","D3","S1","B2","G5",4,2014,0,14,15]
["DEDUC","D3","S1","B2","G5",5,2014,0,28,29]
["DEDUC","D3","S1","B2","G5",6,2014,0,42,41]
["DEDUC","D3","S1","B2","G5",7,2014,0,40,42]
["DEDUC","D3","S1","B2","G5",8,2014,0,56,64]
["DEDUC","D3","S1","B2","G5",9,2014,0,32,33]
["DEDUC","D3","S1","B2","G5",10,2014,0,30,31]
["DEDUC","D3","S1","B2","G5",11,2014,0,13,13]
["DEDUC","D3","S1","B2","G5",12,2014,0,45,43]
["DEDUC","D3","S1","B3","G1",1,2013,0,5,5]
["DEDUC","D3","S1","B3","G1",2,2013,0,9,10]
["DEDUC","D3","S1","B3","G1",3,2013,0,13,15]
["DEDUC","D3","S1","B3","G1",4,2013,0,14,15]
["DEDUC","D3","S1","B3","G1",5,2013,0,24,24]
["DEDUC","D3","S1","B3","G1",6,2013,0,27,27]
["DEDUC","D3","S1","B3","G1",7,2013,0,23,26]
["DEDUC","D3","S1","B3","G1",8,2013,0,24,27]
["DEDUC","D3","S1","B3","G1",9,2013,0,29,32]
["DEDUC","D3","S1","B3","G1",10,2013,0,16,16]
["DEDUC","D3","S1","B3","G1",11,2013,0,9,10]
["DEDUC","D3","S1","B3","G1",12,2013,0,23,24]
["DEDUC","D3","S1","B3","G1",1,2014,0,5,5]
["DEDUC","D3","S1","B3","G1",2,2014,0,9,10]
["DEDUC","D3","S1","B3","G1",3,2014,0,13,14]
["DEDUC","D3","S1","B3","G1",4,2014,0,14,15]
["DEDUC","D3","S1","B3","G1",5,2014,0,23,24]
["DEDUC","D3","S1","B3","G1",6,2014,0,23,26]
["DEDUC","D3","S1","B3","G1",7,2014,0,29,31]
["DEDUC","D3","S1","B3","G1",8,2014,0,32,32]
["DEDUC","D3","S1","B3","G1",9,2014,0,19,20]
["DEDUC","D3","S1","B3","G1",10,2014,0,12,14]
["DEDUC","D3","S1","B3","G1",11,2014,0,10,10]
["DEDUC","D3","S1","B3","G1",12,2014,0,20,20]
["DEDUC","D3","S1","B3","G2",1,2013,0,5,6]
["DEDUC","D3","S1","B3","G2",2,2013,0,9,9]
["DEDUC","D3","S1","B3","G2",3,2013,0,16,17]
["DEDUC","D3","S1","B3","G2",4,2013,0,20,21]
["DEDUC","D3","S1","B3","G2",5,2013,0,24,24]
["DEDUC","D3","S1","B3","G2",6,2013,0,38,41]
["DEDUC","D3","S1","B3","G2",7,2013,0,24,27]
["DEDUC","D3","S1","B3","G2",8,2013,0,37,37]
["DEDUC","D3","S1","B3","G2",9,2013,0,31,32]
["DEDUC","D3","S1","B3","G2",10,2013,0,27,27]
["DEDUC","D3","S1","B3","G2",11,2013,0,14,14]
["DEDUC","D3","S1","B3","G2",12,2013,0,29,28]
["DEDUC","D3","S1","B3","G2",1,2014,0,7,7]
["DEDUC","D3","S1","B3","G2",2,2014,0,11,11]
["DEDUC","D3","S1","B3","G2",3,2014,0,19,21]
["DEDUC","D3","S1","B3","G2",4,2014,0,17,17]
["DEDUC","D3","S1","B3","G2",5,2014,0,25,26]
["DEDUC","D3","S1","B3","G2",6,2014,0,23,23]
["DEDUC","D3","S1","B3","G2",7,2014,0,37,38]
["DEDUC","D3","S1","B3","G2",8,2014,0,43,45]
["DEDUC","D3","S1","B3","G2",9,2014,0,31,33]
["DEDUC","D3","S1","B3","G2",10,2014,0,26,29]
["DEDUC","D3","S1","B3","G2",11,2014,0,12,13]
["DEDUC","D3","S1","B3","G2",12,2014,0,29,31]
["DEDUC","D3","S1","B3","G3",1,2013,0,4,4]
["DEDUC","D3","S1","B3","G3",2,2013,0,8,8]
["DEDUC","D3","S1","B3","G3",3,2013,0,9,9]
["DEDUC","D3","S1","B3","G3",4,2013,0,11,11]
["DEDUC","D3","S1","B3","G3",5,2013,0,14,16]
["DEDUC","D3","S1","B3","G3",6,2013,0,14,15]
["DEDUC","D3","S1","B3","G3",7,2013,0,21,21]
["DEDUC","D3","S1","B3","G3",8,2013,0,22,23]
["DEDUC","D3","S1","B3","G3",9,2013,0,22,22]
["DEDUC","D3","S1","B3","G3",10,2013,0,14,15]
["DEDUC","D3","S1","B3","G3",11,2013,0,9,9]
["DEDUC","D3","S1","B3","G3",12,2013,0,18,19]
["DEDUC","D3","S1","B3","G3",1,2014,0,5,5]
["DEDUC","D3","S1","B3","G3",2,2014,0,10,10]
["DEDUC","D3","S1","B3","G3",3,2014,0,11,10]
["DEDUC","D3","S1","B3","G3",4,2014,0,12,12]
["DEDUC","D3","S1","B3","G3",5,2014,0,15,16]
["DEDUC","D3","S1","B3","G3",6,2014,0,20,21]
["DEDUC","D3","S1","B3","G3",7,2014,0,28,27]
["DEDUC","D3","S1","B3","G3",8,2014,0,22,25]
["DEDUC","D3","S1","B3","G3",9,2014,0,19,20]
["DEDUC","D3","S1","B3","G3",10,2014,0,12,12]
["DEDUC","D3","S1","B3","G3",11,2014,0,7,8]
["DEDUC","D3","S1","B3","G3",12,2014,0,24,25]
["DEDUC","D3","S1","B3","G4",1,2013,0,3,3]
["DEDUC","D3","S1","B3","G4",2,2013,0,5,5]
["DEDUC","D3","S1","B3","G4",3,2013,0,6,7]
["DEDUC","D3","S1","B3","G4",4,2013,0,9,9]
["DEDUC","D3","S1","B3","G4",5,2013,0,9,10]
["DEDUC","D3","S1","B3","G4",6,2013,0,12,12]
["DEDUC","D3","S1","B3","G4",7,2013,0,13,14]
["DEDUC","D3","S1","B3","G4",8,2013,0,16,16]
["DEDUC","D3","S1","B3","G4",9,2013,0,12,13]
["DEDUC","D3","S1","B3","G4",10,2013,0,7,8]
["DEDUC","D3","S1","B3","G4",11,2013,0,5,6]
["DEDUC","D3","S1","B3","G4",12,2013,0,13,14]
["DEDUC","D3","S1","B3","G4",1,2014,0,4,4]
["DEDUC","D3","S1","B3","G4",2,2014,0,6,6]
["DEDUC","D3","S1","B3","G4",3,2014,0,7,8]
["DEDUC","D3","S1","B3","G4",4,2014,0,7,7]
["DEDUC","D3","S1","B3","G4",5,2014,0,8,8]
["DEDUC","D3","S1","B3","G4",6,2014,0,13,14]
["DEDUC","D3","S1","B3","G4",7,2014,0,17,17]
["DEDUC","D3","S1","B3","G4",8,2014,0,16,17]
["DEDUC","D3","S1","B3","G4",9,2014,0,12,11]
["DEDUC","D3","S1","B3","G4",10,2014,0,11,10]
["DEDUC","D3","S1","B3","G4",11,2014,0,7,7]
["DEDUC","D3","S1","B3","G4",12,2014,0,11,11]
["DEDUC","D3","S1","B3","G5",1,2013,0,4,4]
["DEDUC","D3","S1","B3","G5",2,2013,0,6,7]
["DEDUC","D3","S1","B3","G5",3,2013,0,7,7]
["DEDUC","D3","S1","B3","G5",4,2013,0,8,9]
["DEDUC","D3","S1","B3","G5",5,2013,0,18,19]
["DEDUC","D3","S1","B3","G5",6,2013,0,19,21]
["DEDUC","D3","S1","B3","G5",7,2013,0,27,29]
["DEDUC","D3","S1","B3","G5",8,2013,0,18,18]
["DEDUC","D3","S1","B3","G5",9,2013,0,16,17]
["DEDUC","D3","S1","B3","G5",10,2013,0,11,12]
["DEDUC","D3","S1","B3","G5",11,2013,0,8,8]
["DEDUC","D3","S1","B3","G5",12,2013,0,18,20]
["DEDUC","D3","S1","B3","G5",1,2014,0,4,4]
["DEDUC","D3","S1","B3","G5",2,2014,0,7,7]
["DEDUC","D3","S1","B3","G5",3,2014,0,10,11]
["DEDUC","D3","S1","B3","G5",4,2014,0,8,9]
["DEDUC","D3","S1","B3","G5",5,2014,0,14,14]
["DEDUC","D3","S1","B3","G5",6,2014,0,19,20]
["DEDUC","D3","S1","B3","G5",7,2014,0,17,18]
["DEDUC","D3","S1","B3","G5",8,2014,0,24,25]
["DEDUC","D3","S1","B3","G5",9,2014,0,19,20]
["DEDUC","D3","S1","B3","G5",10,2014,0,13,13]
["DEDUC","D3","S1","B3","G5",11,2014,0,8,9]
["DEDUC","D3","S1","B3","G5",12,2014,0,15,16]
["DEDUC","D3","S2","B1","G1",1,2013,0,40,39]
["DEDUC","D3","S2","B1","G1",2,2013,0,79,82]
["DEDUC","D3","S2","B1","G1",3,2013,0,132,136]
["DEDUC","D3","S2","B1","G1",4,2013,0,167,172]
["DEDUC","D3","S2","B1","G1",5,2013,0,182,203]
["DEDUC","D3","S2","B1","G1",6,2013,0,289,298]
["DEDUC","D3","S2","B1","G1",7,2013,0,267,270]
["DEDUC","D3","S2","B1","G1",8,2013,0,276,300]
["DEDUC","D3","S2","B1","G1",9,2013,0,238,243]
["DEDUC","D3","S2","B1","G1",10,2013,0,145,161]
["DEDUC","D3","S2","B1","G1",11,2013,0,96,100]
["DEDUC","D3","S2","B1","G1",12,2013,0,272,288]
["DEDUC","D3","S2","B1","G1",1,2014,0,40,42]
["DEDUC","D3","S2","B1","G1",2,2014,0,74,78]
["DEDUC","D3","S2","B1","G1",3,2014,0,121,130]
["DEDUC","D3","S2","B1","G1",4,2014,0,134,138]
["DEDUC","D3","S2","B1","G1",5,2014,0,206,217]
["DEDUC","D3","S2","B1","G1",6,2014,0,249,268]
["DEDUC","D3","S2","B1","G1",7,2014,0,262,276]
["DEDUC","D3","S2","B1","G1",8,2014,0,323,342]
["DEDUC","D3","S2","B1","G1",9,2014,0,261,266]
["DEDUC","D3","S2","B1","G1",10,2014,0,209,218]
["DEDUC","D3","S2","B1","G1",11,2014,0,105,107]
["DEDUC","D3","S2","B1","G1",12,2014,0,250,251]
["DEDUC","D3","S2","B1","G2",1,2013,0,58,59]
["DEDUC","D3","S2","B1","G2",2,2013,0,117,128]
["DEDUC","D3","S2","B1","G2",3,2013,0,151,160]
["DEDUC","D3","S2","B1","G2",4,2013,0,175,184]
["DEDUC","D3","S2","B1","G2",5,2013,0,230,242]
["DEDUC","D3","S2","B1","G2",6,2013,0,322,348]
["DEDUC","D3","S2","B1","G2",7,2013,0,466,513]
["DEDUC","D3","S2","B1","G2",8,2013,0,426,459]
["DEDUC","D3","S2","B1","G2",9,2013,0,291,308]
["DEDUC","D3","S2","B1","G2",10,2013,0,229,246]
["DEDUC","D3","S2","B1","G2",11,2013,0,133,142]
["DEDUC","D3","S2","B1","G2",12,2013,0,267,269]
["DEDUC","D3","S2","B1","G2",1,2014,0,42,45]
["DEDUC","D3","S2","B1","G2",2,2014,0,84,90]
["DEDUC","D3","S2","B1","G2",3,2014,0,132,145]
["DEDUC","D3","S2","B1","G2",4,2014,0,174,188]
["DEDUC","D3","S2","B1","G2",5,2014,0,292,285]
["DEDUC","D3","S2","B1","G2",6,2014,0,263,265]
["DEDUC","D3","S2","B1","G2",7,2014,0,412,410]
["DEDUC","D3","S2","B1","G2",8,2014,0,423,411]
["DEDUC","D3","S2","B1","G2",9,2014,0,267,275]
["DEDUC","D3","S2","B1","G2",10,2014,0,215,214]
["DEDUC","D3","S2","B1","G2",11,2014,0,113,125]
["DEDUC","D3","S2","B1","G2",12,2014,0,249,263]
["DEDUC","D3","S2","B1","G3",1,2013,0,33,35]
["DEDUC","D3","S2","B1","G3",2,2013,0,57,61]
["DEDUC","D3","S2","B1","G3",3,2013,0,113,111]
["DEDUC","D3","S2","B1","G3",4,2013,0,81,86]
["DEDUC","D3","S2","B1","G3",5,2013,0,202,219]
["DEDUC","D3","S2","B1","G3",6,2013,0,225,243]
["DEDUC","D3","S2","B1","G3",7,2013,0,211,222]
["DEDUC","D3","S2","B1","G3",8,2013,0,215,226]
["DEDUC","D3","S2","B1","G3",9,2013,0,190,203]
["DEDUC","D3","S2","B1","G3",10,2013,0,127,145]
["DEDUC","D3","S2","B1","G3",11,2013,0,73,80]
["DEDUC","D3","S2","B1","G3",12,2013,0,180,191]
["DEDUC","D3","S2","B1","G3",1,2014,0,47,49]
["DEDUC","D3","S2","B1","G3",2,2014,0,67,68]
["DEDUC","D3","S2","B1","G3",3,2014,0,104,114]
["DEDUC","D3","S2","B1","G3",4,2014,0,126,132]
["DEDUC","D3","S2","B1","G3",5,2014,0,189,198]
["DEDUC","D3","S2","B1","G3",6,2014,0,252,254]
["DEDUC","D3","S2","B1","G3",7,2014,0,237,230]
["DEDUC","D3","S2","B1","G3",8,2014,0,240,256]
["DEDUC","D3","S2","B1","G3",9,2014,0,211,226]
["DEDUC","D3","S2","B1","G3",10,2014,0,109,114]
["DEDUC","D3","S2","B1","G3",11,2014,0,74,83]
["DEDUC","D3","S2","B1","G3",12,2014,0,190,202]
["DEDUC","D3","S2","B1","G4",1,2013,0,27,29]
["DEDUC","D3","S2","B1","G4",2,2013,0,52,59]
["DEDUC","D3","S2","B1","G4",3,2013,0,63,73]
["DEDUC","D3","S2","B1","G4",4,2013,0,111,111]
["DEDUC","D3","S2","B1","G4",5,2013,0,104,104]
["DEDUC","D3","S2","B1","G4",6,2013,0,146,149]
["DEDUC","D3","S2","B1","G4",7,2013,0,187,198]
["DEDUC","D3","S2","B1","G4",8,2013,0,137,148]
["DEDUC","D3","S2","B1","G4",9,2013,0,118,119]
["DEDUC","D3","S2","B1","G4",10,2013,0,121,134]
["DEDUC","D3","S2","B1","G4",11,2013,0,58,59]
["DEDUC","D3","S2","B1","G4",12,2013,0,152,167]
["DEDUC","D3","S2","B1","G4",1,2014,0,33,33]
["DEDUC","D3","S2","B1","G4",2,2014,0,53,58]
["DEDUC","D3","S2","B1","G4",3,2014,0,89,93]
["DEDUC","D3","S2","B1","G4",4,2014,0,81,87]
["DEDUC","D3","S2","B1","G4",5,2014,0,106,111]
["DEDUC","D3","S2","B1","G4",6,2014,0,123,133]
["DEDUC","D3","S2","B1","G4",7,2014,0,233,258]
["DEDUC","D3","S2","B1","G4",8,2014,0,136,150]
["DEDUC","D3","S2","B1","G4",9,2014,0,121,128]
["DEDUC","D3","S2","B1","G4",10,2014,0,107,110]
["DEDUC","D3","S2","B1","G4",11,2014,0,66,70]
["DEDUC","D3","S2","B1","G4",12,2014,0,130,134]
["DEDUC","D3","S2","B1","G5",1,2013,0,30,32]
["DEDUC","D3","S2","B1","G5",2,2013,0,64,70]
["DEDUC","D3","S2","B1","G5",3,2013,0,91,99]
["DEDUC","D3","S2","B1","G5",4,2013,0,103,106]
["DEDUC","D3","S2","B1","G5",5,2013,0,158,160]
["DEDUC","D3","S2","B1","G5",6,2013,0,207,232]
["DEDUC","D3","S2","B1","G5",7,2013,0,212,214]
["DEDUC","D3","S2","B1","G5",8,2013,0,239,253]
["DEDUC","D3","S2","B1","G5",9,2013,0,209,209]
["DEDUC","D3","S2","B1","G5",10,2013,0,131,146]
["DEDUC","D3","S2","B1","G5",11,2013,0,76,76]
["DEDUC","D3","S2","B1","G5",12,2013,0,163,167]
["DEDUC","D3","S2","B1","G5",1,2014,0,40,41]
["DEDUC","D3","S2","B1","G5",2,2014,0,67,68]
["DEDUC","D3","S2","B1","G5",3,2014,0,101,99]
["DEDUC","D3","S2","B1","G5",4,2014,0,119,121]
["DEDUC","D3","S2","B1","G5",5,2014,0,172,177]
["DEDUC","D3","S2","B1","G5",6,2014,0,190,193]
["DEDUC","D3","S2","B1","G5",7,2014,0,284,277]
["DEDUC","D3","S2","B1","G5",8,2014,0,283,272]
["DEDUC","D3","S2","B1","G5",9,2014,0,163,170]
["DEDUC","D3","S2","B1","G5",10,2014,0,129,142]
["DEDUC","D3","S2","B1","G5",11,2014,0,67,73]
["DEDUC","D3","S2","B1","G5",12,2014,0,155,161]
["DEDUC","D3","S2","B2","G1",1,2013,0,9,9]
["DEDUC","D3","S2","B2","G1",2,2013,0,27,27]
["DEDUC","D3","S2","B2","G1",3,2013,0,32,34]
["DEDUC","D3","S2","B2","G1",4,2013,0,42,43]
["DEDUC","D3","S2","B2","G1",5,2013,0,66,67]
["DEDUC","D3","S2","B2","G1",6,2013,0,84,85]
["DEDUC","D3","S2","B2","G1",7,2013,0,72,75]
["DEDUC","D3","S2","B2","G1",8,2013,0,69,72]
["DEDUC","D3","S2","B2","G1",9,2013,0,51,58]
["DEDUC","D3","S2","B2","G1",10,2013,0,47,48]
["DEDUC","D3","S2","B2","G1",11,2013,0,26,25]
["DEDUC","D3","S2","B2","G1",12,2013,0,67,68]
["DEDUC","D3","S2","B2","G1",1,2014,0,14,15]
["DEDUC","D3","S2","B2","G1",2,2014,0,22,23]
["DEDUC","D3","S2","B2","G1",3,2014,0,31,32]
["DEDUC","D3","S2","B2","G1",4,2014,0,48,49]
["DEDUC","D3","S2","B2","G1",5,2014,0,62,64]
["DEDUC","D3","S2","B2","G1",6,2014,0,57,57]
["DEDUC","D3","S2","B2","G1",7,2014,0,80,90]
["DEDUC","D3","S2","B2","G1",8,2014,0,107,106]
["DEDUC","D3","S2","B2","G1",9,2014,0,67,64]
["DEDUC","D3","S2","B2","G1",10,2014,0,48,55]
["DEDUC","D3","S2","B2","G1",11,2014,0,29,29]
["DEDUC","D3","S2","B2","G1",12,2014,0,65,63]
["DEDUC","D3","S2","B2","G2",1,2013,0,13,13]
["DEDUC","D3","S2","B2","G2",2,2013,0,39,41]
["DEDUC","D3","S2","B2","G2",3,2013,0,51,53]
["DEDUC","D3","S2","B2","G2",4,2013,0,57,59]
["DEDUC","D3","S2","B2","G2",5,2013,0,83,85]
["DEDUC","D3","S2","B2","G2",6,2013,0,65,75]
["DEDUC","D3","S2","B2","G2",7,2013,0,140,147]
["DEDUC","D3","S2","B2","G2",8,2013,0,95,95]
["DEDUC","D3","S2","B2","G2",9,2013,0,74,84]
["DEDUC","D3","S2","B2","G2",10,2013,0,58,63]
["DEDUC","D3","S2","B2","G2",11,2013,0,34,36]
["DEDUC","D3","S2","B2","G2",12,2013,0,79,81]
["DEDUC","D3","S2","B2","G2",1,2014,0,14,14]
["DEDUC","D3","S2","B2","G2",2,2014,0,39,42]
["DEDUC","D3","S2","B2","G2",3,2014,0,50,52]
["DEDUC","D3","S2","B2","G2",4,2014,0,45,47]
["DEDUC","D3","S2","B2","G2",5,2014,0,64,65]
["DEDUC","D3","S2","B2","G2",6,2014,0,109,119]
["DEDUC","D3","S2","B2","G2",7,2014,0,101,106]
["DEDUC","D3","S2","B2","G2",8,2014,0,81,86]
["DEDUC","D3","S2","B2","G2",9,2014,0,101,105]
["DEDUC","D3","S2","B2","G2",10,2014,0,45,47]
["DEDUC","D3","S2","B2","G2",11,2014,0,38,39]
["DEDUC","D3","S2","B2","G2",12,2014,0,112,113]
["DEDUC","D3","S2","B2","G3",1,2013,0,8,8]
["DEDUC","D3","S2","B2","G3",2,2013,0,23,25]
["DEDUC","D3","S2","B2","G3",3,2013,0,21,22]
["DEDUC","D3","S2","B2","G3",4,2013,0,28,28]
["DEDUC","D3","S2","B2","G3",5,2013,0,43,49]
["DEDUC","D3","S2","B2","G3",6,2013,0,68,75]
["DEDUC","D3","S2","B2","G3",7,2013,0,60,64]
["DEDUC","D3","S2","B2","G3",8,2013,0,86,93]
["DEDUC","D3","S2","B2","G3",9,2013,0,53,57]
["DEDUC","D3","S2","B2","G3",10,2013,0,44,46]
["DEDUC","D3","S2","B2","G3",11,2013,0,26,28]
["DEDUC","D3","S2","B2","G3",12,2013,0,51,54]
["DEDUC","D3","S2","B2","G3",1,2014,0,11,12]
["DEDUC","D3","S2","B2","G3",2,2014,0,25,27]
["DEDUC","D3","S2","B2","G3",3,2014,0,27,29]
["DEDUC","D3","S2","B2","G3",4,2014,0,28,32]
["DEDUC","D3","S2","B2","G3",5,2014,0,43,45]
["DEDUC","D3","S2","B2","G3",6,2014,0,44,45]
["DEDUC","D3","S2","B2","G3",7,2014,0,61,69]
["DEDUC","D3","S2","B2","G3",8,2014,0,74,84]
["DEDUC","D3","S2","B2","G3",9,2014,0,47,49]
["DEDUC","D3","S2","B2","G3",10,2014,0,42,47]
["DEDUC","D3","S2","B2","G3",11,2014,0,23,23]
["DEDUC","D3","S2","B2","G3",12,2014,0,53,56]
["DEDUC","D3","S2","B2","G4",1,2013,0,8,7]
["DEDUC","D3","S2","B2","G4",2,2013,0,18,19]
["DEDUC","D3","S2","B2","G4",3,2013,0,17,17]
["DEDUC","D3","S2","B2","G4",4,2013,0,30,29]
["DEDUC","D3","S2","B2","G4",5,2013,0,26,27]
["DEDUC","D3","S2","B2","G4",6,2013,0,33,35]
["DEDUC","D3","S2","B2","G4",7,2013,0,46,45]
["DEDUC","D3","S2","B2","G4",8,2013,0,60,64]
["DEDUC","D3","S2","B2","G4",9,2013,0,42,42]
["DEDUC","D3","S2","B2","G4",10,2013,0,22,24]
["DEDUC","D3","S2","B2","G4",11,2013,0,15,15]
["DEDUC","D3","S2","B2","G4",12,2013,0,37,37]
["DEDUC","D3","S2","B2","G4",1,2014,0,6,7]
["DEDUC","D3","S2","B2","G4",2,2014,0,15,15]
["DEDUC","D3","S2","B2","G4",3,2014,0,22,25]
["DEDUC","D3","S2","B2","G4",4,2014,0,23,23]
["DEDUC","D3","S2","B2","G4",5,2014,0,38,41]
["DEDUC","D3","S2","B2","G4",6,2014,0,48,47]
["DEDUC","D3","S2","B2","G4",7,2014,0,45,46]
["DEDUC","D3","S2","B2","G4",8,2014,0,46,48]
["DEDUC","D3","S2","B2","G4",9,2014,0,37,36]
["DEDUC","D3","S2","B2","G4",10,2014,0,25,26]
["DEDUC","D3","S2","B2","G4",11,2014,0,17,17]
["DEDUC","D3","S2","B2","G4",12,2014,0,46,52]
["DEDUC","D3","S2","B2","G5",1,2013,0,8,9]
["DEDUC","D3","S2","B2","G5",2,2013,0,18,18]
["DEDUC","D3","S2","B2","G5",3,2013,0,22,23]
["DEDUC","D3","S2","B2","G5",4,2013,0,36,37]
["DEDUC","D3","S2","B2","G5",5,2013,0,51,54]
["DEDUC","D3","S2","B2","G5",6,2013,0,61,65]
["DEDUC","D3","S2","B2","G5",7,2013,0,78,82]
["DEDUC","D3","S2","B2","G5",8,2013,0,62,64]
["DEDUC","D3","S2","B2","G5",9,2013,0,37,38]
["DEDUC","D3","S2","B2","G5",10,2013,0,28,31]
["DEDUC","D3","S2","B2","G5",11,2013,0,19,19]
["DEDUC","D3","S2","B2","G5",12,2013,0,57,58]
["DEDUC","D3","S2","B2","G5",1,2014,0,10,11]
["DEDUC","D3","S2","B2","G5",2,2014,0,19,20]
["DEDUC","D3","S2","B2","G5",3,2014,0,27,27]
["DEDUC","D3","S2","B2","G5",4,2014,0,32,33]
["DEDUC","D3","S2","B2","G5",5,2014,0,39,42]
["DEDUC","D3","S2","B2","G5",6,2014,0,69,72]
["DEDUC","D3","S2","B2","G5",7,2014,0,64,65]
["DEDUC","D3","S2","B2","G5",8,2014,0,73,76]
["DEDUC","D3","S2","B2","G5",9,2014,0,47,52]
["DEDUC","D3","S2","B2","G5",10,2014,0,36,38]
["DEDUC","D3","S2","B2","G5",11,2014,0,22,22]
["DEDUC","D3","S2","B2","G5",12,2014,0,38,39]
["DEDUC","D3","S2","B3","G1",1,2013,0,8,8]
["DEDUC","D3","S2","B3","G1",2,2013,0,14,15]
["DEDUC","D3","S2","B3","G1",3,2013,0,18,18]
["DEDUC","D3","S2","B3","G1",4,2013,0,21,22]
["DEDUC","D3","S2","B3","G1",5,2013,0,29,31]
["DEDUC","D3","S2","B3","G1",6,2013,0,35,37]
["DEDUC","D3","S2","B3","G1",7,2013,0,39,41]
["DEDUC","D3","S2","B3","G1",8,2013,0,40,42]
["DEDUC","D3","S2","B3","G1",9,2013,0,28,29]
["DEDUC","D3","S2","B3","G1",10,2013,0,32,32]
["DEDUC","D3","S2","B3","G1",11,2013,0,17,18]
["DEDUC","D3","S2","B3","G1",12,2013,0,30,32]
["DEDUC","D3","S2","B3","G1",1,2014,0,7,6]
["DEDUC","D3","S2","B3","G1",2,2014,0,13,14]
["DEDUC","D3","S2","B3","G1",3,2014,0,19,20]
["DEDUC","D3","S2","B3","G1",4,2014,0,23,24]
["DEDUC","D3","S2","B3","G1",5,2014,0,30,32]
["DEDUC","D3","S2","B3","G1",6,2014,0,42,43]
["DEDUC","D3","S2","B3","G1",7,2014,0,60,61]
["DEDUC","D3","S2","B3","G1",8,2014,0,46,47]
["DEDUC","D3","S2","B3","G1",9,2014,0,30,33]
["DEDUC","D3","S2","B3","G1",10,2014,0,25,28]
["DEDUC","D3","S2","B3","G1",11,2014,0,14,14]
["DEDUC","D3","S2","B3","G1",12,2014,0,32,34]
["DEDUC","D3","S2","B3","G2",1,2013,0,8,8]
["DEDUC","D3","S2","B3","G2",2,2013,0,17,16]
["DEDUC","D3","S2","B3","G2",3,2013,0,22,23]
["DEDUC","D3","S2","B3","G2",4,2013,0,27,31]
["DEDUC","D3","S2","B3","G2",5,2013,0,34,36]
["DEDUC","D3","S2","B3","G2",6,2013,0,39,45]
["DEDUC","D3","S2","B3","G2",7,2013,0,59,61]
["DEDUC","D3","S2","B3","G2",8,2013,0,54,58]
["DEDUC","D3","S2","B3","G2",9,2013,0,42,43]
["DEDUC","D3","S2","B3","G2",10,2013,0,34,34]
["DEDUC","D3","S2","B3","G2",11,2013,0,18,18]
["DEDUC","D3","S2","B3","G2",12,2013,0,42,46]
["DEDUC","D3","S2","B3","G2",1,2014,0,9,9]
["DEDUC","D3","S2","B3","G2",2,2014,0,17,17]
["DEDUC","D3","S2","B3","G2",3,2014,0,22,23]
["DEDUC","D3","S2","B3","G2",4,2014,0,26,29]
["DEDUC","D3","S2","B3","G2",5,2014,0,43,43]
["DEDUC","D3","S2","B3","G2",6,2014,0,44,44]
["DEDUC","D3","S2","B3","G2",7,2014,0,52,55]
["DEDUC","D3","S2","B3","G2",8,2014,0,59,59]
["DEDUC","D3","S2","B3","G2",9,2014,0,45,50]
["DEDUC","D3","S2","B3","G2",10,2014,0,31,33]
["DEDUC","D3","S2","B3","G2",11,2014,0,17,17]
["DEDUC","D3","S2","B3","G2",12,2014,0,47,52]
["DEDUC","D3","S2","B3","G3",1,2013,0,6,6]
["DEDUC","D3","S2","B3","G3",2,2013,0,10,11]
["DEDUC","D3","S2","B3","G3",3,2013,0,16,16]
["DEDUC","D3","S2","B3","G3",4,2013,0,17,19]
["DEDUC","D3","S2","B3","G3",5,2013,0,22,23]
["DEDUC","D3","S2","B3","G3",6,2013,0,27,28]
["DEDUC","D3","S2","B3","G3",7,2013,0,41,45]
["DEDUC","D3","S2","B3","G3",8,2013,0,31,35]
["DEDUC","D3","S2","B3","G3",9,2013,0,21,22]
["DEDUC","D3","S2","B3","G3",10,2013,0,15,17]
["DEDUC","D3","S2","B3","G3",11,2013,0,11,11]
["DEDUC","D3","S2","B3","G3",12,2013,0,27,27]
["DEDUC","D3","S2","B3","G3",1,2014,0,5,6]
["DEDUC","D3","S2","B3","G3",2,2014,0,11,12]
["DEDUC","D3","S2","B3","G3",3,2014,0,14,14]
["DEDUC","D3","S2","B3","G3",4,2014,0,19,20]
["DEDUC","D3","S2","B3","G3",5,2014,0,21,22]
["DEDUC","D3","S2","B3","G3",6,2014,0,26,26]
["DEDUC","D3","S2","B3","G3",7,2014,0,33,35]
["DEDUC","D3","S2","B3","G3",8,2014,0,30,31]
["DEDUC","D3","S2","B3","G3",9,2014,0,30,31]
["DEDUC","D3","S2","B3","G3",10,2014,0,21,21]
["DEDUC","D3","S2","B3","G3",11,2014,0,16,17]
["DEDUC","D3","S2","B3","G3",12,2014,0,30,31]
["DEDUC","D3","S2","B3","G4",1,2013,0,4,4]
["DEDUC","D3","S2","B3","G4",2,2013,0,7,7]
["DEDUC","D3","S2","B3","G4",3,2013,0,8,8]
["DEDUC","D3","S2","B3","G4",4,2013,0,15,15]
["DEDUC","D3","S2","B3","G4",5,2013,0,14,15]
["DEDUC","D3","S2","B3","G4",6,2013,0,20,21]
["DEDUC","D3","S2","B3","G4",7,2013,0,24,25]
["DEDUC","D3","S2","B3","G4",8,2013,0,28,31]
["DEDUC","D3","S2","B3","G4",9,2013,0,18,20]
["DEDUC","D3","S2","B3","G4",10,2013,0,13,14]
["DEDUC","D3","S2","B3","G4",11,2013,0,8,9]
["DEDUC","D3","S2","B3","G4",12,2013,0,18,19]
["DEDUC","D3","S2","B3","G4",1,2014,0,4,4]
["DEDUC","D3","S2","B3","G4",2,2014,0,7,7]
["DEDUC","D3","S2","B3","G4",3,2014,0,12,13]
["DEDUC","D3","S2","B3","G4",4,2014,0,17,18]
["DEDUC","D3","S2","B3","G4",5,2014,0,15,15]
["DEDUC","D3","S2","B3","G4",6,2014,0,24,27]
["DEDUC","D3","S2","B3","G4",7,2014,0,29,29]
["DEDUC","D3","S2","B3","G4",8,2014,0,26,29]
["DEDUC","D3","S2","B3","G4",9,2014,0,22,22]
["DEDUC","D3","S2","B3","G4",10,2014,0,15,16]
["DEDUC","D3","S2","B3","G4",11,2014,0,10,10]
["DEDUC","D3","S2","B3","G4",12,2014,0,18,20]
["DEDUC","D3","S2","B3","G5",1,2013,0,5,5]
["DEDUC","D3","S2","B3","G5",2,2013,0,9,9]
["DEDUC","D3","S2","B3","G5",3,2013,0,15,16]
["DEDUC","D3","S2","B3","G5",4,2013,0,16,17]
["DEDUC","D3","S2","B3","G5",5,2013,0,23,24]
["DEDUC","D3","S2","B3","G5",6,2013,0,28,27]
["DEDUC","D3","S2","B3","G5",7,2013,0,34,36]
["DEDUC","D3","S2","B3","G5",8,2013,0,26,29]
["DEDUC","D3","S2","B3","G5",9,2013,0,19,21]
["DEDUC","D3","S2","B3","G5",10,2013,0,23,22]
["DEDUC","D3","S2","B3","G5",11,2013,0,10,10]
["DEDUC","D3","S2","B3","G5",12,2013,0,19,20]
["DEDUC","D3","S2","B3","G5",1,2014,0,4,5]
["DEDUC","D3","S2","B3","G5",2,2014,0,10,10]
["DEDUC","D3","S2","B3","G5",3,2014,0,14,14]
["DEDUC","D3","S2","B3","G5",4,2014,0,17,18]
["DEDUC","D3","S2","B3","G5",5,2014,0,21,22]
["DEDUC","D3","S2","B3","G5",6,2014,0,29,33]
["DEDUC","D3","S2","B3","G5",7,2014,0,40,41]
["DEDUC","D3","S2","B3","G5",8,2014,0,28,30]
["DEDUC","D3","S2","B3","G5",9,2014,0,23,25]
["DEDUC","D3","S2","B3","G5",10,2014,0,19,19]
["DEDUC","D3","S2","B3","G5",11,2014,0,11,11]
["DEDUC","D3","S2","B3","G5",12,2014,0,25,25]
["DEDUC","D4","S1","B1","G1",1,2013,0,15,17]
["DEDUC","D4","S1","B1","G1",2,2013,0,41,46]
["DEDUC","D4","S1","B1","G1",3,2013,0,53,54]
["DEDUC","D4","S1","B1","G1",4,2013,0,63,69]
["DEDUC","D4","S1","B1","G1",5,2013,0,63,66]
["DEDUC","D4","S1","B1","G1",6,2013,0,101,102]
["DEDUC","D4","S1","B1","G1",7,2013,0,125,135]
["DEDUC","D4","S1","B1","G1",8,2013,0,131,145]
["DEDUC","D4","S1","B1","G1",9,2013,0,70,69]
["DEDUC","D4","S1","B1","G1",10,2013,0,62,60]
["DEDUC","D4","S1","B1","G1",11,2013,0,50,54]
["DEDUC","D4","S1","B1","G1",12,2013,0,84,87]
["DEDUC","D4","S1","B1","G1",1,2014,0,19,20]
["DEDUC","D4","S1","B1","G1",2,2014,0,40,44]
["DEDUC","D4","S1","B1","G1",3,2014,0,48,53]
["DEDUC","D4","S1","B1","G1",4,2014,0,84,85]
["DEDUC","D4","S1","B1","G1",5,2014,0,88,94]
["DEDUC","D4","S1","B1","G1",6,2014,0,120,130]
["DEDUC","D4","S1","B1","G1",7,2014,0,120,120]
["DEDUC","D4","S1","B1","G1",8,2014,0,177,178]
["DEDUC","D4","S1","B1","G1",9,2014,0,104,115]
["DEDUC","D4","S1","B1","G1",10,2014,0,63,69]
["DEDUC","D4","S1","B1","G1",11,2014,0,47,52]
["DEDUC","D4","S1","B1","G1",12,2014,0,86,88]
["DEDUC","D4","S1","B1","G2",1,2013,0,18,19]
["DEDUC","D4","S1","B1","G2",2,2013,0,51,54]
["DEDUC","D4","S1","B1","G2",3,2013,0,83,87]
["DEDUC","D4","S1","B1","G2",4,2013,0,51,52]
["DEDUC","D4","S1","B1","G2",5,2013,0,116,125]
["DEDUC","D4","S1","B1","G2",6,2013,0,109,119]
["DEDUC","D4","S1","B1","G2",7,2013,0,150,164]
["DEDUC","D4","S1","B1","G2",8,2013,0,131,130]
["DEDUC","D4","S1","B1","G2",9,2013,0,116,117]
["DEDUC","D4","S1","B1","G2",10,2013,0,97,100]
["DEDUC","D4","S1","B1","G2",11,2013,0,70,72]
["DEDUC","D4","S1","B1","G2",12,2013,0,134,146]
["DEDUC","D4","S1","B1","G2",1,2014,0,21,23]
["DEDUC","D4","S1","B1","G2",2,2014,0,35,36]
["DEDUC","D4","S1","B1","G2",3,2014,0,68,71]
["DEDUC","D4","S1","B1","G2",4,2014,0,68,70]
["DEDUC","D4","S1","B1","G2",5,2014,0,82,93]
["DEDUC","D4","S1","B1","G2",6,2014,0,127,123]
["DEDUC","D4","S1","B1","G2",7,2014,0,139,142]
["DEDUC","D4","S1","B1","G2",8,2014,0,210,222]
["DEDUC","D4","S1","B1","G2",9,2014,0,101,102]
["DEDUC","D4","S1","B1","G2",10,2014,0,101,112]
["DEDUC","D4","S1","B1","G2",11,2014,0,51,49]
["DEDUC","D4","S1","B1","G2",12,2014,0,105,104]
["DEDUC","D4","S1","B1","G3",1,2013,0,16,17]
["DEDUC","D4","S1","B1","G3",2,2013,0,29,30]
["DEDUC","D4","S1","B1","G3",3,2013,0,31,34]
["DEDUC","D4","S1","B1","G3",4,2013,0,47,49]
["DEDUC","D4","S1","B1","G3",5,2013,0,61,64]
["DEDUC","D4","S1","B1","G3",6,2013,0,50,54]
["DEDUC","D4","S1","B1","G3",7,2013,0,77,79]
["DEDUC","D4","S1","B1","G3",8,2013,0,92,100]
["DEDUC","D4","S1","B1","G3",9,2013,0,66,70]
["DEDUC","D4","S1","B1","G3",10,2013,0,50,52]
["DEDUC","D4","S1","B1","G3",11,2013,0,32,34]
["DEDUC","D4","S1","B1","G3",12,2013,0,64,69]
["DEDUC","D4","S1","B1","G3",1,2014,0,19,20]
["DEDUC","D4","S1","B1","G3",2,2014,0,35,39]
["DEDUC","D4","S1","B1","G3",3,2014,0,47,49]
["DEDUC","D4","S1","B1","G3",4,2014,0,44,46]
["DEDUC","D4","S1","B1","G3",5,2014,0,97,107]
["DEDUC","D4","S1","B1","G3",6,2014,0,85,93]
["DEDUC","D4","S1","B1","G3",7,2014,0,100,97]
["DEDUC","D4","S1","B1","G3",8,2014,0,97,99]
["DEDUC","D4","S1","B1","G3",9,2014,0,76,81]
["DEDUC","D4","S1","B1","G3",10,2014,0,47,49]
["DEDUC","D4","S1","B1","G3",11,2014,0,36,39]
["DEDUC","D4","S1","B1","G3",12,2014,0,63,69]
["DEDUC","D4","S1","B1","G4",1,2013,0,8,8]
["DEDUC","D4","S1","B1","G4",2,2013,0,19,19]
["DEDUC","D4","S1","B1","G4",3,2013,0,31,31]
["DEDUC","D4","S1","B1","G4",4,2013,0,53,55]
["DEDUC","D4","S1","B1","G4",5,2013,0,54,57]
["DEDUC","D4","S1","B1","G4",6,2013,0,39,41]
["DEDUC","D4","S1","B1","G4",7,2013,0,74,73]
["DEDUC","D4","S1","B1","G4",8,2013,0,66,65]
["DEDUC","D4","S1","B1","G4",9,2013,0,51,59]
["DEDUC","D4","S1","B1","G4",10,2013,0,42,43]
["DEDUC","D4","S1","B1","G4",11,2013,0,30,29]
["DEDUC","D4","S1","B1","G4",12,2013,0,44,44]
["DEDUC","D4","S1","B1","G4",1,2014,0,8,9]
["DEDUC","D4","S1","B1","G4",2,2014,0,24,25]
["DEDUC","D4","S1","B1","G4",3,2014,0,35,37]
["DEDUC","D4","S1","B1","G4",4,2014,0,53,53]
["DEDUC","D4","S1","B1","G4",5,2014,0,33,34]
["DEDUC","D4","S1","B1","G4",6,2014,0,52,52]
["DEDUC","D4","S1","B1","G4",7,2014,0,76,86]
["DEDUC","D4","S1","B1","G4",8,2014,0,47,47]
["DEDUC","D4","S1","B1","G4",9,2014,0,61,68]
["DEDUC","D4","S1","B1","G4",10,2014,0,39,42]
["DEDUC","D4","S1","B1","G4",11,2014,0,17,16]
["DEDUC","D4","S1","B1","G4",12,2014,0,50,52]
["DEDUC","D4","S1","B1","G5",1,2013,0,11,11]
["DEDUC","D4","S1","B1","G5",2,2013,0,19,21]
["DEDUC","D4","S1","B1","G5",3,2013,0,27,29]
["DEDUC","D4","S1","B1","G5",4,2013,0,46,49]
["DEDUC","D4","S1","B1","G5",5,2013,0,53,53]
["DEDUC","D4","S1","B1","G5",6,2013,0,82,83]
["DEDUC","D4","S1","B1","G5",7,2013,0,87,86]
["DEDUC","D4","S1","B1","G5",8,2013,0,87,91]
["DEDUC","D4","S1","B1","G5",9,2013,0,74,73]
["DEDUC","D4","S1","B1","G5",10,2013,0,46,49]
["DEDUC","D4","S1","B1","G5",11,2013,0,40,39]
["DEDUC","D4","S1","B1","G5",12,2013,0,61,68]
["DEDUC","D4","S1","B1","G5",1,2014,0,10,10]
["DEDUC","D4","S1","B1","G5",2,2014,0,23,24]
["DEDUC","D4","S1","B1","G5",3,2014,0,31,31]
["DEDUC","D4","S1","B1","G5",4,2014,0,36,37]
["DEDUC","D4","S1","B1","G5",5,2014,0,53,55]
["DEDUC","D4","S1","B1","G5",6,2014,0,63,64]
["DEDUC","D4","S1","B1","G5",7,2014,0,106,113]
["DEDUC","D4","S1","B1","G5",8,2014,0,98,102]
["DEDUC","D4","S1","B1","G5",9,2014,0,77,76]
["DEDUC","D4","S1","B1","G5",10,2014,0,70,78]
["DEDUC","D4","S1","B1","G5",11,2014,0,30,32]
["DEDUC","D4","S1","B1","G5",12,2014,0,90,91]
["DEDUC","D4","S1","B2","G1",1,2013,0,4,4]
["DEDUC","D4","S1","B2","G1",2,2013,0,10,10]
["DEDUC","D4","S1","B2","G1",3,2013,0,17,18]
["DEDUC","D4","S1","B2","G1",4,2013,0,15,16]
["DEDUC","D4","S1","B2","G1",5,2013,0,16,17]
["DEDUC","D4","S1","B2","G1",6,2013,0,25,25]
["DEDUC","D4","S1","B2","G1",7,2013,0,34,38]
["DEDUC","D4","S1","B2","G1",8,2013,0,30,31]
["DEDUC","D4","S1","B2","G1",9,2013,0,21,22]
["DEDUC","D4","S1","B2","G1",10,2013,0,26,26]
["DEDUC","D4","S1","B2","G1",11,2013,0,10,10]
["DEDUC","D4","S1","B2","G1",12,2013,0,40,39]
["DEDUC","D4","S1","B2","G1",1,2014,0,6,7]
["DEDUC","D4","S1","B2","G1",2,2014,0,9,9]
["DEDUC","D4","S1","B2","G1",3,2014,0,12,13]
["DEDUC","D4","S1","B2","G1",4,2014,0,13,13]
["DEDUC","D4","S1","B2","G1",5,2014,0,29,33]
["DEDUC","D4","S1","B2","G1",6,2014,0,26,28]
["DEDUC","D4","S1","B2","G1",7,2014,0,26,27]
["DEDUC","D4","S1","B2","G1",8,2014,0,31,33]
["DEDUC","D4","S1","B2","G1",9,2014,0,29,29]
["DEDUC","D4","S1","B2","G1",10,2014,0,18,19]
["DEDUC","D4","S1","B2","G1",11,2014,0,16,16]
["DEDUC","D4","S1","B2","G1",12,2014,0,21,21]
["DEDUC","D4","S1","B2","G2",1,2013,0,7,7]
["DEDUC","D4","S1","B2","G2",2,2013,0,11,12]
["DEDUC","D4","S1","B2","G2",3,2013,0,25,27]
["DEDUC","D4","S1","B2","G2",4,2013,0,37,40]
["DEDUC","D4","S1","B2","G2",5,2013,0,31,32]
["DEDUC","D4","S1","B2","G2",6,2013,0,36,40]
["DEDUC","D4","S1","B2","G2",7,2013,0,46,47]
["DEDUC","D4","S1","B2","G2",8,2013,0,39,39]
["DEDUC","D4","S1","B2","G2",9,2013,0,24,25]
["DEDUC","D4","S1","B2","G2",10,2013,0,36,40]
["DEDUC","D4","S1","B2","G2",11,2013,0,15,16]
["DEDUC","D4","S1","B2","G2",12,2013,0,28,29]
["DEDUC","D4","S1","B2","G2",1,2014,0,6,6]
["DEDUC","D4","S1","B2","G2",2,2014,0,11,12]
["DEDUC","D4","S1","B2","G2",3,2014,0,22,22]
["DEDUC","D4","S1","B2","G2",4,2014,0,22,23]
["DEDUC","D4","S1","B2","G2",5,2014,0,31,32]
["DEDUC","D4","S1","B2","G2",6,2014,0,39,43]
["DEDUC","D4","S1","B2","G2",7,2014,0,54,60]
["DEDUC","D4","S1","B2","G2",8,2014,0,47,48]
["DEDUC","D4","S1","B2","G2",9,2014,0,36,38]
["DEDUC","D4","S1","B2","G2",10,2014,0,22,23]
["DEDUC","D4","S1","B2","G2",11,2014,0,17,18]
["DEDUC","D4","S1","B2","G2",12,2014,0,33,33]
["DEDUC","D4","S1","B2","G3",1,2013,0,3,4]
["DEDUC","D4","S1","B2","G3",2,2013,0,8,9]
["DEDUC","D4","S1","B2","G3",3,2013,0,11,12]
["DEDUC","D4","S1","B2","G3",4,2013,0,10,11]
["DEDUC","D4","S1","B2","G3",5,2013,0,20,20]
["DEDUC","D4","S1","B2","G3",6,2013,0,33,35]
["DEDUC","D4","S1","B2","G3",7,2013,0,24,24]
["DEDUC","D4","S1","B2","G3",8,2013,0,21,23]
["DEDUC","D4","S1","B2","G3",9,2013,0,17,17]
["DEDUC","D4","S1","B2","G3",10,2013,0,19,20]
["DEDUC","D4","S1","B2","G3",11,2013,0,8,8]
["DEDUC","D4","S1","B2","G3",12,2013,0,22,24]
["DEDUC","D4","S1","B2","G3",1,2014,0,4,4]
["DEDUC","D4","S1","B2","G3",2,2014,0,7,7]
["DEDUC","D4","S1","B2","G3",3,2014,0,12,12]
["DEDUC","D4","S1","B2","G3",4,2014,0,15,16]
["DEDUC","D4","S1","B2","G3",5,2014,0,22,24]
["DEDUC","D4","S1","B2","G3",6,2014,0,21,22]
["DEDUC","D4","S1","B2","G3",7,2014,0,25,26]
["DEDUC","D4","S1","B2","G3",8,2014,0,25,28]
["DEDUC","D4","S1","B2","G3",9,2014,0,24,27]
["DEDUC","D4","S1","B2","G3",10,2014,0,13,13]
["DEDUC","D4","S1","B2","G3",11,2014,0,11,12]
["DEDUC","D4","S1","B2","G3",12,2014,0,25,26]
["DEDUC","D4","S1","B2","G4",1,2013,0,3,3]
["DEDUC","D4","S1","B2","G4",2,2013,0,6,6]
["DEDUC","D4","S1","B2","G4",3,2013,0,9,9]
["DEDUC","D4","S1","B2","G4",4,2013,0,8,8]
["DEDUC","D4","S1","B2","G4",5,2013,0,15,15]
["DEDUC","D4","S1","B2","G4",6,2013,0,18,20]
["DEDUC","D4","S1","B2","G4",7,2013,0,18,20]
["DEDUC","D4","S1","B2","G4",8,2013,0,14,15]
["DEDUC","D4","S1","B2","G4",9,2013,0,19,20]
["DEDUC","D4","S1","B2","G4",10,2013,0,15,15]
["DEDUC","D4","S1","B2","G4",11,2013,0,7,7]
["DEDUC","D4","S1","B2","G4",12,2013,0,14,14]
["DEDUC","D4","S1","B2","G4",1,2014,0,4,4]
["DEDUC","D4","S1","B2","G4",2,2014,0,5,5]
["DEDUC","D4","S1","B2","G4",3,2014,0,7,7]
["DEDUC","D4","S1","B2","G4",4,2014,0,11,12]
["DEDUC","D4","S1","B2","G4",5,2014,0,14,16]
["DEDUC","D4","S1","B2","G4",6,2014,0,16,16]
["DEDUC","D4","S1","B2","G4",7,2014,0,19,20]
["DEDUC","D4","S1","B2","G4",8,2014,0,22,24]
["DEDUC","D4","S1","B2","G4",9,2014,0,16,17]
["DEDUC","D4","S1","B2","G4",10,2014,0,11,11]
["DEDUC","D4","S1","B2","G4",11,2014,0,7,7]
["DEDUC","D4","S1","B2","G4",12,2014,0,20,21]
["DEDUC","D4","S1","B2","G5",1,2013,0,5,5]
["DEDUC","D4","S1","B2","G5",2,2013,0,8,9]
["DEDUC","D4","S1","B2","G5",3,2013,0,14,16]
["DEDUC","D4","S1","B2","G5",4,2013,0,14,15]
["DEDUC","D4","S1","B2","G5",5,2013,0,19,20]
["DEDUC","D4","S1","B2","G5",6,2013,0,27,29]
["DEDUC","D4","S1","B2","G5",7,2013,0,41,46]
["DEDUC","D4","S1","B2","G5",8,2013,0,32,33]
["DEDUC","D4","S1","B2","G5",9,2013,0,27,28]
["DEDUC","D4","S1","B2","G5",10,2013,0,15,15]
["DEDUC","D4","S1","B2","G5",11,2013,0,10,11]
["DEDUC","D4","S1","B2","G5",12,2013,0,26,28]
["DEDUC","D4","S1","B2","G5",1,2014,0,5,5]
["DEDUC","D4","S1","B2","G5",2,2014,0,8,9]
["DEDUC","D4","S1","B2","G5",3,2014,0,10,11]
["DEDUC","D4","S1","B2","G5",4,2014,0,14,14]
["DEDUC","D4","S1","B2","G5",5,2014,0,14,14]
["DEDUC","D4","S1","B2","G5",6,2014,0,24,25]
["DEDUC","D4","S1","B2","G5",7,2014,0,35,36]
["DEDUC","D4","S1","B2","G5",8,2014,0,28,30]
["DEDUC","D4","S1","B2","G5",9,2014,0,17,18]
["DEDUC","D4","S1","B2","G5",10,2014,0,15,16]
["DEDUC","D4","S1","B2","G5",11,2014,0,10,11]
["DEDUC","D4","S1","B2","G5",12,2014,0,15,15]
["DEDUC","D4","S1","B3","G1",1,2013,0,3,3]
["DEDUC","D4","S1","B3","G1",2,2013,0,7,7]
["DEDUC","D4","S1","B3","G1",3,2013,0,7,7]
["DEDUC","D4","S1","B3","G1",4,2013,0,8,8]
["DEDUC","D4","S1","B3","G1",5,2013,0,10,11]
["DEDUC","D4","S1","B3","G1",6,2013,0,12,14]
["DEDUC","D4","S1","B3","G1",7,2013,0,19,19]
["DEDUC","D4","S1","B3","G1",8,2013,0,19,19]
["DEDUC","D4","S1","B3","G1",9,2013,0,13,15]
["DEDUC","D4","S1","B3","G1",10,2013,0,10,11]
["DEDUC","D4","S1","B3","G1",11,2013,0,8,8]
["DEDUC","D4","S1","B3","G1",12,2013,0,11,13]
["DEDUC","D4","S1","B3","G1",1,2014,0,3,3]
["DEDUC","D4","S1","B3","G1",2,2014,0,7,7]
["DEDUC","D4","S1","B3","G1",3,2014,0,6,7]
["DEDUC","D4","S1","B3","G1",4,2014,0,10,11]
["DEDUC","D4","S1","B3","G1",5,2014,0,14,15]
["DEDUC","D4","S1","B3","G1",6,2014,0,16,17]
["DEDUC","D4","S1","B3","G1",7,2014,0,18,20]
["DEDUC","D4","S1","B3","G1",8,2014,0,22,22]
["DEDUC","D4","S1","B3","G1",9,2014,0,15,15]
["DEDUC","D4","S1","B3","G1",10,2014,0,8,9]
["DEDUC","D4","S1","B3","G1",11,2014,0,7,8]
["DEDUC","D4","S1","B3","G1",12,2014,0,14,15]
["DEDUC","D4","S1","B3","G2",1,2013,0,4,4]
["DEDUC","D4","S1","B3","G2",2,2013,0,9,9]
["DEDUC","D4","S1","B3","G2",3,2013,0,11,11]
["DEDUC","D4","S1","B3","G2",4,2013,0,10,9]
["DEDUC","D4","S1","B3","G2",5,2013,0,13,14]
["DEDUC","D4","S1","B3","G2",6,2013,0,14,14]
["DEDUC","D4","S1","B3","G2",7,2013,0,26,25]
["DEDUC","D4","S1","B3","G2",8,2013,0,19,21]
["DEDUC","D4","S1","B3","G2",9,2013,0,17,18]
["DEDUC","D4","S1","B3","G2",10,2013,0,14,14]
["DEDUC","D4","S1","B3","G2",11,2013,0,7,7]
["DEDUC","D4","S1","B3","G2",12,2013,0,20,20]
["DEDUC","D4","S1","B3","G2",1,2014,0,3,3]
["DEDUC","D4","S1","B3","G2",2,2014,0,8,7]
["DEDUC","D4","S1","B3","G2",3,2014,0,9,10]
["DEDUC","D4","S1","B3","G2",4,2014,0,13,13]
["DEDUC","D4","S1","B3","G2",5,2014,0,16,16]
["DEDUC","D4","S1","B3","G2",6,2014,0,22,22]
["DEDUC","D4","S1","B3","G2",7,2014,0,17,19]
["DEDUC","D4","S1","B3","G2",8,2014,0,31,32]
["DEDUC","D4","S1","B3","G2",9,2014,0,18,19]
["DEDUC","D4","S1","B3","G2",10,2014,0,13,15]
["DEDUC","D4","S1","B3","G2",11,2014,0,9,10]
["DEDUC","D4","S1","B3","G2",12,2014,0,11,12]
["DEDUC","D4","S1","B3","G3",1,2013,0,3,3]
["DEDUC","D4","S1","B3","G3",2,2013,0,4,4]
["DEDUC","D4","S1","B3","G3",3,2013,0,7,7]
["DEDUC","D4","S1","B3","G3",4,2013,0,10,10]
["DEDUC","D4","S1","B3","G3",5,2013,0,10,10]
["DEDUC","D4","S1","B3","G3",6,2013,0,13,14]
["DEDUC","D4","S1","B3","G3",7,2013,0,17,18]
["DEDUC","D4","S1","B3","G3",8,2013,0,14,16]
["DEDUC","D4","S1","B3","G3",9,2013,0,12,12]
["DEDUC","D4","S1","B3","G3",10,2013,0,10,11]
["DEDUC","D4","S1","B3","G3",11,2013,0,5,6]
["DEDUC","D4","S1","B3","G3",12,2013,0,12,13]
["DEDUC","D4","S1","B3","G3",1,2014,0,3,3]
["DEDUC","D4","S1","B3","G3",2,2014,0,5,5]
["DEDUC","D4","S1","B3","G3",3,2014,0,6,6]
["DEDUC","D4","S1","B3","G3",4,2014,0,6,7]
["DEDUC","D4","S1","B3","G3",5,2014,0,12,13]
["DEDUC","D4","S1","B3","G3",6,2014,0,14,14]
["DEDUC","D4","S1","B3","G3",7,2014,0,16,17]
["DEDUC","D4","S1","B3","G3",8,2014,0,18,20]
["DEDUC","D4","S1","B3","G3",9,2014,0,12,13]
["DEDUC","D4","S1","B3","G3",10,2014,0,7,7]
["DEDUC","D4","S1","B3","G3",11,2014,0,6,6]
["DEDUC","D4","S1","B3","G3",12,2014,0,12,13]
["DEDUC","D4","S1","B3","G4",1,2013,0,2,2]
["DEDUC","D4","S1","B3","G4",2,2013,0,3,3]
["DEDUC","D4","S1","B3","G4",3,2013,0,4,4]
["DEDUC","D4","S1","B3","G4",4,2013,0,4,4]
["DEDUC","D4","S1","B3","G4",5,2013,0,7,7]
["DEDUC","D4","S1","B3","G4",6,2013,0,7,7]
["DEDUC","D4","S1","B3","G4",7,2013,0,11,11]
["DEDUC","D4","S1","B3","G4",8,2013,0,12,14]
["DEDUC","D4","S1","B3","G4",9,2013,0,7,8]
["DEDUC","D4","S1","B3","G4",10,2013,0,6,6]
["DEDUC","D4","S1","B3","G4",11,2013,0,3,3]
["DEDUC","D4","S1","B3","G4",12,2013,0,7,8]
["DEDUC","D4","S1","B3","G4",1,2014,0,2,2]
["DEDUC","D4","S1","B3","G4",2,2014,0,2,3]
["DEDUC","D4","S1","B3","G4",3,2014,0,5,6]
["DEDUC","D4","S1","B3","G4",4,2014,0,5,6]
["DEDUC","D4","S1","B3","G4",5,2014,0,9,9]
["DEDUC","D4","S1","B3","G4",6,2014,0,9,8]
["DEDUC","D4","S1","B3","G4",7,2014,0,12,12]
["DEDUC","D4","S1","B3","G4",8,2014,0,11,13]
["DEDUC","D4","S1","B3","G4",9,2014,0,9,9]
["DEDUC","D4","S1","B3","G4",10,2014,0,7,7]
["DEDUC","D4","S1","B3","G4",11,2014,0,3,3]
["DEDUC","D4","S1","B3","G4",12,2014,0,9,9]
["DEDUC","D4","S1","B3","G5",1,2013,0,2,2]
["DEDUC","D4","S1","B3","G5",2,2013,0,5,5]
["DEDUC","D4","S1","B3","G5",3,2013,0,7,7]
["DEDUC","D4","S1","B3","G5",4,2013,0,9,9]
["DEDUC","D4","S1","B3","G5",5,2013,0,8,9]
["DEDUC","D4","S1","B3","G5",6,2013,0,13,14]
["DEDUC","D4","S1","B3","G5",7,2013,0,18,19]
["DEDUC","D4","S1","B3","G5",8,2013,0,11,12]
["DEDUC","D4","S1","B3","G5",9,2013,0,9,10]
["DEDUC","D4","S1","B3","G5",10,2013,0,10,10]
["DEDUC","D4","S1","B3","G5",11,2013,0,6,6]
["DEDUC","D4","S1","B3","G5",12,2013,0,12,12]
["DEDUC","D4","S1","B3","G5",1,2014,0,3,3]
["DEDUC","D4","S1","B3","G5",2,2014,0,4,4]
["DEDUC","D4","S1","B3","G5",3,2014,0,6,6]
["DEDUC","D4","S1","B3","G5",4,2014,0,8,9]
["DEDUC","D4","S1","B3","G5",5,2014,0,12,12]
["DEDUC","D4","S1","B3","G5",6,2014,0,10,10]
["DEDUC","D4","S1","B3","G5",7,2014,0,15,15]
["DEDUC","D4","S1","B3","G5",8,2014,0,13,14]
["DEDUC","D4","S1","B3","G5",9,2014,0,9,9]
["DEDUC","D4","S1","B3","G5",10,2014,0,7,7]
["DEDUC","D4","S1","B3","G5",11,2014,0,4,4]
["DEDUC","D4","S1","B3","G5",12,2014,0,10,10]
["DEDUC","D4","S2","B1","G1",1,2013,0,27,28]
["DEDUC","D4","S2","B1","G1",2,2013,0,51,56]
["DEDUC","D4","S2","B1","G1",3,2013,0,85,83]
["DEDUC","D4","S2","B1","G1",4,2013,0,68,68]
["DEDUC","D4","S2","B1","G1",5,2013,0,146,148]
["DEDUC","D4","S2","B1","G1",6,2013,0,131,137]
["DEDUC","D4","S2","B1","G1",7,2013,0,183,198]
["DEDUC","D4","S2","B1","G1",8,2013,0,194,217]
["DEDUC","D4","S2","B1","G1",9,2013,0,178,185]
["DEDUC","D4","S2","B1","G1",10,2013,0,94,104]
["DEDUC","D4","S2","B1","G1",11,2013,0,76,74]
["DEDUC","D4","S2","B1","G1",12,2013,0,147,163]
["DEDUC","D4","S2","B1","G1",1,2014,0,27,29]
["DEDUC","D4","S2","B1","G1",2,2014,0,59,64]
["DEDUC","D4","S2","B1","G1",3,2014,0,79,84]
["DEDUC","D4","S2","B1","G1",4,2014,0,97,94]
["DEDUC","D4","S2","B1","G1",5,2014,0,110,118]
["DEDUC","D4","S2","B1","G1",6,2014,0,151,159]
["DEDUC","D4","S2","B1","G1",7,2014,0,177,194]
["DEDUC","D4","S2","B1","G1",8,2014,0,196,211]
["DEDUC","D4","S2","B1","G1",9,2014,0,147,148]
["DEDUC","D4","S2","B1","G1",10,2014,0,93,102]
["DEDUC","D4","S2","B1","G1",11,2014,0,60,63]
["DEDUC","D4","S2","B1","G1",12,2014,0,140,148]
["DEDUC","D4","S2","B1","G2",1,2013,0,25,25]
["DEDUC","D4","S2","B1","G2",2,2013,0,58,62]
["DEDUC","D4","S2","B1","G2",3,2013,0,92,96]
["DEDUC","D4","S2","B1","G2",4,2013,0,96,109]
["DEDUC","D4","S2","B1","G2",5,2013,0,133,139]
["DEDUC","D4","S2","B1","G2",6,2013,0,180,183]
["DEDUC","D4","S2","B1","G2",7,2013,0,218,227]
["DEDUC","D4","S2","B1","G2",8,2013,0,223,243]
["DEDUC","D4","S2","B1","G2",9,2013,0,177,177]
["DEDUC","D4","S2","B1","G2",10,2013,0,137,141]
["DEDUC","D4","S2","B1","G2",11,2013,0,92,99]
["DEDUC","D4","S2","B1","G2",12,2013,0,165,173]
["DEDUC","D4","S2","B1","G2",1,2014,0,41,41]
["DEDUC","D4","S2","B1","G2",2,2014,0,59,61]
["DEDUC","D4","S2","B1","G2",3,2014,0,88,89]
["DEDUC","D4","S2","B1","G2",4,2014,0,93,105]
["DEDUC","D4","S2","B1","G2",5,2014,0,185,187]
["DEDUC","D4","S2","B1","G2",6,2014,0,217,243]
["DEDUC","D4","S2","B1","G2",7,2014,0,242,260]
["DEDUC","D4","S2","B1","G2",8,2014,0,276,283]
["DEDUC","D4","S2","B1","G2",9,2014,0,156,166]
["DEDUC","D4","S2","B1","G2",10,2014,0,119,119]
["DEDUC","D4","S2","B1","G2",11,2014,0,66,68]
["DEDUC","D4","S2","B1","G2",12,2014,0,194,208]
["DEDUC","D4","S2","B1","G3",1,2013,0,22,24]
["DEDUC","D4","S2","B1","G3",2,2013,0,32,36]
["DEDUC","D4","S2","B1","G3",3,2013,0,51,52]
["DEDUC","D4","S2","B1","G3",4,2013,0,69,71]
["DEDUC","D4","S2","B1","G3",5,2013,0,103,101]
["DEDUC","D4","S2","B1","G3",6,2013,0,149,159]
["DEDUC","D4","S2","B1","G3",7,2013,0,115,129]
["DEDUC","D4","S2","B1","G3",8,2013,0,118,119]
["DEDUC","D4","S2","B1","G3",9,2013,0,101,109]
["DEDUC","D4","S2","B1","G3",10,2013,0,87,89]
["DEDUC","D4","S2","B1","G3",11,2013,0,43,47]
["DEDUC","D4","S2","B1","G3",12,2013,0,121,129]
["DEDUC","D4","S2","B1","G3",1,2014,0,24,24]
["DEDUC","D4","S2","B1","G3",2,2014,0,34,36]
["DEDUC","D4","S2","B1","G3",3,2014,0,70,75]
["DEDUC","D4","S2","B1","G3",4,2014,0,64,68]
["DEDUC","D4","S2","B1","G3",5,2014,0,79,79]
["DEDUC","D4","S2","B1","G3",6,2014,0,102,102]
["DEDUC","D4","S2","B1","G3",7,2014,0,133,138]
["DEDUC","D4","S2","B1","G3",8,2014,0,141,153]
["DEDUC","D4","S2","B1","G3",9,2014,0,121,128]
["DEDUC","D4","S2","B1","G3",10,2014,0,87,84]
["DEDUC","D4","S2","B1","G3",11,2014,0,55,56]
["DEDUC","D4","S2","B1","G3",12,2014,0,139,149]
["DEDUC","D4","S2","B1","G4",1,2013,0,16,16]
["DEDUC","D4","S2","B1","G4",2,2013,0,34,35]
["DEDUC","D4","S2","B1","G4",3,2013,0,48,47]
["DEDUC","D4","S2","B1","G4",4,2013,0,48,49]
["DEDUC","D4","S2","B1","G4",5,2013,0,61,68]
["DEDUC","D4","S2","B1","G4",6,2013,0,89,90]
["DEDUC","D4","S2","B1","G4",7,2013,0,108,115]
["DEDUC","D4","S2","B1","G4",8,2013,0,99,103]
["DEDUC","D4","S2","B1","G4",9,2013,0,73,73]
["DEDUC","D4","S2","B1","G4",10,2013,0,53,54]
["DEDUC","D4","S2","B1","G4",11,2013,0,46,50]
["DEDUC","D4","S2","B1","G4",12,2013,0,93,93]
["DEDUC","D4","S2","B1","G4",1,2014,0,14,14]
["DEDUC","D4","S2","B1","G4",2,2014,0,27,28]
["DEDUC","D4","S2","B1","G4",3,2014,0,47,52]
["DEDUC","D4","S2","B1","G4",4,2014,0,50,49]
["DEDUC","D4","S2","B1","G4",5,2014,0,57,61]
["DEDUC","D4","S2","B1","G4",6,2014,0,79,85]
["DEDUC","D4","S2","B1","G4",7,2014,0,129,137]
["DEDUC","D4","S2","B1","G4",8,2014,0,95,98]
["DEDUC","D4","S2","B1","G4",9,2014,0,63,68]
["DEDUC","D4","S2","B1","G4",10,2014,0,74,76]
["DEDUC","D4","S2","B1","G4",11,2014,0,35,34]
["DEDUC","D4","S2","B1","G4",12,2014,0,70,75]
["DEDUC","D4","S2","B1","G5",1,2013,0,24,26]
["DEDUC","D4","S2","B1","G5",2,2013,0,42,42]
["DEDUC","D4","S2","B1","G5",3,2013,0,61,64]
["DEDUC","D4","S2","B1","G5",4,2013,0,47,49]
["DEDUC","D4","S2","B1","G5",5,2013,0,92,96]
["DEDUC","D4","S2","B1","G5",6,2013,0,99,112]
["DEDUC","D4","S2","B1","G5",7,2013,0,148,147]
["DEDUC","D4","S2","B1","G5",8,2013,0,115,121]
["DEDUC","D4","S2","B1","G5",9,2013,0,108,111]
["DEDUC","D4","S2","B1","G5",10,2013,0,68,69]
["DEDUC","D4","S2","B1","G5",11,2013,0,51,56]
["DEDUC","D4","S2","B1","G5",12,2013,0,98,101]
["DEDUC","D4","S2","B1","G5",1,2014,0,20,19]
["DEDUC","D4","S2","B1","G5",2,2014,0,40,43]
["DEDUC","D4","S2","B1","G5",3,2014,0,49,50]
["DEDUC","D4","S2","B1","G5",4,2014,0,73,79]
["DEDUC","D4","S2","B1","G5",5,2014,0,109,107]
["DEDUC","D4","S2","B1","G5",6,2014,0,126,137]
["DEDUC","D4","S2","B1","G5",7,2014,0,136,140]
["DEDUC","D4","S2","B1","G5",8,2014,0,125,128]
["DEDUC","D4","S2","B1","G5",9,2014,0,107,111]
["DEDUC","D4","S2","B1","G5",10,2014,0,92,92]
["DEDUC","D4","S2","B1","G5",11,2014,0,41,43]
["DEDUC","D4","S2","B1","G5",12,2014,0,127,130]
["DEDUC","D4","S2","B2","G1",1,2013,0,10,10]
["DEDUC","D4","S2","B2","G1",2,2013,0,11,12]
["DEDUC","D4","S2","B2","G1",3,2013,0,17,19]
["DEDUC","D4","S2","B2","G1",4,2013,0,30,32]
["DEDUC","D4","S2","B2","G1",5,2013,0,33,36]
["DEDUC","D4","S2","B2","G1",6,2013,0,44,44]
["DEDUC","D4","S2","B2","G1",7,2013,0,65,73]
["DEDUC","D4","S2","B2","G1",8,2013,0,55,58]
["DEDUC","D4","S2","B2","G1",9,2013,0,50,52]
["DEDUC","D4","S2","B2","G1",10,2013,0,25,25]
["DEDUC","D4","S2","B2","G1",11,2013,0,18,19]
["DEDUC","D4","S2","B2","G1",12,2013,0,34,36]
["DEDUC","D4","S2","B2","G1",1,2014,0,6,7]
["DEDUC","D4","S2","B2","G1",2,2014,0,15,16]
["DEDUC","D4","S2","B2","G1",3,2014,0,24,25]
["DEDUC","D4","S2","B2","G1",4,2014,0,29,29]
["DEDUC","D4","S2","B2","G1",5,2014,0,30,31]
["DEDUC","D4","S2","B2","G1",6,2014,0,35,37]
["DEDUC","D4","S2","B2","G1",7,2014,0,77,79]
["DEDUC","D4","S2","B2","G1",8,2014,0,47,50]
["DEDUC","D4","S2","B2","G1",9,2014,0,40,41]
["DEDUC","D4","S2","B2","G1",10,2014,0,26,27]
["DEDUC","D4","S2","B2","G1",11,2014,0,19,21]
["DEDUC","D4","S2","B2","G1",12,2014,0,39,38]
["DEDUC","D4","S2","B2","G2",1,2013,0,7,8]
["DEDUC","D4","S2","B2","G2",2,2013,0,17,18]
["DEDUC","D4","S2","B2","G2",3,2013,0,28,28]
["DEDUC","D4","S2","B2","G2",4,2013,0,35,37]
["DEDUC","D4","S2","B2","G2",5,2013,0,37,37]
["DEDUC","D4","S2","B2","G2",6,2013,0,69,70]
["DEDUC","D4","S2","B2","G2",7,2013,0,65,68]
["DEDUC","D4","S2","B2","G2",8,2013,0,52,58]
["DEDUC","D4","S2","B2","G2",9,2013,0,56,61]
["DEDUC","D4","S2","B2","G2",10,2013,0,40,39]
["DEDUC","D4","S2","B2","G2",11,2013,0,17,19]
["DEDUC","D4","S2","B2","G2",12,2013,0,37,40]
["DEDUC","D4","S2","B2","G2",1,2014,0,10,11]
["DEDUC","D4","S2","B2","G2",2,2014,0,20,21]
["DEDUC","D4","S2","B2","G2",3,2014,0,29,30]
["DEDUC","D4","S2","B2","G2",4,2014,0,36,38]
["DEDUC","D4","S2","B2","G2",5,2014,0,54,53]
["DEDUC","D4","S2","B2","G2",6,2014,0,52,54]
["DEDUC","D4","S2","B2","G2",7,2014,0,84,89]
["DEDUC","D4","S2","B2","G2",8,2014,0,67,70]
["DEDUC","D4","S2","B2","G2",9,2014,0,42,45]
["DEDUC","D4","S2","B2","G2",10,2014,0,34,38]
["DEDUC","D4","S2","B2","G2",11,2014,0,30,33]
["DEDUC","D4","S2","B2","G2",12,2014,0,52,53]
["DEDUC","D4","S2","B2","G3",1,2013,0,7,8]
["DEDUC","D4","S2","B2","G3",2,2013,0,12,13]
["DEDUC","D4","S2","B2","G3",3,2013,0,19,21]
["DEDUC","D4","S2","B2","G3",4,2013,0,25,28]
["DEDUC","D4","S2","B2","G3",5,2013,0,24,25]
["DEDUC","D4","S2","B2","G3",6,2013,0,26,27]
["DEDUC","D4","S2","B2","G3",7,2013,0,42,47]
["DEDUC","D4","S2","B2","G3",8,2013,0,31,33]
["DEDUC","D4","S2","B2","G3",9,2013,0,24,25]
["DEDUC","D4","S2","B2","G3",10,2013,0,19,19]
["DEDUC","D4","S2","B2","G3",11,2013,0,14,15]
["DEDUC","D4","S2","B2","G3",12,2013,0,32,33]
["DEDUC","D4","S2","B2","G3",1,2014,0,8,8]
["DEDUC","D4","S2","B2","G3",2,2014,0,11,11]
["DEDUC","D4","S2","B2","G3",3,2014,0,15,15]
["DEDUC","D4","S2","B2","G3",4,2014,0,26,28]
["DEDUC","D4","S2","B2","G3",5,2014,0,30,31]
["DEDUC","D4","S2","B2","G3",6,2014,0,28,29]
["DEDUC","D4","S2","B2","G3",7,2014,0,46,47]
["DEDUC","D4","S2","B2","G3",8,2014,0,45,46]
["DEDUC","D4","S2","B2","G3",9,2014,0,38,39]
["DEDUC","D4","S2","B2","G3",10,2014,0,20,20]
["DEDUC","D4","S2","B2","G3",11,2014,0,14,14]
["DEDUC","D4","S2","B2","G3",12,2014,0,24,25]
["DEDUC","D4","S2","B2","G4",1,2013,0,6,6]
["DEDUC","D4","S2","B2","G4",2,2013,0,9,10]
["DEDUC","D4","S2","B2","G4",3,2013,0,12,12]
["DEDUC","D4","S2","B2","G4",4,2013,0,20,21]
["DEDUC","D4","S2","B2","G4",5,2013,0,18,19]
["DEDUC","D4","S2","B2","G4",6,2013,0,23,24]
["DEDUC","D4","S2","B2","G4",7,2013,0,39,38]
["DEDUC","D4","S2","B2","G4",8,2013,0,35,36]
["DEDUC","D4","S2","B2","G4",9,2013,0,20,20]
["DEDUC","D4","S2","B2","G4",10,2013,0,23,25]
["DEDUC","D4","S2","B2","G4",11,2013,0,12,12]
["DEDUC","D4","S2","B2","G4",12,2013,0,26,29]
["DEDUC","D4","S2","B2","G4",1,2014,0,5,5]
["DEDUC","D4","S2","B2","G4",2,2014,0,10,11]
["DEDUC","D4","S2","B2","G4",3,2014,0,13,13]
["DEDUC","D4","S2","B2","G4",4,2014,0,18,19]
["DEDUC","D4","S2","B2","G4",5,2014,0,21,23]
["DEDUC","D4","S2","B2","G4",6,2014,0,26,28]
["DEDUC","D4","S2","B2","G4",7,2014,0,28,31]
["DEDUC","D4","S2","B2","G4",8,2014,0,33,32]
["DEDUC","D4","S2","B2","G4",9,2014,0,22,25]
["DEDUC","D4","S2","B2","G4",10,2014,0,16,18]
["DEDUC","D4","S2","B2","G4",11,2014,0,12,12]
["DEDUC","D4","S2","B2","G4",12,2014,0,32,33]
["DEDUC","D4","S2","B2","G5",1,2013,0,5,5]
["DEDUC","D4","S2","B2","G5",2,2013,0,10,11]
["DEDUC","D4","S2","B2","G5",3,2013,0,14,14]
["DEDUC","D4","S2","B2","G5",4,2013,0,15,17]
["DEDUC","D4","S2","B2","G5",5,2013,0,28,28]
["DEDUC","D4","S2","B2","G5",6,2013,0,28,31]
["DEDUC","D4","S2","B2","G5",7,2013,0,35,36]
["DEDUC","D4","S2","B2","G5",8,2013,0,34,37]
["DEDUC","D4","S2","B2","G5",9,2013,0,29,29]
["DEDUC","D4","S2","B2","G5",10,2013,0,23,24]
["DEDUC","D4","S2","B2","G5",11,2013,0,16,18]
["DEDUC","D4","S2","B2","G5",12,2013,0,26,28]
["DEDUC","D4","S2","B2","G5",1,2014,0,6,6]
["DEDUC","D4","S2","B2","G5",2,2014,0,11,11]
["DEDUC","D4","S2","B2","G5",3,2014,0,15,16]
["DEDUC","D4","S2","B2","G5",4,2014,0,19,19]
["DEDUC","D4","S2","B2","G5",5,2014,0,21,23]
["DEDUC","D4","S2","B2","G5",6,2014,0,40,41]
["DEDUC","D4","S2","B2","G5",7,2014,0,50,55]
["DEDUC","D4","S2","B2","G5",8,2014,0,32,31]
["DEDUC","D4","S2","B2","G5",9,2014,0,31,34]
["DEDUC","D4","S2","B2","G5",10,2014,0,24,25]
["DEDUC","D4","S2","B2","G5",11,2014,0,15,17]
["DEDUC","D4","S2","B2","G5",12,2014,0,27,30]
["DEDUC","D4","S2","B3","G1",1,2013,0,4,4]
["DEDUC","D4","S2","B3","G1",2,2013,0,7,8]
["DEDUC","D4","S2","B3","G1",3,2013,0,11,11]
["DEDUC","D4","S2","B3","G1",4,2013,0,13,14]
["DEDUC","D4","S2","B3","G1",5,2013,0,21,20]
["DEDUC","D4","S2","B3","G1",6,2013,0,19,21]
["DEDUC","D4","S2","B3","G1",7,2013,0,35,35]
["DEDUC","D4","S2","B3","G1",8,2013,0,25,26]
["DEDUC","D4","S2","B3","G1",9,2013,0,19,19]
["DEDUC","D4","S2","B3","G1",10,2013,0,14,16]
["DEDUC","D4","S2","B3","G1",11,2013,0,10,11]
["DEDUC","D4","S2","B3","G1",12,2013,0,18,18]
["DEDUC","D4","S2","B3","G1",1,2014,0,5,5]
["DEDUC","D4","S2","B3","G1",2,2014,0,8,8]
["DEDUC","D4","S2","B3","G1",3,2014,0,11,12]
["DEDUC","D4","S2","B3","G1",4,2014,0,13,13]
["DEDUC","D4","S2","B3","G1",5,2014,0,18,18]
["DEDUC","D4","S2","B3","G1",6,2014,0,27,29]
["DEDUC","D4","S2","B3","G1",7,2014,0,28,28]
["DEDUC","D4","S2","B3","G1",8,2014,0,32,33]
["DEDUC","D4","S2","B3","G1",9,2014,0,20,20]
["DEDUC","D4","S2","B3","G1",10,2014,0,22,22]
["DEDUC","D4","S2","B3","G1",11,2014,0,10,11]
["DEDUC","D4","S2","B3","G1",12,2014,0,21,22]
["DEDUC","D4","S2","B3","G2",1,2013,0,5,5]
["DEDUC","D4","S2","B3","G2",2,2013,0,9,9]
["DEDUC","D4","S2","B3","G2",3,2013,0,12,13]
["DEDUC","D4","S2","B3","G2",4,2013,0,18,19]
["DEDUC","D4","S2","B3","G2",5,2013,0,19,19]
["DEDUC","D4","S2","B3","G2",6,2013,0,32,34]
["DEDUC","D4","S2","B3","G2",7,2013,0,32,32]
["DEDUC","D4","S2","B3","G2",8,2013,0,33,35]
["DEDUC","D4","S2","B3","G2",9,2013,0,26,27]
["DEDUC","D4","S2","B3","G2",10,2013,0,21,22]
["DEDUC","D4","S2","B3","G2",11,2013,0,12,12]
["DEDUC","D4","S2","B3","G2",12,2013,0,28,29]
["DEDUC","D4","S2","B3","G2",1,2014,0,5,5]
["DEDUC","D4","S2","B3","G2",2,2014,0,10,10]
["DEDUC","D4","S2","B3","G2",3,2014,0,16,18]
["DEDUC","D4","S2","B3","G2",4,2014,0,20,20]
["DEDUC","D4","S2","B3","G2",5,2014,0,22,24]
["DEDUC","D4","S2","B3","G2",6,2014,0,28,31]
["DEDUC","D4","S2","B3","G2",7,2014,0,37,40]
["DEDUC","D4","S2","B3","G2",8,2014,0,39,41]
["DEDUC","D4","S2","B3","G2",9,2014,0,32,33]
["DEDUC","D4","S2","B3","G2",10,2014,0,16,16]
["DEDUC","D4","S2","B3","G2",11,2014,0,12,13]
["DEDUC","D4","S2","B3","G2",12,2014,0,22,23]
["DEDUC","D4","S2","B3","G3",1,2013,0,3,3]
["DEDUC","D4","S2","B3","G3",2,2013,0,6,7]
["DEDUC","D4","S2","B3","G3",3,2013,0,9,9]
["DEDUC","D4","S2","B3","G3",4,2013,0,9,9]
["DEDUC","D4","S2","B3","G3",5,2013,0,15,16]
["DEDUC","D4","S2","B3","G3",6,2013,0,18,20]
["DEDUC","D4","S2","B3","G3",7,2013,0,22,24]
["DEDUC","D4","S2","B3","G3",8,2013,0,21,21]
["DEDUC","D4","S2","B3","G3",9,2013,0,17,19]
["DEDUC","D4","S2","B3","G3",10,2013,0,11,11]
["DEDUC","D4","S2","B3","G3",11,2013,0,8,7]
["DEDUC","D4","S2","B3","G3",12,2013,0,14,15]
["DEDUC","D4","S2","B3","G3",1,2014,0,4,4]
["DEDUC","D4","S2","B3","G3",2,2014,0,7,7]
["DEDUC","D4","S2","B3","G3",3,2014,0,10,10]
["DEDUC","D4","S2","B3","G3",4,2014,0,11,11]
["DEDUC","D4","S2","B3","G3",5,2014,0,14,15]
["DEDUC","D4","S2","B3","G3",6,2014,0,19,22]
["DEDUC","D4","S2","B3","G3",7,2014,0,30,30]
["DEDUC","D4","S2","B3","G3",8,2014,0,18,18]
["DEDUC","D4","S2","B3","G3",9,2014,0,16,17]
["DEDUC","D4","S2","B3","G3",10,2014,0,12,12]
["DEDUC","D4","S2","B3","G3",11,2014,0,8,8]
["DEDUC","D4","S2","B3","G3",12,2014,0,14,14]
["DEDUC","D4","S2","B3","G4",1,2013,0,3,3]
["DEDUC","D4","S2","B3","G4",2,2013,0,5,6]
["DEDUC","D4","S2","B3","G4",3,2013,0,8,8]
["DEDUC","D4","S2","B3","G4",4,2013,0,9,10]
["DEDUC","D4","S2","B3","G4",5,2013,0,12,13]
["DEDUC","D4","S2","B3","G4",6,2013,0,12,12]
["DEDUC","D4","S2","B3","G4",7,2013,0,17,18]
["DEDUC","D4","S2","B3","G4",8,2013,0,16,16]
["DEDUC","D4","S2","B3","G4",9,2013,0,11,12]
["DEDUC","D4","S2","B3","G4",10,2013,0,10,11]
["DEDUC","D4","S2","B3","G4",11,2013,0,6,6]
["DEDUC","D4","S2","B3","G4",12,2013,0,11,12]
["DEDUC","D4","S2","B3","G4",1,2014,0,3,3]
["DEDUC","D4","S2","B3","G4",2,2014,0,5,5]
["DEDUC","D4","S2","B3","G4",3,2014,0,7,7]
["DEDUC","D4","S2","B3","G4",4,2014,0,7,8]
["DEDUC","D4","S2","B3","G4",5,2014,0,9,9]
["DEDUC","D4","S2","B3","G4",6,2014,0,13,13]
["DEDUC","D4","S2","B3","G4",7,2014,0,16,17]
["DEDUC","D4","S2","B3","G4",8,2014,0,17,18]
["DEDUC","D4","S2","B3","G4",9,2014,0,11,11]
["DEDUC","D4","S2","B3","G4",10,2014,0,8,8]
["DEDUC","D4","S2","B3","G4",11,2014,0,7,7]
["DEDUC","D4","S2","B3","G4",12,2014,0,11,12]
["DEDUC","D4","S2","B3","G5",1,2013,0,3,3]
["DEDUC","D4","S2","B3","G5",2,2013,0,7,7]
["DEDUC","D4","S2","B3","G5",3,2013,0,10,11]
["DEDUC","D4","S2","B3","G5",4,2013,0,10,10]
["DEDUC","D4","S2","B3","G5",5,2013,0,11,11]
["DEDUC","D4","S2","B3","G5",6,2013,0,17,17]
["DEDUC","D4","S2","B3","G5",7,2013,0,18,20]
["DEDUC","D4","S2","B3","G5",8,2013,0,20,21]
["DEDUC","D4","S2","B3","G5",9,2013,0,16,16]
["DEDUC","D4","S2","B3","G5",10,2013,0,13,14]
["DEDUC","D4","S2","B3","G5",11,2013,0,7,7]
["DEDUC","D4","S2","B3","G5",12,2013,0,14,15]
["DEDUC","D4","S2","B3","G5",1,2014,0,3,4]
["DEDUC","D4","S2","B3","G5",2,2014,0,6,7]
["DEDUC","D4","S2","B3","G5",3,2014,0,8,9]
["DEDUC","D4","S2","B3","G5",4,2014,0,11,12]
["DEDUC","D4","S2","B3","G5",5,2014,0,12,13]
["DEDUC","D4","S2","B3","G5",6,2014,0,15,16]
["DEDUC","D4","S2","B3","G5",7,2014,0,18,19]
["DEDUC","D4","S2","B3","G5",8,2014,0,18,19]
["DEDUC","D4","S2","B3","G5",9,2014,0,17,19]
["DEDUC","D4","S2","B3","G5",10,2014,0,11,12]
["DEDUC","D4","S2","B3","G5",11,2014,0,8,8]
["DEDUC","D4","S2","B3","G5",12,2014,0,17,18]
["DEDUC","D5","S1","B1","G1",1,2013,0,11,12]
["DEDUC","D5","S1","B1","G1",2,2013,0,16,17]
["DEDUC","D5","S1","B1","G1",3,2013,0,36,36]
["DEDUC","D5","S1","B1","G1",4,2013,0,30,32]
["DEDUC","D5","S1","B1","G1",5,2013,0,51,53]
["DEDUC","D5","S1","B1","G1",6,2013,0,54,59]
["DEDUC","D5","S1","B1","G1",7,2013,0,64,68]
["DEDUC","D5","S1","B1","G1",8,2013,0,44,47]
["DEDUC","D5","S1","B1","G1",9,2013,0,46,49]
["DEDUC","D5","S1","B1","G1",10,2013,0,54,59]
["DEDUC","D5","S1","B1","G1",11,2013,0,24,26]
["DEDUC","D5","S1","B1","G1",12,2013,0,44,48]
["DEDUC","D5","S1","B1","G1",1,2014,0,8,9]
["DEDUC","D5","S1","B1","G1",2,2014,0,21,20]
["DEDUC","D5","S1","B1","G1",3,2014,0,27,27]
["DEDUC","D5","S1","B1","G1",4,2014,0,36,39]
["DEDUC","D5","S1","B1","G1",5,2014,0,55,55]
["DEDUC","D5","S1","B1","G1",6,2014,0,57,59]
["DEDUC","D5","S1","B1","G1",7,2014,0,80,80]
["DEDUC","D5","S1","B1","G1",8,2014,0,51,50]
["DEDUC","D5","S1","B1","G1",9,2014,0,44,45]
["DEDUC","D5","S1","B1","G1",10,2014,0,41,43]
["DEDUC","D5","S1","B1","G1",11,2014,0,18,20]
["DEDUC","D5","S1","B1","G1",12,2014,0,31,35]
["DEDUC","D5","S1","B1","G2",1,2013,0,11,12]
["DEDUC","D5","S1","B1","G2",2,2013,0,17,18]
["DEDUC","D5","S1","B1","G2",3,2013,0,30,33]
["DEDUC","D5","S1","B1","G2",4,2013,0,36,38]
["DEDUC","D5","S1","B1","G2",5,2013,0,54,57]
["DEDUC","D5","S1","B1","G2",6,2013,0,69,70]
["DEDUC","D5","S1","B1","G2",7,2013,0,86,93]
["DEDUC","D5","S1","B1","G2",8,2013,0,64,69]
["DEDUC","D5","S1","B1","G2",9,2013,0,67,72]
["DEDUC","D5","S1","B1","G2",10,2013,0,42,45]
["DEDUC","D5","S1","B1","G2",11,2013,0,34,35]
["DEDUC","D5","S1","B1","G2",12,2013,0,61,63]
["DEDUC","D5","S1","B1","G2",1,2014,0,10,10]
["DEDUC","D5","S1","B1","G2",2,2014,0,33,32]
["DEDUC","D5","S1","B1","G2",3,2014,0,44,44]
["DEDUC","D5","S1","B1","G2",4,2014,0,33,35]
["DEDUC","D5","S1","B1","G2",5,2014,0,44,46]
["DEDUC","D5","S1","B1","G2",6,2014,0,65,68]
["DEDUC","D5","S1","B1","G2",7,2014,0,105,111]
["DEDUC","D5","S1","B1","G2",8,2014,0,72,75]
["DEDUC","D5","S1","B1","G2",9,2014,0,49,53]
["DEDUC","D5","S1","B1","G2",10,2014,0,50,56]
["DEDUC","D5","S1","B1","G2",11,2014,0,27,28]
["DEDUC","D5","S1","B1","G2",12,2014,0,52,58]
["DEDUC","D5","S1","B1","G3",1,2013,0,7,7]
["DEDUC","D5","S1","B1","G3",2,2013,0,13,15]
["DEDUC","D5","S1","B1","G3",3,2013,0,22,22]
["DEDUC","D5","S1","B1","G3",4,2013,0,25,26]
["DEDUC","D5","S1","B1","G3",5,2013,0,28,32]
["DEDUC","D5","S1","B1","G3",6,2013,0,36,36]
["DEDUC","D5","S1","B1","G3",7,2013,0,40,43]
["DEDUC","D5","S1","B1","G3",8,2013,0,48,51]
["DEDUC","D5","S1","B1","G3",9,2013,0,42,46]
["DEDUC","D5","S1","B1","G3",10,2013,0,24,25]
["DEDUC","D5","S1","B1","G3",11,2013,0,17,16]
["DEDUC","D5","S1","B1","G3",12,2013,0,29,30]
["DEDUC","D5","S1","B1","G3",1,2014,0,9,10]
["DEDUC","D5","S1","B1","G3",2,2014,0,11,11]
["DEDUC","D5","S1","B1","G3",3,2014,0,16,18]
["DEDUC","D5","S1","B1","G3",4,2014,0,20,21]
["DEDUC","D5","S1","B1","G3",5,2014,0,34,38]
["DEDUC","D5","S1","B1","G3",6,2014,0,48,50]
["DEDUC","D5","S1","B1","G3",7,2014,0,49,48]
["DEDUC","D5","S1","B1","G3",8,2014,0,47,50]
["DEDUC","D5","S1","B1","G3",9,2014,0,45,49]
["DEDUC","D5","S1","B1","G3",10,2014,0,24,25]
["DEDUC","D5","S1","B1","G3",11,2014,0,19,20]
["DEDUC","D5","S1","B1","G3",12,2014,0,39,45]
["DEDUC","D5","S1","B1","G4",1,2013,0,5,5]
["DEDUC","D5","S1","B1","G4",2,2013,0,11,12]
["DEDUC","D5","S1","B1","G4",3,2013,0,12,14]
["DEDUC","D5","S1","B1","G4",4,2013,0,21,21]
["DEDUC","D5","S1","B1","G4",5,2013,0,18,19]
["DEDUC","D5","S1","B1","G4",6,2013,0,31,35]
["DEDUC","D5","S1","B1","G4",7,2013,0,24,27]
["DEDUC","D5","S1","B1","G4",8,2013,0,34,38]
["DEDUC","D5","S1","B1","G4",9,2013,0,33,37]
["DEDUC","D5","S1","B1","G4",10,2013,0,22,24]
["DEDUC","D5","S1","B1","G4",11,2013,0,15,16]
["DEDUC","D5","S1","B1","G4",12,2013,0,28,29]
["DEDUC","D5","S1","B1","G4",1,2014,0,5,5]
["DEDUC","D5","S1","B1","G4",2,2014,0,10,11]
["DEDUC","D5","S1","B1","G4",3,2014,0,19,20]
["DEDUC","D5","S1","B1","G4",4,2014,0,17,17]
["DEDUC","D5","S1","B1","G4",5,2014,0,21,23]
["DEDUC","D5","S1","B1","G4",6,2014,0,23,23]
["DEDUC","D5","S1","B1","G4",7,2014,0,38,43]
["DEDUC","D5","S1","B1","G4",8,2014,0,31,34]
["DEDUC","D5","S1","B1","G4",9,2014,0,26,28]
["DEDUC","D5","S1","B1","G4",10,2014,0,22,23]
["DEDUC","D5","S1","B1","G4",11,2014,0,9,10]
["DEDUC","D5","S1","B1","G4",12,2014,0,26,26]
["DEDUC","D5","S1","B1","G5",1,2013,0,8,7]
["DEDUC","D5","S1","B1","G5",2,2013,0,14,15]
["DEDUC","D5","S1","B1","G5",3,2013,0,19,19]
["DEDUC","D5","S1","B1","G5",4,2013,0,17,17]
["DEDUC","D5","S1","B1","G5",5,2013,0,31,31]
["DEDUC","D5","S1","B1","G5",6,2013,0,41,47]
["DEDUC","D5","S1","B1","G5",7,2013,0,43,46]
["DEDUC","D5","S1","B1","G5",8,2013,0,39,40]
["DEDUC","D5","S1","B1","G5",9,2013,0,27,28]
["DEDUC","D5","S1","B1","G5",10,2013,0,25,25]
["DEDUC","D5","S1","B1","G5",11,2013,0,12,13]
["DEDUC","D5","S1","B1","G5",12,2013,0,36,39]
["DEDUC","D5","S1","B1","G5",1,2014,0,6,6]
["DEDUC","D5","S1","B1","G5",2,2014,0,11,11]
["DEDUC","D5","S1","B1","G5",3,2014,0,19,21]
["DEDUC","D5","S1","B1","G5",4,2014,0,19,20]
["DEDUC","D5","S1","B1","G5",5,2014,0,29,31]
["DEDUC","D5","S1","B1","G5",6,2014,0,43,48]
["DEDUC","D5","S1","B1","G5",7,2014,0,46,47]
["DEDUC","D5","S1","B1","G5",8,2014,0,47,51]
["DEDUC","D5","S1","B1","G5",9,2014,0,28,30]
["DEDUC","D5","S1","B1","G5",10,2014,0,28,30]
["DEDUC","D5","S1","B1","G5",11,2014,0,16,16]
["DEDUC","D5","S1","B1","G5",12,2014,0,40,40]
["DEDUC","D5","S1","B2","G1",1,2013,0,3,3]
["DEDUC","D5","S1","B2","G1",2,2013,0,7,7]
["DEDUC","D5","S1","B2","G1",3,2013,0,8,9]
["DEDUC","D5","S1","B2","G1",4,2013,0,7,8]
["DEDUC","D5","S1","B2","G1",5,2013,0,14,15]
["DEDUC","D5","S1","B2","G1",6,2013,0,17,18]
["DEDUC","D5","S1","B2","G1",7,2013,0,20,22]
["DEDUC","D5","S1","B2","G1",8,2013,0,13,14]
["DEDUC","D5","S1","B2","G1",9,2013,0,11,12]
["DEDUC","D5","S1","B2","G1",10,2013,0,13,13]
["DEDUC","D5","S1","B2","G1",11,2013,0,7,6]
["DEDUC","D5","S1","B2","G1",12,2013,0,11,12]
["DEDUC","D5","S1","B2","G1",1,2014,0,2,2]
["DEDUC","D5","S1","B2","G1",2,2014,0,7,6]
["DEDUC","D5","S1","B2","G1",3,2014,0,7,8]
["DEDUC","D5","S1","B2","G1",4,2014,0,8,8]
["DEDUC","D5","S1","B2","G1",5,2014,0,18,20]
["DEDUC","D5","S1","B2","G1",6,2014,0,18,20]
["DEDUC","D5","S1","B2","G1",7,2014,0,16,17]
["DEDUC","D5","S1","B2","G1",8,2014,0,17,17]
["DEDUC","D5","S1","B2","G1",9,2014,0,17,18]
["DEDUC","D5","S1","B2","G1",10,2014,0,11,12]
["DEDUC","D5","S1","B2","G1",11,2014,0,6,6]
["DEDUC","D5","S1","B2","G1",12,2014,0,10,10]
["DEDUC","D5","S1","B2","G2",1,2013,0,4,4]
["DEDUC","D5","S1","B2","G2",2,2013,0,6,6]
["DEDUC","D5","S1","B2","G2",3,2013,0,9,9]
["DEDUC","D5","S1","B2","G2",4,2013,0,10,10]
["DEDUC","D5","S1","B2","G2",5,2013,0,15,15]
["DEDUC","D5","S1","B2","G2",6,2013,0,17,18]
["DEDUC","D5","S1","B2","G2",7,2013,0,25,27]
["DEDUC","D5","S1","B2","G2",8,2013,0,20,21]
["DEDUC","D5","S1","B2","G2",9,2013,0,15,16]
["DEDUC","D5","S1","B2","G2",10,2013,0,11,12]
["DEDUC","D5","S1","B2","G2",11,2013,0,12,13]
["DEDUC","D5","S1","B2","G2",12,2013,0,13,14]
["DEDUC","D5","S1","B2","G2",1,2014,0,5,5]
["DEDUC","D5","S1","B2","G2",2,2014,0,7,7]
["DEDUC","D5","S1","B2","G2",3,2014,0,12,13]
["DEDUC","D5","S1","B2","G2",4,2014,0,8,9]
["DEDUC","D5","S1","B2","G2",5,2014,0,15,16]
["DEDUC","D5","S1","B2","G2",6,2014,0,22,23]
["DEDUC","D5","S1","B2","G2",7,2014,0,22,23]
["DEDUC","D5","S1","B2","G2",8,2014,0,23,25]
["DEDUC","D5","S1","B2","G2",9,2014,0,18,19]
["DEDUC","D5","S1","B2","G2",10,2014,0,12,13]
["DEDUC","D5","S1","B2","G2",11,2014,0,8,8]
["DEDUC","D5","S1","B2","G2",12,2014,0,15,15]
["DEDUC","D5","S1","B2","G3",1,2013,0,3,3]
["DEDUC","D5","S1","B2","G3",2,2013,0,4,4]
["DEDUC","D5","S1","B2","G3",3,2013,0,6,6]
["DEDUC","D5","S1","B2","G3",4,2013,0,7,8]
["DEDUC","D5","S1","B2","G3",5,2013,0,12,13]
["DEDUC","D5","S1","B2","G3",6,2013,0,13,14]
["DEDUC","D5","S1","B2","G3",7,2013,0,16,17]
["DEDUC","D5","S1","B2","G3",8,2013,0,14,14]
["DEDUC","D5","S1","B2","G3",9,2013,0,10,11]
["DEDUC","D5","S1","B2","G3",10,2013,0,9,9]
["DEDUC","D5","S1","B2","G3",11,2013,0,4,5]
["DEDUC","D5","S1","B2","G3",12,2013,0,8,8]
["DEDUC","D5","S1","B2","G3",1,2014,0,2,3]
["DEDUC","D5","S1","B2","G3",2,2014,0,4,4]
["DEDUC","D5","S1","B2","G3",3,2014,0,7,7]
["DEDUC","D5","S1","B2","G3",4,2014,0,6,6]
["DEDUC","D5","S1","B2","G3",5,2014,0,10,10]
["DEDUC","D5","S1","B2","G3",6,2014,0,14,15]
["DEDUC","D5","S1","B2","G3",7,2014,0,12,13]
["DEDUC","D5","S1","B2","G3",8,2014,0,14,15]
["DEDUC","D5","S1","B2","G3",9,2014,0,11,11]
["DEDUC","D5","S1","B2","G3",10,2014,0,10,11]
["DEDUC","D5","S1","B2","G3",11,2014,0,6,6]
["DEDUC","D5","S1","B2","G3",12,2014,0,10,11]
["DEDUC","D5","S1","B2","G4",1,2013,0,2,2]
["DEDUC","D5","S1","B2","G4",2,2013,0,3,3]
["DEDUC","D5","S1","B2","G4",3,2013,0,5,5]
["DEDUC","D5","S1","B2","G4",4,2013,0,5,6]
["DEDUC","D5","S1","B2","G4",5,2013,0,5,5]
["DEDUC","D5","S1","B2","G4",6,2013,0,9,9]
["DEDUC","D5","S1","B2","G4",7,2013,0,15,14]
["DEDUC","D5","S1","B2","G4",8,2013,0,11,12]
["DEDUC","D5","S1","B2","G4",9,2013,0,10,10]
["DEDUC","D5","S1","B2","G4",10,2013,0,6,6]
["DEDUC","D5","S1","B2","G4",11,2013,0,4,4]
["DEDUC","D5","S1","B2","G4",12,2013,0,6,6]
["DEDUC","D5","S1","B2","G4",1,2014,0,2,2]
["DEDUC","D5","S1","B2","G4",2,2014,0,3,3]
["DEDUC","D5","S1","B2","G4",3,2014,0,5,5]
["DEDUC","D5","S1","B2","G4",4,2014,0,5,5]
["DEDUC","D5","S1","B2","G4",5,2014,0,7,8]
["DEDUC","D5","S1","B2","G4",6,2014,0,5,6]
["DEDUC","D5","S1","B2","G4",7,2014,0,10,10]
["DEDUC","D5","S1","B2","G4",8,2014,0,7,7]
["DEDUC","D5","S1","B2","G4",9,2014,0,7,7]
["DEDUC","D5","S1","B2","G4",10,2014,0,8,8]
["DEDUC","D5","S1","B2","G4",11,2014,0,3,3]
["DEDUC","D5","S1","B2","G4",12,2014,0,7,8]
["DEDUC","D5","S1","B2","G5",1,2013,0,2,2]
["DEDUC","D5","S1","B2","G5",2,2013,0,4,5]
["DEDUC","D5","S1","B2","G5",3,2013,0,6,6]
["DEDUC","D5","S1","B2","G5",4,2013,0,7,7]
["DEDUC","D5","S1","B2","G5",5,2013,0,7,7]
["DEDUC","D5","S1","B2","G5",6,2013,0,15,17]
["DEDUC","D5","S1","B2","G5",7,2013,0,14,14]
["DEDUC","D5","S1","B2","G5",8,2013,0,14,14]
["DEDUC","D5","S1","B2","G5",9,2013,0,10,10]
["DEDUC","D5","S1","B2","G5",10,2013,0,9,9]
["DEDUC","D5","S1","B2","G5",11,2013,0,6,6]
["DEDUC","D5","S1","B2","G5",12,2013,0,8,9]
["DEDUC","D5","S1","B2","G5",1,2014,0,2,2]
["DEDUC","D5","S1","B2","G5",2,2014,0,4,4]
["DEDUC","D5","S1","B2","G5",3,2014,0,6,6]
["DEDUC","D5","S1","B2","G5",4,2014,0,7,8]
["DEDUC","D5","S1","B2","G5",5,2014,0,9,10]
["DEDUC","D5","S1","B2","G5",6,2014,0,10,11]
["DEDUC","D5","S1","B2","G5",7,2014,0,18,18]
["DEDUC","D5","S1","B2","G5",8,2014,0,14,14]
["DEDUC","D5","S1","B2","G5",9,2014,0,12,13]
["DEDUC","D5","S1","B2","G5",10,2014,0,9,10]
["DEDUC","D5","S1","B2","G5",11,2014,0,5,6]
["DEDUC","D5","S1","B2","G5",12,2014,0,12,13]
["DEDUC","D5","S1","B3","G1",1,2013,0,1,1]
["DEDUC","D5","S1","B3","G1",2,2013,0,2,2]
["DEDUC","D5","S1","B3","G1",3,2013,0,4,4]
["DEDUC","D5","S1","B3","G1",4,2013,0,5,5]
["DEDUC","D5","S1","B3","G1",5,2013,0,7,7]
["DEDUC","D5","S1","B3","G1",6,2013,0,8,8]
["DEDUC","D5","S1","B3","G1",7,2013,0,13,13]
["DEDUC","D5","S1","B3","G1",8,2013,0,8,8]
["DEDUC","D5","S1","B3","G1",9,2013,0,8,9]
["DEDUC","D5","S1","B3","G1",10,2013,0,5,5]
["DEDUC","D5","S1","B3","G1",11,2013,0,4,4]
["DEDUC","D5","S1","B3","G1",12,2013,0,6,6]
["DEDUC","D5","S1","B3","G1",1,2014,0,1,2]
["DEDUC","D5","S1","B3","G1",2,2014,0,2,2]
["DEDUC","D5","S1","B3","G1",3,2014,0,5,5]
["DEDUC","D5","S1","B3","G1",4,2014,0,5,5]
["DEDUC","D5","S1","B3","G1",5,2014,0,5,5]
["DEDUC","D5","S1","B3","G1",6,2014,0,10,11]
["DEDUC","D5","S1","B3","G1",7,2014,0,9,9]
["DEDUC","D5","S1","B3","G1",8,2014,0,9,9]
["DEDUC","D5","S1","B3","G1",9,2014,0,7,7]
["DEDUC","D5","S1","B3","G1",10,2014,0,7,7]
["DEDUC","D5","S1","B3","G1",11,2014,0,4,4]
["DEDUC","D5","S1","B3","G1",12,2014,0,7,8]
["DEDUC","D5","S1","B3","G2",1,2013,0,2,2]
["DEDUC","D5","S1","B3","G2",2,2013,0,3,4]
["DEDUC","D5","S1","B3","G2",3,2013,0,5,6]
["DEDUC","D5","S1","B3","G2",4,2013,0,7,7]
["DEDUC","D5","S1","B3","G2",5,2013,0,7,8]
["DEDUC","D5","S1","B3","G2",6,2013,0,10,10]
["DEDUC","D5","S1","B3","G2",7,2013,0,13,15]
["DEDUC","D5","S1","B3","G2",8,2013,0,11,11]
["DEDUC","D5","S1","B3","G2",9,2013,0,8,9]
["DEDUC","D5","S1","B3","G2",10,2013,0,6,6]
["DEDUC","D5","S1","B3","G2",11,2013,0,5,5]
["DEDUC","D5","S1","B3","G2",12,2013,0,8,8]
["DEDUC","D5","S1","B3","G2",1,2014,0,2,2]
["DEDUC","D5","S1","B3","G2",2,2014,0,4,4]
["DEDUC","D5","S1","B3","G2",3,2014,0,5,6]
["DEDUC","D5","S1","B3","G2",4,2014,0,6,6]
["DEDUC","D5","S1","B3","G2",5,2014,0,9,10]
["DEDUC","D5","S1","B3","G2",6,2014,0,9,10]
["DEDUC","D5","S1","B3","G2",7,2014,0,11,11]
["DEDUC","D5","S1","B3","G2",8,2014,0,9,10]
["DEDUC","D5","S1","B3","G2",9,2014,0,11,11]
["DEDUC","D5","S1","B3","G2",10,2014,0,7,7]
["DEDUC","D5","S1","B3","G2",11,2014,0,4,4]
["DEDUC","D5","S1","B3","G2",12,2014,0,8,9]
["DEDUC","D5","S1","B3","G3",1,2013,0,2,2]
["DEDUC","D5","S1","B3","G3",2,2013,0,3,3]
["DEDUC","D5","S1","B3","G3",3,2013,0,3,3]
["DEDUC","D5","S1","B3","G3",4,2013,0,4,4]
["DEDUC","D5","S1","B3","G3",5,2013,0,4,4]
["DEDUC","D5","S1","B3","G3",6,2013,0,6,6]
["DEDUC","D5","S1","B3","G3",7,2013,0,8,8]
["DEDUC","D5","S1","B3","G3",8,2013,0,6,6]
["DEDUC","D5","S1","B3","G3",9,2013,0,6,6]
["DEDUC","D5","S1","B3","G3",10,2013,0,5,5]
["DEDUC","D5","S1","B3","G3",11,2013,0,3,3]
["DEDUC","D5","S1","B3","G3",12,2013,0,4,5]
["DEDUC","D5","S1","B3","G3",1,2014,0,2,2]
["DEDUC","D5","S1","B3","G3",2,2014,0,3,3]
["DEDUC","D5","S1","B3","G3",3,2014,0,3,3]
["DEDUC","D5","S1","B3","G3",4,2014,0,5,5]
["DEDUC","D5","S1","B3","G3",5,2014,0,6,6]
["DEDUC","D5","S1","B3","G3",6,2014,0,6,7]
["DEDUC","D5","S1","B3","G3",7,2014,0,7,8]
["DEDUC","D5","S1","B3","G3",8,2014,0,6,7]
["DEDUC","D5","S1","B3","G3",9,2014,0,5,5]
["DEDUC","D5","S1","B3","G3",10,2014,0,5,5]
["DEDUC","D5","S1","B3","G3",11,2014,0,3,3]
["DEDUC","D5","S1","B3","G3",12,2014,0,7,7]
["DEDUC","D5","S1","B3","G4",1,2013,0,1,1]
["DEDUC","D5","S1","B3","G4",2,2013,0,2,2]
["DEDUC","D5","S1","B3","G4",3,2013,0,3,4]
["DEDUC","D5","S1","B3","G4",4,2013,0,3,3]
["DEDUC","D5","S1","B3","G4",5,2013,0,3,3]
["DEDUC","D5","S1","B3","G4",6,2013,0,4,4]
["DEDUC","D5","S1","B3","G4",7,2013,0,7,7]
["DEDUC","D5","S1","B3","G4",8,2013,0,4,4]
["DEDUC","D5","S1","B3","G4",9,2013,0,5,5]
["DEDUC","D5","S1","B3","G4",10,2013,0,3,3]
["DEDUC","D5","S1","B3","G4",11,2013,0,3,3]
["DEDUC","D5","S1","B3","G4",12,2013,0,5,5]
["DEDUC","D5","S1","B3","G4",1,2014,0,2,2]
["DEDUC","D5","S1","B3","G4",2,2014,0,2,2]
["DEDUC","D5","S1","B3","G4",3,2014,0,2,2]
["DEDUC","D5","S1","B3","G4",4,2014,0,3,3]
["DEDUC","D5","S1","B3","G4",5,2014,0,4,4]
["DEDUC","D5","S1","B3","G4",6,2014,0,5,5]
["DEDUC","D5","S1","B3","G4",7,2014,0,6,7]
["DEDUC","D5","S1","B3","G4",8,2014,0,4,4]
["DEDUC","D5","S1","B3","G4",9,2014,0,5,5]
["DEDUC","D5","S1","B3","G4",10,2014,0,4,4]
["DEDUC","D5","S1","B3","G4",11,2014,0,3,3]
["DEDUC","D5","S1","B3","G4",12,2014,0,5,5]
["DEDUC","D5","S1","B3","G5",1,2013,0,1,2]
["DEDUC","D5","S1","B3","G5",2,2013,0,2,2]
["DEDUC","D5","S1","B3","G5",3,2013,0,3,3]
["DEDUC","D5","S1","B3","G5",4,2013,0,5,5]
["DEDUC","D5","S1","B3","G5",5,2013,0,6,7]
["DEDUC","D5","S1","B3","G5",6,2013,0,6,6]
["DEDUC","D5","S1","B3","G5",7,2013,0,7,7]
["DEDUC","D5","S1","B3","G5",8,2013,0,6,6]
["DEDUC","D5","S1","B3","G5",9,2013,0,6,6]
["DEDUC","D5","S1","B3","G5",10,2013,0,4,5]
["DEDUC","D5","S1","B3","G5",11,2013,0,3,3]
["DEDUC","D5","S1","B3","G5",12,2013,0,6,6]
["DEDUC","D5","S1","B3","G5",1,2014,0,2,2]
["DEDUC","D5","S1","B3","G5",2,2014,0,2,2]
["DEDUC","D5","S1","B3","G5",3,2014,0,4,4]
["DEDUC","D5","S1","B3","G5",4,2014,0,3,3]
["DEDUC","D5","S1","B3","G5",5,2014,0,5,5]
["DEDUC","D5","S1","B3","G5",6,2014,0,7,7]
["DEDUC","D5","S1","B3","G5",7,2014,0,8,8]
["DEDUC","D5","S1","B3","G5",8,2014,0,8,9]
["DEDUC","D5","S1","B3","G5",9,2014,0,8,8]
["DEDUC","D5","S1","B3","G5",10,2014,0,5,5]
["DEDUC","D5","S1","B3","G5",11,2014,0,2,2]
["DEDUC","D5","S1","B3","G5",12,2014,0,5,6]
["DEDUC","D5","S2","B1","G1",1,2013,0,16,15]
["DEDUC","D5","S2","B1","G1",2,2013,0,31,32]
["DEDUC","D5","S2","B1","G1",3,2013,0,36,38]
["DEDUC","D5","S2","B1","G1",4,2013,0,38,41]
["DEDUC","D5","S2","B1","G1",5,2013,0,53,54]
["DEDUC","D5","S2","B1","G1",6,2013,0,97,99]
["DEDUC","D5","S2","B1","G1",7,2013,0,96,104]
["DEDUC","D5","S2","B1","G1",8,2013,0,104,104]
["DEDUC","D5","S2","B1","G1",9,2013,0,78,83]
["DEDUC","D5","S2","B1","G1",10,2013,0,54,54]
["DEDUC","D5","S2","B1","G1",11,2013,0,33,37]
["DEDUC","D5","S2","B1","G1",12,2013,0,61,64]
["DEDUC","D5","S2","B1","G1",1,2014,0,11,11]
["DEDUC","D5","S2","B1","G1",2,2014,0,29,30]
["DEDUC","D5","S2","B1","G1",3,2014,0,39,41]
["DEDUC","D5","S2","B1","G1",4,2014,0,50,51]
["DEDUC","D5","S2","B1","G1",5,2014,0,69,72]
["DEDUC","D5","S2","B1","G1",6,2014,0,94,93]
["DEDUC","D5","S2","B1","G1",7,2014,0,115,127]
["DEDUC","D5","S2","B1","G1",8,2014,0,79,82]
["DEDUC","D5","S2","B1","G1",9,2014,0,58,62]
["DEDUC","D5","S2","B1","G1",10,2014,0,57,55]
["DEDUC","D5","S2","B1","G1",11,2014,0,35,35]
["DEDUC","D5","S2","B1","G1",12,2014,0,80,86]
["DEDUC","D5","S2","B1","G2",1,2013,0,15,15]
["DEDUC","D5","S2","B1","G2",2,2013,0,27,29]
["DEDUC","D5","S2","B1","G2",3,2013,0,42,45]
["DEDUC","D5","S2","B1","G2",4,2013,0,73,70]
["DEDUC","D5","S2","B1","G2",5,2013,0,65,68]
["DEDUC","D5","S2","B1","G2",6,2013,0,87,90]
["DEDUC","D5","S2","B1","G2",7,2013,0,131,143]
["DEDUC","D5","S2","B1","G2",8,2013,0,101,103]
["DEDUC","D5","S2","B1","G2",9,2013,0,106,119]
["DEDUC","D5","S2","B1","G2",10,2013,0,83,85]
["DEDUC","D5","S2","B1","G2",11,2013,0,45,46]
["DEDUC","D5","S2","B1","G2",12,2013,0,73,81]
["DEDUC","D5","S2","B1","G2",1,2014,0,15,16]
["DEDUC","D5","S2","B1","G2",2,2014,0,39,37]
["DEDUC","D5","S2","B1","G2",3,2014,0,52,54]
["DEDUC","D5","S2","B1","G2",4,2014,0,53,57]
["DEDUC","D5","S2","B1","G2",5,2014,0,82,88]
["DEDUC","D5","S2","B1","G2",6,2014,0,81,85]
["DEDUC","D5","S2","B1","G2",7,2014,0,109,121]
["DEDUC","D5","S2","B1","G2",8,2014,0,140,145]
["DEDUC","D5","S2","B1","G2",9,2014,0,79,85]
["DEDUC","D5","S2","B1","G2",10,2014,0,77,80]
["DEDUC","D5","S2","B1","G2",11,2014,0,43,47]
["DEDUC","D5","S2","B1","G2",12,2014,0,96,99]
["DEDUC","D5","S2","B1","G3",1,2013,0,10,11]
["DEDUC","D5","S2","B1","G3",2,2013,0,20,21]
["DEDUC","D5","S2","B1","G3",3,2013,0,28,32]
["DEDUC","D5","S2","B1","G3",4,2013,0,44,42]
["DEDUC","D5","S2","B1","G3",5,2013,0,43,44]
["DEDUC","D5","S2","B1","G3",6,2013,0,67,71]
["DEDUC","D5","S2","B1","G3",7,2013,0,74,86]
["DEDUC","D5","S2","B1","G3",8,2013,0,93,94]
["DEDUC","D5","S2","B1","G3",9,2013,0,45,48]
["DEDUC","D5","S2","B1","G3",10,2013,0,42,43]
["DEDUC","D5","S2","B1","G3",11,2013,0,25,24]
["DEDUC","D5","S2","B1","G3",12,2013,0,48,52]
["DEDUC","D5","S2","B1","G3",1,2014,0,12,13]
["DEDUC","D5","S2","B1","G3",2,2014,0,24,25]
["DEDUC","D5","S2","B1","G3",3,2014,0,31,34]
["DEDUC","D5","S2","B1","G3",4,2014,0,35,37]
["DEDUC","D5","S2","B1","G3",5,2014,0,47,50]
["DEDUC","D5","S2","B1","G3",6,2014,0,72,75]
["DEDUC","D5","S2","B1","G3",7,2014,0,70,79]
["DEDUC","D5","S2","B1","G3",8,2014,0,74,80]
["DEDUC","D5","S2","B1","G3",9,2014,0,52,52]
["DEDUC","D5","S2","B1","G3",10,2014,0,49,49]
["DEDUC","D5","S2","B1","G3",11,2014,0,23,25]
["DEDUC","D5","S2","B1","G3",12,2014,0,55,56]
["DEDUC","D5","S2","B1","G4",1,2013,0,7,7]
["DEDUC","D5","S2","B1","G4",2,2013,0,18,18]
["DEDUC","D5","S2","B1","G4",3,2013,0,20,22]
["DEDUC","D5","S2","B1","G4",4,2013,0,26,28]
["DEDUC","D5","S2","B1","G4",5,2013,0,37,40]
["DEDUC","D5","S2","B1","G4",6,2013,0,49,50]
["DEDUC","D5","S2","B1","G4",7,2013,0,45,47]
["DEDUC","D5","S2","B1","G4",8,2013,0,55,58]
["DEDUC","D5","S2","B1","G4",9,2013,0,43,43]
["DEDUC","D5","S2","B1","G4",10,2013,0,24,27]
["DEDUC","D5","S2","B1","G4",11,2013,0,18,18]
["DEDUC","D5","S2","B1","G4",12,2013,0,36,38]
["DEDUC","D5","S2","B1","G4",1,2014,0,10,11]
["DEDUC","D5","S2","B1","G4",2,2014,0,12,13]
["DEDUC","D5","S2","B1","G4",3,2014,0,28,29]
["DEDUC","D5","S2","B1","G4",4,2014,0,24,26]
["DEDUC","D5","S2","B1","G4",5,2014,0,33,36]
["DEDUC","D5","S2","B1","G4",6,2014,0,38,40]
["DEDUC","D5","S2","B1","G4",7,2014,0,58,59]
["DEDUC","D5","S2","B1","G4",8,2014,0,49,48]
["DEDUC","D5","S2","B1","G4",9,2014,0,43,47]
["DEDUC","D5","S2","B1","G4",10,2014,0,26,28]
["DEDUC","D5","S2","B1","G4",11,2014,0,17,17]
["DEDUC","D5","S2","B1","G4",12,2014,0,34,36]
["DEDUC","D5","S2","B1","G5",1,2013,0,11,12]
["DEDUC","D5","S2","B1","G5",2,2013,0,17,17]
["DEDUC","D5","S2","B1","G5",3,2013,0,25,25]
["DEDUC","D5","S2","B1","G5",4,2013,0,37,38]
["DEDUC","D5","S2","B1","G5",5,2013,0,50,52]
["DEDUC","D5","S2","B1","G5",6,2013,0,50,50]
["DEDUC","D5","S2","B1","G5",7,2013,0,72,76]
["DEDUC","D5","S2","B1","G5",8,2013,0,67,71]
["DEDUC","D5","S2","B1","G5",9,2013,0,44,47]
["DEDUC","D5","S2","B1","G5",10,2013,0,35,35]
["DEDUC","D5","S2","B1","G5",11,2013,0,26,29]
["DEDUC","D5","S2","B1","G5",12,2013,0,52,52]
["DEDUC","D5","S2","B1","G5",1,2014,0,11,12]
["DEDUC","D5","S2","B1","G5",2,2014,0,20,23]
["DEDUC","D5","S2","B1","G5",3,2014,0,25,26]
["DEDUC","D5","S2","B1","G5",4,2014,0,33,35]
["DEDUC","D5","S2","B1","G5",5,2014,0,35,36]
["DEDUC","D5","S2","B1","G5",6,2014,0,54,56]
["DEDUC","D5","S2","B1","G5",7,2014,0,81,91]
["DEDUC","D5","S2","B1","G5",8,2014,0,80,86]
["DEDUC","D5","S2","B1","G5",9,2014,0,51,52]
["DEDUC","D5","S2","B1","G5",10,2014,0,34,37]
["DEDUC","D5","S2","B1","G5",11,2014,0,25,26]
["DEDUC","D5","S2","B1","G5",12,2014,0,46,49]
["DEDUC","D5","S2","B2","G1",1,2013,0,4,4]
["DEDUC","D5","S2","B2","G1",2,2013,0,8,9]
["DEDUC","D5","S2","B2","G1",3,2013,0,12,12]
["DEDUC","D5","S2","B2","G1",4,2013,0,12,13]
["DEDUC","D5","S2","B2","G1",5,2013,0,14,14]
["DEDUC","D5","S2","B2","G1",6,2013,0,26,29]
["DEDUC","D5","S2","B2","G1",7,2013,0,28,31]
["DEDUC","D5","S2","B2","G1",8,2013,0,28,29]
["DEDUC","D5","S2","B2","G1",9,2013,0,19,20]
["DEDUC","D5","S2","B2","G1",10,2013,0,21,20]
["DEDUC","D5","S2","B2","G1",11,2013,0,8,9]
["DEDUC","D5","S2","B2","G1",12,2013,0,27,28]
["DEDUC","D5","S2","B2","G1",1,2014,0,4,4]
["DEDUC","D5","S2","B2","G1",2,2014,0,11,11]
["DEDUC","D5","S2","B2","G1",3,2014,0,14,15]
["DEDUC","D5","S2","B2","G1",4,2014,0,14,15]
["DEDUC","D5","S2","B2","G1",5,2014,0,16,17]
["DEDUC","D5","S2","B2","G1",6,2014,0,19,21]
["DEDUC","D5","S2","B2","G1",7,2014,0,28,28]
["DEDUC","D5","S2","B2","G1",8,2014,0,35,34]
["DEDUC","D5","S2","B2","G1",9,2014,0,23,24]
["DEDUC","D5","S2","B2","G1",10,2014,0,19,20]
["DEDUC","D5","S2","B2","G1",11,2014,0,10,10]
["DEDUC","D5","S2","B2","G1",12,2014,0,25,27]
["DEDUC","D5","S2","B2","G2",1,2013,0,5,6]
["DEDUC","D5","S2","B2","G2",2,2013,0,9,9]
["DEDUC","D5","S2","B2","G2",3,2013,0,15,16]
["DEDUC","D5","S2","B2","G2",4,2013,0,18,18]
["DEDUC","D5","S2","B2","G2",5,2013,0,19,21]
["DEDUC","D5","S2","B2","G2",6,2013,0,24,26]
["DEDUC","D5","S2","B2","G2",7,2013,0,29,30]
["DEDUC","D5","S2","B2","G2",8,2013,0,29,30]
["DEDUC","D5","S2","B2","G2",9,2013,0,24,24]
["DEDUC","D5","S2","B2","G2",10,2013,0,20,20]
["DEDUC","D5","S2","B2","G2",11,2013,0,14,15]
["DEDUC","D5","S2","B2","G2",12,2013,0,20,21]
["DEDUC","D5","S2","B2","G2",1,2014,0,6,6]
["DEDUC","D5","S2","B2","G2",2,2014,0,12,13]
["DEDUC","D5","S2","B2","G2",3,2014,0,14,15]
["DEDUC","D5","S2","B2","G2",4,2014,0,15,16]
["DEDUC","D5","S2","B2","G2",5,2014,0,17,18]
["DEDUC","D5","S2","B2","G2",6,2014,0,26,28]
["DEDUC","D5","S2","B2","G2",7,2014,0,33,35]
["DEDUC","D5","S2","B2","G2",8,2014,0,41,40]
["DEDUC","D5","S2","B2","G2",9,2014,0,26,26]
["DEDUC","D5","S2","B2","G2",10,2014,0,22,24]
["DEDUC","D5","S2","B2","G2",11,2014,0,12,13]
["DEDUC","D5","S2","B2","G2",12,2014,0,20,22]
["DEDUC","D5","S2","B2","G3",1,2013,0,3,3]
["DEDUC","D5","S2","B2","G3",2,2013,0,6,6]
["DEDUC","D5","S2","B2","G3",3,2013,0,8,8]
["DEDUC","D5","S2","B2","G3",4,2013,0,14,14]
["DEDUC","D5","S2","B2","G3",5,2013,0,12,12]
["DEDUC","D5","S2","B2","G3",6,2013,0,14,15]
["DEDUC","D5","S2","B2","G3",7,2013,0,29,32]
["DEDUC","D5","S2","B2","G3",8,2013,0,26,27]
["DEDUC","D5","S2","B2","G3",9,2013,0,20,21]
["DEDUC","D5","S2","B2","G3",10,2013,0,10,11]
["DEDUC","D5","S2","B2","G3",11,2013,0,6,6]
["DEDUC","D5","S2","B2","G3",12,2013,0,13,14]
["DEDUC","D5","S2","B2","G3",1,2014,0,4,4]
["DEDUC","D5","S2","B2","G3",2,2014,0,8,8]
["DEDUC","D5","S2","B2","G3",3,2014,0,9,10]
["DEDUC","D5","S2","B2","G3",4,2014,0,10,10]
["DEDUC","D5","S2","B2","G3",5,2014,0,15,16]
["DEDUC","D5","S2","B2","G3",6,2014,0,20,19]
["DEDUC","D5","S2","B2","G3",7,2014,0,18,18]
["DEDUC","D5","S2","B2","G3",8,2014,0,23,26]
["DEDUC","D5","S2","B2","G3",9,2014,0,19,20]
["DEDUC","D5","S2","B2","G3",10,2014,0,11,11]
["DEDUC","D5","S2","B2","G3",11,2014,0,9,9]
["DEDUC","D5","S2","B2","G3",12,2014,0,15,15]
["DEDUC","D5","S2","B2","G4",1,2013,0,3,3]
["DEDUC","D5","S2","B2","G4",2,2013,0,6,6]
["DEDUC","D5","S2","B2","G4",3,2013,0,8,8]
["DEDUC","D5","S2","B2","G4",4,2013,0,7,8]
["DEDUC","D5","S2","B2","G4",5,2013,0,10,10]
["DEDUC","D5","S2","B2","G4",6,2013,0,13,13]
["DEDUC","D5","S2","B2","G4",7,2013,0,16,17]
["DEDUC","D5","S2","B2","G4",8,2013,0,17,17]
["DEDUC","D5","S2","B2","G4",9,2013,0,8,9]
["DEDUC","D5","S2","B2","G4",10,2013,0,9,9]
["DEDUC","D5","S2","B2","G4",11,2013,0,7,7]
["DEDUC","D5","S2","B2","G4",12,2013,0,12,12]
["DEDUC","D5","S2","B2","G4",1,2014,0,3,3]
["DEDUC","D5","S2","B2","G4",2,2014,0,5,5]
["DEDUC","D5","S2","B2","G4",3,2014,0,7,7]
["DEDUC","D5","S2","B2","G4",4,2014,0,8,8]
["DEDUC","D5","S2","B2","G4",5,2014,0,9,10]
["DEDUC","D5","S2","B2","G4",6,2014,0,15,15]
["DEDUC","D5","S2","B2","G4",7,2014,0,14,15]
["DEDUC","D5","S2","B2","G4",8,2014,0,18,18]
["DEDUC","D5","S2","B2","G4",9,2014,0,14,15]
["DEDUC","D5","S2","B2","G4",10,2014,0,7,8]
["DEDUC","D5","S2","B2","G4",11,2014,0,6,6]
["DEDUC","D5","S2","B2","G4",12,2014,0,13,14]
["DEDUC","D5","S2","B2","G5",1,2013,0,3,4]
["DEDUC","D5","S2","B2","G5",2,2013,0,5,6]
["DEDUC","D5","S2","B2","G5",3,2013,0,9,9]
["DEDUC","D5","S2","B2","G5",4,2013,0,7,8]
["DEDUC","D5","S2","B2","G5",5,2013,0,15,16]
["DEDUC","D5","S2","B2","G5",6,2013,0,12,12]
["DEDUC","D5","S2","B2","G5",7,2013,0,17,17]
["DEDUC","D5","S2","B2","G5",8,2013,0,16,17]
["DEDUC","D5","S2","B2","G5",9,2013,0,15,15]
["DEDUC","D5","S2","B2","G5",10,2013,0,13,13]
["DEDUC","D5","S2","B2","G5",11,2013,0,9,9]
["DEDUC","D5","S2","B2","G5",12,2013,0,17,17]
["DEDUC","D5","S2","B2","G5",1,2014,0,3,3]
["DEDUC","D5","S2","B2","G5",2,2014,0,6,6]
["DEDUC","D5","S2","B2","G5",3,2014,0,12,12]
["DEDUC","D5","S2","B2","G5",4,2014,0,12,13]
["DEDUC","D5","S2","B2","G5",5,2014,0,12,13]
["DEDUC","D5","S2","B2","G5",6,2014,0,19,20]
["DEDUC","D5","S2","B2","G5",7,2014,0,21,21]
["DEDUC","D5","S2","B2","G5",8,2014,0,20,21]
["DEDUC","D5","S2","B2","G5",9,2014,0,15,16]
["DEDUC","D5","S2","B2","G5",10,2014,0,14,14]
["DEDUC","D5","S2","B2","G5",11,2014,0,9,9]
["DEDUC","D5","S2","B2","G5",12,2014,0,16,16]
["DEDUC","D5","S2","B3","G1",1,2013,0,2,2]
["DEDUC","D5","S2","B3","G1",2,2013,0,4,4]
["DEDUC","D5","S2","B3","G1",3,2013,0,6,6]
["DEDUC","D5","S2","B3","G1",4,2013,0,6,7]
["DEDUC","D5","S2","B3","G1",5,2013,0,10,10]
["DEDUC","D5","S2","B3","G1",6,2013,0,10,10]
["DEDUC","D5","S2","B3","G1",7,2013,0,16,16]
["DEDUC","D5","S2","B3","G1",8,2013,0,15,16]
["DEDUC","D5","S2","B3","G1",9,2013,0,11,11]
["DEDUC","D5","S2","B3","G1",10,2013,0,9,10]
["DEDUC","D5","S2","B3","G1",11,2013,0,5,6]
["DEDUC","D5","S2","B3","G1",12,2013,0,12,13]
["DEDUC","D5","S2","B3","G1",1,2014,0,3,3]
["DEDUC","D5","S2","B3","G1",2,2014,0,4,5]
["DEDUC","D5","S2","B3","G1",3,2014,0,6,7]
["DEDUC","D5","S2","B3","G1",4,2014,0,7,7]
["DEDUC","D5","S2","B3","G1",5,2014,0,10,11]
["DEDUC","D5","S2","B3","G1",6,2014,0,12,12]
["DEDUC","D5","S2","B3","G1",7,2014,0,14,15]
["DEDUC","D5","S2","B3","G1",8,2014,0,15,15]
["DEDUC","D5","S2","B3","G1",9,2014,0,11,12]
["DEDUC","D5","S2","B3","G1",10,2014,0,8,9]
["DEDUC","D5","S2","B3","G1",11,2014,0,5,6]
["DEDUC","D5","S2","B3","G1",12,2014,0,11,12]
["DEDUC","D5","S2","B3","G2",1,2013,0,4,4]
["DEDUC","D5","S2","B3","G2",2,2013,0,5,5]
["DEDUC","D5","S2","B3","G2",3,2013,0,9,9]
["DEDUC","D5","S2","B3","G2",4,2013,0,9,10]
["DEDUC","D5","S2","B3","G2",5,2013,0,10,11]
["DEDUC","D5","S2","B3","G2",6,2013,0,13,15]
["DEDUC","D5","S2","B3","G2",7,2013,0,20,21]
["DEDUC","D5","S2","B3","G2",8,2013,0,13,14]
["DEDUC","D5","S2","B3","G2",9,2013,0,11,12]
["DEDUC","D5","S2","B3","G2",10,2013,0,11,11]
["DEDUC","D5","S2","B3","G2",11,2013,0,6,7]
["DEDUC","D5","S2","B3","G2",12,2013,0,12,12]
["DEDUC","D5","S2","B3","G2",1,2014,0,3,3]
["DEDUC","D5","S2","B3","G2",2,2014,0,5,5]
["DEDUC","D5","S2","B3","G2",3,2014,0,8,9]
["DEDUC","D5","S2","B3","G2",4,2014,0,8,8]
["DEDUC","D5","S2","B3","G2",5,2014,0,10,11]
["DEDUC","D5","S2","B3","G2",6,2014,0,13,14]
["DEDUC","D5","S2","B3","G2",7,2014,0,20,22]
["DEDUC","D5","S2","B3","G2",8,2014,0,17,19]
["DEDUC","D5","S2","B3","G2",9,2014,0,12,13]
["DEDUC","D5","S2","B3","G2",10,2014,0,10,10]
["DEDUC","D5","S2","B3","G2",11,2014,0,7,7]
["DEDUC","D5","S2","B3","G2",12,2014,0,14,15]
["DEDUC","D5","S2","B3","G3",1,2013,0,2,2]
["DEDUC","D5","S2","B3","G3",2,2013,0,4,4]
["DEDUC","D5","S2","B3","G3",3,2013,0,4,5]
["DEDUC","D5","S2","B3","G3",4,2013,0,7,7]
["DEDUC","D5","S2","B3","G3",5,2013,0,6,6]
["DEDUC","D5","S2","B3","G3",6,2013,0,8,8]
["DEDUC","D5","S2","B3","G3",7,2013,0,11,12]
["DEDUC","D5","S2","B3","G3",8,2013,0,12,12]
["DEDUC","D5","S2","B3","G3",9,2013,0,7,8]
["DEDUC","D5","S2","B3","G3",10,2013,0,6,6]
["DEDUC","D5","S2","B3","G3",11,2013,0,5,5]
["DEDUC","D5","S2","B3","G3",12,2013,0,10,11]
["DEDUC","D5","S2","B3","G3",1,2014,0,2,2]
["DEDUC","D5","S2","B3","G3",2,2014,0,3,3]
["DEDUC","D5","S2","B3","G3",3,2014,0,6,6]
["DEDUC","D5","S2","B3","G3",4,2014,0,5,6]
["DEDUC","D5","S2","B3","G3",5,2014,0,8,8]
["DEDUC","D5","S2","B3","G3",6,2014,0,9,9]
["DEDUC","D5","S2","B3","G3",7,2014,0,12,12]
["DEDUC","D5","S2","B3","G3",8,2014,0,11,11]
["DEDUC","D5","S2","B3","G3",9,2014,0,7,7]
["DEDUC","D5","S2","B3","G3",10,2014,0,6,7]
["DEDUC","D5","S2","B3","G3",11,2014,0,4,4]
["DEDUC","D5","S2","B3","G3",12,2014,0,9,10]
["DEDUC","D5","S2","B3","G4",1,2013,0,2,2]
["DEDUC","D5","S2","B3","G4",2,2013,0,3,3]
["DEDUC","D5","S2","B3","G4",3,2013,0,3,4]
["DEDUC","D5","S2","B3","G4",4,2013,0,4,4]
["DEDUC","D5","S2","B3","G4",5,2013,0,5,5]
["DEDUC","D5","S2","B3","G4",6,2013,0,6,6]
["DEDUC","D5","S2","B3","G4",7,2013,0,8,8]
["DEDUC","D5","S2","B3","G4",8,2013,0,9,8]
["DEDUC","D5","S2","B3","G4",9,2013,0,6,6]
["DEDUC","D5","S2","B3","G4",10,2013,0,5,5]
["DEDUC","D5","S2","B3","G4",11,2013,0,3,3]
["DEDUC","D5","S2","B3","G4",12,2013,0,7,7]
["DEDUC","D5","S2","B3","G4",1,2014,0,2,2]
["DEDUC","D5","S2","B3","G4",2,2014,0,3,3]
["DEDUC","D5","S2","B3","G4",3,2014,0,4,4]
["DEDUC","D5","S2","B3","G4",4,2014,0,4,4]
["DEDUC","D5","S2","B3","G4",5,2014,0,5,5]
["DEDUC","D5","S2","B3","G4",6,2014,0,7,7]
["DEDUC","D5","S2","B3","G4",7,2014,0,7,8]
["DEDUC","D5","S2","B3","G4",8,2014,0,6,6]
["DEDUC","D5","S2","B3","G4",9,2014,0,6,6]
["DEDUC","D5","S2","B3","G4",10,2014,0,5,5]
["DEDUC","D5","S2","B3","G4",11,2014,0,3,4]
["DEDUC","D5","S2","B3","G4",12,2014,0,6,7]
["DEDUC","D5","S2","B3","G5",1,2013,0,2,2]
["DEDUC","D5","S2","B3","G5",2,2013,0,3,4]
["DEDUC","D5","S2","B3","G5",3,2013,0,5,5]
["DEDUC","D5","S2","B3","G5",4,2013,0,5,6]
["DEDUC","D5","S2","B3","G5",5,2013,0,7,8]
["DEDUC","D5","S2","B3","G5",6,2013,0,8,8]
["DEDUC","D5","S2","B3","G5",7,2013,0,12,11]
["DEDUC","D5","S2","B3","G5",8,2013,0,10,10]
["DEDUC","D5","S2","B3","G5",9,2013,0,9,9]
["DEDUC","D5","S2","B3","G5",10,2013,0,5,5]
["DEDUC","D5","S2","B3","G5",11,2013,0,4,4]
["DEDUC","D5","S2","B3","G5",12,2013,0,8,8]
["DEDUC","D5","S2","B3","G5",1,2014,0,2,2]
["DEDUC","D5","S2","B3","G5",2,2014,0,3,3]
["DEDUC","D5","S2","B3","G5",3,2014,0,4,4]
["DEDUC","D5","S2","B3","G5",4,2014,0,5,5]
["DEDUC","D5","S2","B3","G5",5,2014,0,6,7]
["DEDUC","D5","S2","B3","G5",6,2014,0,8,9]
["DEDUC","D5","S2","B3","G5",7,2014,0,11,12]
["DEDUC","D5","S2","B3","G5",8,2014,0,10,11]
["DEDUC","D5","S2","B3","G5",9,2014,0,9,9]
["DEDUC","D5","S2","B3","G5",10,2014,0,7,7]
["DEDUC","D5","S2","B3","G5",11,2014,0,4,5]
["DEDUC","D5","S2","B3","G5",12,2014,0,7,8]
["GRREV","ALL","S1","B1","G1",1,2013,0,1151,1278]
["GRREV","ALL","S1","B1","G1",2,2013,0,2042,2246]
["GRREV","ALL","S1","B1","G1",3,2013,0,4115,4351]
["GRREV","ALL","S1","B1","G1",4,2013,0,4016,4046]
["GRREV","ALL","S1","B1","G1",5,2013,0,8045,7967]
["GRREV","ALL","S1","B1","G1",6,2013,0,9637,10317]
["GRREV","ALL","S1","B1","G1",7,2013,0,7749,8186]
["GRREV","ALL","S1","B1","G1",8,2013,0,9829,10971]
["GRREV","ALL","S1","B1","G1",9,2013,0,7961,8356]
["GRREV","ALL","S1","B1","G1",10,2013,0,4583,4767]
["GRREV","ALL","S1","B1","G1",11,2013,0,4507,4523]
["GRREV","ALL","S1","B1","G1",12,2013,0,4635,5212]
["GRREV","ALL","S1","B1","G1",1,2014,0,1069,1210]
["GRREV","ALL","S1","B1","G1",2,2014,0,2100,2212]
["GRREV","ALL","S1","B1","G1",3,2014,0,4181,4341]
["GRREV","ALL","S1","B1","G1",4,2014,0,5351,5391]
["GRREV","ALL","S1","B1","G1",5,2014,0,7772,7928]
["GRREV","ALL","S1","B1","G1",6,2014,0,6724,7140]
["GRREV","ALL","S1","B1","G1",7,2014,0,12133,13201]
["GRREV","ALL","S1","B1","G1",8,2014,0,11574,12057]
["GRREV","ALL","S1","B1","G1",9,2014,0,6521,6770]
["GRREV","ALL","S1","B1","G1",10,2014,0,5303,5319]
["GRREV","ALL","S1","B1","G1",11,2014,0,3388,3478]
["GRREV","ALL","S1","B1","G1",12,2014,0,7772,8583]
["GRREV","ALL","S1","B1","G2",1,2013,0,1749,1772]
["GRREV","ALL","S1","B1","G2",2,2013,0,3140,3389]
["GRREV","ALL","S1","B1","G2",3,2013,0,4136,4435]
["GRREV","ALL","S1","B1","G2",4,2013,0,4311,4589]
["GRREV","ALL","S1","B1","G2",5,2013,0,6876,6989]
["GRREV","ALL","S1","B1","G2",6,2013,0,11476,11606]
["GRREV","ALL","S1","B1","G2",7,2013,0,13702,14139]
["GRREV","ALL","S1","B1","G2",8,2013,0,15364,15754]
["GRREV","ALL","S1","B1","G2",9,2013,0,8110,8176]
["GRREV","ALL","S1","B1","G2",10,2013,0,8392,8638]
["GRREV","ALL","S1","B1","G2",11,2013,0,4695,5201]
["GRREV","ALL","S1","B1","G2",12,2013,0,9590,10474]
["GRREV","ALL","S1","B1","G2",1,2014,0,1409,1536]
["GRREV","ALL","S1","B1","G2",2,2014,0,3133,3179]
["GRREV","ALL","S1","B1","G2",3,2014,0,6336,6259]
["GRREV","ALL","S1","B1","G2",4,2014,0,6213,6422]
["GRREV","ALL","S1","B1","G2",5,2014,0,6984,7962]
["GRREV","ALL","S1","B1","G2",6,2014,0,11934,12486]
["GRREV","ALL","S1","B1","G2",7,2014,0,8535,9397]
["GRREV","ALL","S1","B1","G2",8,2014,0,11491,12034]
["GRREV","ALL","S1","B1","G2",9,2014,0,11745,13022]
["GRREV","ALL","S1","B1","G2",10,2014,0,7412,8096]
["GRREV","ALL","S1","B1","G2",11,2014,0,3902,4350]
["GRREV","ALL","S1","B1","G2",12,2014,0,10988,11550]
["GRREV","ALL","S1","B1","G3",1,2013,0,1336,1454]
["GRREV","ALL","S1","B1","G3",2,2013,0,2194,2441]
["GRREV","ALL","S1","B1","G3",3,2013,0,3501,3881]
["GRREV","ALL","S1","B1","G3",4,2013,0,4454,4844]
["GRREV","ALL","S1","B1","G3",5,2013,0,4923,5112]
["GRREV","ALL","S1","B1","G3",6,2013,0,5890,6278]
["GRREV","ALL","S1","B1","G3",7,2013,0,6309,6840]
["GRREV","ALL","S1","B1","G3",8,2013,0,6279,7100]
["GRREV","ALL","S1","B1","G3",9,2013,0,6140,6559]
["GRREV","ALL","S1","B1","G3",10,2013,0,5372,5640]
["GRREV","ALL","S1","B1","G3",11,2013,0,2993,3335]
["GRREV","ALL","S1","B1","G3",12,2013,0,7053,7424]
["GRREV","ALL","S1","B1","G3",1,2014,0,1231,1337]
["GRREV","ALL","S1","B1","G3",2,2014,0,1669,1711]
["GRREV","ALL","S1","B1","G3",3,2014,0,3236,3665]
["GRREV","ALL","S1","B1","G3",4,2014,0,2729,2791]
["GRREV","ALL","S1","B1","G3",5,2014,0,5331,5716]
["GRREV","ALL","S1","B1","G3",6,2014,0,7028,7012]
["GRREV","ALL","S1","B1","G3",7,2014,0,8149,8336]
["GRREV","ALL","S1","B1","G3",8,2014,0,7641,7834]
["GRREV","ALL","S1","B1","G3",9,2014,0,4718,4938]
["GRREV","ALL","S1","B1","G3",10,2014,0,5566,5486]
["GRREV","ALL","S1","B1","G3",11,2014,0,3022,3272]
["GRREV","ALL","S1","B1","G3",12,2014,0,8266,8654]
["GRREV","ALL","S1","B1","G4",1,2013,0,652,691]
["GRREV","ALL","S1","B1","G4",2,2013,0,1126,1176]
["GRREV","ALL","S1","B1","G4",3,2013,0,2359,2305]
["GRREV","ALL","S1","B1","G4",4,2013,0,2771,2719]
["GRREV","ALL","S1","B1","G4",5,2013,0,2531,2674]
["GRREV","ALL","S1","B1","G4",6,2013,0,5217,5533]
["GRREV","ALL","S1","B1","G4",7,2013,0,5674,5871]
["GRREV","ALL","S1","B1","G4",8,2013,0,5593,5777]
["GRREV","ALL","S1","B1","G4",9,2013,0,3281,3231]
["GRREV","ALL","S1","B1","G4",10,2013,0,3677,3730]
["GRREV","ALL","S1","B1","G4",11,2013,0,1792,1889]
["GRREV","ALL","S1","B1","G4",12,2013,0,4736,5127]
["GRREV","ALL","S1","B1","G4",1,2014,0,798,797]
["GRREV","ALL","S1","B1","G4",2,2014,0,1156,1136]
["GRREV","ALL","S1","B1","G4",3,2014,0,1946,2002]
["GRREV","ALL","S1","B1","G4",4,2014,0,3712,3791]
["GRREV","ALL","S1","B1","G4",5,2014,0,3637,3775]
["GRREV","ALL","S1","B1","G4",6,2014,0,5537,5557]
["GRREV","ALL","S1","B1","G4",7,2014,0,5437,5363]
["GRREV","ALL","S1","B1","G4",8,2014,0,4139,3982]
["GRREV","ALL","S1","B1","G4",9,2014,0,4286,4862]
["GRREV","ALL","S1","B1","G4",10,2014,0,3216,3319]
["GRREV","ALL","S1","B1","G4",11,2014,0,2582,2791]
["GRREV","ALL","S1","B1","G4",12,2014,0,4508,4724]
["GRREV","ALL","S1","B1","G5",1,2013,0,1020,1112]
["GRREV","ALL","S1","B1","G5",2,2013,0,2499,2553]
["GRREV","ALL","S1","B1","G5",3,2013,0,1989,2070]
["GRREV","ALL","S1","B1","G5",4,2013,0,2909,3009]
["GRREV","ALL","S1","B1","G5",5,2013,0,4793,5069]
["GRREV","ALL","S1","B1","G5",6,2013,0,4753,5003]
["GRREV","ALL","S1","B1","G5",7,2013,0,6388,7024]
["GRREV","ALL","S1","B1","G5",8,2013,0,6354,6935]
["GRREV","ALL","S1","B1","G5",9,2013,0,6224,6491]
["GRREV","ALL","S1","B1","G5",10,2013,0,3941,4024]
["GRREV","ALL","S1","B1","G5",11,2013,0,2634,2764]
["GRREV","ALL","S1","B1","G5",12,2013,0,6355,6879]
["GRREV","ALL","S1","B1","G5",1,2014,0,1132,1252]
["GRREV","ALL","S1","B1","G5",2,2014,0,2089,2261]
["GRREV","ALL","S1","B1","G5",3,2014,0,3807,4318]
["GRREV","ALL","S1","B1","G5",4,2014,0,3894,3839]
["GRREV","ALL","S1","B1","G5",5,2014,0,4055,4358]
["GRREV","ALL","S1","B1","G5",6,2014,0,6124,5971]
["GRREV","ALL","S1","B1","G5",7,2014,0,7960,8570]
["GRREV","ALL","S1","B1","G5",8,2014,0,6129,6702]
["GRREV","ALL","S1","B1","G5",9,2014,0,5835,6355]
["GRREV","ALL","S1","B1","G5",10,2014,0,3940,4209]
["GRREV","ALL","S1","B1","G5",11,2014,0,2120,2286]
["GRREV","ALL","S1","B1","G5",12,2014,0,6087,6478]
["GRREV","ALL","S1","B2","G1",1,2013,0,394,402]
["GRREV","ALL","S1","B2","G1",2,2013,0,749,765]
["GRREV","ALL","S1","B2","G1",3,2013,0,1209,1261]
["GRREV","ALL","S1","B2","G1",4,2013,0,1053,1171]
["GRREV","ALL","S1","B2","G1",5,2013,0,1329,1363]
["GRREV","ALL","S1","B2","G1",6,2013,0,1898,1976]
["GRREV","ALL","S1","B2","G1",7,2013,0,2762,2802]
["GRREV","ALL","S1","B2","G1",8,2013,0,4231,4901]
["GRREV","ALL","S1","B2","G1",9,2013,0,1372,1498]
["GRREV","ALL","S1","B2","G1",10,2013,0,1145,1183]
["GRREV","ALL","S1","B2","G1",11,2013,0,1104,1180]
["GRREV","ALL","S1","B2","G1",12,2013,0,2454,2689]
["GRREV","ALL","S1","B2","G1",1,2014,0,331,375]
["GRREV","ALL","S1","B2","G1",2,2014,0,595,679]
["GRREV","ALL","S1","B2","G1",3,2014,0,1182,1249]
["GRREV","ALL","S1","B2","G1",4,2014,0,1335,1348]
["GRREV","ALL","S1","B2","G1",5,2014,0,2760,2999]
["GRREV","ALL","S1","B2","G1",6,2014,0,2792,2834]
["GRREV","ALL","S1","B2","G1",7,2014,0,3092,3207]
["GRREV","ALL","S1","B2","G1",8,2014,0,3566,3758]
["GRREV","ALL","S1","B2","G1",9,2014,0,2565,2721]
["GRREV","ALL","S1","B2","G1",10,2014,0,1901,1952]
["GRREV","ALL","S1","B2","G1",11,2014,0,1184,1238]
["GRREV","ALL","S1","B2","G1",12,2014,0,1833,1924]
["GRREV","ALL","S1","B2","G2",1,2013,0,496,511]
["GRREV","ALL","S1","B2","G2",2,2013,0,905,1007]
["GRREV","ALL","S1","B2","G2",3,2013,0,1297,1398]
["GRREV","ALL","S1","B2","G2",4,2013,0,1742,1693]
["GRREV","ALL","S1","B2","G2",5,2013,0,1879,1919]
["GRREV","ALL","S1","B2","G2",6,2013,0,2663,2696]
["GRREV","ALL","S1","B2","G2",7,2013,0,2936,3341]
["GRREV","ALL","S1","B2","G2",8,2013,0,2990,2919]
["GRREV","ALL","S1","B2","G2",9,2013,0,2587,2715]
["GRREV","ALL","S1","B2","G2",10,2013,0,2757,2887]
["GRREV","ALL","S1","B2","G2",11,2013,0,1513,1498]
["GRREV","ALL","S1","B2","G2",12,2013,0,2276,2328]
["GRREV","ALL","S1","B2","G2",1,2014,0,379,400]
["GRREV","ALL","S1","B2","G2",2,2014,0,1079,1112]
["GRREV","ALL","S1","B2","G2",3,2014,0,1606,1711]
["GRREV","ALL","S1","B2","G2",4,2014,0,1228,1280]
["GRREV","ALL","S1","B2","G2",5,2014,0,2071,2144]
["GRREV","ALL","S1","B2","G2",6,2014,0,4543,4605]
["GRREV","ALL","S1","B2","G2",7,2014,0,4288,4369]
["GRREV","ALL","S1","B2","G2",8,2014,0,3817,3969]
["GRREV","ALL","S1","B2","G2",9,2014,0,3486,3876]
["GRREV","ALL","S1","B2","G2",10,2014,0,2031,2116]
["GRREV","ALL","S1","B2","G2",11,2014,0,1631,1754]
["GRREV","ALL","S1","B2","G2",12,2014,0,2775,2968]
["GRREV","ALL","S1","B2","G3",1,2013,0,293,305]
["GRREV","ALL","S1","B2","G3",2,2013,0,602,625]
["GRREV","ALL","S1","B2","G3",3,2013,0,646,701]
["GRREV","ALL","S1","B2","G3",4,2013,0,1332,1383]
["GRREV","ALL","S1","B2","G3",5,2013,0,1383,1348]
["GRREV","ALL","S1","B2","G3",6,2013,0,2091,2055]
["GRREV","ALL","S1","B2","G3",7,2013,0,2508,2802]
["GRREV","ALL","S1","B2","G3",8,2013,0,1597,1775]
["GRREV","ALL","S1","B2","G3",9,2013,0,2206,2252]
["GRREV","ALL","S1","B2","G3",10,2013,0,983,1041]
["GRREV","ALL","S1","B2","G3",11,2013,0,835,884]
["GRREV","ALL","S1","B2","G3",12,2013,0,1771,1863]
["GRREV","ALL","S1","B2","G3",1,2014,0,327,354]
["GRREV","ALL","S1","B2","G3",2,2014,0,747,806]
["GRREV","ALL","S1","B2","G3",3,2014,0,908,921]
["GRREV","ALL","S1","B2","G3",4,2014,0,1111,1163]
["GRREV","ALL","S1","B2","G3",5,2014,0,1160,1251]
["GRREV","ALL","S1","B2","G3",6,2014,0,1663,1726]
["GRREV","ALL","S1","B2","G3",7,2014,0,2039,2102]
["GRREV","ALL","S1","B2","G3",8,2014,0,1712,1679]
["GRREV","ALL","S1","B2","G3",9,2014,0,2282,2301]
["GRREV","ALL","S1","B2","G3",10,2014,0,1061,1082]
["GRREV","ALL","S1","B2","G3",11,2014,0,820,901]
["GRREV","ALL","S1","B2","G3",12,2014,0,1787,2010]
["GRREV","ALL","S1","B2","G4",1,2013,0,193,216]
["GRREV","ALL","S1","B2","G4",2,2013,0,371,386]
["GRREV","ALL","S1","B2","G4",3,2013,0,440,454]
["GRREV","ALL","S1","B2","G4",4,2013,0,783,824]
["GRREV","ALL","S1","B2","G4",5,2013,0,861,931]
["GRREV","ALL","S1","B2","G4",6,2013,0,1436,1582]
["GRREV","ALL","S1","B2","G4",7,2013,0,2139,2339]
["GRREV","ALL","S1","B2","G4",8,2013,0,1477,1505]
["GRREV","ALL","S1","B2","G4",9,2013,0,1008,1031]
["GRREV","ALL","S1","B2","G4",10,2013,0,890,945]
["GRREV","ALL","S1","B2","G4",11,2013,0,550,592]
["GRREV","ALL","S1","B2","G4",12,2013,0,1018,1107]
["GRREV","ALL","S1","B2","G4",1,2014,0,271,283]
["GRREV","ALL","S1","B2","G4",2,2014,0,601,652]
["GRREV","ALL","S1","B2","G4",3,2014,0,563,633]
["GRREV","ALL","S1","B2","G4",4,2014,0,803,821]
["GRREV","ALL","S1","B2","G4",5,2014,0,1197,1219]
["GRREV","ALL","S1","B2","G4",6,2014,0,1062,1123]
["GRREV","ALL","S1","B2","G4",7,2014,0,2161,2231]
["GRREV","ALL","S1","B2","G4",8,2014,0,1315,1426]
["GRREV","ALL","S1","B2","G4",9,2014,0,1067,1085]
["GRREV","ALL","S1","B2","G4",10,2014,0,943,1050]
["GRREV","ALL","S1","B2","G4",11,2014,0,609,633]
["GRREV","ALL","S1","B2","G4",12,2014,0,1118,1183]
["GRREV","ALL","S1","B2","G5",1,2013,0,396,404]
["GRREV","ALL","S1","B2","G5",2,2013,0,525,538]
["GRREV","ALL","S1","B2","G5",3,2013,0,899,927]
["GRREV","ALL","S1","B2","G5",4,2013,0,1116,1170]
["GRREV","ALL","S1","B2","G5",5,2013,0,1393,1373]
["GRREV","ALL","S1","B2","G5",6,2013,0,2149,2115]
["GRREV","ALL","S1","B2","G5",7,2013,0,1861,1917]
["GRREV","ALL","S1","B2","G5",8,2013,0,2161,2253]
["GRREV","ALL","S1","B2","G5",9,2013,0,2362,2488]
["GRREV","ALL","S1","B2","G5",10,2013,0,770,839]
["GRREV","ALL","S1","B2","G5",11,2013,0,743,797]
["GRREV","ALL","S1","B2","G5",12,2013,0,1505,1553]
["GRREV","ALL","S1","B2","G5",1,2014,0,332,327]
["GRREV","ALL","S1","B2","G5",2,2014,0,682,695]
["GRREV","ALL","S1","B2","G5",3,2014,0,808,800]
["GRREV","ALL","S1","B2","G5",4,2014,0,913,896]
["GRREV","ALL","S1","B2","G5",5,2014,0,1260,1391]
["GRREV","ALL","S1","B2","G5",6,2014,0,2057,2207]
["GRREV","ALL","S1","B2","G5",7,2014,0,1947,2099]
["GRREV","ALL","S1","B2","G5",8,2014,0,2460,2547]
["GRREV","ALL","S1","B2","G5",9,2014,0,1992,2235]
["GRREV","ALL","S1","B2","G5",10,2014,0,1230,1217]
["GRREV","ALL","S1","B2","G5",11,2014,0,588,610]
["GRREV","ALL","S1","B2","G5",12,2014,0,2072,2125]
["GRREV","ALL","S1","B3","G1",1,2013,0,141,142]
["GRREV","ALL","S1","B3","G1",2,2013,0,383,404]
["GRREV","ALL","S1","B3","G1",3,2013,0,505,506]
["GRREV","ALL","S1","B3","G1",4,2013,0,690,765]
["GRREV","ALL","S1","B3","G1",5,2013,0,600,611]
["GRREV","ALL","S1","B3","G1",6,2013,0,1172,1330]
["GRREV","ALL","S1","B3","G1",7,2013,0,1913,2025]
["GRREV","ALL","S1","B3","G1",8,2013,0,1417,1561]
["GRREV","ALL","S1","B3","G1",9,2013,0,889,1011]
["GRREV","ALL","S1","B3","G1",10,2013,0,696,733]
["GRREV","ALL","S1","B3","G1",11,2013,0,434,483]
["GRREV","ALL","S1","B3","G1",12,2013,0,881,911]
["GRREV","ALL","S1","B3","G1",1,2014,0,147,162]
["GRREV","ALL","S1","B3","G1",2,2014,0,327,325]
["GRREV","ALL","S1","B3","G1",3,2014,0,500,544]
["GRREV","ALL","S1","B3","G1",4,2014,0,740,801]
["GRREV","ALL","S1","B3","G1",5,2014,0,938,952]
["GRREV","ALL","S1","B3","G1",6,2014,0,995,1048]
["GRREV","ALL","S1","B3","G1",7,2014,0,1343,1420]
["GRREV","ALL","S1","B3","G1",8,2014,0,1058,1090]
["GRREV","ALL","S1","B3","G1",9,2014,0,930,951]
["GRREV","ALL","S1","B3","G1",10,2014,0,857,919]
["GRREV","ALL","S1","B3","G1",11,2014,0,446,509]
["GRREV","ALL","S1","B3","G1",12,2014,0,1043,1060]
["GRREV","ALL","S1","B3","G2",1,2013,0,234,248]
["GRREV","ALL","S1","B3","G2",2,2013,0,430,465]
["GRREV","ALL","S1","B3","G2",3,2013,0,902,914]
["GRREV","ALL","S1","B3","G2",4,2013,0,660,638]
["GRREV","ALL","S1","B3","G2",5,2013,0,1066,1034]
["GRREV","ALL","S1","B3","G2",6,2013,0,1817,1854]
["GRREV","ALL","S1","B3","G2",7,2013,0,1500,1513]
["GRREV","ALL","S1","B3","G2",8,2013,0,1446,1430]
["GRREV","ALL","S1","B3","G2",9,2013,0,1295,1323]
["GRREV","ALL","S1","B3","G2",10,2013,0,1082,1119]
["GRREV","ALL","S1","B3","G2",11,2013,0,519,566]
["GRREV","ALL","S1","B3","G2",12,2013,0,1070,1167]
["GRREV","ALL","S1","B3","G2",1,2014,0,219,230]
["GRREV","ALL","S1","B3","G2",2,2014,0,427,487]
["GRREV","ALL","S1","B3","G2",3,2014,0,792,787]
["GRREV","ALL","S1","B3","G2",4,2014,0,745,804]
["GRREV","ALL","S1","B3","G2",5,2014,0,1300,1416]
["GRREV","ALL","S1","B3","G2",6,2014,0,1616,1653]
["GRREV","ALL","S1","B3","G2",7,2014,0,1653,1671]
["GRREV","ALL","S1","B3","G2",8,2014,0,1708,1811]
["GRREV","ALL","S1","B3","G2",9,2014,0,1326,1412]
["GRREV","ALL","S1","B3","G2",10,2014,0,1301,1346]
["GRREV","ALL","S1","B3","G2",11,2014,0,609,626]
["GRREV","ALL","S1","B3","G2",12,2014,0,1320,1367]
["GRREV","ALL","S1","B3","G3",1,2013,0,179,183]
["GRREV","ALL","S1","B3","G3",2,2013,0,285,280]
["GRREV","ALL","S1","B3","G3",3,2013,0,423,441]
["GRREV","ALL","S1","B3","G3",4,2013,0,585,604]
["GRREV","ALL","S1","B3","G3",5,2013,0,671,753]
["GRREV","ALL","S1","B3","G3",6,2013,0,750,795]
["GRREV","ALL","S1","B3","G3",7,2013,0,1273,1355]
["GRREV","ALL","S1","B3","G3",8,2013,0,1230,1342]
["GRREV","ALL","S1","B3","G3",9,2013,0,684,735]
["GRREV","ALL","S1","B3","G3",10,2013,0,702,786]
["GRREV","ALL","S1","B3","G3",11,2013,0,340,348]
["GRREV","ALL","S1","B3","G3",12,2013,0,836,940]
["GRREV","ALL","S1","B3","G3",1,2014,0,150,165]
["GRREV","ALL","S1","B3","G3",2,2014,0,305,313]
["GRREV","ALL","S1","B3","G3",3,2014,0,497,512]
["GRREV","ALL","S1","B3","G3",4,2014,0,653,654]
["GRREV","ALL","S1","B3","G3",5,2014,0,781,790]
["GRREV","ALL","S1","B3","G3",6,2014,0,895,873]
["GRREV","ALL","S1","B3","G3",7,2014,0,1224,1262]
["GRREV","ALL","S1","B3","G3",8,2014,0,1564,1617]
["GRREV","ALL","S1","B3","G3",9,2014,0,1052,1020]
["GRREV","ALL","S1","B3","G3",10,2014,0,517,592]
["GRREV","ALL","S1","B3","G3",11,2014,0,312,320]
["GRREV","ALL","S1","B3","G3",12,2014,0,1038,1131]
["GRREV","ALL","S1","B3","G4",1,2013,0,144,149]
["GRREV","ALL","S1","B3","G4",2,2013,0,166,186]
["GRREV","ALL","S1","B3","G4",3,2013,0,273,287]
["GRREV","ALL","S1","B3","G4",4,2013,0,454,479]
["GRREV","ALL","S1","B3","G4",5,2013,0,472,484]
["GRREV","ALL","S1","B3","G4",6,2013,0,623,630]
["GRREV","ALL","S1","B3","G4",7,2013,0,657,711]
["GRREV","ALL","S1","B3","G4",8,2013,0,732,774]
["GRREV","ALL","S1","B3","G4",9,2013,0,501,565]
["GRREV","ALL","S1","B3","G4",10,2013,0,398,417]
["GRREV","ALL","S1","B3","G4",11,2013,0,333,343]
["GRREV","ALL","S1","B3","G4",12,2013,0,560,588]
["GRREV","ALL","S1","B3","G4",1,2014,0,95,97]
["GRREV","ALL","S1","B3","G4",2,2014,0,198,210]
["GRREV","ALL","S1","B3","G4",3,2014,0,376,412]
["GRREV","ALL","S1","B3","G4",4,2014,0,463,498]
["GRREV","ALL","S1","B3","G4",5,2014,0,456,481]
["GRREV","ALL","S1","B3","G4",6,2014,0,695,788]
["GRREV","ALL","S1","B3","G4",7,2014,0,732,729]
["GRREV","ALL","S1","B3","G4",8,2014,0,666,703]
["GRREV","ALL","S1","B3","G4",9,2014,0,796,800]
["GRREV","ALL","S1","B3","G4",10,2014,0,399,415]
["GRREV","ALL","S1","B3","G4",11,2014,0,323,326]
["GRREV","ALL","S1","B3","G4",12,2014,0,664,709]
["GRREV","ALL","S1","B3","G5",1,2013,0,163,177]
["GRREV","ALL","S1","B3","G5",2,2013,0,305,310]
["GRREV","ALL","S1","B3","G5",3,2013,0,431,430]
["GRREV","ALL","S1","B3","G5",4,2013,0,548,565]
["GRREV","ALL","S1","B3","G5",5,2013,0,723,810]
["GRREV","ALL","S1","B3","G5",6,2013,0,677,698]
["GRREV","ALL","S1","B3","G5",7,2013,0,1214,1243]
["GRREV","ALL","S1","B3","G5",8,2013,0,981,1014]
["GRREV","ALL","S1","B3","G5",9,2013,0,735,791]
["GRREV","ALL","S1","B3","G5",10,2013,0,581,634]
["GRREV","ALL","S1","B3","G5",11,2013,0,385,406]
["GRREV","ALL","S1","B3","G5",12,2013,0,722,767]
["GRREV","ALL","S1","B3","G5",1,2014,0,125,125]
["GRREV","ALL","S1","B3","G5",2,2014,0,226,226]
["GRREV","ALL","S1","B3","G5",3,2014,0,493,495]
["GRREV","ALL","S1","B3","G5",4,2014,0,593,599]
["GRREV","ALL","S1","B3","G5",5,2014,0,532,519]
["GRREV","ALL","S1","B3","G5",6,2014,0,556,624]
["GRREV","ALL","S1","B3","G5",7,2014,0,1058,1059]
["GRREV","ALL","S1","B3","G5",8,2014,0,975,1027]
["GRREV","ALL","S1","B3","G5",9,2014,0,1105,1129]
["GRREV","ALL","S1","B3","G5",10,2014,0,533,516]
["GRREV","ALL","S1","B3","G5",11,2014,0,421,446]
["GRREV","ALL","S1","B3","G5",12,2014,0,609,657]
["GRREV","ALL","S2","B1","G1",1,2013,0,2422,2468]
["GRREV","ALL","S2","B1","G1",2,2013,0,3566,3398]
["GRREV","ALL","S2","B1","G1",3,2013,0,5743,6258]
["GRREV","ALL","S2","B1","G1",4,2013,0,8536,9009]
["GRREV","ALL","S2","B1","G1",5,2013,0,7963,7966]
["GRREV","ALL","S2","B1","G1",6,2013,0,14305,15233]
["GRREV","ALL","S2","B1","G1",7,2013,0,15216,15158]
["GRREV","ALL","S2","B1","G1",8,2013,0,15032,15620]
["GRREV","ALL","S2","B1","G1",9,2013,0,11855,12267]
["GRREV","ALL","S2","B1","G1",10,2013,0,6758,7109]
["GRREV","ALL","S2","B1","G1",11,2013,0,4368,4623]
["GRREV","ALL","S2","B1","G1",12,2013,0,12039,12822]
["GRREV","ALL","S2","B1","G1",1,2014,0,1728,1705]
["GRREV","ALL","S2","B1","G1",2,2014,0,4000,4202]
["GRREV","ALL","S2","B1","G1",3,2014,0,5670,6271]
["GRREV","ALL","S2","B1","G1",4,2014,0,7441,7882]
["GRREV","ALL","S2","B1","G1",5,2014,0,9738,11205]
["GRREV","ALL","S2","B1","G1",6,2014,0,14888,15053]
["GRREV","ALL","S2","B1","G1",7,2014,0,17877,18699]
["GRREV","ALL","S2","B1","G1",8,2014,0,14885,16722]
["GRREV","ALL","S2","B1","G1",9,2014,0,11193,12827]
["GRREV","ALL","S2","B1","G1",10,2014,0,9003,8693]
["GRREV","ALL","S2","B1","G1",11,2014,0,4614,5000]
["GRREV","ALL","S2","B1","G1",12,2014,0,9664,10624]
["GRREV","ALL","S2","B1","G2",1,2013,0,2687,2855]
["GRREV","ALL","S2","B1","G2",2,2013,0,4420,4571]
["GRREV","ALL","S2","B1","G2",3,2013,0,5968,6157]
["GRREV","ALL","S2","B1","G2",4,2013,0,8541,9243]
["GRREV","ALL","S2","B1","G2",5,2013,0,11748,12421]
["GRREV","ALL","S2","B1","G2",6,2013,0,13308,14271]
["GRREV","ALL","S2","B1","G2",7,2013,0,19035,20516]
["GRREV","ALL","S2","B1","G2",8,2013,0,19032,20584]
["GRREV","ALL","S2","B1","G2",9,2013,0,13757,14729]
["GRREV","ALL","S2","B1","G2",10,2013,0,10455,11176]
["GRREV","ALL","S2","B1","G2",11,2013,0,5783,6328]
["GRREV","ALL","S2","B1","G2",12,2013,0,10096,11342]
["GRREV","ALL","S2","B1","G2",1,2014,0,2437,2566]
["GRREV","ALL","S2","B1","G2",2,2014,0,5176,4942]
["GRREV","ALL","S2","B1","G2",3,2014,0,6570,7236]
["GRREV","ALL","S2","B1","G2",4,2014,0,8627,9001]
["GRREV","ALL","S2","B1","G2",5,2014,0,12511,13916]
["GRREV","ALL","S2","B1","G2",6,2014,0,13471,12874]
["GRREV","ALL","S2","B1","G2",7,2014,0,20193,20165]
["GRREV","ALL","S2","B1","G2",8,2014,0,14745,14816]
["GRREV","ALL","S2","B1","G2",9,2014,0,13416,13667]
["GRREV","ALL","S2","B1","G2",10,2014,0,10176,10169]
["GRREV","ALL","S2","B1","G2",11,2014,0,7752,8093]
["GRREV","ALL","S2","B1","G2",12,2014,0,15718,16358]
["GRREV","ALL","S2","B1","G3",1,2013,0,1570,1786]
["GRREV","ALL","S2","B1","G3",2,2013,0,2647,2866]
["GRREV","ALL","S2","B1","G3",3,2013,0,5622,5878]
["GRREV","ALL","S2","B1","G3",4,2013,0,5417,5911]
["GRREV","ALL","S2","B1","G3",5,2013,0,6185,6524]
["GRREV","ALL","S2","B1","G3",6,2013,0,8528,8841]
["GRREV","ALL","S2","B1","G3",7,2013,0,9004,9765]
["GRREV","ALL","S2","B1","G3",8,2013,0,8876,8887]
["GRREV","ALL","S2","B1","G3",9,2013,0,8796,8993]
["GRREV","ALL","S2","B1","G3",10,2013,0,5593,6279]
["GRREV","ALL","S2","B1","G3",11,2013,0,3875,4072]
["GRREV","ALL","S2","B1","G3",12,2013,0,9382,9497]
["GRREV","ALL","S2","B1","G3",1,2014,0,1410,1511]
["GRREV","ALL","S2","B1","G3",2,2014,0,2934,3140]
["GRREV","ALL","S2","B1","G3",3,2014,0,4970,5351]
["GRREV","ALL","S2","B1","G3",4,2014,0,4823,5266]
["GRREV","ALL","S2","B1","G3",5,2014,0,6903,7284]
["GRREV","ALL","S2","B1","G3",6,2014,0,7443,8194]
["GRREV","ALL","S2","B1","G3",7,2014,0,15585,15662]
["GRREV","ALL","S2","B1","G3",8,2014,0,13479,14399]
["GRREV","ALL","S2","B1","G3",9,2014,0,7631,7354]
["GRREV","ALL","S2","B1","G3",10,2014,0,6889,7254]
["GRREV","ALL","S2","B1","G3",11,2014,0,3195,3337]
["GRREV","ALL","S2","B1","G3",12,2014,0,8316,9044]
["GRREV","ALL","S2","B1","G4",1,2013,0,1150,1184]
["GRREV","ALL","S2","B1","G4",2,2013,0,2670,2968]
["GRREV","ALL","S2","B1","G4",3,2013,0,3575,3574]
["GRREV","ALL","S2","B1","G4",4,2013,0,4260,4538]
["GRREV","ALL","S2","B1","G4",5,2013,0,6109,6429]
["GRREV","ALL","S2","B1","G4",6,2013,0,6423,6779]
["GRREV","ALL","S2","B1","G4",7,2013,0,10014,11322]
["GRREV","ALL","S2","B1","G4",8,2013,0,8655,9039]
["GRREV","ALL","S2","B1","G4",9,2013,0,5320,5511]
["GRREV","ALL","S2","B1","G4",10,2013,0,4588,4658]
["GRREV","ALL","S2","B1","G4",11,2013,0,3514,3776]
["GRREV","ALL","S2","B1","G4",12,2013,0,6413,6497]
["GRREV","ALL","S2","B1","G4",1,2014,0,1162,1248]
["GRREV","ALL","S2","B1","G4",2,2014,0,2462,2681]
["GRREV","ALL","S2","B1","G4",3,2014,0,3857,4000]
["GRREV","ALL","S2","B1","G4",4,2014,0,4679,4861]
["GRREV","ALL","S2","B1","G4",5,2014,0,4340,4648]
["GRREV","ALL","S2","B1","G4",6,2014,0,5708,6345]
["GRREV","ALL","S2","B1","G4",7,2014,0,8344,8540]
["GRREV","ALL","S2","B1","G4",8,2014,0,8567,9245]
["GRREV","ALL","S2","B1","G4",9,2014,0,5651,6106]
["GRREV","ALL","S2","B1","G4",10,2014,0,5402,5477]
["GRREV","ALL","S2","B1","G4",11,2014,0,3269,3279]
["GRREV","ALL","S2","B1","G4",12,2014,0,6116,6546]
["GRREV","ALL","S2","B1","G5",1,2013,0,1494,1627]
["GRREV","ALL","S2","B1","G5",2,2013,0,3271,3352]
["GRREV","ALL","S2","B1","G5",3,2013,0,4032,4356]
["GRREV","ALL","S2","B1","G5",4,2013,0,4775,5020]
["GRREV","ALL","S2","B1","G5",5,2013,0,9222,9694]
["GRREV","ALL","S2","B1","G5",6,2013,0,8816,9580]
["GRREV","ALL","S2","B1","G5",7,2013,0,12765,12643]
["GRREV","ALL","S2","B1","G5",8,2013,0,8783,9452]
["GRREV","ALL","S2","B1","G5",9,2013,0,8868,8770]
["GRREV","ALL","S2","B1","G5",10,2013,0,6412,6932]
["GRREV","ALL","S2","B1","G5",11,2013,0,3642,3775]
["GRREV","ALL","S2","B1","G5",12,2013,0,7449,7545]
["GRREV","ALL","S2","B1","G5",1,2014,0,1485,1643]
["GRREV","ALL","S2","B1","G5",2,2014,0,3988,4148]
["GRREV","ALL","S2","B1","G5",3,2014,0,4535,4742]
["GRREV","ALL","S2","B1","G5",4,2014,0,5185,5721]
["GRREV","ALL","S2","B1","G5",5,2014,0,5439,5755]
["GRREV","ALL","S2","B1","G5",6,2014,0,7911,8290]
["GRREV","ALL","S2","B1","G5",7,2014,0,10697,10831]
["GRREV","ALL","S2","B1","G5",8,2014,0,9702,10054]
["GRREV","ALL","S2","B1","G5",9,2014,0,8100,8150]
["GRREV","ALL","S2","B1","G5",10,2014,0,8139,8171]
["GRREV","ALL","S2","B1","G5",11,2014,0,3978,4235]
["GRREV","ALL","S2","B1","G5",12,2014,0,6245,6687]
["GRREV","ALL","S2","B2","G1",1,2013,0,490,518]
["GRREV","ALL","S2","B2","G1",2,2013,0,980,1016]
["GRREV","ALL","S2","B2","G1",3,2013,0,1431,1576]
["GRREV","ALL","S2","B2","G1",4,2013,0,2386,2460]
["GRREV","ALL","S2","B2","G1",5,2013,0,2382,2640]
["GRREV","ALL","S2","B2","G1",6,2013,0,3881,3912]
["GRREV","ALL","S2","B2","G1",7,2013,0,4817,4827]
["GRREV","ALL","S2","B2","G1",8,2013,0,4018,4401]
["GRREV","ALL","S2","B2","G1",9,2013,0,3416,3798]
["GRREV","ALL","S2","B2","G1",10,2013,0,2706,2848]
["GRREV","ALL","S2","B2","G1",11,2013,0,1263,1357]
["GRREV","ALL","S2","B2","G1",12,2013,0,2341,2537]
["GRREV","ALL","S2","B2","G1",1,2014,0,530,554]
["GRREV","ALL","S2","B2","G1",2,2014,0,1084,1195]
["GRREV","ALL","S2","B2","G1",3,2014,0,1852,1841]
["GRREV","ALL","S2","B2","G1",4,2014,0,1710,1771]
["GRREV","ALL","S2","B2","G1",5,2014,0,2351,2669]
["GRREV","ALL","S2","B2","G1",6,2014,0,4232,4510]
["GRREV","ALL","S2","B2","G1",7,2014,0,4345,4638]
["GRREV","ALL","S2","B2","G1",8,2014,0,3644,3646]
["GRREV","ALL","S2","B2","G1",9,2014,0,3218,3212]
["GRREV","ALL","S2","B2","G1",10,2014,0,2439,2789]
["GRREV","ALL","S2","B2","G1",11,2014,0,1333,1413]
["GRREV","ALL","S2","B2","G1",12,2014,0,2734,2893]
["GRREV","ALL","S2","B2","G2",1,2013,0,812,792]
["GRREV","ALL","S2","B2","G2",2,2013,0,1793,1925]
["GRREV","ALL","S2","B2","G2",3,2013,0,2285,2309]
["GRREV","ALL","S2","B2","G2",4,2013,0,3133,3202]
["GRREV","ALL","S2","B2","G2",5,2013,0,3164,3179]
["GRREV","ALL","S2","B2","G2",6,2013,0,4951,4976]
["GRREV","ALL","S2","B2","G2",7,2013,0,5660,5979]
["GRREV","ALL","S2","B2","G2",8,2013,0,5195,5166]
["GRREV","ALL","S2","B2","G2",9,2013,0,5228,5453]
["GRREV","ALL","S2","B2","G2",10,2013,0,2672,2833]
["GRREV","ALL","S2","B2","G2",11,2013,0,1854,1908]
["GRREV","ALL","S2","B2","G2",12,2013,0,4757,5002]
["GRREV","ALL","S2","B2","G2",1,2014,0,785,848]
["GRREV","ALL","S2","B2","G2",2,2014,0,1377,1481]
["GRREV","ALL","S2","B2","G2",3,2014,0,1784,1897]
["GRREV","ALL","S2","B2","G2",4,2014,0,2318,2546]
["GRREV","ALL","S2","B2","G2",5,2014,0,4368,4599]
["GRREV","ALL","S2","B2","G2",6,2014,0,4903,5202]
["GRREV","ALL","S2","B2","G2",7,2014,0,6366,6677]
["GRREV","ALL","S2","B2","G2",8,2014,0,5826,5977]
["GRREV","ALL","S2","B2","G2",9,2014,0,3682,3998]
["GRREV","ALL","S2","B2","G2",10,2014,0,3882,4050]
["GRREV","ALL","S2","B2","G2",11,2014,0,1371,1426]
["GRREV","ALL","S2","B2","G2",12,2014,0,4465,4850]
["GRREV","ALL","S2","B2","G3",1,2013,0,468,459]
["GRREV","ALL","S2","B2","G3",2,2013,0,1096,1201]
["GRREV","ALL","S2","B2","G3",3,2013,0,1385,1439]
["GRREV","ALL","S2","B2","G3",4,2013,0,1821,2010]
["GRREV","ALL","S2","B2","G3",5,2013,0,2310,2555]
["GRREV","ALL","S2","B2","G3",6,2013,0,2805,2799]
["GRREV","ALL","S2","B2","G3",7,2013,0,3686,4133]
["GRREV","ALL","S2","B2","G3",8,2013,0,2672,2686]
["GRREV","ALL","S2","B2","G3",9,2013,0,1989,2049]
["GRREV","ALL","S2","B2","G3",10,2013,0,1919,2185]
["GRREV","ALL","S2","B2","G3",11,2013,0,1047,1093]
["GRREV","ALL","S2","B2","G3",12,2013,0,2226,2345]
["GRREV","ALL","S2","B2","G3",1,2014,0,444,462]
["GRREV","ALL","S2","B2","G3",2,2014,0,943,982]
["GRREV","ALL","S2","B2","G3",3,2014,0,1675,1734]
["GRREV","ALL","S2","B2","G3",4,2014,0,1935,1960]
["GRREV","ALL","S2","B2","G3",5,2014,0,1458,1616]
["GRREV","ALL","S2","B2","G3",6,2014,0,3454,3505]
["GRREV","ALL","S2","B2","G3",7,2014,0,3685,4007]
["GRREV","ALL","S2","B2","G3",8,2014,0,2594,2489]
["GRREV","ALL","S2","B2","G3",9,2014,0,2320,2268]
["GRREV","ALL","S2","B2","G3",10,2014,0,1517,1605]
["GRREV","ALL","S2","B2","G3",11,2014,0,1381,1386]
["GRREV","ALL","S2","B2","G3",12,2014,0,2081,2321]
["GRREV","ALL","S2","B2","G4",1,2013,0,379,402]
["GRREV","ALL","S2","B2","G4",2,2013,0,537,603]
["GRREV","ALL","S2","B2","G4",3,2013,0,1073,1119]
["GRREV","ALL","S2","B2","G4",4,2013,0,1339,1376]
["GRREV","ALL","S2","B2","G4",5,2013,0,1770,1952]
["GRREV","ALL","S2","B2","G4",6,2013,0,2162,2244]
["GRREV","ALL","S2","B2","G4",7,2013,0,2390,2494]
["GRREV","ALL","S2","B2","G4",8,2013,0,2499,2650]
["GRREV","ALL","S2","B2","G4",9,2013,0,2060,2261]
["GRREV","ALL","S2","B2","G4",10,2013,0,1363,1349]
["GRREV","ALL","S2","B2","G4",11,2013,0,625,626]
["GRREV","ALL","S2","B2","G4",12,2013,0,1902,2004]
["GRREV","ALL","S2","B2","G4",1,2014,0,332,353]
["GRREV","ALL","S2","B2","G4",2,2014,0,663,742]
["GRREV","ALL","S2","B2","G4",3,2014,0,812,915]
["GRREV","ALL","S2","B2","G4",4,2014,0,1129,1097]
["GRREV","ALL","S2","B2","G4",5,2014,0,1605,1710]
["GRREV","ALL","S2","B2","G4",6,2014,0,1805,1951]
["GRREV","ALL","S2","B2","G4",7,2014,0,2008,2192]
["GRREV","ALL","S2","B2","G4",8,2014,0,2511,2651]
["GRREV","ALL","S2","B2","G4",9,2014,0,1839,2032]
["GRREV","ALL","S2","B2","G4",10,2014,0,1422,1390]
["GRREV","ALL","S2","B2","G4",11,2014,0,726,759]
["GRREV","ALL","S2","B2","G4",12,2014,0,1750,1978]
["GRREV","ALL","S2","B2","G5",1,2013,0,413,413]
["GRREV","ALL","S2","B2","G5",2,2013,0,823,867]
["GRREV","ALL","S2","B2","G5",3,2013,0,1197,1378]
["GRREV","ALL","S2","B2","G5",4,2013,0,1783,1786]
["GRREV","ALL","S2","B2","G5",5,2013,0,1804,1889]
["GRREV","ALL","S2","B2","G5",6,2013,0,2646,2904]
["GRREV","ALL","S2","B2","G5",7,2013,0,2596,2641]
["GRREV","ALL","S2","B2","G5",8,2013,0,2633,2979]
["GRREV","ALL","S2","B2","G5",9,2013,0,2372,2443]
["GRREV","ALL","S2","B2","G5",10,2013,0,1933,2065]
["GRREV","ALL","S2","B2","G5",11,2013,0,1140,1251]
["GRREV","ALL","S2","B2","G5",12,2013,0,1943,2046]
["GRREV","ALL","S2","B2","G5",1,2014,0,410,415]
["GRREV","ALL","S2","B2","G5",2,2014,0,779,872]
["GRREV","ALL","S2","B2","G5",3,2014,0,1122,1178]
["GRREV","ALL","S2","B2","G5",4,2014,0,1664,1757]
["GRREV","ALL","S2","B2","G5",5,2014,0,1977,2142]
["GRREV","ALL","S2","B2","G5",6,2014,0,2619,2710]
["GRREV","ALL","S2","B2","G5",7,2014,0,3650,4008]
["GRREV","ALL","S2","B2","G5",8,2014,0,3323,3577]
["GRREV","ALL","S2","B2","G5",9,2014,0,2194,2245]
["GRREV","ALL","S2","B2","G5",10,2014,0,1672,1633]
["GRREV","ALL","S2","B2","G5",11,2014,0,1208,1350]
["GRREV","ALL","S2","B2","G5",12,2014,0,2210,2300]
["GRREV","ALL","S2","B3","G1",1,2013,0,249,271]
["GRREV","ALL","S2","B3","G1",2,2013,0,534,548]
["GRREV","ALL","S2","B3","G1",3,2013,0,870,903]
["GRREV","ALL","S2","B3","G1",4,2013,0,900,971]
["GRREV","ALL","S2","B3","G1",5,2013,0,1307,1431]
["GRREV","ALL","S2","B3","G1",6,2013,0,1612,1625]
["GRREV","ALL","S2","B3","G1",7,2013,0,2280,2345]
["GRREV","ALL","S2","B3","G1",8,2013,0,2532,2660]
["GRREV","ALL","S2","B3","G1",9,2013,0,1733,1682]
["GRREV","ALL","S2","B3","G1",10,2013,0,1357,1537]
["GRREV","ALL","S2","B3","G1",11,2013,0,804,858]
["GRREV","ALL","S2","B3","G1",12,2013,0,1854,1854]
["GRREV","ALL","S2","B3","G1",1,2014,0,248,259]
["GRREV","ALL","S2","B3","G1",2,2014,0,580,649]
["GRREV","ALL","S2","B3","G1",3,2014,0,819,888]
["GRREV","ALL","S2","B3","G1",4,2014,0,1030,1024]
["GRREV","ALL","S2","B3","G1",5,2014,0,1455,1518]
["GRREV","ALL","S2","B3","G1",6,2014,0,1611,1678]
["GRREV","ALL","S2","B3","G1",7,2014,0,2476,2509]
["GRREV","ALL","S2","B3","G1",8,2014,0,2114,2236]
["GRREV","ALL","S2","B3","G1",9,2014,0,1683,1792]
["GRREV","ALL","S2","B3","G1",10,2014,0,1290,1371]
["GRREV","ALL","S2","B3","G1",11,2014,0,704,740]
["GRREV","ALL","S2","B3","G1",12,2014,0,1502,1625]
["GRREV","ALL","S2","B3","G2",1,2013,0,380,389]
["GRREV","ALL","S2","B3","G2",2,2013,0,685,711]
["GRREV","ALL","S2","B3","G2",3,2013,0,968,954]
["GRREV","ALL","S2","B3","G2",4,2013,0,1353,1370]
["GRREV","ALL","S2","B3","G2",5,2013,0,1614,1812]
["GRREV","ALL","S2","B3","G2",6,2013,0,2396,2341]
["GRREV","ALL","S2","B3","G2",7,2013,0,2706,2970]
["GRREV","ALL","S2","B3","G2",8,2013,0,2275,2572]
["GRREV","ALL","S2","B3","G2",9,2013,0,1840,2011]
["GRREV","ALL","S2","B3","G2",10,2013,0,1629,1762]
["GRREV","ALL","S2","B3","G2",11,2013,0,740,829]
["GRREV","ALL","S2","B3","G2",12,2013,0,2048,2179]
["GRREV","ALL","S2","B3","G2",1,2014,0,333,343]
["GRREV","ALL","S2","B3","G2",2,2014,0,807,838]
["GRREV","ALL","S2","B3","G2",3,2014,0,1123,1121]
["GRREV","ALL","S2","B3","G2",4,2014,0,1254,1383]
["GRREV","ALL","S2","B3","G2",5,2014,0,1727,1786]
["GRREV","ALL","S2","B3","G2",6,2014,0,2070,2044]
["GRREV","ALL","S2","B3","G2",7,2014,0,2484,2691]
["GRREV","ALL","S2","B3","G2",8,2014,0,2511,2712]
["GRREV","ALL","S2","B3","G2",9,2014,0,2202,2471]
["GRREV","ALL","S2","B3","G2",10,2014,0,1870,1918]
["GRREV","ALL","S2","B3","G2",11,2014,0,1067,1116]
["GRREV","ALL","S2","B3","G2",12,2014,0,1927,2028]
["GRREV","ALL","S2","B3","G3",1,2013,0,227,254]
["GRREV","ALL","S2","B3","G3",2,2013,0,419,451]
["GRREV","ALL","S2","B3","G3",3,2013,0,681,664]
["GRREV","ALL","S2","B3","G3",4,2013,0,750,787]
["GRREV","ALL","S2","B3","G3",5,2013,0,1057,1059]
["GRREV","ALL","S2","B3","G3",6,2013,0,1516,1481]
["GRREV","ALL","S2","B3","G3",7,2013,0,1725,1759]
["GRREV","ALL","S2","B3","G3",8,2013,0,1444,1422]
["GRREV","ALL","S2","B3","G3",9,2013,0,1439,1499]
["GRREV","ALL","S2","B3","G3",10,2013,0,957,980]
["GRREV","ALL","S2","B3","G3",11,2013,0,555,576]
["GRREV","ALL","S2","B3","G3",12,2013,0,1042,1190]
["GRREV","ALL","S2","B3","G3",1,2014,0,239,243]
["GRREV","ALL","S2","B3","G3",2,2014,0,497,508]
["GRREV","ALL","S2","B3","G3",3,2014,0,743,775]
["GRREV","ALL","S2","B3","G3",4,2014,0,1023,1059]
["GRREV","ALL","S2","B3","G3",5,2014,0,976,1048]
["GRREV","ALL","S2","B3","G3",6,2014,0,1371,1388]
["GRREV","ALL","S2","B3","G3",7,2014,0,1319,1370]
["GRREV","ALL","S2","B3","G3",8,2014,0,1490,1444]
["GRREV","ALL","S2","B3","G3",9,2014,0,1537,1595]
["GRREV","ALL","S2","B3","G3",10,2014,0,853,983]
["GRREV","ALL","S2","B3","G3",11,2014,0,590,600]
["GRREV","ALL","S2","B3","G3",12,2014,0,1504,1530]
["GRREV","ALL","S2","B3","G4",1,2013,0,157,173]
["GRREV","ALL","S2","B3","G4",2,2013,0,370,395]
["GRREV","ALL","S2","B3","G4",3,2013,0,455,468]
["GRREV","ALL","S2","B3","G4",4,2013,0,654,654]
["GRREV","ALL","S2","B3","G4",5,2013,0,775,809]
["GRREV","ALL","S2","B3","G4",6,2013,0,926,1000]
["GRREV","ALL","S2","B3","G4",7,2013,0,1448,1523]
["GRREV","ALL","S2","B3","G4",8,2013,0,987,958]
["GRREV","ALL","S2","B3","G4",9,2013,0,945,994]
["GRREV","ALL","S2","B3","G4",10,2013,0,719,738]
["GRREV","ALL","S2","B3","G4",11,2013,0,414,429]
["GRREV","ALL","S2","B3","G4",12,2013,0,752,732]
["GRREV","ALL","S2","B3","G4",1,2014,0,156,157]
["GRREV","ALL","S2","B3","G4",2,2014,0,307,349]
["GRREV","ALL","S2","B3","G4",3,2014,0,554,625]
["GRREV","ALL","S2","B3","G4",4,2014,0,746,751]
["GRREV","ALL","S2","B3","G4",5,2014,0,837,864]
["GRREV","ALL","S2","B3","G4",6,2014,0,1141,1113]
["GRREV","ALL","S2","B3","G4",7,2014,0,1377,1417]
["GRREV","ALL","S2","B3","G4",8,2014,0,1209,1314]
["GRREV","ALL","S2","B3","G4",9,2014,0,993,1074]
["GRREV","ALL","S2","B3","G4",10,2014,0,646,626]
["GRREV","ALL","S2","B3","G4",11,2014,0,400,433]
["GRREV","ALL","S2","B3","G4",12,2014,0,838,859]
["GRREV","ALL","S2","B3","G5",1,2013,0,198,210]
["GRREV","ALL","S2","B3","G5",2,2013,0,478,507]
["GRREV","ALL","S2","B3","G5",3,2013,0,603,651]
["GRREV","ALL","S2","B3","G5",4,2013,0,653,741]
["GRREV","ALL","S2","B3","G5",5,2013,0,831,872]
["GRREV","ALL","S2","B3","G5",6,2013,0,1217,1344]
["GRREV","ALL","S2","B3","G5",7,2013,0,1624,1673]
["GRREV","ALL","S2","B3","G5",8,2013,0,1681,1878]
["GRREV","ALL","S2","B3","G5",9,2013,0,883,976]
["GRREV","ALL","S2","B3","G5",10,2013,0,983,1029]
["GRREV","ALL","S2","B3","G5",11,2013,0,436,454]
["GRREV","ALL","S2","B3","G5",12,2013,0,1393,1397]
["GRREV","ALL","S2","B3","G5",1,2014,0,256,260]
["GRREV","ALL","S2","B3","G5",2,2014,0,513,556]
["GRREV","ALL","S2","B3","G5",3,2014,0,693,702]
["GRREV","ALL","S2","B3","G5",4,2014,0,803,887]
["GRREV","ALL","S2","B3","G5",5,2014,0,988,975]
["GRREV","ALL","S2","B3","G5",6,2014,0,1607,1776]
["GRREV","ALL","S2","B3","G5",7,2014,0,1582,1751]
["GRREV","ALL","S2","B3","G5",8,2014,0,1703,1681]
["GRREV","ALL","S2","B3","G5",9,2014,0,1337,1331]
["GRREV","ALL","S2","B3","G5",10,2014,0,959,1027]
["GRREV","ALL","S2","B3","G5",11,2014,0,618,635]
["GRREV","ALL","S2","B3","G5",12,2014,0,1278,1330]
["OPEX","O1","ALL","B1","G1",1,2013,0,330,352]
["OPEX","O1","ALL","B1","G1",2,2013,0,601,652]
["OPEX","O1","ALL","B1","G1",3,2013,0,545,575]
["OPEX","O1","ALL","B1","G1",4,2013,0,866,900]
["OPEX","O1","ALL","B1","G1",5,2013,0,1392,1487]
["OPEX","O1","ALL","B1","G1",6,2013,0,1689,1802]
["OPEX","O1","ALL","B1","G1",7,2013,0,1659,1651]
["OPEX","O1","ALL","B1","G1",8,2013,0,1401,1565]
["OPEX","O1","ALL","B1","G1",9,2013,0,1343,1489]
["OPEX","O1","ALL","B1","G1",10,2013,0,1150,1239]
["OPEX","O1","ALL","B1","G1",11,2013,0,482,543]
["OPEX","O1","ALL","B1","G1",12,2013,0,1671,1622]
["OPEX","O1","ALL","B1","G1",1,2014,0,228,256]
["OPEX","O1","ALL","B1","G1",2,2014,0,600,600]
["OPEX","O1","ALL","B1","G1",3,2014,0,539,572]
["OPEX","O1","ALL","B1","G1",4,2014,0,1257,1284]
["OPEX","O1","ALL","B1","G1",5,2014,0,1019,1149]
["OPEX","O1","ALL","B1","G1",6,2014,0,1241,1281]
["OPEX","O1","ALL","B1","G1",7,2014,0,1836,1850]
["OPEX","O1","ALL","B1","G1",8,2014,0,1573,1741]
["OPEX","O1","ALL","B1","G1",9,2014,0,1701,1727]
["OPEX","O1","ALL","B1","G1",10,2014,0,1335,1476]
["OPEX","O1","ALL","B1","G1",11,2014,0,534,579]
["OPEX","O1","ALL","B1","G1",12,2014,0,1691,1647]
["OPEX","O1","ALL","B1","G2",1,2013,0,502,525]
["OPEX","O1","ALL","B1","G2",2,2013,0,628,695]
["OPEX","O1","ALL","B1","G2",3,2013,0,894,902]
["OPEX","O1","ALL","B1","G2",4,2013,0,840,913]
["OPEX","O1","ALL","B1","G2",5,2013,0,1469,1633]
["OPEX","O1","ALL","B1","G2",6,2013,0,2050,2028]
["OPEX","O1","ALL","B1","G2",7,2013,0,1798,1846]
["OPEX","O1","ALL","B1","G2",8,2013,0,2115,2392]
["OPEX","O1","ALL","B1","G2",9,2013,0,1670,1698]
["OPEX","O1","ALL","B1","G2",10,2013,0,1720,1671]
["OPEX","O1","ALL","B1","G2",11,2013,0,961,1044]
["OPEX","O1","ALL","B1","G2",12,2013,0,1397,1383]
["OPEX","O1","ALL","B1","G2",1,2014,0,410,407]
["OPEX","O1","ALL","B1","G2",2,2014,0,716,731]
["OPEX","O1","ALL","B1","G2",3,2014,0,1212,1267]
["OPEX","O1","ALL","B1","G2",4,2014,0,931,1042]
["OPEX","O1","ALL","B1","G2",5,2014,0,1346,1399]
["OPEX","O1","ALL","B1","G2",6,2014,0,2017,2177]
["OPEX","O1","ALL","B1","G2",7,2014,0,3124,3404]
["OPEX","O1","ALL","B1","G2",8,2014,0,2291,2403]
["OPEX","O1","ALL","B1","G2",9,2014,0,1564,1599]
["OPEX","O1","ALL","B1","G2",10,2014,0,1472,1468]
["OPEX","O1","ALL","B1","G2",11,2014,0,1163,1286]
["OPEX","O1","ALL","B1","G2",12,2014,0,1362,1524]
["OPEX","O1","ALL","B1","G3",1,2013,0,221,250]
["OPEX","O1","ALL","B1","G3",2,2013,0,382,384]
["OPEX","O1","ALL","B1","G3",3,2013,0,541,608]
["OPEX","O1","ALL","B1","G3",4,2013,0,777,757]
["OPEX","O1","ALL","B1","G3",5,2013,0,946,977]
["OPEX","O1","ALL","B1","G3",6,2013,0,993,1054]
["OPEX","O1","ALL","B1","G3",7,2013,0,989,992]
["OPEX","O1","ALL","B1","G3",8,2013,0,1294,1333]
["OPEX","O1","ALL","B1","G3",9,2013,0,1461,1519]
["OPEX","O1","ALL","B1","G3",10,2013,0,1070,1167]
["OPEX","O1","ALL","B1","G3",11,2013,0,398,435]
["OPEX","O1","ALL","B1","G3",12,2013,0,984,1077]
["OPEX","O1","ALL","B1","G3",1,2014,0,196,196]
["OPEX","O1","ALL","B1","G3",2,2014,0,411,467]
["OPEX","O1","ALL","B1","G3",3,2014,0,745,771]
["OPEX","O1","ALL","B1","G3",4,2014,0,576,634]
["OPEX","O1","ALL","B1","G3",5,2014,0,973,1001]
["OPEX","O1","ALL","B1","G3",6,2014,0,1251,1423]
["OPEX","O1","ALL","B1","G3",7,2014,0,1663,1799]
["OPEX","O1","ALL","B1","G3",8,2014,0,1523,1617]
["OPEX","O1","ALL","B1","G3",9,2014,0,770,805]
["OPEX","O1","ALL","B1","G3",10,2014,0,930,1000]
["OPEX","O1","ALL","B1","G3",11,2014,0,464,510]
["OPEX","O1","ALL","B1","G3",12,2014,0,1097,1110]
["OPEX","O1","ALL","B1","G4",1,2013,0,153,166]
["OPEX","O1","ALL","B1","G4",2,2013,0,289,290]
["OPEX","O1","ALL","B1","G4",3,2013,0,571,575]
["OPEX","O1","ALL","B1","G4",4,2013,0,370,410]
["OPEX","O1","ALL","B1","G4",5,2013,0,491,511]
["OPEX","O1","ALL","B1","G4",6,2013,0,824,868]
["OPEX","O1","ALL","B1","G4",7,2013,0,1380,1526]
["OPEX","O1","ALL","B1","G4",8,2013,0,1123,1225]
["OPEX","O1","ALL","B1","G4",9,2013,0,698,736]
["OPEX","O1","ALL","B1","G4",10,2013,0,506,580]
["OPEX","O1","ALL","B1","G4",11,2013,0,310,307]
["OPEX","O1","ALL","B1","G4",12,2013,0,651,631]
["OPEX","O1","ALL","B1","G4",1,2014,0,120,121]
["OPEX","O1","ALL","B1","G4",2,2014,0,191,199]
["OPEX","O1","ALL","B1","G4",3,2014,0,405,408]
["OPEX","O1","ALL","B1","G4",4,2014,0,585,625]
["OPEX","O1","ALL","B1","G4",5,2014,0,815,903]
["OPEX","O1","ALL","B1","G4",6,2014,0,893,961]
["OPEX","O1","ALL","B1","G4",7,2014,0,1110,1105]
["OPEX","O1","ALL","B1","G4",8,2014,0,1292,1410]
["OPEX","O1","ALL","B1","G4",9,2014,0,693,730]
["OPEX","O1","ALL","B1","G4",10,2014,0,503,502]
["OPEX","O1","ALL","B1","G4",11,2014,0,486,508]
["OPEX","O1","ALL","B1","G4",12,2014,0,993,1105]
["OPEX","O1","ALL","B1","G5",1,2013,0,196,199]
["OPEX","O1","ALL","B1","G5",2,2013,0,411,412]
["OPEX","O1","ALL","B1","G5",3,2013,0,490,534]
["OPEX","O1","ALL","B1","G5",4,2013,0,557,570]
["OPEX","O1","ALL","B1","G5",5,2013,0,919,979]
["OPEX","O1","ALL","B1","G5",6,2013,0,1056,1131]
["OPEX","O1","ALL","B1","G5",7,2013,0,1570,1696]
["OPEX","O1","ALL","B1","G5",8,2013,0,1711,1833]
["OPEX","O1","ALL","B1","G5",9,2013,0,1074,1151]
["OPEX","O1","ALL","B1","G5",10,2013,0,639,678]
["OPEX","O1","ALL","B1","G5",11,2013,0,607,608]
["OPEX","O1","ALL","B1","G5",12,2013,0,1477,1679]
["OPEX","O1","ALL","B1","G5",1,2014,0,210,222]
["OPEX","O1","ALL","B1","G5",2,2014,0,536,566]
["OPEX","O1","ALL","B1","G5",3,2014,0,699,697]
["OPEX","O1","ALL","B1","G5",4,2014,0,710,776]
["OPEX","O1","ALL","B1","G5",5,2014,0,880,922]
["OPEX","O1","ALL","B1","G5",6,2014,0,1152,1298]
["OPEX","O1","ALL","B1","G5",7,2014,0,1836,1963]
["OPEX","O1","ALL","B1","G5",8,2014,0,1439,1475]
["OPEX","O1","ALL","B1","G5",9,2014,0,1048,1102]
["OPEX","O1","ALL","B1","G5",10,2014,0,890,927]
["OPEX","O1","ALL","B1","G5",11,2014,0,425,456]
["OPEX","O1","ALL","B1","G5",12,2014,0,987,1022]
["OPEX","O1","ALL","B2","G1",1,2013,0,44,45]
["OPEX","O1","ALL","B2","G1",2,2013,0,157,163]
["OPEX","O1","ALL","B2","G1",3,2013,0,222,243]
["OPEX","O1","ALL","B2","G1",4,2013,0,232,226]
["OPEX","O1","ALL","B2","G1",5,2013,0,415,433]
["OPEX","O1","ALL","B2","G1",6,2013,0,458,490]
["OPEX","O1","ALL","B2","G1",7,2013,0,433,453]
["OPEX","O1","ALL","B2","G1",8,2013,0,481,480]
["OPEX","O1","ALL","B2","G1",9,2013,0,361,375]
["OPEX","O1","ALL","B2","G1",10,2013,0,408,437]
["OPEX","O1","ALL","B2","G1",11,2013,0,215,237]
["OPEX","O1","ALL","B2","G1",12,2013,0,341,336]
["OPEX","O1","ALL","B2","G1",1,2014,0,88,88]
["OPEX","O1","ALL","B2","G1",2,2014,0,198,215]
["OPEX","O1","ALL","B2","G1",3,2014,0,185,195]
["OPEX","O1","ALL","B2","G1",4,2014,0,213,212]
["OPEX","O1","ALL","B2","G1",5,2014,0,309,334]
["OPEX","O1","ALL","B2","G1",6,2014,0,299,336]
["OPEX","O1","ALL","B2","G1",7,2014,0,409,464]
["OPEX","O1","ALL","B2","G1",8,2014,0,503,523]
["OPEX","O1","ALL","B2","G1",9,2014,0,478,456]
["OPEX","O1","ALL","B2","G1",10,2014,0,261,267]
["OPEX","O1","ALL","B2","G1",11,2014,0,212,225]
["OPEX","O1","ALL","B2","G1",12,2014,0,358,404]
["OPEX","O1","ALL","B2","G2",1,2013,0,121,134]
["OPEX","O1","ALL","B2","G2",2,2013,0,242,254]
["OPEX","O1","ALL","B2","G2",3,2013,0,329,345]
["OPEX","O1","ALL","B2","G2",4,2013,0,417,447]
["OPEX","O1","ALL","B2","G2",5,2013,0,495,501]
["OPEX","O1","ALL","B2","G2",6,2013,0,728,780]
["OPEX","O1","ALL","B2","G2",7,2013,0,678,690]
["OPEX","O1","ALL","B2","G2",8,2013,0,520,564]
["OPEX","O1","ALL","B2","G2",9,2013,0,608,623]
["OPEX","O1","ALL","B2","G2",10,2013,0,295,302]
["OPEX","O1","ALL","B2","G2",11,2013,0,205,211]
["OPEX","O1","ALL","B2","G2",12,2013,0,557,564]
["OPEX","O1","ALL","B2","G2",1,2014,0,122,132]
["OPEX","O1","ALL","B2","G2",2,2014,0,152,149]
["OPEX","O1","ALL","B2","G2",3,2014,0,258,258]
["OPEX","O1","ALL","B2","G2",4,2014,0,397,421]
["OPEX","O1","ALL","B2","G2",5,2014,0,492,498]
["OPEX","O1","ALL","B2","G2",6,2014,0,558,616]
["OPEX","O1","ALL","B2","G2",7,2014,0,903,968]
["OPEX","O1","ALL","B2","G2",8,2014,0,768,818]
["OPEX","O1","ALL","B2","G2",9,2014,0,453,478]
["OPEX","O1","ALL","B2","G2",10,2014,0,441,457]
["OPEX","O1","ALL","B2","G2",11,2014,0,247,268]
["OPEX","O1","ALL","B2","G2",12,2014,0,588,570]
["OPEX","O1","ALL","B2","G3",1,2013,0,87,93]
["OPEX","O1","ALL","B2","G3",2,2013,0,97,99]
["OPEX","O1","ALL","B2","G3",3,2013,0,208,222]
["OPEX","O1","ALL","B2","G3",4,2013,0,217,240]
["OPEX","O1","ALL","B2","G3",5,2013,0,350,363]
["OPEX","O1","ALL","B2","G3",6,2013,0,520,545]
["OPEX","O1","ALL","B2","G3",7,2013,0,441,425]
["OPEX","O1","ALL","B2","G3",8,2013,0,387,418]
["OPEX","O1","ALL","B2","G3",9,2013,0,440,472]
["OPEX","O1","ALL","B2","G3",10,2013,0,201,227]
["OPEX","O1","ALL","B2","G3",11,2013,0,135,143]
["OPEX","O1","ALL","B2","G3",12,2013,0,277,278]
["OPEX","O1","ALL","B2","G3",1,2014,0,66,68]
["OPEX","O1","ALL","B2","G3",2,2014,0,110,122]
["OPEX","O1","ALL","B2","G3",3,2014,0,135,146]
["OPEX","O1","ALL","B2","G3",4,2014,0,180,190]
["OPEX","O1","ALL","B2","G3",5,2014,0,225,230]
["OPEX","O1","ALL","B2","G3",6,2014,0,346,363]
["OPEX","O1","ALL","B2","G3",7,2014,0,612,698]
["OPEX","O1","ALL","B2","G3",8,2014,0,509,575]
["OPEX","O1","ALL","B2","G3",9,2014,0,457,443]
["OPEX","O1","ALL","B2","G3",10,2014,0,328,352]
["OPEX","O1","ALL","B2","G3",11,2014,0,90,93]
["OPEX","O1","ALL","B2","G3",12,2014,0,309,344]
["OPEX","O1","ALL","B2","G4",1,2013,0,41,44]
["OPEX","O1","ALL","B2","G4",2,2013,0,83,93]
["OPEX","O1","ALL","B2","G4",3,2013,0,148,167]
["OPEX","O1","ALL","B2","G4",4,2013,0,133,142]
["OPEX","O1","ALL","B2","G4",5,2013,0,236,247]
["OPEX","O1","ALL","B2","G4",6,2013,0,296,296]
["OPEX","O1","ALL","B2","G4",7,2013,0,336,339]
["OPEX","O1","ALL","B2","G4",8,2013,0,282,294]
["OPEX","O1","ALL","B2","G4",9,2013,0,185,180]
["OPEX","O1","ALL","B2","G4",10,2013,0,122,122]
["OPEX","O1","ALL","B2","G4",11,2013,0,117,118]
["OPEX","O1","ALL","B2","G4",12,2013,0,231,241]
["OPEX","O1","ALL","B2","G4",1,2014,0,53,53]
["OPEX","O1","ALL","B2","G4",2,2014,0,99,101]
["OPEX","O1","ALL","B2","G4",3,2014,0,146,143]
["OPEX","O1","ALL","B2","G4",4,2014,0,136,145]
["OPEX","O1","ALL","B2","G4",5,2014,0,151,164]
["OPEX","O1","ALL","B2","G4",6,2014,0,224,240]
["OPEX","O1","ALL","B2","G4",7,2014,0,369,419]
["OPEX","O1","ALL","B2","G4",8,2014,0,212,212]
["OPEX","O1","ALL","B2","G4",9,2014,0,260,266]
["OPEX","O1","ALL","B2","G4",10,2014,0,179,203]
["OPEX","O1","ALL","B2","G4",11,2014,0,109,111]
["OPEX","O1","ALL","B2","G4",12,2014,0,302,317]
["OPEX","O1","ALL","B2","G5",1,2013,0,72,75]
["OPEX","O1","ALL","B2","G5",2,2013,0,107,114]
["OPEX","O1","ALL","B2","G5",3,2013,0,149,148]
["OPEX","O1","ALL","B2","G5",4,2013,0,219,213]
["OPEX","O1","ALL","B2","G5",5,2013,0,202,215]
["OPEX","O1","ALL","B2","G5",6,2013,0,306,323]
["OPEX","O1","ALL","B2","G5",7,2013,0,453,505]
["OPEX","O1","ALL","B2","G5",8,2013,0,435,503]
["OPEX","O1","ALL","B2","G5",9,2013,0,283,311]
["OPEX","O1","ALL","B2","G5",10,2013,0,146,153]
["OPEX","O1","ALL","B2","G5",11,2013,0,161,169]
["OPEX","O1","ALL","B2","G5",12,2013,0,317,320]
["OPEX","O1","ALL","B2","G5",1,2014,0,56,62]
["OPEX","O1","ALL","B2","G5",2,2014,0,89,94]
["OPEX","O1","ALL","B2","G5",3,2014,0,211,219]
["OPEX","O1","ALL","B2","G5",4,2014,0,177,182]
["OPEX","O1","ALL","B2","G5",5,2014,0,252,260]
["OPEX","O1","ALL","B2","G5",6,2014,0,289,296]
["OPEX","O1","ALL","B2","G5",7,2014,0,485,521]
["OPEX","O1","ALL","B2","G5",8,2014,0,362,358]
["OPEX","O1","ALL","B2","G5",9,2014,0,382,415]
["OPEX","O1","ALL","B2","G5",10,2014,0,193,211]
["OPEX","O1","ALL","B2","G5",11,2014,0,183,188]
["OPEX","O1","ALL","B2","G5",12,2014,0,303,308]
["OPEX","O1","ALL","B3","G1",1,2013,0,31,32]
["OPEX","O1","ALL","B3","G1",2,2013,0,61,68]
["OPEX","O1","ALL","B3","G1",3,2013,0,124,124]
["OPEX","O1","ALL","B3","G1",4,2013,0,110,114]
["OPEX","O1","ALL","B3","G1",5,2013,0,183,191]
["OPEX","O1","ALL","B3","G1",6,2013,0,211,232]
["OPEX","O1","ALL","B3","G1",7,2013,0,252,266]
["OPEX","O1","ALL","B3","G1",8,2013,0,346,363]
["OPEX","O1","ALL","B3","G1",9,2013,0,209,211]
["OPEX","O1","ALL","B3","G1",10,2013,0,129,145]
["OPEX","O1","ALL","B3","G1",11,2013,0,109,109]
["OPEX","O1","ALL","B3","G1",12,2013,0,169,176]
["OPEX","O1","ALL","B3","G1",1,2014,0,51,53]
["OPEX","O1","ALL","B3","G1",2,2014,0,70,76]
["OPEX","O1","ALL","B3","G1",3,2014,0,113,124]
["OPEX","O1","ALL","B3","G1",4,2014,0,104,116]
["OPEX","O1","ALL","B3","G1",5,2014,0,158,162]
["OPEX","O1","ALL","B3","G1",6,2014,0,232,243]
["OPEX","O1","ALL","B3","G1",7,2014,0,347,353]
["OPEX","O1","ALL","B3","G1",8,2014,0,258,259]
["OPEX","O1","ALL","B3","G1",9,2014,0,161,173]
["OPEX","O1","ALL","B3","G1",10,2014,0,164,173]
["OPEX","O1","ALL","B3","G1",11,2014,0,121,128]
["OPEX","O1","ALL","B3","G1",12,2014,0,168,173]
["OPEX","O1","ALL","B3","G2",1,2013,0,48,54]
["OPEX","O1","ALL","B3","G2",2,2013,0,97,100]
["OPEX","O1","ALL","B3","G2",3,2013,0,112,117]
["OPEX","O1","ALL","B3","G2",4,2013,0,199,213]
["OPEX","O1","ALL","B3","G2",5,2013,0,175,189]
["OPEX","O1","ALL","B3","G2",6,2013,0,231,252]
["OPEX","O1","ALL","B3","G2",7,2013,0,380,413]
["OPEX","O1","ALL","B3","G2",8,2013,0,420,461]
["OPEX","O1","ALL","B3","G2",9,2013,0,339,358]
["OPEX","O1","ALL","B3","G2",10,2013,0,263,280]
["OPEX","O1","ALL","B3","G2",11,2013,0,104,101]
["OPEX","O1","ALL","B3","G2",12,2013,0,346,346]
["OPEX","O1","ALL","B3","G2",1,2014,0,49,48]
["OPEX","O1","ALL","B3","G2",2,2014,0,119,127]
["OPEX","O1","ALL","B3","G2",3,2014,0,136,155]
["OPEX","O1","ALL","B3","G2",4,2014,0,221,228]
["OPEX","O1","ALL","B3","G2",5,2014,0,235,248]
["OPEX","O1","ALL","B3","G2",6,2014,0,334,354]
["OPEX","O1","ALL","B3","G2",7,2014,0,321,355]
["OPEX","O1","ALL","B3","G2",8,2014,0,245,262]
["OPEX","O1","ALL","B3","G2",9,2014,0,343,361]
["OPEX","O1","ALL","B3","G2",10,2014,0,137,146]
["OPEX","O1","ALL","B3","G2",11,2014,0,129,145]
["OPEX","O1","ALL","B3","G2",12,2014,0,258,270]
["OPEX","O1","ALL","B3","G3",1,2013,0,31,35]
["OPEX","O1","ALL","B3","G3",2,2013,0,75,78]
["OPEX","O1","ALL","B3","G3",3,2013,0,90,89]
["OPEX","O1","ALL","B3","G3",4,2013,0,108,123]
["OPEX","O1","ALL","B3","G3",5,2013,0,158,163]
["OPEX","O1","ALL","B3","G3",6,2013,0,152,159]
["OPEX","O1","ALL","B3","G3",7,2013,0,293,296]
["OPEX","O1","ALL","B3","G3",8,2013,0,174,184]
["OPEX","O1","ALL","B3","G3",9,2013,0,128,139]
["OPEX","O1","ALL","B3","G3",10,2013,0,125,129]
["OPEX","O1","ALL","B3","G3",11,2013,0,66,70]
["OPEX","O1","ALL","B3","G3",12,2013,0,199,195]
["OPEX","O1","ALL","B3","G3",1,2014,0,28,30]
["OPEX","O1","ALL","B3","G3",2,2014,0,47,51]
["OPEX","O1","ALL","B3","G3",3,2014,0,81,91]
["OPEX","O1","ALL","B3","G3",4,2014,0,99,106]
["OPEX","O1","ALL","B3","G3",5,2014,0,139,142]
["OPEX","O1","ALL","B3","G3",6,2014,0,196,197]
["OPEX","O1","ALL","B3","G3",7,2014,0,232,229]
["OPEX","O1","ALL","B3","G3",8,2014,0,184,208]
["OPEX","O1","ALL","B3","G3",9,2014,0,135,138]
["OPEX","O1","ALL","B3","G3",10,2014,0,140,145]
["OPEX","O1","ALL","B3","G3",11,2014,0,54,59]
["OPEX","O1","ALL","B3","G3",12,2014,0,149,163]
["OPEX","O1","ALL","B3","G4",1,2013,0,18,19]
["OPEX","O1","ALL","B3","G4",2,2013,0,33,34]
["OPEX","O1","ALL","B3","G4",3,2013,0,57,61]
["OPEX","O1","ALL","B3","G4",4,2013,0,61,68]
["OPEX","O1","ALL","B3","G4",5,2013,0,94,103]
["OPEX","O1","ALL","B3","G4",6,2013,0,130,126]
["OPEX","O1","ALL","B3","G4",7,2013,0,160,176]
["OPEX","O1","ALL","B3","G4",8,2013,0,168,173]
["OPEX","O1","ALL","B3","G4",9,2013,0,163,177]
["OPEX","O1","ALL","B3","G4",10,2013,0,60,60]
["OPEX","O1","ALL","B3","G4",11,2013,0,46,47]
["OPEX","O1","ALL","B3","G4",12,2013,0,85,85]
["OPEX","O1","ALL","B3","G4",1,2014,0,28,31]
["OPEX","O1","ALL","B3","G4",2,2014,0,41,41]
["OPEX","O1","ALL","B3","G4",3,2014,0,66,69]
["OPEX","O1","ALL","B3","G4",4,2014,0,67,72]
["OPEX","O1","ALL","B3","G4",5,2014,0,86,89]
["OPEX","O1","ALL","B3","G4",6,2014,0,149,165]
["OPEX","O1","ALL","B3","G4",7,2014,0,173,178]
["OPEX","O1","ALL","B3","G4",8,2014,0,184,186]
["OPEX","O1","ALL","B3","G4",9,2014,0,120,125]
["OPEX","O1","ALL","B3","G4",10,2014,0,83,88]
["OPEX","O1","ALL","B3","G4",11,2014,0,49,55]
["OPEX","O1","ALL","B3","G4",12,2014,0,144,147]
["OPEX","O1","ALL","B3","G5",1,2013,0,33,34]
["OPEX","O1","ALL","B3","G5",2,2013,0,62,61]
["OPEX","O1","ALL","B3","G5",3,2013,0,95,95]
["OPEX","O1","ALL","B3","G5",4,2013,0,93,92]
["OPEX","O1","ALL","B3","G5",5,2013,0,125,135]
["OPEX","O1","ALL","B3","G5",6,2013,0,146,147]
["OPEX","O1","ALL","B3","G5",7,2013,0,180,200]
["OPEX","O1","ALL","B3","G5",8,2013,0,195,220]
["OPEX","O1","ALL","B3","G5",9,2013,0,170,178]
["OPEX","O1","ALL","B3","G5",10,2013,0,102,107]
["OPEX","O1","ALL","B3","G5",11,2013,0,61,64]
["OPEX","O1","ALL","B3","G5",12,2013,0,126,141]
["OPEX","O1","ALL","B3","G5",1,2014,0,24,25]
["OPEX","O1","ALL","B3","G5",2,2014,0,80,81]
["OPEX","O1","ALL","B3","G5",3,2014,0,75,74]
["OPEX","O1","ALL","B3","G5",4,2014,0,96,98]
["OPEX","O1","ALL","B3","G5",5,2014,0,139,149]
["OPEX","O1","ALL","B3","G5",6,2014,0,150,151]
["OPEX","O1","ALL","B3","G5",7,2014,0,294,309]
["OPEX","O1","ALL","B3","G5",8,2014,0,264,278]
["OPEX","O1","ALL","B3","G5",9,2014,0,160,176]
["OPEX","O1","ALL","B3","G5",10,2014,0,78,85]
["OPEX","O1","ALL","B3","G5",11,2014,0,54,59]
["OPEX","O1","ALL","B3","G5",12,2014,0,124,132]
["OPEX","O2","ALL","B1","G1",1,2013,0,110,110]
["OPEX","O2","ALL","B1","G1",2,2013,0,378,427]
["OPEX","O2","ALL","B1","G1",3,2013,0,352,357]
["OPEX","O2","ALL","B1","G1",4,2013,0,431,443]
["OPEX","O2","ALL","B1","G1",5,2013,0,633,673]
["OPEX","O2","ALL","B1","G1",6,2013,0,1011,1075]
["OPEX","O2","ALL","B1","G1",7,2013,0,958,1016]
["OPEX","O2","ALL","B1","G1",8,2013,0,896,933]
["OPEX","O2","ALL","B1","G1",9,2013,0,839,884]
["OPEX","O2","ALL","B1","G1",10,2013,0,753,756]
["OPEX","O2","ALL","B1","G1",11,2013,0,335,340]
["OPEX","O2","ALL","B1","G1",12,2013,0,989,1061]
["OPEX","O2","ALL","B1","G1",1,2014,0,123,122]
["OPEX","O2","ALL","B1","G1",2,2014,0,346,370]
["OPEX","O2","ALL","B1","G1",3,2014,0,580,577]
["OPEX","O2","ALL","B1","G1",4,2014,0,515,528]
["OPEX","O2","ALL","B1","G1",5,2014,0,577,586]
["OPEX","O2","ALL","B1","G1",6,2014,0,1288,1301]
["OPEX","O2","ALL","B1","G1",7,2014,0,1080,1058]
["OPEX","O2","ALL","B1","G1",8,2014,0,1431,1452]
["OPEX","O2","ALL","B1","G1",9,2014,0,1083,1082]
["OPEX","O2","ALL","B1","G1",10,2014,0,575,584]
["OPEX","O2","ALL","B1","G1",11,2014,0,531,583]
["OPEX","O2","ALL","B1","G1",12,2014,0,1014,1152]
["OPEX","O2","ALL","B1","G2",1,2013,0,125,142]
["OPEX","O2","ALL","B1","G2",2,2013,0,341,344]
["OPEX","O2","ALL","B1","G2",3,2013,0,584,654]
["OPEX","O2","ALL","B1","G2",4,2013,0,751,823]
["OPEX","O2","ALL","B1","G2",5,2013,0,762,794]
["OPEX","O2","ALL","B1","G2",6,2013,0,973,1020]
["OPEX","O2","ALL","B1","G2",7,2013,0,1496,1617]
["OPEX","O2","ALL","B1","G2",8,2013,0,1258,1247]
["OPEX","O2","ALL","B1","G2",9,2013,0,1243,1310]
["OPEX","O2","ALL","B1","G2",10,2013,0,863,939]
["OPEX","O2","ALL","B1","G2",11,2013,0,519,568]
["OPEX","O2","ALL","B1","G2",12,2013,0,1146,1217]
["OPEX","O2","ALL","B1","G2",1,2014,0,232,244]
["OPEX","O2","ALL","B1","G2",2,2014,0,358,368]
["OPEX","O2","ALL","B1","G2",3,2014,0,536,562]
["OPEX","O2","ALL","B1","G2",4,2014,0,421,448]
["OPEX","O2","ALL","B1","G2",5,2014,0,875,933]
["OPEX","O2","ALL","B1","G2",6,2014,0,998,982]
["OPEX","O2","ALL","B1","G2",7,2014,0,1023,1028]
["OPEX","O2","ALL","B1","G2",8,2014,0,1741,1812]
["OPEX","O2","ALL","B1","G2",9,2014,0,1306,1361]
["OPEX","O2","ALL","B1","G2",10,2014,0,823,841]
["OPEX","O2","ALL","B1","G2",11,2014,0,560,587]
["OPEX","O2","ALL","B1","G2",12,2014,0,1158,1286]
["OPEX","O2","ALL","B1","G3",1,2013,0,104,110]
["OPEX","O2","ALL","B1","G3",2,2013,0,281,306]
["OPEX","O2","ALL","B1","G3",3,2013,0,257,285]
["OPEX","O2","ALL","B1","G3",4,2013,0,430,455]
["OPEX","O2","ALL","B1","G3",5,2013,0,529,590]
["OPEX","O2","ALL","B1","G3",6,2013,0,645,657]
["OPEX","O2","ALL","B1","G3",7,2013,0,982,1013]
["OPEX","O2","ALL","B1","G3",8,2013,0,690,750]
["OPEX","O2","ALL","B1","G3",9,2013,0,795,851]
["OPEX","O2","ALL","B1","G3",10,2013,0,497,506]
["OPEX","O2","ALL","B1","G3",11,2013,0,316,343]
["OPEX","O2","ALL","B1","G3",12,2013,0,781,815]
["OPEX","O2","ALL","B1","G3",1,2014,0,96,103]
["OPEX","O2","ALL","B1","G3",2,2014,0,208,226]
["OPEX","O2","ALL","B1","G3",3,2014,0,377,391]
["OPEX","O2","ALL","B1","G3",4,2014,0,307,296]
["OPEX","O2","ALL","B1","G3",5,2014,0,610,658]
["OPEX","O2","ALL","B1","G3",6,2014,0,730,747]
["OPEX","O2","ALL","B1","G3",7,2014,0,1080,1076]
["OPEX","O2","ALL","B1","G3",8,2014,0,1299,1281]
["OPEX","O2","ALL","B1","G3",9,2014,0,432,456]
["OPEX","O2","ALL","B1","G3",10,2014,0,499,541]
["OPEX","O2","ALL","B1","G3",11,2014,0,260,291]
["OPEX","O2","ALL","B1","G3",12,2014,0,570,563]
["OPEX","O2","ALL","B1","G4",1,2013,0,68,74]
["OPEX","O2","ALL","B1","G4",2,2013,0,171,184]
["OPEX","O2","ALL","B1","G4",3,2013,0,337,357]
["OPEX","O2","ALL","B1","G4",4,2013,0,253,279]
["OPEX","O2","ALL","B1","G4",5,2013,0,304,313]
["OPEX","O2","ALL","B1","G4",6,2013,0,448,469]
["OPEX","O2","ALL","B1","G4",7,2013,0,674,688]
["OPEX","O2","ALL","B1","G4",8,2013,0,530,603]
["OPEX","O2","ALL","B1","G4",9,2013,0,496,528]
["OPEX","O2","ALL","B1","G4",10,2013,0,316,309]
["OPEX","O2","ALL","B1","G4",11,2013,0,195,207]
["OPEX","O2","ALL","B1","G4",12,2013,0,502,528]
["OPEX","O2","ALL","B1","G4",1,2014,0,61,59]
["OPEX","O2","ALL","B1","G4",2,2014,0,180,174]
["OPEX","O2","ALL","B1","G4",3,2014,0,284,290]
["OPEX","O2","ALL","B1","G4",4,2014,0,272,264]
["OPEX","O2","ALL","B1","G4",5,2014,0,417,416]
["OPEX","O2","ALL","B1","G4",6,2014,0,417,442]
["OPEX","O2","ALL","B1","G4",7,2014,0,684,715]
["OPEX","O2","ALL","B1","G4",8,2014,0,658,712]
["OPEX","O2","ALL","B1","G4",9,2014,0,402,433]
["OPEX","O2","ALL","B1","G4",10,2014,0,294,313]
["OPEX","O2","ALL","B1","G4",11,2014,0,236,232]
["OPEX","O2","ALL","B1","G4",12,2014,0,450,471]
["OPEX","O2","ALL","B1","G5",1,2013,0,87,89]
["OPEX","O2","ALL","B1","G5",2,2013,0,166,170]
["OPEX","O2","ALL","B1","G5",3,2013,0,357,365]
["OPEX","O2","ALL","B1","G5",4,2013,0,364,393]
["OPEX","O2","ALL","B1","G5",5,2013,0,431,418]
["OPEX","O2","ALL","B1","G5",6,2013,0,764,809]
["OPEX","O2","ALL","B1","G5",7,2013,0,854,873]
["OPEX","O2","ALL","B1","G5",8,2013,0,621,655]
["OPEX","O2","ALL","B1","G5",9,2013,0,504,487]
["OPEX","O2","ALL","B1","G5",10,2013,0,425,449]
["OPEX","O2","ALL","B1","G5",11,2013,0,217,225]
["OPEX","O2","ALL","B1","G5",12,2013,0,577,590]
["OPEX","O2","ALL","B1","G5",1,2014,0,113,131]
["OPEX","O2","ALL","B1","G5",2,2014,0,215,228]
["OPEX","O2","ALL","B1","G5",3,2014,0,303,298]
["OPEX","O2","ALL","B1","G5",4,2014,0,378,402]
["OPEX","O2","ALL","B1","G5",5,2014,0,524,562]
["OPEX","O2","ALL","B1","G5",6,2014,0,552,582]
["OPEX","O2","ALL","B1","G5",7,2014,0,1067,1092]
["OPEX","O2","ALL","B1","G5",8,2014,0,788,782]
["OPEX","O2","ALL","B1","G5",9,2014,0,623,657]
["OPEX","O2","ALL","B1","G5",10,2014,0,551,562]
["OPEX","O2","ALL","B1","G5",11,2014,0,308,345]
["OPEX","O2","ALL","B1","G5",12,2014,0,587,592]
["OPEX","O2","ALL","B2","G1",1,2013,0,32,34]
["OPEX","O2","ALL","B2","G1",2,2013,0,69,74]
["OPEX","O2","ALL","B2","G1",3,2013,0,115,123]
["OPEX","O2","ALL","B2","G1",4,2013,0,155,155]
["OPEX","O2","ALL","B2","G1",5,2013,0,147,158]
["OPEX","O2","ALL","B2","G1",6,2013,0,267,278]
["OPEX","O2","ALL","B2","G1",7,2013,0,207,227]
["OPEX","O2","ALL","B2","G1",8,2013,0,200,217]
["OPEX","O2","ALL","B2","G1",9,2013,0,239,267]
["OPEX","O2","ALL","B2","G1",10,2013,0,148,156]
["OPEX","O2","ALL","B2","G1",11,2013,0,120,119]
["OPEX","O2","ALL","B2","G1",12,2013,0,197,215]
["OPEX","O2","ALL","B2","G1",1,2014,0,45,47]
["OPEX","O2","ALL","B2","G1",2,2014,0,119,128]
["OPEX","O2","ALL","B2","G1",3,2014,0,120,124]
["OPEX","O2","ALL","B2","G1",4,2014,0,124,134]
["OPEX","O2","ALL","B2","G1",5,2014,0,197,207]
["OPEX","O2","ALL","B2","G1",6,2014,0,206,226]
["OPEX","O2","ALL","B2","G1",7,2014,0,384,422]
["OPEX","O2","ALL","B2","G1",8,2014,0,364,369]
["OPEX","O2","ALL","B2","G1",9,2014,0,246,267]
["OPEX","O2","ALL","B2","G1",10,2014,0,226,227]
["OPEX","O2","ALL","B2","G1",11,2014,0,125,133]
["OPEX","O2","ALL","B2","G1",12,2014,0,256,286]
["OPEX","O2","ALL","B2","G2",1,2013,0,65,69]
["OPEX","O2","ALL","B2","G2",2,2013,0,87,85]
["OPEX","O2","ALL","B2","G2",3,2013,0,224,220]
["OPEX","O2","ALL","B2","G2",4,2013,0,263,264]
["OPEX","O2","ALL","B2","G2",5,2013,0,199,227]
["OPEX","O2","ALL","B2","G2",6,2013,0,424,439]
["OPEX","O2","ALL","B2","G2",7,2013,0,427,440]
["OPEX","O2","ALL","B2","G2",8,2013,0,417,431]
["OPEX","O2","ALL","B2","G2",9,2013,0,275,303]
["OPEX","O2","ALL","B2","G2",10,2013,0,297,303]
["OPEX","O2","ALL","B2","G2",11,2013,0,130,142]
["OPEX","O2","ALL","B2","G2",12,2013,0,241,271]
["OPEX","O2","ALL","B2","G2",1,2014,0,35,37]
["OPEX","O2","ALL","B2","G2",2,2014,0,123,130]
["OPEX","O2","ALL","B2","G2",3,2014,0,150,165]
["OPEX","O2","ALL","B2","G2",4,2014,0,259,274]
["OPEX","O2","ALL","B2","G2",5,2014,0,282,313]
["OPEX","O2","ALL","B2","G2",6,2014,0,280,290]
["OPEX","O2","ALL","B2","G2",7,2014,0,435,485]
["OPEX","O2","ALL","B2","G2",8,2014,0,425,435]
["OPEX","O2","ALL","B2","G2",9,2014,0,415,443]
["OPEX","O2","ALL","B2","G2",10,2014,0,216,222]
["OPEX","O2","ALL","B2","G2",11,2014,0,194,204]
["OPEX","O2","ALL","B2","G2",12,2014,0,329,369]
["OPEX","O2","ALL","B2","G3",1,2013,0,49,49]
["OPEX","O2","ALL","B2","G3",2,2013,0,82,86]
["OPEX","O2","ALL","B2","G3",3,2013,0,130,133]
["OPEX","O2","ALL","B2","G3",4,2013,0,159,167]
["OPEX","O2","ALL","B2","G3",5,2013,0,126,137]
["OPEX","O2","ALL","B2","G3",6,2013,0,162,182]
["OPEX","O2","ALL","B2","G3",7,2013,0,197,202]
["OPEX","O2","ALL","B2","G3",8,2013,0,172,175]
["OPEX","O2","ALL","B2","G3",9,2013,0,247,244]
["OPEX","O2","ALL","B2","G3",10,2013,0,119,125]
["OPEX","O2","ALL","B2","G3",11,2013,0,105,109]
["OPEX","O2","ALL","B2","G3",12,2013,0,142,140]
["OPEX","O2","ALL","B2","G3",1,2014,0,30,33]
["OPEX","O2","ALL","B2","G3",2,2014,0,61,65]
["OPEX","O2","ALL","B2","G3",3,2014,0,116,120]
["OPEX","O2","ALL","B2","G3",4,2014,0,117,125]
["OPEX","O2","ALL","B2","G3",5,2014,0,161,161]
["OPEX","O2","ALL","B2","G3",6,2014,0,165,191]
["OPEX","O2","ALL","B2","G3",7,2014,0,260,273]
["OPEX","O2","ALL","B2","G3",8,2014,0,202,208]
["OPEX","O2","ALL","B2","G3",9,2014,0,210,206]
["OPEX","O2","ALL","B2","G3",10,2014,0,122,118]
["OPEX","O2","ALL","B2","G3",11,2014,0,93,99]
["OPEX","O2","ALL","B2","G3",12,2014,0,176,185]
["OPEX","O2","ALL","B2","G4",1,2013,0,26,29]
["OPEX","O2","ALL","B2","G4",2,2013,0,51,52]
["OPEX","O2","ALL","B2","G4",3,2013,0,94,101]
["OPEX","O2","ALL","B2","G4",4,2013,0,92,97]
["OPEX","O2","ALL","B2","G4",5,2013,0,109,112]
["OPEX","O2","ALL","B2","G4",6,2013,0,126,138]
["OPEX","O2","ALL","B2","G4",7,2013,0,188,204]
["OPEX","O2","ALL","B2","G4",8,2013,0,191,194]
["OPEX","O2","ALL","B2","G4",9,2013,0,104,116]
["OPEX","O2","ALL","B2","G4",10,2013,0,130,147]
["OPEX","O2","ALL","B2","G4",11,2013,0,61,64]
["OPEX","O2","ALL","B2","G4",12,2013,0,118,120]
["OPEX","O2","ALL","B2","G4",1,2014,0,27,29]
["OPEX","O2","ALL","B2","G4",2,2014,0,37,38]
["OPEX","O2","ALL","B2","G4",3,2014,0,116,127]
["OPEX","O2","ALL","B2","G4",4,2014,0,95,98]
["OPEX","O2","ALL","B2","G4",5,2014,0,117,116]
["OPEX","O2","ALL","B2","G4",6,2014,0,201,203]
["OPEX","O2","ALL","B2","G4",7,2014,0,244,249]
["OPEX","O2","ALL","B2","G4",8,2014,0,132,140]
["OPEX","O2","ALL","B2","G4",9,2014,0,154,157]
["OPEX","O2","ALL","B2","G4",10,2014,0,66,69]
["OPEX","O2","ALL","B2","G4",11,2014,0,82,85]
["OPEX","O2","ALL","B2","G4",12,2014,0,158,165]
["OPEX","O2","ALL","B2","G5",1,2013,0,42,44]
["OPEX","O2","ALL","B2","G5",2,2013,0,78,79]
["OPEX","O2","ALL","B2","G5",3,2013,0,101,110]
["OPEX","O2","ALL","B2","G5",4,2013,0,95,101]
["OPEX","O2","ALL","B2","G5",5,2013,0,174,191]
["OPEX","O2","ALL","B2","G5",6,2013,0,163,169]
["OPEX","O2","ALL","B2","G5",7,2013,0,253,262]
["OPEX","O2","ALL","B2","G5",8,2013,0,239,234]
["OPEX","O2","ALL","B2","G5",9,2013,0,173,186]
["OPEX","O2","ALL","B2","G5",10,2013,0,163,160]
["OPEX","O2","ALL","B2","G5",11,2013,0,115,119]
["OPEX","O2","ALL","B2","G5",12,2013,0,187,204]
["OPEX","O2","ALL","B2","G5",1,2014,0,29,31]
["OPEX","O2","ALL","B2","G5",2,2014,0,42,45]
["OPEX","O2","ALL","B2","G5",3,2014,0,76,84]
["OPEX","O2","ALL","B2","G5",4,2014,0,111,116]
["OPEX","O2","ALL","B2","G5",5,2014,0,162,165]
["OPEX","O2","ALL","B2","G5",6,2014,0,170,171]
["OPEX","O2","ALL","B2","G5",7,2014,0,376,375]
["OPEX","O2","ALL","B2","G5",8,2014,0,175,191]
["OPEX","O2","ALL","B2","G5",9,2014,0,202,225]
["OPEX","O2","ALL","B2","G5",10,2014,0,117,122]
["OPEX","O2","ALL","B2","G5",11,2014,0,106,111]
["OPEX","O2","ALL","B2","G5",12,2014,0,183,180]
["OPEX","O2","ALL","B3","G1",1,2013,0,19,22]
["OPEX","O2","ALL","B3","G1",2,2013,0,45,51]
["OPEX","O2","ALL","B3","G1",3,2013,0,66,69]
["OPEX","O2","ALL","B3","G1",4,2013,0,74,78]
["OPEX","O2","ALL","B3","G1",5,2013,0,104,107]
["OPEX","O2","ALL","B3","G1",6,2013,0,146,156]
["OPEX","O2","ALL","B3","G1",7,2013,0,154,147]
["OPEX","O2","ALL","B3","G1",8,2013,0,122,122]
["OPEX","O2","ALL","B3","G1",9,2013,0,113,126]
["OPEX","O2","ALL","B3","G1",10,2013,0,106,106]
["OPEX","O2","ALL","B3","G1",11,2013,0,56,59]
["OPEX","O2","ALL","B3","G1",12,2013,0,106,104]
["OPEX","O2","ALL","B3","G1",1,2014,0,21,22]
["OPEX","O2","ALL","B3","G1",2,2014,0,40,43]
["OPEX","O2","ALL","B3","G1",3,2014,0,69,75]
["OPEX","O2","ALL","B3","G1",4,2014,0,68,75]
["OPEX","O2","ALL","B3","G1",5,2014,0,100,101]
["OPEX","O2","ALL","B3","G1",6,2014,0,103,115]
["OPEX","O2","ALL","B3","G1",7,2014,0,192,197]
["OPEX","O2","ALL","B3","G1",8,2014,0,164,171]
["OPEX","O2","ALL","B3","G1",9,2014,0,135,138]
["OPEX","O2","ALL","B3","G1",10,2014,0,79,82]
["OPEX","O2","ALL","B3","G1",11,2014,0,54,55]
["OPEX","O2","ALL","B3","G1",12,2014,0,88,96]
["OPEX","O2","ALL","B3","G2",1,2013,0,31,34]
["OPEX","O2","ALL","B3","G2",2,2013,0,70,76]
["OPEX","O2","ALL","B3","G2",3,2013,0,103,107]
["OPEX","O2","ALL","B3","G2",4,2013,0,114,122]
["OPEX","O2","ALL","B3","G2",5,2013,0,98,106]
["OPEX","O2","ALL","B3","G2",6,2013,0,152,154]
["OPEX","O2","ALL","B3","G2",7,2013,0,186,189]
["OPEX","O2","ALL","B3","G2",8,2013,0,202,210]
["OPEX","O2","ALL","B3","G2",9,2013,0,172,177]
["OPEX","O2","ALL","B3","G2",10,2013,0,91,97]
["OPEX","O2","ALL","B3","G2",11,2013,0,68,74]
["OPEX","O2","ALL","B3","G2",12,2013,0,141,158]
["OPEX","O2","ALL","B3","G2",1,2014,0,20,22]
["OPEX","O2","ALL","B3","G2",2,2014,0,58,59]
["OPEX","O2","ALL","B3","G2",3,2014,0,95,97]
["OPEX","O2","ALL","B3","G2",4,2014,0,71,75]
["OPEX","O2","ALL","B3","G2",5,2014,0,118,117]
["OPEX","O2","ALL","B3","G2",6,2014,0,128,128]
["OPEX","O2","ALL","B3","G2",7,2014,0,240,277]
["OPEX","O2","ALL","B3","G2",8,2014,0,260,279]
["OPEX","O2","ALL","B3","G2",9,2014,0,139,145]
["OPEX","O2","ALL","B3","G2",10,2014,0,90,96]
["OPEX","O2","ALL","B3","G2",11,2014,0,56,55]
["OPEX","O2","ALL","B3","G2",12,2014,0,183,195]
["OPEX","O2","ALL","B3","G3",1,2013,0,16,17]
["OPEX","O2","ALL","B3","G3",2,2013,0,38,40]
["OPEX","O2","ALL","B3","G3",3,2013,0,50,50]
["OPEX","O2","ALL","B3","G3",4,2013,0,82,86]
["OPEX","O2","ALL","B3","G3",5,2013,0,81,84]
["OPEX","O2","ALL","B3","G3",6,2013,0,116,120]
["OPEX","O2","ALL","B3","G3",7,2013,0,116,121]
["OPEX","O2","ALL","B3","G3",8,2013,0,118,124]
["OPEX","O2","ALL","B3","G3",9,2013,0,81,83]
["OPEX","O2","ALL","B3","G3",10,2013,0,62,65]
["OPEX","O2","ALL","B3","G3",11,2013,0,43,46]
["OPEX","O2","ALL","B3","G3",12,2013,0,103,110]
["OPEX","O2","ALL","B3","G3",1,2014,0,20,22]
["OPEX","O2","ALL","B3","G3",2,2014,0,32,33]
["OPEX","O2","ALL","B3","G3",3,2014,0,48,51]
["OPEX","O2","ALL","B3","G3",4,2014,0,63,68]
["OPEX","O2","ALL","B3","G3",5,2014,0,77,85]
["OPEX","O2","ALL","B3","G3",6,2014,0,100,104]
["OPEX","O2","ALL","B3","G3",7,2014,0,105,113]
["OPEX","O2","ALL","B3","G3",8,2014,0,123,131]
["OPEX","O2","ALL","B3","G3",9,2014,0,84,87]
["OPEX","O2","ALL","B3","G3",10,2014,0,85,83]
["OPEX","O2","ALL","B3","G3",11,2014,0,48,48]
["OPEX","O2","ALL","B3","G3",12,2014,0,83,92]
["OPEX","O2","ALL","B3","G4",1,2013,0,9,9]
["OPEX","O2","ALL","B3","G4",2,2013,0,25,24]
["OPEX","O2","ALL","B3","G4",3,2013,0,43,48]
["OPEX","O2","ALL","B3","G4",4,2013,0,31,33]
["OPEX","O2","ALL","B3","G4",5,2013,0,43,49]
["OPEX","O2","ALL","B3","G4",6,2013,0,63,63]
["OPEX","O2","ALL","B3","G4",7,2013,0,97,95]
["OPEX","O2","ALL","B3","G4",8,2013,0,55,56]
["OPEX","O2","ALL","B3","G4",9,2013,0,59,59]
["OPEX","O2","ALL","B3","G4",10,2013,0,43,42]
["OPEX","O2","ALL","B3","G4",11,2013,0,37,38]
["OPEX","O2","ALL","B3","G4",12,2013,0,58,61]
["OPEX","O2","ALL","B3","G4",1,2014,0,16,15]
["OPEX","O2","ALL","B3","G4",2,2014,0,25,25]
["OPEX","O2","ALL","B3","G4",3,2014,0,47,46]
["OPEX","O2","ALL","B3","G4",4,2014,0,49,55]
["OPEX","O2","ALL","B3","G4",5,2014,0,49,52]
["OPEX","O2","ALL","B3","G4",6,2014,0,69,73]
["OPEX","O2","ALL","B3","G4",7,2014,0,109,118]
["OPEX","O2","ALL","B3","G4",8,2014,0,67,67]
["OPEX","O2","ALL","B3","G4",9,2014,0,69,73]
["OPEX","O2","ALL","B3","G4",10,2014,0,39,43]
["OPEX","O2","ALL","B3","G4",11,2014,0,32,33]
["OPEX","O2","ALL","B3","G4",12,2014,0,67,71]
["OPEX","O2","ALL","B3","G5",1,2013,0,15,15]
["OPEX","O2","ALL","B3","G5",2,2013,0,24,25]
["OPEX","O2","ALL","B3","G5",3,2013,0,62,68]
["OPEX","O2","ALL","B3","G5",4,2013,0,77,81]
["OPEX","O2","ALL","B3","G5",5,2013,0,57,60]
["OPEX","O2","ALL","B3","G5",6,2013,0,97,101]
["OPEX","O2","ALL","B3","G5",7,2013,0,114,116]
["OPEX","O2","ALL","B3","G5",8,2013,0,104,114]
["OPEX","O2","ALL","B3","G5",9,2013,0,95,96]
["OPEX","O2","ALL","B3","G5",10,2013,0,51,54]
["OPEX","O2","ALL","B3","G5",11,2013,0,37,41]
["OPEX","O2","ALL","B3","G5",12,2013,0,56,59]
["OPEX","O2","ALL","B3","G5",1,2014,0,22,22]
["OPEX","O2","ALL","B3","G5",2,2014,0,36,38]
["OPEX","O2","ALL","B3","G5",3,2014,0,54,55]
["OPEX","O2","ALL","B3","G5",4,2014,0,60,66]
["OPEX","O2","ALL","B3","G5",5,2014,0,79,85]
["OPEX","O2","ALL","B3","G5",6,2014,0,83,86]
["OPEX","O2","ALL","B3","G5",7,2014,0,116,122]
["OPEX","O2","ALL","B3","G5",8,2014,0,127,131]
["OPEX","O2","ALL","B3","G5",9,2014,0,80,86]
["OPEX","O2","ALL","B3","G5",10,2014,0,63,64]
["OPEX","O2","ALL","B3","G5",11,2014,0,54,58]
["OPEX","O2","ALL","B3","G5",12,2014,0,60,68]
["OPEX","O3","ALL","B1","G1",1,2013,0,38,41]
["OPEX","O3","ALL","B1","G1",2,2013,0,74,81]
["OPEX","O3","ALL","B1","G1",3,2013,0,113,119]
["OPEX","O3","ALL","B1","G1",4,2013,0,145,145]
["OPEX","O3","ALL","B1","G1",5,2013,0,126,133]
["OPEX","O3","ALL","B1","G1",6,2013,0,197,201]
["OPEX","O3","ALL","B1","G1",7,2013,0,323,347]
["OPEX","O3","ALL","B1","G1",8,2013,0,255,276]
["OPEX","O3","ALL","B1","G1",9,2013,0,147,152]
["OPEX","O3","ALL","B1","G1",10,2013,0,135,130]
["OPEX","O3","ALL","B1","G1",11,2013,0,101,112]
["OPEX","O3","ALL","B1","G1",12,2013,0,184,192]
["OPEX","O3","ALL","B1","G1",1,2014,0,34,34]
["OPEX","O3","ALL","B1","G1",2,2014,0,69,72]
["OPEX","O3","ALL","B1","G1",3,2014,0,74,76]
["OPEX","O3","ALL","B1","G1",4,2014,0,101,107]
["OPEX","O3","ALL","B1","G1",5,2014,0,131,139]
["OPEX","O3","ALL","B1","G1",6,2014,0,182,183]
["OPEX","O3","ALL","B1","G1",7,2014,0,277,309]
["OPEX","O3","ALL","B1","G1",8,2014,0,249,259]
["OPEX","O3","ALL","B1","G1",9,2014,0,198,215]
["OPEX","O3","ALL","B1","G1",10,2014,0,150,169]
["OPEX","O3","ALL","B1","G1",11,2014,0,72,77]
["OPEX","O3","ALL","B1","G1",12,2014,0,154,167]
["OPEX","O3","ALL","B1","G2",1,2013,0,50,55]
["OPEX","O3","ALL","B1","G2",2,2013,0,106,106]
["OPEX","O3","ALL","B1","G2",3,2013,0,87,84]
["OPEX","O3","ALL","B1","G2",4,2013,0,181,196]
["OPEX","O3","ALL","B1","G2",5,2013,0,225,239]
["OPEX","O3","ALL","B1","G2",6,2013,0,252,271]
["OPEX","O3","ALL","B1","G2",7,2013,0,344,338]
["OPEX","O3","ALL","B1","G2",8,2013,0,363,406]
["OPEX","O3","ALL","B1","G2",9,2013,0,300,320]
["OPEX","O3","ALL","B1","G2",10,2013,0,167,174]
["OPEX","O3","ALL","B1","G2",11,2013,0,100,105]
["OPEX","O3","ALL","B1","G2",12,2013,0,176,183]
["OPEX","O3","ALL","B1","G2",1,2014,0,45,49]
["OPEX","O3","ALL","B1","G2",2,2014,0,67,74]
["OPEX","O3","ALL","B1","G2",3,2014,0,137,143]
["OPEX","O3","ALL","B1","G2",4,2014,0,104,106]
["OPEX","O3","ALL","B1","G2",5,2014,0,135,149]
["OPEX","O3","ALL","B1","G2",6,2014,0,223,224]
["OPEX","O3","ALL","B1","G2",7,2014,0,279,308]
["OPEX","O3","ALL","B1","G2",8,2014,0,299,315]
["OPEX","O3","ALL","B1","G2",9,2014,0,281,303]
["OPEX","O3","ALL","B1","G2",10,2014,0,161,173]
["OPEX","O3","ALL","B1","G2",11,2014,0,124,127]
["OPEX","O3","ALL","B1","G2",12,2014,0,174,183]
["OPEX","O3","ALL","B1","G3",1,2013,0,29,31]
["OPEX","O3","ALL","B1","G3",2,2013,0,73,77]
["OPEX","O3","ALL","B1","G3",3,2013,0,96,101]
["OPEX","O3","ALL","B1","G3",4,2013,0,82,86]
["OPEX","O3","ALL","B1","G3",5,2013,0,68,72]
["OPEX","O3","ALL","B1","G3",6,2013,0,135,141]
["OPEX","O3","ALL","B1","G3",7,2013,0,200,220]
["OPEX","O3","ALL","B1","G3",8,2013,0,188,202]
["OPEX","O3","ALL","B1","G3",9,2013,0,124,134]
["OPEX","O3","ALL","B1","G3",10,2013,0,109,117]
["OPEX","O3","ALL","B1","G3",11,2013,0,65,71]
["OPEX","O3","ALL","B1","G3",12,2013,0,129,135]
["OPEX","O3","ALL","B1","G3",1,2014,0,26,26]
["OPEX","O3","ALL","B1","G3",2,2014,0,38,37]
["OPEX","O3","ALL","B1","G3",3,2014,0,87,96]
["OPEX","O3","ALL","B1","G3",4,2014,0,80,87]
["OPEX","O3","ALL","B1","G3",5,2014,0,121,130]
["OPEX","O3","ALL","B1","G3",6,2014,0,153,150]
["OPEX","O3","ALL","B1","G3",7,2014,0,149,165]
["OPEX","O3","ALL","B1","G3",8,2014,0,126,141]
["OPEX","O3","ALL","B1","G3",9,2014,0,154,170]
["OPEX","O3","ALL","B1","G3",10,2014,0,91,101]
["OPEX","O3","ALL","B1","G3",11,2014,0,49,51]
["OPEX","O3","ALL","B1","G3",12,2014,0,112,118]
["OPEX","O3","ALL","B1","G4",1,2013,0,17,19]
["OPEX","O3","ALL","B1","G4",2,2013,0,29,29]
["OPEX","O3","ALL","B1","G4",3,2013,0,63,65]
["OPEX","O3","ALL","B1","G4",4,2013,0,88,92]
["OPEX","O3","ALL","B1","G4",5,2013,0,75,77]
["OPEX","O3","ALL","B1","G4",6,2013,0,110,110]
["OPEX","O3","ALL","B1","G4",7,2013,0,144,145]
["OPEX","O3","ALL","B1","G4",8,2013,0,103,101]
["OPEX","O3","ALL","B1","G4",9,2013,0,123,129]
["OPEX","O3","ALL","B1","G4",10,2013,0,86,89]
["OPEX","O3","ALL","B1","G4",11,2013,0,45,45]
["OPEX","O3","ALL","B1","G4",12,2013,0,81,84]
["OPEX","O3","ALL","B1","G4",1,2014,0,23,24]
["OPEX","O3","ALL","B1","G4",2,2014,0,47,49]
["OPEX","O3","ALL","B1","G4",3,2014,0,50,53]
["OPEX","O3","ALL","B1","G4",4,2014,0,45,48]
["OPEX","O3","ALL","B1","G4",5,2014,0,63,68]
["OPEX","O3","ALL","B1","G4",6,2014,0,99,104]
["OPEX","O3","ALL","B1","G4",7,2014,0,133,144]
["OPEX","O3","ALL","B1","G4",8,2014,0,147,149]
["OPEX","O3","ALL","B1","G4",9,2014,0,119,126]
["OPEX","O3","ALL","B1","G4",10,2014,0,77,75]
["OPEX","O3","ALL","B1","G4",11,2014,0,49,49]
["OPEX","O3","ALL","B1","G4",12,2014,0,77,77]
["OPEX","O3","ALL","B1","G5",1,2013,0,26,27]
["OPEX","O3","ALL","B1","G5",2,2013,0,49,52]
["OPEX","O3","ALL","B1","G5",3,2013,0,56,62]
["OPEX","O3","ALL","B1","G5",4,2013,0,110,113]
["OPEX","O3","ALL","B1","G5",5,2013,0,112,123]
["OPEX","O3","ALL","B1","G5",6,2013,0,178,193]
["OPEX","O3","ALL","B1","G5",7,2013,0,152,148]
["OPEX","O3","ALL","B1","G5",8,2013,0,218,222]
["OPEX","O3","ALL","B1","G5",9,2013,0,128,143]
["OPEX","O3","ALL","B1","G5",10,2013,0,97,103]
["OPEX","O3","ALL","B1","G5",11,2013,0,62,63]
["OPEX","O3","ALL","B1","G5",12,2013,0,106,109]
["OPEX","O3","ALL","B1","G5",1,2014,0,32,31]
["OPEX","O3","ALL","B1","G5",2,2014,0,43,45]
["OPEX","O3","ALL","B1","G5",3,2014,0,65,70]
["OPEX","O3","ALL","B1","G5",4,2014,0,89,94]
["OPEX","O3","ALL","B1","G5",5,2014,0,84,92]
["OPEX","O3","ALL","B1","G5",6,2014,0,123,125]
["OPEX","O3","ALL","B1","G5",7,2014,0,210,234]
["OPEX","O3","ALL","B1","G5",8,2014,0,189,198]
["OPEX","O3","ALL","B1","G5",9,2014,0,114,119]
["OPEX","O3","ALL","B1","G5",10,2014,0,121,124]
["OPEX","O3","ALL","B1","G5",11,2014,0,49,49]
["OPEX","O3","ALL","B1","G5",12,2014,0,153,167]
["OPEX","O3","ALL","B2","G1",1,2013,0,14,14]
["OPEX","O3","ALL","B2","G1",2,2013,0,23,23]
["OPEX","O3","ALL","B2","G1",3,2013,0,32,36]
["OPEX","O3","ALL","B2","G1",4,2013,0,35,35]
["OPEX","O3","ALL","B2","G1",5,2013,0,47,50]
["OPEX","O3","ALL","B2","G1",6,2013,0,47,50]
["OPEX","O3","ALL","B2","G1",7,2013,0,93,92]
["OPEX","O3","ALL","B2","G1",8,2013,0,59,57]
["OPEX","O3","ALL","B2","G1",9,2013,0,40,45]
["OPEX","O3","ALL","B2","G1",10,2013,0,36,39]
["OPEX","O3","ALL","B2","G1",11,2013,0,25,25]
["OPEX","O3","ALL","B2","G1",12,2013,0,59,64]
["OPEX","O3","ALL","B2","G1",1,2014,0,9,9]
["OPEX","O3","ALL","B2","G1",2,2014,0,16,18]
["OPEX","O3","ALL","B2","G1",3,2014,0,35,37]
["OPEX","O3","ALL","B2","G1",4,2014,0,33,37]
["OPEX","O3","ALL","B2","G1",5,2014,0,53,54]
["OPEX","O3","ALL","B2","G1",6,2014,0,51,53]
["OPEX","O3","ALL","B2","G1",7,2014,0,67,70]
["OPEX","O3","ALL","B2","G1",8,2014,0,52,57]
["OPEX","O3","ALL","B2","G1",9,2014,0,52,51]
["OPEX","O3","ALL","B2","G1",10,2014,0,40,46]
["OPEX","O3","ALL","B2","G1",11,2014,0,32,31]
["OPEX","O3","ALL","B2","G1",12,2014,0,54,55]
["OPEX","O3","ALL","B2","G2",1,2013,0,9,9]
["OPEX","O3","ALL","B2","G2",2,2013,0,22,24]
["OPEX","O3","ALL","B2","G2",3,2013,0,32,35]
["OPEX","O3","ALL","B2","G2",4,2013,0,36,37]
["OPEX","O3","ALL","B2","G2",5,2013,0,58,62]
["OPEX","O3","ALL","B2","G2",6,2013,0,65,67]
["OPEX","O3","ALL","B2","G2",7,2013,0,61,64]
["OPEX","O3","ALL","B2","G2",8,2013,0,72,73]
["OPEX","O3","ALL","B2","G2",9,2013,0,80,84]
["OPEX","O3","ALL","B2","G2",10,2013,0,38,36]
["OPEX","O3","ALL","B2","G2",11,2013,0,28,31]
["OPEX","O3","ALL","B2","G2",12,2013,0,70,67]
["OPEX","O3","ALL","B2","G2",1,2014,0,11,11]
["OPEX","O3","ALL","B2","G2",2,2014,0,23,23]
["OPEX","O3","ALL","B2","G2",3,2014,0,32,35]
["OPEX","O3","ALL","B2","G2",4,2014,0,44,48]
["OPEX","O3","ALL","B2","G2",5,2014,0,33,34]
["OPEX","O3","ALL","B2","G2",6,2014,0,84,91]
["OPEX","O3","ALL","B2","G2",7,2014,0,122,134]
["OPEX","O3","ALL","B2","G2",8,2014,0,113,109]
["OPEX","O3","ALL","B2","G2",9,2014,0,65,67]
["OPEX","O3","ALL","B2","G2",10,2014,0,37,38]
["OPEX","O3","ALL","B2","G2",11,2014,0,38,39]
["OPEX","O3","ALL","B2","G2",12,2014,0,69,76]
["OPEX","O3","ALL","B2","G3",1,2013,0,7,7]
["OPEX","O3","ALL","B2","G3",2,2013,0,13,14]
["OPEX","O3","ALL","B2","G3",3,2013,0,26,26]
["OPEX","O3","ALL","B2","G3",4,2013,0,29,32]
["OPEX","O3","ALL","B2","G3",5,2013,0,41,40]
["OPEX","O3","ALL","B2","G3",6,2013,0,42,44]
["OPEX","O3","ALL","B2","G3",7,2013,0,71,72]
["OPEX","O3","ALL","B2","G3",8,2013,0,45,47]
["OPEX","O3","ALL","B2","G3",9,2013,0,40,42]
["OPEX","O3","ALL","B2","G3",10,2013,0,35,40]
["OPEX","O3","ALL","B2","G3",11,2013,0,27,28]
["OPEX","O3","ALL","B2","G3",12,2013,0,34,36]
["OPEX","O3","ALL","B2","G3",1,2014,0,10,10]
["OPEX","O3","ALL","B2","G3",2,2014,0,16,18]
["OPEX","O3","ALL","B2","G3",3,2014,0,17,18]
["OPEX","O3","ALL","B2","G3",4,2014,0,28,31]
["OPEX","O3","ALL","B2","G3",5,2014,0,33,38]
["OPEX","O3","ALL","B2","G3",6,2014,0,38,40]
["OPEX","O3","ALL","B2","G3",7,2014,0,44,49]
["OPEX","O3","ALL","B2","G3",8,2014,0,42,45]
["OPEX","O3","ALL","B2","G3",9,2014,0,42,45]
["OPEX","O3","ALL","B2","G3",10,2014,0,33,38]
["OPEX","O3","ALL","B2","G3",11,2014,0,26,26]
["OPEX","O3","ALL","B2","G3",12,2014,0,43,46]
["OPEX","O3","ALL","B2","G4",1,2013,0,5,5]
["OPEX","O3","ALL","B2","G4",2,2013,0,11,11]
["OPEX","O3","ALL","B2","G4",3,2013,0,18,19]
["OPEX","O3","ALL","B2","G4",4,2013,0,19,20]
["OPEX","O3","ALL","B2","G4",5,2013,0,19,20]
["OPEX","O3","ALL","B2","G4",6,2013,0,38,37]
["OPEX","O3","ALL","B2","G4",7,2013,0,43,46]
["OPEX","O3","ALL","B2","G4",8,2013,0,36,38]
["OPEX","O3","ALL","B2","G4",9,2013,0,41,42]
["OPEX","O3","ALL","B2","G4",10,2013,0,26,26]
["OPEX","O3","ALL","B2","G4",11,2013,0,16,15]
["OPEX","O3","ALL","B2","G4",12,2013,0,41,46]
["OPEX","O3","ALL","B2","G4",1,2014,0,7,7]
["OPEX","O3","ALL","B2","G4",2,2014,0,11,11]
["OPEX","O3","ALL","B2","G4",3,2014,0,16,18]
["OPEX","O3","ALL","B2","G4",4,2014,0,15,16]
["OPEX","O3","ALL","B2","G4",5,2014,0,26,26]
["OPEX","O3","ALL","B2","G4",6,2014,0,32,34]
["OPEX","O3","ALL","B2","G4",7,2014,0,69,73]
["OPEX","O3","ALL","B2","G4",8,2014,0,47,47]
["OPEX","O3","ALL","B2","G4",9,2014,0,30,33]
["OPEX","O3","ALL","B2","G4",10,2014,0,18,19]
["OPEX","O3","ALL","B2","G4",11,2014,0,18,18]
["OPEX","O3","ALL","B2","G4",12,2014,0,27,29]
["OPEX","O3","ALL","B2","G5",1,2013,0,7,8]
["OPEX","O3","ALL","B2","G5",2,2013,0,11,11]
["OPEX","O3","ALL","B2","G5",3,2013,0,26,26]
["OPEX","O3","ALL","B2","G5",4,2013,0,20,21]
["OPEX","O3","ALL","B2","G5",5,2013,0,35,36]
["OPEX","O3","ALL","B2","G5",6,2013,0,43,45]
["OPEX","O3","ALL","B2","G5",7,2013,0,39,44]
["OPEX","O3","ALL","B2","G5",8,2013,0,41,43]
["OPEX","O3","ALL","B2","G5",9,2013,0,41,40]
["OPEX","O3","ALL","B2","G5",10,2013,0,30,31]
["OPEX","O3","ALL","B2","G5",11,2013,0,16,17]
["OPEX","O3","ALL","B2","G5",12,2013,0,30,32]
["OPEX","O3","ALL","B2","G5",1,2014,0,7,8]
["OPEX","O3","ALL","B2","G5",2,2014,0,15,16]
["OPEX","O3","ALL","B2","G5",3,2014,0,33,36]
["OPEX","O3","ALL","B2","G5",4,2014,0,27,28]
["OPEX","O3","ALL","B2","G5",5,2014,0,31,32]
["OPEX","O3","ALL","B2","G5",6,2014,0,40,45]
["OPEX","O3","ALL","B2","G5",7,2014,0,51,57]
["OPEX","O3","ALL","B2","G5",8,2014,0,63,64]
["OPEX","O3","ALL","B2","G5",9,2014,0,46,48]
["OPEX","O3","ALL","B2","G5",10,2014,0,38,43]
["OPEX","O3","ALL","B2","G5",11,2014,0,14,14]
["OPEX","O3","ALL","B2","G5",12,2014,0,41,41]
["OPEX","O3","ALL","B3","G1",1,2013,0,5,5]
["OPEX","O3","ALL","B3","G1",2,2013,0,9,10]
["OPEX","O3","ALL","B3","G1",3,2013,0,13,14]
["OPEX","O3","ALL","B3","G1",4,2013,0,18,18]
["OPEX","O3","ALL","B3","G1",5,2013,0,19,19]
["OPEX","O3","ALL","B3","G1",6,2013,0,30,32]
["OPEX","O3","ALL","B3","G1",7,2013,0,29,30]
["OPEX","O3","ALL","B3","G1",8,2013,0,45,45]
["OPEX","O3","ALL","B3","G1",9,2013,0,23,23]
["OPEX","O3","ALL","B3","G1",10,2013,0,20,23]
["OPEX","O3","ALL","B3","G1",11,2013,0,14,15]
["OPEX","O3","ALL","B3","G1",12,2013,0,23,24]
["OPEX","O3","ALL","B3","G1",1,2014,0,7,7]
["OPEX","O3","ALL","B3","G1",2,2014,0,9,9]
["OPEX","O3","ALL","B3","G1",3,2014,0,12,12]
["OPEX","O3","ALL","B3","G1",4,2014,0,23,25]
["OPEX","O3","ALL","B3","G1",5,2014,0,15,17]
["OPEX","O3","ALL","B3","G1",6,2014,0,28,29]
["OPEX","O3","ALL","B3","G1",7,2014,0,31,32]
["OPEX","O3","ALL","B3","G1",8,2014,0,30,31]
["OPEX","O3","ALL","B3","G1",9,2014,0,26,29]
["OPEX","O3","ALL","B3","G1",10,2014,0,20,21]
["OPEX","O3","ALL","B3","G1",11,2014,0,12,13]
["OPEX","O3","ALL","B3","G1",12,2014,0,21,21]
["OPEX","O3","ALL","B3","G2",1,2013,0,6,6]
["OPEX","O3","ALL","B3","G2",2,2013,0,15,15]
["OPEX","O3","ALL","B3","G2",3,2013,0,21,21]
["OPEX","O3","ALL","B3","G2",4,2013,0,23,24]
["OPEX","O3","ALL","B3","G2",5,2013,0,32,35]
["OPEX","O3","ALL","B3","G2",6,2013,0,39,40]
["OPEX","O3","ALL","B3","G2",7,2013,0,35,40]
["OPEX","O3","ALL","B3","G2",8,2013,0,50,50]
["OPEX","O3","ALL","B3","G2",9,2013,0,37,39]
["OPEX","O3","ALL","B3","G2",10,2013,0,27,28]
["OPEX","O3","ALL","B3","G2",11,2013,0,12,13]
["OPEX","O3","ALL","B3","G2",12,2013,0,33,34]
["OPEX","O3","ALL","B3","G2",1,2014,0,5,6]
["OPEX","O3","ALL","B3","G2",2,2014,0,16,17]
["OPEX","O3","ALL","B3","G2",3,2014,0,19,18]
["OPEX","O3","ALL","B3","G2",4,2014,0,25,26]
["OPEX","O3","ALL","B3","G2",5,2014,0,24,26]
["OPEX","O3","ALL","B3","G2",6,2014,0,44,46]
["OPEX","O3","ALL","B3","G2",7,2014,0,51,54]
["OPEX","O3","ALL","B3","G2",8,2014,0,33,33]
["OPEX","O3","ALL","B3","G2",9,2014,0,38,41]
["OPEX","O3","ALL","B3","G2",10,2014,0,24,23]
["OPEX","O3","ALL","B3","G2",11,2014,0,16,16]
["OPEX","O3","ALL","B3","G2",12,2014,0,38,39]
["OPEX","O3","ALL","B3","G3",1,2013,0,3,3]
["OPEX","O3","ALL","B3","G3",2,2013,0,6,7]
["OPEX","O3","ALL","B3","G3",3,2013,0,11,11]
["OPEX","O3","ALL","B3","G3",4,2013,0,18,18]
["OPEX","O3","ALL","B3","G3",5,2013,0,15,17]
["OPEX","O3","ALL","B3","G3",6,2013,0,21,22]
["OPEX","O3","ALL","B3","G3",7,2013,0,38,40]
["OPEX","O3","ALL","B3","G3",8,2013,0,23,23]
["OPEX","O3","ALL","B3","G3",9,2013,0,18,18]
["OPEX","O3","ALL","B3","G3",10,2013,0,11,12]
["OPEX","O3","ALL","B3","G3",11,2013,0,10,10]
["OPEX","O3","ALL","B3","G3",12,2013,0,18,20]
["OPEX","O3","ALL","B3","G3",1,2014,0,5,5]
["OPEX","O3","ALL","B3","G3",2,2014,0,7,7]
["OPEX","O3","ALL","B3","G3",3,2014,0,10,10]
["OPEX","O3","ALL","B3","G3",4,2014,0,11,11]
["OPEX","O3","ALL","B3","G3",5,2014,0,14,15]
["OPEX","O3","ALL","B3","G3",6,2014,0,18,19]
["OPEX","O3","ALL","B3","G3",7,2014,0,18,19]
["OPEX","O3","ALL","B3","G3",8,2014,0,30,30]
["OPEX","O3","ALL","B3","G3",9,2014,0,26,26]
["OPEX","O3","ALL","B3","G3",10,2014,0,19,20]
["OPEX","O3","ALL","B3","G3",11,2014,0,10,10]
["OPEX","O3","ALL","B3","G3",12,2014,0,23,23]
["OPEX","O3","ALL","B3","G4",1,2013,0,2,3]
["OPEX","O3","ALL","B3","G4",2,2013,0,5,5]
["OPEX","O3","ALL","B3","G4",3,2013,0,8,9]
["OPEX","O3","ALL","B3","G4",4,2013,0,10,11]
["OPEX","O3","ALL","B3","G4",5,2013,0,17,17]
["OPEX","O3","ALL","B3","G4",6,2013,0,15,16]
["OPEX","O3","ALL","B3","G4",7,2013,0,27,30]
["OPEX","O3","ALL","B3","G4",8,2013,0,28,31]
["OPEX","O3","ALL","B3","G4",9,2013,0,15,16]
["OPEX","O3","ALL","B3","G4",10,2013,0,13,14]
["OPEX","O3","ALL","B3","G4",11,2013,0,8,8]
["OPEX","O3","ALL","B3","G4",12,2013,0,14,15]
["OPEX","O3","ALL","B3","G4",1,2014,0,3,3]
["OPEX","O3","ALL","B3","G4",2,2014,0,6,6]
["OPEX","O3","ALL","B3","G4",3,2014,0,9,9]
["OPEX","O3","ALL","B3","G4",4,2014,0,7,8]
["OPEX","O3","ALL","B3","G4",5,2014,0,13,13]
["OPEX","O3","ALL","B3","G4",6,2014,0,15,16]
["OPEX","O3","ALL","B3","G4",7,2014,0,23,24]
["OPEX","O3","ALL","B3","G4",8,2014,0,19,20]
["OPEX","O3","ALL","B3","G4",9,2014,0,16,16]
["OPEX","O3","ALL","B3","G4",10,2014,0,9,10]
["OPEX","O3","ALL","B3","G4",11,2014,0,10,10]
["OPEX","O3","ALL","B3","G4",12,2014,0,12,12]
["OPEX","O3","ALL","B3","G5",1,2013,0,4,4]
["OPEX","O3","ALL","B3","G5",2,2013,0,8,9]
["OPEX","O3","ALL","B3","G5",3,2013,0,14,14]
["OPEX","O3","ALL","B3","G5",4,2013,0,12,13]
["OPEX","O3","ALL","B3","G5",5,2013,0,12,12]
["OPEX","O3","ALL","B3","G5",6,2013,0,18,19]
["OPEX","O3","ALL","B3","G5",7,2013,0,33,34]
["OPEX","O3","ALL","B3","G5",8,2013,0,23,24]
["OPEX","O3","ALL","B3","G5",9,2013,0,17,18]
["OPEX","O3","ALL","B3","G5",10,2013,0,17,18]
["OPEX","O3","ALL","B3","G5",11,2013,0,7,8]
["OPEX","O3","ALL","B3","G5",12,2013,0,19,18]
["OPEX","O3","ALL","B3","G5",1,2014,0,4,4]
["OPEX","O3","ALL","B3","G5",2,2014,0,8,9]
["OPEX","O3","ALL","B3","G5",3,2014,0,13,13]
["OPEX","O3","ALL","B3","G5",4,2014,0,13,13]
["OPEX","O3","ALL","B3","G5",5,2014,0,17,18]
["OPEX","O3","ALL","B3","G5",6,2014,0,18,19]
["OPEX","O3","ALL","B3","G5",7,2014,0,20,22]
["OPEX","O3","ALL","B3","G5",8,2014,0,26,28]
["OPEX","O3","ALL","B3","G5",9,2014,0,17,17]
["OPEX","O3","ALL","B3","G5",10,2014,0,20,19]
["OPEX","O3","ALL","B3","G5",11,2014,0,9,10]
["OPEX","O3","ALL","B3","G5",12,2014,0,23,26]
["OPEX","O4","ALL","B1","G1",1,2013,0,40,42]
["OPEX","O4","ALL","B1","G1",2,2013,0,89,88]
["OPEX","O4","ALL","B1","G1",3,2013,0,129,138]
["OPEX","O4","ALL","B1","G1",4,2013,0,129,134]
["OPEX","O4","ALL","B1","G1",5,2013,0,158,166]
["OPEX","O4","ALL","B1","G1",6,2013,0,241,264]
["OPEX","O4","ALL","B1","G1",7,2013,0,350,372]
["OPEX","O4","ALL","B1","G1",8,2013,0,346,369]
["OPEX","O4","ALL","B1","G1",9,2013,0,163,172]
["OPEX","O4","ALL","B1","G1",10,2013,0,148,145]
["OPEX","O4","ALL","B1","G1",11,2013,0,124,122]
["OPEX","O4","ALL","B1","G1",12,2013,0,149,157]
["OPEX","O4","ALL","B1","G1",1,2014,0,43,44]
["OPEX","O4","ALL","B1","G1",2,2014,0,90,92]
["OPEX","O4","ALL","B1","G1",3,2014,0,113,124]
["OPEX","O4","ALL","B1","G1",4,2014,0,144,140]
["OPEX","O4","ALL","B1","G1",5,2014,0,181,197]
["OPEX","O4","ALL","B1","G1",6,2014,0,190,199]
["OPEX","O4","ALL","B1","G1",7,2014,0,223,236]
["OPEX","O4","ALL","B1","G1",8,2014,0,281,298]
["OPEX","O4","ALL","B1","G1",9,2014,0,234,246]
["OPEX","O4","ALL","B1","G1",10,2014,0,196,211]
["OPEX","O4","ALL","B1","G1",11,2014,0,123,138]
["OPEX","O4","ALL","B1","G1",12,2014,0,259,281]
["OPEX","O4","ALL","B1","G2",1,2013,0,47,48]
["OPEX","O4","ALL","B1","G2",2,2013,0,100,100]
["OPEX","O4","ALL","B1","G2",3,2013,0,139,136]
["OPEX","O4","ALL","B1","G2",4,2013,0,152,173]
["OPEX","O4","ALL","B1","G2",5,2013,0,175,192]
["OPEX","O4","ALL","B1","G2",6,2013,0,299,322]
["OPEX","O4","ALL","B1","G2",7,2013,0,389,419]
["OPEX","O4","ALL","B1","G2",8,2013,0,211,234]
["OPEX","O4","ALL","B1","G2",9,2013,0,240,243]
["OPEX","O4","ALL","B1","G2",10,2013,0,155,161]
["OPEX","O4","ALL","B1","G2",11,2013,0,163,175]
["OPEX","O4","ALL","B1","G2",12,2013,0,233,241]
["OPEX","O4","ALL","B1","G2",1,2014,0,41,43]
["OPEX","O4","ALL","B1","G2",2,2014,0,88,88]
["OPEX","O4","ALL","B1","G2",3,2014,0,190,192]
["OPEX","O4","ALL","B1","G2",4,2014,0,152,166]
["OPEX","O4","ALL","B1","G2",5,2014,0,213,222]
["OPEX","O4","ALL","B1","G2",6,2014,0,286,292]
["OPEX","O4","ALL","B1","G2",7,2014,0,428,448]
["OPEX","O4","ALL","B1","G2",8,2014,0,333,344]
["OPEX","O4","ALL","B1","G2",9,2014,0,265,272]
["OPEX","O4","ALL","B1","G2",10,2014,0,186,204]
["OPEX","O4","ALL","B1","G2",11,2014,0,109,121]
["OPEX","O4","ALL","B1","G2",12,2014,0,257,271]
["OPEX","O4","ALL","B1","G3",1,2013,0,29,30]
["OPEX","O4","ALL","B1","G3",2,2013,0,69,73]
["OPEX","O4","ALL","B1","G3",3,2013,0,106,109]
["OPEX","O4","ALL","B1","G3",4,2013,0,94,92]
["OPEX","O4","ALL","B1","G3",5,2013,0,143,143]
["OPEX","O4","ALL","B1","G3",6,2013,0,229,250]
["OPEX","O4","ALL","B1","G3",7,2013,0,192,201]
["OPEX","O4","ALL","B1","G3",8,2013,0,235,246]
["OPEX","O4","ALL","B1","G3",9,2013,0,167,180]
["OPEX","O4","ALL","B1","G3",10,2013,0,150,157]
["OPEX","O4","ALL","B1","G3",11,2013,0,89,96]
["OPEX","O4","ALL","B1","G3",12,2013,0,130,148]
["OPEX","O4","ALL","B1","G3",1,2014,0,27,28]
["OPEX","O4","ALL","B1","G3",2,2014,0,57,58]
["OPEX","O4","ALL","B1","G3",3,2014,0,79,83]
["OPEX","O4","ALL","B1","G3",4,2014,0,112,115]
["OPEX","O4","ALL","B1","G3",5,2014,0,136,140]
["OPEX","O4","ALL","B1","G3",6,2014,0,213,215]
["OPEX","O4","ALL","B1","G3",7,2014,0,308,308]
["OPEX","O4","ALL","B1","G3",8,2014,0,178,185]
["OPEX","O4","ALL","B1","G3",9,2014,0,167,159]
["OPEX","O4","ALL","B1","G3",10,2014,0,86,97]
["OPEX","O4","ALL","B1","G3",11,2014,0,88,98]
["OPEX","O4","ALL","B1","G3",12,2014,0,195,199]
["OPEX","O4","ALL","B1","G4",1,2013,0,25,25]
["OPEX","O4","ALL","B1","G4",2,2013,0,31,30]
["OPEX","O4","ALL","B1","G4",3,2013,0,87,93]
["OPEX","O4","ALL","B1","G4",4,2013,0,95,97]
["OPEX","O4","ALL","B1","G4",5,2013,0,118,122]
["OPEX","O4","ALL","B1","G4",6,2013,0,132,142]
["OPEX","O4","ALL","B1","G4",7,2013,0,186,197]
["OPEX","O4","ALL","B1","G4",8,2013,0,146,156]
["OPEX","O4","ALL","B1","G4",9,2013,0,155,156]
["OPEX","O4","ALL","B1","G4",10,2013,0,87,89]
["OPEX","O4","ALL","B1","G4",11,2013,0,66,69]
["OPEX","O4","ALL","B1","G4",12,2013,0,129,145]
["OPEX","O4","ALL","B1","G4",1,2014,0,18,19]
["OPEX","O4","ALL","B1","G4",2,2014,0,43,48]
["OPEX","O4","ALL","B1","G4",3,2014,0,85,88]
["OPEX","O4","ALL","B1","G4",4,2014,0,72,73]
["OPEX","O4","ALL","B1","G4",5,2014,0,103,112]
["OPEX","O4","ALL","B1","G4",6,2014,0,128,134]
["OPEX","O4","ALL","B1","G4",7,2014,0,154,154]
["OPEX","O4","ALL","B1","G4",8,2014,0,201,213]
["OPEX","O4","ALL","B1","G4",9,2014,0,152,170]
["OPEX","O4","ALL","B1","G4",10,2014,0,81,82]
["OPEX","O4","ALL","B1","G4",11,2014,0,43,45]
["OPEX","O4","ALL","B1","G4",12,2014,0,117,127]
["OPEX","O4","ALL","B1","G5",1,2013,0,32,34]
["OPEX","O4","ALL","B1","G5",2,2013,0,60,61]
["OPEX","O4","ALL","B1","G5",3,2013,0,98,101]
["OPEX","O4","ALL","B1","G5",4,2013,0,95,93]
["OPEX","O4","ALL","B1","G5",5,2013,0,114,115]
["OPEX","O4","ALL","B1","G5",6,2013,0,154,161]
["OPEX","O4","ALL","B1","G5",7,2013,0,212,221]
["OPEX","O4","ALL","B1","G5",8,2013,0,238,235]
["OPEX","O4","ALL","B1","G5",9,2013,0,131,135]
["OPEX","O4","ALL","B1","G5",10,2013,0,147,155]
["OPEX","O4","ALL","B1","G5",11,2013,0,78,85]
["OPEX","O4","ALL","B1","G5",12,2013,0,188,193]
["OPEX","O4","ALL","B1","G5",1,2014,0,19,21]
["OPEX","O4","ALL","B1","G5",2,2014,0,55,59]
["OPEX","O4","ALL","B1","G5",3,2014,0,78,79]
["OPEX","O4","ALL","B1","G5",4,2014,0,89,98]
["OPEX","O4","ALL","B1","G5",5,2014,0,109,115]
["OPEX","O4","ALL","B1","G5",6,2014,0,109,126]
["OPEX","O4","ALL","B1","G5",7,2014,0,209,215]
["OPEX","O4","ALL","B1","G5",8,2014,0,170,188]
["OPEX","O4","ALL","B1","G5",9,2014,0,123,130]
["OPEX","O4","ALL","B1","G5",10,2014,0,96,104]
["OPEX","O4","ALL","B1","G5",11,2014,0,65,71]
["OPEX","O4","ALL","B1","G5",12,2014,0,138,133]
["OPEX","O4","ALL","B2","G1",1,2013,0,11,11]
["OPEX","O4","ALL","B2","G1",2,2013,0,18,19]
["OPEX","O4","ALL","B2","G1",3,2013,0,24,26]
["OPEX","O4","ALL","B2","G1",4,2013,0,33,34]
["OPEX","O4","ALL","B2","G1",5,2013,0,46,48]
["OPEX","O4","ALL","B2","G1",6,2013,0,53,56]
["OPEX","O4","ALL","B2","G1",7,2013,0,77,81]
["OPEX","O4","ALL","B2","G1",8,2013,0,76,78]
["OPEX","O4","ALL","B2","G1",9,2013,0,55,59]
["OPEX","O4","ALL","B2","G1",10,2013,0,66,65]
["OPEX","O4","ALL","B2","G1",11,2013,0,32,33]
["OPEX","O4","ALL","B2","G1",12,2013,0,60,65]
["OPEX","O4","ALL","B2","G1",1,2014,0,11,11]
["OPEX","O4","ALL","B2","G1",2,2014,0,16,17]
["OPEX","O4","ALL","B2","G1",3,2014,0,53,54]
["OPEX","O4","ALL","B2","G1",4,2014,0,50,54]
["OPEX","O4","ALL","B2","G1",5,2014,0,59,61]
["OPEX","O4","ALL","B2","G1",6,2014,0,84,82]
["OPEX","O4","ALL","B2","G1",7,2014,0,84,87]
["OPEX","O4","ALL","B2","G1",8,2014,0,54,55]
["OPEX","O4","ALL","B2","G1",9,2014,0,61,62]
["OPEX","O4","ALL","B2","G1",10,2014,0,62,68]
["OPEX","O4","ALL","B2","G1",11,2014,0,25,28]
["OPEX","O4","ALL","B2","G1",12,2014,0,52,54]
["OPEX","O4","ALL","B2","G2",1,2013,0,12,12]
["OPEX","O4","ALL","B2","G2",2,2013,0,20,20]
["OPEX","O4","ALL","B2","G2",3,2013,0,33,36]
["OPEX","O4","ALL","B2","G2",4,2013,0,50,53]
["OPEX","O4","ALL","B2","G2",5,2013,0,60,64]
["OPEX","O4","ALL","B2","G2",6,2013,0,76,81]
["OPEX","O4","ALL","B2","G2",7,2013,0,106,104]
["OPEX","O4","ALL","B2","G2",8,2013,0,94,100]
["OPEX","O4","ALL","B2","G2",9,2013,0,56,60]
["OPEX","O4","ALL","B2","G2",10,2013,0,39,41]
["OPEX","O4","ALL","B2","G2",11,2013,0,25,27]
["OPEX","O4","ALL","B2","G2",12,2013,0,62,65]
["OPEX","O4","ALL","B2","G2",1,2014,0,14,13]
["OPEX","O4","ALL","B2","G2",2,2014,0,40,40]
["OPEX","O4","ALL","B2","G2",3,2014,0,44,48]
["OPEX","O4","ALL","B2","G2",4,2014,0,61,65]
["OPEX","O4","ALL","B2","G2",5,2014,0,64,70]
["OPEX","O4","ALL","B2","G2",6,2014,0,74,76]
["OPEX","O4","ALL","B2","G2",7,2014,0,104,114]
["OPEX","O4","ALL","B2","G2",8,2014,0,121,128]
["OPEX","O4","ALL","B2","G2",9,2014,0,93,97]
["OPEX","O4","ALL","B2","G2",10,2014,0,55,64]
["OPEX","O4","ALL","B2","G2",11,2014,0,26,27]
["OPEX","O4","ALL","B2","G2",12,2014,0,73,78]
["OPEX","O4","ALL","B2","G3",1,2013,0,8,9]
["OPEX","O4","ALL","B2","G3",2,2013,0,18,20]
["OPEX","O4","ALL","B2","G3",3,2013,0,21,24]
["OPEX","O4","ALL","B2","G3",4,2013,0,33,34]
["OPEX","O4","ALL","B2","G3",5,2013,0,42,44]
["OPEX","O4","ALL","B2","G3",6,2013,0,46,50]
["OPEX","O4","ALL","B2","G3",7,2013,0,66,66]
["OPEX","O4","ALL","B2","G3",8,2013,0,41,43]
["OPEX","O4","ALL","B2","G3",9,2013,0,44,42]
["OPEX","O4","ALL","B2","G3",10,2013,0,37,39]
["OPEX","O4","ALL","B2","G3",11,2013,0,20,21]
["OPEX","O4","ALL","B2","G3",12,2013,0,54,55]
["OPEX","O4","ALL","B2","G3",1,2014,0,9,9]
["OPEX","O4","ALL","B2","G3",2,2014,0,15,15]
["OPEX","O4","ALL","B2","G3",3,2014,0,23,26]
["OPEX","O4","ALL","B2","G3",4,2014,0,30,33]
["OPEX","O4","ALL","B2","G3",5,2014,0,36,36]
["OPEX","O4","ALL","B2","G3",6,2014,0,62,66]
["OPEX","O4","ALL","B2","G3",7,2014,0,59,61]
["OPEX","O4","ALL","B2","G3",8,2014,0,56,60]
["OPEX","O4","ALL","B2","G3",9,2014,0,57,61]
["OPEX","O4","ALL","B2","G3",10,2014,0,35,35]
["OPEX","O4","ALL","B2","G3",11,2014,0,24,27]
["OPEX","O4","ALL","B2","G3",12,2014,0,52,51]
["OPEX","O4","ALL","B2","G4",1,2013,0,5,5]
["OPEX","O4","ALL","B2","G4",2,2013,0,14,15]
["OPEX","O4","ALL","B2","G4",3,2013,0,14,16]
["OPEX","O4","ALL","B2","G4",4,2013,0,27,30]
["OPEX","O4","ALL","B2","G4",5,2013,0,19,20]
["OPEX","O4","ALL","B2","G4",6,2013,0,34,32]
["OPEX","O4","ALL","B2","G4",7,2013,0,43,48]
["OPEX","O4","ALL","B2","G4",8,2013,0,46,48]
["OPEX","O4","ALL","B2","G4",9,2013,0,30,31]
["OPEX","O4","ALL","B2","G4",10,2013,0,27,27]
["OPEX","O4","ALL","B2","G4",11,2013,0,18,19]
["OPEX","O4","ALL","B2","G4",12,2013,0,37,41]
["OPEX","O4","ALL","B2","G4",1,2014,0,7,7]
["OPEX","O4","ALL","B2","G4",2,2014,0,13,13]
["OPEX","O4","ALL","B2","G4",3,2014,0,24,27]
["OPEX","O4","ALL","B2","G4",4,2014,0,26,26]
["OPEX","O4","ALL","B2","G4",5,2014,0,41,41]
["OPEX","O4","ALL","B2","G4",6,2014,0,25,26]
["OPEX","O4","ALL","B2","G4",7,2014,0,51,54]
["OPEX","O4","ALL","B2","G4",8,2014,0,48,52]
["OPEX","O4","ALL","B2","G4",9,2014,0,51,52]
["OPEX","O4","ALL","B2","G4",10,2014,0,26,28]
["OPEX","O4","ALL","B2","G4",11,2014,0,19,20]
["OPEX","O4","ALL","B2","G4",12,2014,0,26,26]
["OPEX","O4","ALL","B2","G5",1,2013,0,8,9]
["OPEX","O4","ALL","B2","G5",2,2013,0,15,17]
["OPEX","O4","ALL","B2","G5",3,2013,0,34,34]
["OPEX","O4","ALL","B2","G5",4,2013,0,25,26]
["OPEX","O4","ALL","B2","G5",5,2013,0,30,33]
["OPEX","O4","ALL","B2","G5",6,2013,0,54,56]
["OPEX","O4","ALL","B2","G5",7,2013,0,77,78]
["OPEX","O4","ALL","B2","G5",8,2013,0,60,61]
["OPEX","O4","ALL","B2","G5",9,2013,0,42,43]
["OPEX","O4","ALL","B2","G5",10,2013,0,30,33]
["OPEX","O4","ALL","B2","G5",11,2013,0,16,17]
["OPEX","O4","ALL","B2","G5",12,2013,0,43,48]
["OPEX","O4","ALL","B2","G5",1,2014,0,8,9]
["OPEX","O4","ALL","B2","G5",2,2014,0,13,14]
["OPEX","O4","ALL","B2","G5",3,2014,0,27,28]
["OPEX","O4","ALL","B2","G5",4,2014,0,29,31]
["OPEX","O4","ALL","B2","G5",5,2014,0,32,33]
["OPEX","O4","ALL","B2","G5",6,2014,0,53,56]
["OPEX","O4","ALL","B2","G5",7,2014,0,70,70]
["OPEX","O4","ALL","B2","G5",8,2014,0,59,62]
["OPEX","O4","ALL","B2","G5",9,2014,0,59,63]
["OPEX","O4","ALL","B2","G5",10,2014,0,39,39]
["OPEX","O4","ALL","B2","G5",11,2014,0,23,26]
["OPEX","O4","ALL","B2","G5",12,2014,0,31,34]
["OPEX","O4","ALL","B3","G1",1,2013,0,7,7]
["OPEX","O4","ALL","B3","G1",2,2013,0,14,14]
["OPEX","O4","ALL","B3","G1",3,2013,0,20,20]
["OPEX","O4","ALL","B3","G1",4,2013,0,26,25]
["OPEX","O4","ALL","B3","G1",5,2013,0,26,27]
["OPEX","O4","ALL","B3","G1",6,2013,0,33,32]
["OPEX","O4","ALL","B3","G1",7,2013,0,45,48]
["OPEX","O4","ALL","B3","G1",8,2013,0,32,34]
["OPEX","O4","ALL","B3","G1",9,2013,0,35,35]
["OPEX","O4","ALL","B3","G1",10,2013,0,25,25]
["OPEX","O4","ALL","B3","G1",11,2013,0,15,17]
["OPEX","O4","ALL","B3","G1",12,2013,0,30,31]
["OPEX","O4","ALL","B3","G1",1,2014,0,6,7]
["OPEX","O4","ALL","B3","G1",2,2014,0,11,12]
["OPEX","O4","ALL","B3","G1",3,2014,0,15,14]
["OPEX","O4","ALL","B3","G1",4,2014,0,18,18]
["OPEX","O4","ALL","B3","G1",5,2014,0,23,23]
["OPEX","O4","ALL","B3","G1",6,2014,0,25,27]
["OPEX","O4","ALL","B3","G1",7,2014,0,41,46]
["OPEX","O4","ALL","B3","G1",8,2014,0,35,36]
["OPEX","O4","ALL","B3","G1",9,2014,0,22,25]
["OPEX","O4","ALL","B3","G1",10,2014,0,24,24]
["OPEX","O4","ALL","B3","G1",11,2014,0,16,17]
["OPEX","O4","ALL","B3","G1",12,2014,0,25,27]
["OPEX","O4","ALL","B3","G2",1,2013,0,10,10]
["OPEX","O4","ALL","B3","G2",2,2013,0,17,18]
["OPEX","O4","ALL","B3","G2",3,2013,0,18,18]
["OPEX","O4","ALL","B3","G2",4,2013,0,28,30]
["OPEX","O4","ALL","B3","G2",5,2013,0,24,25]
["OPEX","O4","ALL","B3","G2",6,2013,0,38,40]
["OPEX","O4","ALL","B3","G2",7,2013,0,56,56]
["OPEX","O4","ALL","B3","G2",8,2013,0,50,52]
["OPEX","O4","ALL","B3","G2",9,2013,0,34,36]
["OPEX","O4","ALL","B3","G2",10,2013,0,21,21]
["OPEX","O4","ALL","B3","G2",11,2013,0,14,14]
["OPEX","O4","ALL","B3","G2",12,2013,0,41,40]
["OPEX","O4","ALL","B3","G2",1,2014,0,8,8]
["OPEX","O4","ALL","B3","G2",2,2014,0,17,18]
["OPEX","O4","ALL","B3","G2",3,2014,0,28,30]
["OPEX","O4","ALL","B3","G2",4,2014,0,22,23]
["OPEX","O4","ALL","B3","G2",5,2014,0,34,33]
["OPEX","O4","ALL","B3","G2",6,2014,0,36,37]
["OPEX","O4","ALL","B3","G2",7,2014,0,41,44]
["OPEX","O4","ALL","B3","G2",8,2014,0,49,48]
["OPEX","O4","ALL","B3","G2",9,2014,0,44,46]
["OPEX","O4","ALL","B3","G2",10,2014,0,31,32]
["OPEX","O4","ALL","B3","G2",11,2014,0,14,15]
["OPEX","O4","ALL","B3","G2",12,2014,0,39,41]
["OPEX","O4","ALL","B3","G3",1,2013,0,5,6]
["OPEX","O4","ALL","B3","G3",2,2013,0,10,11]
["OPEX","O4","ALL","B3","G3",3,2013,0,12,13]
["OPEX","O4","ALL","B3","G3",4,2013,0,14,16]
["OPEX","O4","ALL","B3","G3",5,2013,0,18,19]
["OPEX","O4","ALL","B3","G3",6,2013,0,28,28]
["OPEX","O4","ALL","B3","G3",7,2013,0,27,29]
["OPEX","O4","ALL","B3","G3",8,2013,0,22,24]
["OPEX","O4","ALL","B3","G3",9,2013,0,17,19]
["OPEX","O4","ALL","B3","G3",10,2013,0,14,15]
["OPEX","O4","ALL","B3","G3",11,2013,0,13,13]
["OPEX","O4","ALL","B3","G3",12,2013,0,20,20]
["OPEX","O4","ALL","B3","G3",1,2014,0,5,5]
["OPEX","O4","ALL","B3","G3",2,2014,0,8,8]
["OPEX","O4","ALL","B3","G3",3,2014,0,16,15]
["OPEX","O4","ALL","B3","G3",4,2014,0,13,13]
["OPEX","O4","ALL","B3","G3",5,2014,0,27,29]
["OPEX","O4","ALL","B3","G3",6,2014,0,19,21]
["OPEX","O4","ALL","B3","G3",7,2014,0,37,38]
["OPEX","O4","ALL","B3","G3",8,2014,0,36,34]
["OPEX","O4","ALL","B3","G3",9,2014,0,25,27]
["OPEX","O4","ALL","B3","G3",10,2014,0,18,21]
["OPEX","O4","ALL","B3","G3",11,2014,0,12,13]
["OPEX","O4","ALL","B3","G3",12,2014,0,24,25]
["OPEX","O4","ALL","B3","G4",1,2013,0,4,4]
["OPEX","O4","ALL","B3","G4",2,2013,0,7,7]
["OPEX","O4","ALL","B3","G4",3,2013,0,9,9]
["OPEX","O4","ALL","B3","G4",4,2013,0,14,14]
["OPEX","O4","ALL","B3","G4",5,2013,0,13,14]
["OPEX","O4","ALL","B3","G4",6,2013,0,18,19]
["OPEX","O4","ALL","B3","G4",7,2013,0,30,33]
["OPEX","O4","ALL","B3","G4",8,2013,0,23,24]
["OPEX","O4","ALL","B3","G4",9,2013,0,17,18]
["OPEX","O4","ALL","B3","G4",10,2013,0,18,19]
["OPEX","O4","ALL","B3","G4",11,2013,0,9,9]
["OPEX","O4","ALL","B3","G4",12,2013,0,21,22]
["OPEX","O4","ALL","B3","G4",1,2014,0,3,3]
["OPEX","O4","ALL","B3","G4",2,2014,0,9,10]
["OPEX","O4","ALL","B3","G4",3,2014,0,10,10]
["OPEX","O4","ALL","B3","G4",4,2014,0,10,11]
["OPEX","O4","ALL","B3","G4",5,2014,0,16,17]
["OPEX","O4","ALL","B3","G4",6,2014,0,17,18]
["OPEX","O4","ALL","B3","G4",7,2014,0,17,18]
["OPEX","O4","ALL","B3","G4",8,2014,0,21,21]
["OPEX","O4","ALL","B3","G4",9,2014,0,17,17]
["OPEX","O4","ALL","B3","G4",10,2014,0,18,19]
["OPEX","O4","ALL","B3","G4",11,2014,0,6,6]
["OPEX","O4","ALL","B3","G4",12,2014,0,17,17]
["OPEX","O4","ALL","B3","G5",1,2013,0,5,5]
["OPEX","O4","ALL","B3","G5",2,2013,0,9,9]
["OPEX","O4","ALL","B3","G5",3,2013,0,9,10]
["OPEX","O4","ALL","B3","G5",4,2013,0,13,14]
["OPEX","O4","ALL","B3","G5",5,2013,0,18,19]
["OPEX","O4","ALL","B3","G5",6,2013,0,23,24]
["OPEX","O4","ALL","B3","G5",7,2013,0,26,27]
["OPEX","O4","ALL","B3","G5",8,2013,0,34,37]
["OPEX","O4","ALL","B3","G5",9,2013,0,25,26]
["OPEX","O4","ALL","B3","G5",10,2013,0,23,24]
["OPEX","O4","ALL","B3","G5",11,2013,0,10,10]
["OPEX","O4","ALL","B3","G5",12,2013,0,25,26]
["OPEX","O4","ALL","B3","G5",1,2014,0,5,5]
["OPEX","O4","ALL","B3","G5",2,2014,0,9,10]
["OPEX","O4","ALL","B3","G5",3,2014,0,11,12]
["OPEX","O4","ALL","B3","G5",4,2014,0,13,13]
["OPEX","O4","ALL","B3","G5",5,2014,0,22,23]
["OPEX","O4","ALL","B3","G5",6,2014,0,24,25]
["OPEX","O4","ALL","B3","G5",7,2014,0,31,32]
["OPEX","O4","ALL","B3","G5",8,2014,0,25,26]
["OPEX","O4","ALL","B3","G5",9,2014,0,28,28]
["OPEX","O4","ALL","B3","G5",10,2014,0,20,20]
["OPEX","O4","ALL","B3","G5",11,2014,0,14,15]
["OPEX","O4","ALL","B3","G5",12,2014,0,19,19]
["OPEX","O5","ALL","B1","G1",1,2013,0,38,43]
["OPEX","O5","ALL","B1","G1",2,2013,0,74,75]
["OPEX","O5","ALL","B1","G1",3,2013,0,101,113]
["OPEX","O5","ALL","B1","G1",4,2013,0,168,185]
["OPEX","O5","ALL","B1","G1",5,2013,0,207,197]
["OPEX","O5","ALL","B1","G1",6,2013,0,372,397]
["OPEX","O5","ALL","B1","G1",7,2013,0,340,370]
["OPEX","O5","ALL","B1","G1",8,2013,0,390,389]
["OPEX","O5","ALL","B1","G1",9,2013,0,275,274]
["OPEX","O5","ALL","B1","G1",10,2013,0,197,219]
["OPEX","O5","ALL","B1","G1",11,2013,0,111,115]
["OPEX","O5","ALL","B1","G1",12,2013,0,276,286]
["OPEX","O5","ALL","B1","G1",1,2014,0,57,59]
["OPEX","O5","ALL","B1","G1",2,2014,0,78,88]
["OPEX","O5","ALL","B1","G1",3,2014,0,138,143]
["OPEX","O5","ALL","B1","G1",4,2014,0,189,210]
["OPEX","O5","ALL","B1","G1",5,2014,0,236,243]
["OPEX","O5","ALL","B1","G1",6,2014,0,366,369]
["OPEX","O5","ALL","B1","G1",7,2014,0,409,419]
["OPEX","O5","ALL","B1","G1",8,2014,0,350,358]
["OPEX","O5","ALL","B1","G1",9,2014,0,322,313]
["OPEX","O5","ALL","B1","G1",10,2014,0,162,176]
["OPEX","O5","ALL","B1","G1",11,2014,0,94,103]
["OPEX","O5","ALL","B1","G1",12,2014,0,229,235]
["OPEX","O5","ALL","B1","G2",1,2013,0,54,57]
["OPEX","O5","ALL","B1","G2",2,2013,0,142,155]
["OPEX","O5","ALL","B1","G2",3,2013,0,138,138]
["OPEX","O5","ALL","B1","G2",4,2013,0,171,186]
["OPEX","O5","ALL","B1","G2",5,2013,0,260,271]
["OPEX","O5","ALL","B1","G2",6,2013,0,368,412]
["OPEX","O5","ALL","B1","G2",7,2013,0,366,369]
["OPEX","O5","ALL","B1","G2",8,2013,0,554,576]
["OPEX","O5","ALL","B1","G2",9,2013,0,279,288]
["OPEX","O5","ALL","B1","G2",10,2013,0,279,290]
["OPEX","O5","ALL","B1","G2",11,2013,0,144,146]
["OPEX","O5","ALL","B1","G2",12,2013,0,216,220]
["OPEX","O5","ALL","B1","G2",1,2014,0,57,59]
["OPEX","O5","ALL","B1","G2",2,2014,0,134,145]
["OPEX","O5","ALL","B1","G2",3,2014,0,248,261]
["OPEX","O5","ALL","B1","G2",4,2014,0,254,272]
["OPEX","O5","ALL","B1","G2",5,2014,0,218,227]
["OPEX","O5","ALL","B1","G2",6,2014,0,331,358]
["OPEX","O5","ALL","B1","G2",7,2014,0,539,539]
["OPEX","O5","ALL","B1","G2",8,2014,0,380,387]
["OPEX","O5","ALL","B1","G2",9,2014,0,247,248]
["OPEX","O5","ALL","B1","G2",10,2014,0,289,306]
["OPEX","O5","ALL","B1","G2",11,2014,0,169,189]
["OPEX","O5","ALL","B1","G2",12,2014,0,223,225]
["OPEX","O5","ALL","B1","G3",1,2013,0,40,42]
["OPEX","O5","ALL","B1","G3",2,2013,0,67,70]
["OPEX","O5","ALL","B1","G3",3,2013,0,147,150]
["OPEX","O5","ALL","B1","G3",4,2013,0,145,159]
["OPEX","O5","ALL","B1","G3",5,2013,0,137,137]
["OPEX","O5","ALL","B1","G3",6,2013,0,239,235]
["OPEX","O5","ALL","B1","G3",7,2013,0,214,242]
["OPEX","O5","ALL","B1","G3",8,2013,0,216,234]
["OPEX","O5","ALL","B1","G3",9,2013,0,268,281]
["OPEX","O5","ALL","B1","G3",10,2013,0,119,121]
["OPEX","O5","ALL","B1","G3",11,2013,0,64,62]
["OPEX","O5","ALL","B1","G3",12,2013,0,190,198]
["OPEX","O5","ALL","B1","G3",1,2014,0,33,37]
["OPEX","O5","ALL","B1","G3",2,2014,0,88,93]
["OPEX","O5","ALL","B1","G3",3,2014,0,85,92]
["OPEX","O5","ALL","B1","G3",4,2014,0,140,141]
["OPEX","O5","ALL","B1","G3",5,2014,0,137,151]
["OPEX","O5","ALL","B1","G3",6,2014,0,165,182]
["OPEX","O5","ALL","B1","G3",7,2014,0,329,332]
["OPEX","O5","ALL","B1","G3",8,2014,0,187,207]
["OPEX","O5","ALL","B1","G3",9,2014,0,238,250]
["OPEX","O5","ALL","B1","G3",10,2014,0,118,130]
["OPEX","O5","ALL","B1","G3",11,2014,0,89,94]
["OPEX","O5","ALL","B1","G3",12,2014,0,175,186]
["OPEX","O5","ALL","B1","G4",1,2013,0,24,25]
["OPEX","O5","ALL","B1","G4",2,2013,0,46,46]
["OPEX","O5","ALL","B1","G4",3,2013,0,101,103]
["OPEX","O5","ALL","B1","G4",4,2013,0,113,122]
["OPEX","O5","ALL","B1","G4",5,2013,0,121,124]
["OPEX","O5","ALL","B1","G4",6,2013,0,152,164]
["OPEX","O5","ALL","B1","G4",7,2013,0,173,181]
["OPEX","O5","ALL","B1","G4",8,2013,0,224,218]
["OPEX","O5","ALL","B1","G4",9,2013,0,178,195]
["OPEX","O5","ALL","B1","G4",10,2013,0,76,81]
["OPEX","O5","ALL","B1","G4",11,2013,0,62,65]
["OPEX","O5","ALL","B1","G4",12,2013,0,174,177]
["OPEX","O5","ALL","B1","G4",1,2014,0,33,33]
["OPEX","O5","ALL","B1","G4",2,2014,0,60,64]
["OPEX","O5","ALL","B1","G4",3,2014,0,66,65]
["OPEX","O5","ALL","B1","G4",4,2014,0,103,106]
["OPEX","O5","ALL","B1","G4",5,2014,0,164,169]
["OPEX","O5","ALL","B1","G4",6,2014,0,182,189]
["OPEX","O5","ALL","B1","G4",7,2014,0,180,193]
["OPEX","O5","ALL","B1","G4",8,2014,0,144,146]
["OPEX","O5","ALL","B1","G4",9,2014,0,118,124]
["OPEX","O5","ALL","B1","G4",10,2014,0,124,132]
["OPEX","O5","ALL","B1","G4",11,2014,0,62,67]
["OPEX","O5","ALL","B1","G4",12,2014,0,165,169]
["OPEX","O5","ALL","B1","G5",1,2013,0,42,46]
["OPEX","O5","ALL","B1","G5",2,2013,0,79,78]
["OPEX","O5","ALL","B1","G5",3,2013,0,120,125]
["OPEX","O5","ALL","B1","G5",4,2013,0,98,109]
["OPEX","O5","ALL","B1","G5",5,2013,0,151,163]
["OPEX","O5","ALL","B1","G5",6,2013,0,205,201]
["OPEX","O5","ALL","B1","G5",7,2013,0,288,291]
["OPEX","O5","ALL","B1","G5",8,2013,0,218,233]
["OPEX","O5","ALL","B1","G5",9,2013,0,209,231]
["OPEX","O5","ALL","B1","G5",10,2013,0,103,109]
["OPEX","O5","ALL","B1","G5",11,2013,0,75,73]
["OPEX","O5","ALL","B1","G5",12,2013,0,144,150]
["OPEX","O5","ALL","B1","G5",1,2014,0,35,39]
["OPEX","O5","ALL","B1","G5",2,2014,0,88,97]
["OPEX","O5","ALL","B1","G5",3,2014,0,97,98]
["OPEX","O5","ALL","B1","G5",4,2014,0,112,109]
["OPEX","O5","ALL","B1","G5",5,2014,0,133,136]
["OPEX","O5","ALL","B1","G5",6,2014,0,329,350]
["OPEX","O5","ALL","B1","G5",7,2014,0,360,362]
["OPEX","O5","ALL","B1","G5",8,2014,0,302,326]
["OPEX","O5","ALL","B1","G5",9,2014,0,217,230]
["OPEX","O5","ALL","B1","G5",10,2014,0,139,151]
["OPEX","O5","ALL","B1","G5",11,2014,0,86,91]
["OPEX","O5","ALL","B1","G5",12,2014,0,174,173]
["OPEX","O5","ALL","B2","G1",1,2013,0,20,20]
["OPEX","O5","ALL","B2","G1",2,2013,0,22,25]
["OPEX","O5","ALL","B2","G1",3,2013,0,28,30]
["OPEX","O5","ALL","B2","G1",4,2013,0,40,42]
["OPEX","O5","ALL","B2","G1",5,2013,0,37,42]
["OPEX","O5","ALL","B2","G1",6,2013,0,121,123]
["OPEX","O5","ALL","B2","G1",7,2013,0,88,85]
["OPEX","O5","ALL","B2","G1",8,2013,0,108,110]
["OPEX","O5","ALL","B2","G1",9,2013,0,71,73]
["OPEX","O5","ALL","B2","G1",10,2013,0,43,44]
["OPEX","O5","ALL","B2","G1",11,2013,0,28,30]
["OPEX","O5","ALL","B2","G1",12,2013,0,56,58]
["OPEX","O5","ALL","B2","G1",1,2014,0,9,10]
["OPEX","O5","ALL","B2","G1",2,2014,0,22,23]
["OPEX","O5","ALL","B2","G1",3,2014,0,35,38]
["OPEX","O5","ALL","B2","G1",4,2014,0,70,74]
["OPEX","O5","ALL","B2","G1",5,2014,0,68,73]
["OPEX","O5","ALL","B2","G1",6,2014,0,56,61]
["OPEX","O5","ALL","B2","G1",7,2014,0,115,126]
["OPEX","O5","ALL","B2","G1",8,2014,0,128,131]
["OPEX","O5","ALL","B2","G1",9,2014,0,64,66]
["OPEX","O5","ALL","B2","G1",10,2014,0,46,46]
["OPEX","O5","ALL","B2","G1",11,2014,0,30,32]
["OPEX","O5","ALL","B2","G1",12,2014,0,77,83]
["OPEX","O5","ALL","B2","G2",1,2013,0,17,19]
["OPEX","O5","ALL","B2","G2",2,2013,0,32,34]
["OPEX","O5","ALL","B2","G2",3,2013,0,44,50]
["OPEX","O5","ALL","B2","G2",4,2013,0,65,73]
["OPEX","O5","ALL","B2","G2",5,2013,0,77,80]
["OPEX","O5","ALL","B2","G2",6,2013,0,89,92]
["OPEX","O5","ALL","B2","G2",7,2013,0,95,94]
["OPEX","O5","ALL","B2","G2",8,2013,0,147,153]
["OPEX","O5","ALL","B2","G2",9,2013,0,91,94]
["OPEX","O5","ALL","B2","G2",10,2013,0,96,95]
["OPEX","O5","ALL","B2","G2",11,2013,0,48,50]
["OPEX","O5","ALL","B2","G2",12,2013,0,68,69]
["OPEX","O5","ALL","B2","G2",1,2014,0,16,16]
["OPEX","O5","ALL","B2","G2",2,2014,0,34,36]
["OPEX","O5","ALL","B2","G2",3,2014,0,40,43]
["OPEX","O5","ALL","B2","G2",4,2014,0,65,71]
["OPEX","O5","ALL","B2","G2",5,2014,0,74,77]
["OPEX","O5","ALL","B2","G2",6,2014,0,134,131]
["OPEX","O5","ALL","B2","G2",7,2014,0,132,139]
["OPEX","O5","ALL","B2","G2",8,2014,0,135,145]
["OPEX","O5","ALL","B2","G2",9,2014,0,82,89]
["OPEX","O5","ALL","B2","G2",10,2014,0,54,57]
["OPEX","O5","ALL","B2","G2",11,2014,0,46,48]
["OPEX","O5","ALL","B2","G2",12,2014,0,77,85]
["OPEX","O5","ALL","B2","G3",1,2013,0,9,10]
["OPEX","O5","ALL","B2","G3",2,2013,0,26,25]
["OPEX","O5","ALL","B2","G3",3,2013,0,34,37]
["OPEX","O5","ALL","B2","G3",4,2013,0,37,41]
["OPEX","O5","ALL","B2","G3",5,2013,0,47,53]
["OPEX","O5","ALL","B2","G3",6,2013,0,57,55]
["OPEX","O5","ALL","B2","G3",7,2013,0,86,94]
["OPEX","O5","ALL","B2","G3",8,2013,0,112,116]
["OPEX","O5","ALL","B2","G3",9,2013,0,47,46]
["OPEX","O5","ALL","B2","G3",10,2013,0,38,40]
["OPEX","O5","ALL","B2","G3",11,2013,0,31,34]
["OPEX","O5","ALL","B2","G3",12,2013,0,46,49]
["OPEX","O5","ALL","B2","G3",1,2014,0,9,11]
["OPEX","O5","ALL","B2","G3",2,2014,0,20,20]
["OPEX","O5","ALL","B2","G3",3,2014,0,25,27]
["OPEX","O5","ALL","B2","G3",4,2014,0,39,41]
["OPEX","O5","ALL","B2","G3",5,2014,0,45,48]
["OPEX","O5","ALL","B2","G3",6,2014,0,66,68]
["OPEX","O5","ALL","B2","G3",7,2014,0,103,111]
["OPEX","O5","ALL","B2","G3",8,2014,0,66,67]
["OPEX","O5","ALL","B2","G3",9,2014,0,54,54]
["OPEX","O5","ALL","B2","G3",10,2014,0,66,69]
["OPEX","O5","ALL","B2","G3",11,2014,0,24,26]
["OPEX","O5","ALL","B2","G3",12,2014,0,61,64]
["OPEX","O5","ALL","B2","G4",1,2013,0,7,8]
["OPEX","O5","ALL","B2","G4",2,2013,0,17,18]
["OPEX","O5","ALL","B2","G4",3,2013,0,21,24]
["OPEX","O5","ALL","B2","G4",4,2013,0,23,24]
["OPEX","O5","ALL","B2","G4",5,2013,0,28,29]
["OPEX","O5","ALL","B2","G4",6,2013,0,60,61]
["OPEX","O5","ALL","B2","G4",7,2013,0,45,46]
["OPEX","O5","ALL","B2","G4",8,2013,0,45,49]
["OPEX","O5","ALL","B2","G4",9,2013,0,45,48]
["OPEX","O5","ALL","B2","G4",10,2013,0,35,37]
["OPEX","O5","ALL","B2","G4",11,2013,0,17,18]
["OPEX","O5","ALL","B2","G4",12,2013,0,44,45]
["OPEX","O5","ALL","B2","G4",1,2014,0,8,7]
["OPEX","O5","ALL","B2","G4",2,2014,0,16,17]
["OPEX","O5","ALL","B2","G4",3,2014,0,18,20]
["OPEX","O5","ALL","B2","G4",4,2014,0,29,30]
["OPEX","O5","ALL","B2","G4",5,2014,0,32,35]
["OPEX","O5","ALL","B2","G4",6,2014,0,55,55]
["OPEX","O5","ALL","B2","G4",7,2014,0,49,49]
["OPEX","O5","ALL","B2","G4",8,2014,0,54,54]
["OPEX","O5","ALL","B2","G4",9,2014,0,45,45]
["OPEX","O5","ALL","B2","G4",10,2014,0,37,39]
["OPEX","O5","ALL","B2","G4",11,2014,0,21,21]
["OPEX","O5","ALL","B2","G4",12,2014,0,30,30]
["OPEX","O5","ALL","B2","G5",1,2013,0,10,10]
["OPEX","O5","ALL","B2","G5",2,2013,0,24,27]
["OPEX","O5","ALL","B2","G5",3,2013,0,27,26]
["OPEX","O5","ALL","B2","G5",4,2013,0,38,37]
["OPEX","O5","ALL","B2","G5",5,2013,0,47,49]
["OPEX","O5","ALL","B2","G5",6,2013,0,70,70]
["OPEX","O5","ALL","B2","G5",7,2013,0,59,64]
["OPEX","O5","ALL","B2","G5",8,2013,0,60,60]
["OPEX","O5","ALL","B2","G5",9,2013,0,54,56]
["OPEX","O5","ALL","B2","G5",10,2013,0,35,37]
["OPEX","O5","ALL","B2","G5",11,2013,0,17,17]
["OPEX","O5","ALL","B2","G5",12,2013,0,56,54]
["OPEX","O5","ALL","B2","G5",1,2014,0,11,12]
["OPEX","O5","ALL","B2","G5",2,2014,0,16,18]
["OPEX","O5","ALL","B2","G5",3,2014,0,29,32]
["OPEX","O5","ALL","B2","G5",4,2014,0,24,24]
["OPEX","O5","ALL","B2","G5",5,2014,0,30,34]
["OPEX","O5","ALL","B2","G5",6,2014,0,79,80]
["OPEX","O5","ALL","B2","G5",7,2014,0,63,71]
["OPEX","O5","ALL","B2","G5",8,2014,0,51,52]
["OPEX","O5","ALL","B2","G5",9,2014,0,75,76]
["OPEX","O5","ALL","B2","G5",10,2014,0,59,61]
["OPEX","O5","ALL","B2","G5",11,2014,0,28,31]
["OPEX","O5","ALL","B2","G5",12,2014,0,53,55]
["OPEX","O5","ALL","B3","G1",1,2013,0,7,7]
["OPEX","O5","ALL","B3","G1",2,2013,0,16,17]
["OPEX","O5","ALL","B3","G1",3,2013,0,16,17]
["OPEX","O5","ALL","B3","G1",4,2013,0,29,31]
["OPEX","O5","ALL","B3","G1",5,2013,0,28,28]
["OPEX","O5","ALL","B3","G1",6,2013,0,33,35]
["OPEX","O5","ALL","B3","G1",7,2013,0,37,38]
["OPEX","O5","ALL","B3","G1",8,2013,0,45,51]
["OPEX","O5","ALL","B3","G1",9,2013,0,34,37]
["OPEX","O5","ALL","B3","G1",10,2013,0,22,23]
["OPEX","O5","ALL","B3","G1",11,2013,0,14,16]
["OPEX","O5","ALL","B3","G1",12,2013,0,41,40]
["OPEX","O5","ALL","B3","G1",1,2014,0,5,5]
["OPEX","O5","ALL","B3","G1",2,2014,0,15,16]
["OPEX","O5","ALL","B3","G1",3,2014,0,21,22]
["OPEX","O5","ALL","B3","G1",4,2014,0,28,28]
["OPEX","O5","ALL","B3","G1",5,2014,0,30,32]
["OPEX","O5","ALL","B3","G1",6,2014,0,43,44]
["OPEX","O5","ALL","B3","G1",7,2014,0,56,56]
["OPEX","O5","ALL","B3","G1",8,2014,0,46,47]
["OPEX","O5","ALL","B3","G1",9,2014,0,38,38]
["OPEX","O5","ALL","B3","G1",10,2014,0,24,24]
["OPEX","O5","ALL","B3","G1",11,2014,0,20,21]
["OPEX","O5","ALL","B3","G1",12,2014,0,44,46]
["OPEX","O5","ALL","B3","G2",1,2013,0,9,9]
["OPEX","O5","ALL","B3","G2",2,2013,0,21,22]
["OPEX","O5","ALL","B3","G2",3,2013,0,16,19]
["OPEX","O5","ALL","B3","G2",4,2013,0,39,40]
["OPEX","O5","ALL","B3","G2",5,2013,0,48,51]
["OPEX","O5","ALL","B3","G2",6,2013,0,46,48]
["OPEX","O5","ALL","B3","G2",7,2013,0,66,66]
["OPEX","O5","ALL","B3","G2",8,2013,0,60,67]
["OPEX","O5","ALL","B3","G2",9,2013,0,36,38]
["OPEX","O5","ALL","B3","G2",10,2013,0,33,34]
["OPEX","O5","ALL","B3","G2",11,2013,0,15,15]
["OPEX","O5","ALL","B3","G2",12,2013,0,52,55]
["OPEX","O5","ALL","B3","G2",1,2014,0,10,11]
["OPEX","O5","ALL","B3","G2",2,2014,0,20,21]
["OPEX","O5","ALL","B3","G2",3,2014,0,24,25]
["OPEX","O5","ALL","B3","G2",4,2014,0,21,22]
["OPEX","O5","ALL","B3","G2",5,2014,0,30,30]
["OPEX","O5","ALL","B3","G2",6,2014,0,50,51]
["OPEX","O5","ALL","B3","G2",7,2014,0,68,69]
["OPEX","O5","ALL","B3","G2",8,2014,0,70,71]
["OPEX","O5","ALL","B3","G2",9,2014,0,56,61]
["OPEX","O5","ALL","B3","G2",10,2014,0,38,38]
["OPEX","O5","ALL","B3","G2",11,2014,0,30,32]
["OPEX","O5","ALL","B3","G2",12,2014,0,50,54]
["OPEX","O5","ALL","B3","G3",1,2013,0,6,6]
["OPEX","O5","ALL","B3","G3",2,2013,0,11,11]
["OPEX","O5","ALL","B3","G3",3,2013,0,21,20]
["OPEX","O5","ALL","B3","G3",4,2013,0,16,17]
["OPEX","O5","ALL","B3","G3",5,2013,0,18,19]
["OPEX","O5","ALL","B3","G3",6,2013,0,28,30]
["OPEX","O5","ALL","B3","G3",7,2013,0,35,37]
["OPEX","O5","ALL","B3","G3",8,2013,0,55,58]
["OPEX","O5","ALL","B3","G3",9,2013,0,24,26]
["OPEX","O5","ALL","B3","G3",10,2013,0,25,25]
["OPEX","O5","ALL","B3","G3",11,2013,0,15,16]
["OPEX","O5","ALL","B3","G3",12,2013,0,23,26]
["OPEX","O5","ALL","B3","G3",1,2014,0,6,6]
["OPEX","O5","ALL","B3","G3",2,2014,0,12,14]
["OPEX","O5","ALL","B3","G3",3,2014,0,19,19]
["OPEX","O5","ALL","B3","G3",4,2014,0,17,19]
["OPEX","O5","ALL","B3","G3",5,2014,0,21,23]
["OPEX","O5","ALL","B3","G3",6,2014,0,27,26]
["OPEX","O5","ALL","B3","G3",7,2014,0,52,58]
["OPEX","O5","ALL","B3","G3",8,2014,0,39,38]
["OPEX","O5","ALL","B3","G3",9,2014,0,37,40]
["OPEX","O5","ALL","B3","G3",10,2014,0,24,25]
["OPEX","O5","ALL","B3","G3",11,2014,0,13,14]
["OPEX","O5","ALL","B3","G3",12,2014,0,27,30]
["OPEX","O5","ALL","B3","G4",1,2013,0,4,4]
["OPEX","O5","ALL","B3","G4",2,2013,0,8,8]
["OPEX","O5","ALL","B3","G4",3,2013,0,12,13]
["OPEX","O5","ALL","B3","G4",4,2013,0,9,10]
["OPEX","O5","ALL","B3","G4",5,2013,0,15,17]
["OPEX","O5","ALL","B3","G4",6,2013,0,18,19]
["OPEX","O5","ALL","B3","G4",7,2013,0,31,29]
["OPEX","O5","ALL","B3","G4",8,2013,0,23,24]
["OPEX","O5","ALL","B3","G4",9,2013,0,20,19]
["OPEX","O5","ALL","B3","G4",10,2013,0,22,22]
["OPEX","O5","ALL","B3","G4",11,2013,0,9,9]
["OPEX","O5","ALL","B3","G4",12,2013,0,22,24]
["OPEX","O5","ALL","B3","G4",1,2014,0,4,4]
["OPEX","O5","ALL","B3","G4",2,2014,0,9,10]
["OPEX","O5","ALL","B3","G4",3,2014,0,14,14]
["OPEX","O5","ALL","B3","G4",4,2014,0,13,14]
["OPEX","O5","ALL","B3","G4",5,2014,0,16,18]
["OPEX","O5","ALL","B3","G4",6,2014,0,18,19]
["OPEX","O5","ALL","B3","G4",7,2014,0,39,40]
["OPEX","O5","ALL","B3","G4",8,2014,0,22,24]
["OPEX","O5","ALL","B3","G4",9,2014,0,26,29]
["OPEX","O5","ALL","B3","G4",10,2014,0,16,16]
["OPEX","O5","ALL","B3","G4",11,2014,0,8,8]
["OPEX","O5","ALL","B3","G4",12,2014,0,16,17]
["OPEX","O5","ALL","B3","G5",1,2013,0,6,6]
["OPEX","O5","ALL","B3","G5",2,2013,0,7,8]
["OPEX","O5","ALL","B3","G5",3,2013,0,17,18]
["OPEX","O5","ALL","B3","G5",4,2013,0,17,20]
["OPEX","O5","ALL","B3","G5",5,2013,0,16,18]
["OPEX","O5","ALL","B3","G5",6,2013,0,26,29]
["OPEX","O5","ALL","B3","G5",7,2013,0,45,46]
["OPEX","O5","ALL","B3","G5",8,2013,0,38,39]
["OPEX","O5","ALL","B3","G5",9,2013,0,34,35]
["OPEX","O5","ALL","B3","G5",10,2013,0,17,19]
["OPEX","O5","ALL","B3","G5",11,2013,0,15,15]
["OPEX","O5","ALL","B3","G5",12,2013,0,30,29]
["OPEX","O5","ALL","B3","G5",1,2014,0,7,7]
["OPEX","O5","ALL","B3","G5",2,2014,0,10,10]
["OPEX","O5","ALL","B3","G5",3,2014,0,16,16]
["OPEX","O5","ALL","B3","G5",4,2014,0,24,24]
["OPEX","O5","ALL","B3","G5",5,2014,0,24,25]
["OPEX","O5","ALL","B3","G5",6,2014,0,28,31]
["OPEX","O5","ALL","B3","G5",7,2014,0,35,36]
["OPEX","O5","ALL","B3","G5",8,2014,0,37,41]
["OPEX","O5","ALL","B3","G5",9,2014,0,23,25]
["OPEX","O5","ALL","B3","G5",10,2014,0,22,21]
["OPEX","O5","ALL","B3","G5",11,2014,0,12,13]
["OPEX","O5","ALL","B3","G5",12,2014,0,34,34]
["OPEX","O6","ALL","B1","G1",1,2013,0,119,130]
["OPEX","O6","ALL","B1","G1",2,2013,0,282,287]
["OPEX","O6","ALL","B1","G1",3,2013,0,377,395]
["OPEX","O6","ALL","B1","G1",4,2013,0,441,491]
["OPEX","O6","ALL","B1","G1",5,2013,0,649,690]
["OPEX","O6","ALL","B1","G1",6,2013,0,754,746]
["OPEX","O6","ALL","B1","G1",7,2013,0,1127,1226]
["OPEX","O6","ALL","B1","G1",8,2013,0,712,735]
["OPEX","O6","ALL","B1","G1",9,2013,0,507,539]
["OPEX","O6","ALL","B1","G1",10,2013,0,611,681]
["OPEX","O6","ALL","B1","G1",11,2013,0,229,251]
["OPEX","O6","ALL","B1","G1",12,2013,0,563,579]
["OPEX","O6","ALL","B1","G1",1,2014,0,108,113]
["OPEX","O6","ALL","B1","G1",2,2014,0,309,334]
["OPEX","O6","ALL","B1","G1",3,2014,0,284,315]
["OPEX","O6","ALL","B1","G1",4,2014,0,637,654]
["OPEX","O6","ALL","B1","G1",5,2014,0,571,622]
["OPEX","O6","ALL","B1","G1",6,2014,0,641,680]
["OPEX","O6","ALL","B1","G1",7,2014,0,619,603]
["OPEX","O6","ALL","B1","G1",8,2014,0,1011,1082]
["OPEX","O6","ALL","B1","G1",9,2014,0,607,686]
["OPEX","O6","ALL","B1","G1",10,2014,0,453,453]
["OPEX","O6","ALL","B1","G1",11,2014,0,251,281]
["OPEX","O6","ALL","B1","G1",12,2014,0,699,741]
["OPEX","O6","ALL","B1","G2",1,2013,0,163,174]
["OPEX","O6","ALL","B1","G2",2,2013,0,318,339]
["OPEX","O6","ALL","B1","G2",3,2013,0,464,492]
["OPEX","O6","ALL","B1","G2",4,2013,0,769,870]
["OPEX","O6","ALL","B1","G2",5,2013,0,783,833]
["OPEX","O6","ALL","B1","G2",6,2013,0,818,899]
["OPEX","O6","ALL","B1","G2",7,2013,0,1340,1398]
["OPEX","O6","ALL","B1","G2",8,2013,0,1037,1072]
["OPEX","O6","ALL","B1","G2",9,2013,0,862,871]
["OPEX","O6","ALL","B1","G2",10,2013,0,611,624]
["OPEX","O6","ALL","B1","G2",11,2013,0,532,541]
["OPEX","O6","ALL","B1","G2",12,2013,0,607,585]
["OPEX","O6","ALL","B1","G2",1,2014,0,188,190]
["OPEX","O6","ALL","B1","G2",2,2014,0,409,405]
["OPEX","O6","ALL","B1","G2",3,2014,0,401,402]
["OPEX","O6","ALL","B1","G2",4,2014,0,481,508]
["OPEX","O6","ALL","B1","G2",5,2014,0,769,765]
["OPEX","O6","ALL","B1","G2",6,2014,0,904,975]
["OPEX","O6","ALL","B1","G2",7,2014,0,920,929]
["OPEX","O6","ALL","B1","G2",8,2014,0,1313,1390]
["OPEX","O6","ALL","B1","G2",9,2014,0,1284,1358]
["OPEX","O6","ALL","B1","G2",10,2014,0,612,654]
["OPEX","O6","ALL","B1","G2",11,2014,0,341,352]
["OPEX","O6","ALL","B1","G2",12,2014,0,1085,1075]
["OPEX","O6","ALL","B1","G3",1,2013,0,84,89]
["OPEX","O6","ALL","B1","G3",2,2013,0,207,211]
["OPEX","O6","ALL","B1","G3",3,2013,0,250,261]
["OPEX","O6","ALL","B1","G3",4,2013,0,284,305]
["OPEX","O6","ALL","B1","G3",5,2013,0,416,460]
["OPEX","O6","ALL","B1","G3",6,2013,0,523,548]
["OPEX","O6","ALL","B1","G3",7,2013,0,767,820]
["OPEX","O6","ALL","B1","G3",8,2013,0,687,731]
["OPEX","O6","ALL","B1","G3",9,2013,0,797,838]
["OPEX","O6","ALL","B1","G3",10,2013,0,389,407]
["OPEX","O6","ALL","B1","G3",11,2013,0,232,249]
["OPEX","O6","ALL","B1","G3",12,2013,0,540,542]
["OPEX","O6","ALL","B1","G3",1,2014,0,85,89]
["OPEX","O6","ALL","B1","G3",2,2014,0,227,239]
["OPEX","O6","ALL","B1","G3",3,2014,0,292,293]
["OPEX","O6","ALL","B1","G3",4,2014,0,328,361]
["OPEX","O6","ALL","B1","G3",5,2014,0,492,542]
["OPEX","O6","ALL","B1","G3",6,2014,0,605,610]
["OPEX","O6","ALL","B1","G3",7,2014,0,1003,973]
["OPEX","O6","ALL","B1","G3",8,2014,0,642,639]
["OPEX","O6","ALL","B1","G3",9,2014,0,750,788]
["OPEX","O6","ALL","B1","G3",10,2014,0,455,469]
["OPEX","O6","ALL","B1","G3",11,2014,0,241,253]
["OPEX","O6","ALL","B1","G3",12,2014,0,629,628]
["OPEX","O6","ALL","B1","G4",1,2013,0,59,59]
["OPEX","O6","ALL","B1","G4",2,2013,0,175,183]
["OPEX","O6","ALL","B1","G4",3,2013,0,208,208]
["OPEX","O6","ALL","B1","G4",4,2013,0,243,244]
["OPEX","O6","ALL","B1","G4",5,2013,0,335,345]
["OPEX","O6","ALL","B1","G4",6,2013,0,451,493]
["OPEX","O6","ALL","B1","G4",7,2013,0,437,448]
["OPEX","O6","ALL","B1","G4",8,2013,0,482,534]
["OPEX","O6","ALL","B1","G4",9,2013,0,284,295]
["OPEX","O6","ALL","B1","G4",10,2013,0,258,274]
["OPEX","O6","ALL","B1","G4",11,2013,0,192,221]
["OPEX","O6","ALL","B1","G4",12,2013,0,277,293]
["OPEX","O6","ALL","B1","G4",1,2014,0,67,74]
["OPEX","O6","ALL","B1","G4",2,2014,0,113,111]
["OPEX","O6","ALL","B1","G4",3,2014,0,221,236]
["OPEX","O6","ALL","B1","G4",4,2014,0,300,328]
["OPEX","O6","ALL","B1","G4",5,2014,0,266,289]
["OPEX","O6","ALL","B1","G4",6,2014,0,431,463]
["OPEX","O6","ALL","B1","G4",7,2014,0,635,673]
["OPEX","O6","ALL","B1","G4",8,2014,0,510,491]
["OPEX","O6","ALL","B1","G4",9,2014,0,481,499]
["OPEX","O6","ALL","B1","G4",10,2014,0,312,304]
["OPEX","O6","ALL","B1","G4",11,2014,0,145,155]
["OPEX","O6","ALL","B1","G4",12,2014,0,269,281]
["OPEX","O6","ALL","B1","G5",1,2013,0,80,83]
["OPEX","O6","ALL","B1","G5",2,2013,0,188,193]
["OPEX","O6","ALL","B1","G5",3,2013,0,252,281]
["OPEX","O6","ALL","B1","G5",4,2013,0,252,281]
["OPEX","O6","ALL","B1","G5",5,2013,0,391,408]
["OPEX","O6","ALL","B1","G5",6,2013,0,542,596]
["OPEX","O6","ALL","B1","G5",7,2013,0,986,993]
["OPEX","O6","ALL","B1","G5",8,2013,0,607,631]
["OPEX","O6","ALL","B1","G5",9,2013,0,637,692]
["OPEX","O6","ALL","B1","G5",10,2013,0,416,420]
["OPEX","O6","ALL","B1","G5",11,2013,0,253,257]
["OPEX","O6","ALL","B1","G5",12,2013,0,467,520]
["OPEX","O6","ALL","B1","G5",1,2014,0,74,79]
["OPEX","O6","ALL","B1","G5",2,2014,0,199,207]
["OPEX","O6","ALL","B1","G5",3,2014,0,373,387]
["OPEX","O6","ALL","B1","G5",4,2014,0,279,304]
["OPEX","O6","ALL","B1","G5",5,2014,0,545,568]
["OPEX","O6","ALL","B1","G5",6,2014,0,480,535]
["OPEX","O6","ALL","B1","G5",7,2014,0,537,538]
["OPEX","O6","ALL","B1","G5",8,2014,0,683,709]
["OPEX","O6","ALL","B1","G5",9,2014,0,511,545]
["OPEX","O6","ALL","B1","G5",10,2014,0,403,396]
["OPEX","O6","ALL","B1","G5",11,2014,0,187,203]
["OPEX","O6","ALL","B1","G5",12,2014,0,616,614]
["OPEX","O6","ALL","B2","G1",1,2013,0,40,41]
["OPEX","O6","ALL","B2","G1",2,2013,0,69,69]
["OPEX","O6","ALL","B2","G1",3,2013,0,81,91]
["OPEX","O6","ALL","B2","G1",4,2013,0,83,86]
["OPEX","O6","ALL","B2","G1",5,2013,0,189,192]
["OPEX","O6","ALL","B2","G1",6,2013,0,268,269]
["OPEX","O6","ALL","B2","G1",7,2013,0,261,301]
["OPEX","O6","ALL","B2","G1",8,2013,0,252,283]
["OPEX","O6","ALL","B2","G1",9,2013,0,167,185]
["OPEX","O6","ALL","B2","G1",10,2013,0,154,160]
["OPEX","O6","ALL","B2","G1",11,2013,0,96,101]
["OPEX","O6","ALL","B2","G1",12,2013,0,207,215]
["OPEX","O6","ALL","B2","G1",1,2014,0,30,32]
["OPEX","O6","ALL","B2","G1",2,2014,0,50,54]
["OPEX","O6","ALL","B2","G1",3,2014,0,90,98]
["OPEX","O6","ALL","B2","G1",4,2014,0,153,164]
["OPEX","O6","ALL","B2","G1",5,2014,0,120,128]
["OPEX","O6","ALL","B2","G1",6,2014,0,221,228]
["OPEX","O6","ALL","B2","G1",7,2014,0,247,253]
["OPEX","O6","ALL","B2","G1",8,2014,0,272,298]
["OPEX","O6","ALL","B2","G1",9,2014,0,154,157]
["OPEX","O6","ALL","B2","G1",10,2014,0,164,164]
["OPEX","O6","ALL","B2","G1",11,2014,0,60,64]
["OPEX","O6","ALL","B2","G1",12,2014,0,213,230]
["OPEX","O6","ALL","B2","G2",1,2013,0,40,42]
["OPEX","O6","ALL","B2","G2",2,2013,0,94,100]
["OPEX","O6","ALL","B2","G2",3,2013,0,113,116]
["OPEX","O6","ALL","B2","G2",4,2013,0,131,141]
["OPEX","O6","ALL","B2","G2",5,2013,0,142,156]
["OPEX","O6","ALL","B2","G2",6,2013,0,219,237]
["OPEX","O6","ALL","B2","G2",7,2013,0,274,293]
["OPEX","O6","ALL","B2","G2",8,2013,0,478,473]
["OPEX","O6","ALL","B2","G2",9,2013,0,188,184]
["OPEX","O6","ALL","B2","G2",10,2013,0,202,222]
["OPEX","O6","ALL","B2","G2",11,2013,0,111,122]
["OPEX","O6","ALL","B2","G2",12,2013,0,274,296]
["OPEX","O6","ALL","B2","G2",1,2014,0,42,44]
["OPEX","O6","ALL","B2","G2",2,2014,0,116,125]
["OPEX","O6","ALL","B2","G2",3,2014,0,168,175]
["OPEX","O6","ALL","B2","G2",4,2014,0,184,191]
["OPEX","O6","ALL","B2","G2",5,2014,0,188,196]
["OPEX","O6","ALL","B2","G2",6,2014,0,440,443]
["OPEX","O6","ALL","B2","G2",7,2014,0,471,489]
["OPEX","O6","ALL","B2","G2",8,2014,0,276,296]
["OPEX","O6","ALL","B2","G2",9,2014,0,258,268]
["OPEX","O6","ALL","B2","G2",10,2014,0,167,172]
["OPEX","O6","ALL","B2","G2",11,2014,0,175,185]
["OPEX","O6","ALL","B2","G2",12,2014,0,302,303]
["OPEX","O6","ALL","B2","G3",1,2013,0,35,36]
["OPEX","O6","ALL","B2","G3",2,2013,0,59,63]
["OPEX","O6","ALL","B2","G3",3,2013,0,121,129]
["OPEX","O6","ALL","B2","G3",4,2013,0,123,137]
["OPEX","O6","ALL","B2","G3",5,2013,0,121,133]
["OPEX","O6","ALL","B2","G3",6,2013,0,150,154]
["OPEX","O6","ALL","B2","G3",7,2013,0,243,267]
["OPEX","O6","ALL","B2","G3",8,2013,0,205,230]
["OPEX","O6","ALL","B2","G3",9,2013,0,164,174]
["OPEX","O6","ALL","B2","G3",10,2013,0,117,119]
["OPEX","O6","ALL","B2","G3",11,2013,0,92,104]
["OPEX","O6","ALL","B2","G3",12,2013,0,213,229]
["OPEX","O6","ALL","B2","G3",1,2014,0,29,28]
["OPEX","O6","ALL","B2","G3",2,2014,0,52,56]
["OPEX","O6","ALL","B2","G3",3,2014,0,93,103]
["OPEX","O6","ALL","B2","G3",4,2014,0,90,98]
["OPEX","O6","ALL","B2","G3",5,2014,0,155,160]
["OPEX","O6","ALL","B2","G3",6,2014,0,176,172]
["OPEX","O6","ALL","B2","G3",7,2014,0,182,207]
["OPEX","O6","ALL","B2","G3",8,2014,0,294,311]
["OPEX","O6","ALL","B2","G3",9,2014,0,162,169]
["OPEX","O6","ALL","B2","G3",10,2014,0,70,74]
["OPEX","O6","ALL","B2","G3",11,2014,0,47,52]
["OPEX","O6","ALL","B2","G3",12,2014,0,121,137]
["OPEX","O6","ALL","B2","G4",1,2013,0,24,24]
["OPEX","O6","ALL","B2","G4",2,2013,0,33,36]
["OPEX","O6","ALL","B2","G4",3,2013,0,68,75]
["OPEX","O6","ALL","B2","G4",4,2013,0,66,75]
["OPEX","O6","ALL","B2","G4",5,2013,0,102,111]
["OPEX","O6","ALL","B2","G4",6,2013,0,120,133]
["OPEX","O6","ALL","B2","G4",7,2013,0,150,163]
["OPEX","O6","ALL","B2","G4",8,2013,0,134,133]
["OPEX","O6","ALL","B2","G4",9,2013,0,131,136]
["OPEX","O6","ALL","B2","G4",10,2013,0,82,94]
["OPEX","O6","ALL","B2","G4",11,2013,0,41,43]
["OPEX","O6","ALL","B2","G4",12,2013,0,92,91]
["OPEX","O6","ALL","B2","G4",1,2014,0,21,22]
["OPEX","O6","ALL","B2","G4",2,2014,0,31,32]
["OPEX","O6","ALL","B2","G4",3,2014,0,56,59]
["OPEX","O6","ALL","B2","G4",4,2014,0,72,72]
["OPEX","O6","ALL","B2","G4",5,2014,0,95,100]
["OPEX","O6","ALL","B2","G4",6,2014,0,84,87]
["OPEX","O6","ALL","B2","G4",7,2014,0,162,162]
["OPEX","O6","ALL","B2","G4",8,2014,0,149,166]
["OPEX","O6","ALL","B2","G4",9,2014,0,98,107]
["OPEX","O6","ALL","B2","G4",10,2014,0,65,66]
["OPEX","O6","ALL","B2","G4",11,2014,0,50,49]
["OPEX","O6","ALL","B2","G4",12,2014,0,93,90]
["OPEX","O6","ALL","B2","G5",1,2013,0,26,27]
["OPEX","O6","ALL","B2","G5",2,2013,0,48,53]
["OPEX","O6","ALL","B2","G5",3,2013,0,68,73]
["OPEX","O6","ALL","B2","G5",4,2013,0,83,84]
["OPEX","O6","ALL","B2","G5",5,2013,0,116,115]
["OPEX","O6","ALL","B2","G5",6,2013,0,114,116]
["OPEX","O6","ALL","B2","G5",7,2013,0,160,182]
["OPEX","O6","ALL","B2","G5",8,2013,0,274,285]
["OPEX","O6","ALL","B2","G5",9,2013,0,118,124]
["OPEX","O6","ALL","B2","G5",10,2013,0,111,115]
["OPEX","O6","ALL","B2","G5",11,2013,0,64,70]
["OPEX","O6","ALL","B2","G5",12,2013,0,137,146]
["OPEX","O6","ALL","B2","G5",1,2014,0,21,23]
["OPEX","O6","ALL","B2","G5",2,2014,0,57,57]
["OPEX","O6","ALL","B2","G5",3,2014,0,94,98]
["OPEX","O6","ALL","B2","G5",4,2014,0,70,71]
["OPEX","O6","ALL","B2","G5",5,2014,0,128,139]
["OPEX","O6","ALL","B2","G5",6,2014,0,103,101]
["OPEX","O6","ALL","B2","G5",7,2014,0,154,176]
["OPEX","O6","ALL","B2","G5",8,2014,0,167,190]
["OPEX","O6","ALL","B2","G5",9,2014,0,200,197]
["OPEX","O6","ALL","B2","G5",10,2014,0,141,151]
["OPEX","O6","ALL","B2","G5",11,2014,0,62,61]
["OPEX","O6","ALL","B2","G5",12,2014,0,127,141]
["OPEX","O6","ALL","B3","G1",1,2013,0,17,19]
["OPEX","O6","ALL","B3","G1",2,2013,0,40,42]
["OPEX","O6","ALL","B3","G1",3,2013,0,51,55]
["OPEX","O6","ALL","B3","G1",4,2013,0,73,75]
["OPEX","O6","ALL","B3","G1",5,2013,0,60,62]
["OPEX","O6","ALL","B3","G1",6,2013,0,119,122]
["OPEX","O6","ALL","B3","G1",7,2013,0,108,112]
["OPEX","O6","ALL","B3","G1",8,2013,0,156,166]
["OPEX","O6","ALL","B3","G1",9,2013,0,116,116]
["OPEX","O6","ALL","B3","G1",10,2013,0,92,96]
["OPEX","O6","ALL","B3","G1",11,2013,0,51,57]
["OPEX","O6","ALL","B3","G1",12,2013,0,77,77]
["OPEX","O6","ALL","B3","G1",1,2014,0,13,15]
["OPEX","O6","ALL","B3","G1",2,2014,0,32,35]
["OPEX","O6","ALL","B3","G1",3,2014,0,52,58]
["OPEX","O6","ALL","B3","G1",4,2014,0,80,84]
["OPEX","O6","ALL","B3","G1",5,2014,0,81,81]
["OPEX","O6","ALL","B3","G1",6,2014,0,78,82]
["OPEX","O6","ALL","B3","G1",7,2014,0,175,182]
["OPEX","O6","ALL","B3","G1",8,2014,0,86,86]
["OPEX","O6","ALL","B3","G1",9,2014,0,101,105]
["OPEX","O6","ALL","B3","G1",10,2014,0,94,98]
["OPEX","O6","ALL","B3","G1",11,2014,0,49,50]
["OPEX","O6","ALL","B3","G1",12,2014,0,80,83]
["OPEX","O6","ALL","B3","G2",1,2013,0,21,22]
["OPEX","O6","ALL","B3","G2",2,2013,0,43,44]
["OPEX","O6","ALL","B3","G2",3,2013,0,102,109]
["OPEX","O6","ALL","B3","G2",4,2013,0,61,69]
["OPEX","O6","ALL","B3","G2",5,2013,0,102,103]
["OPEX","O6","ALL","B3","G2",6,2013,0,119,127]
["OPEX","O6","ALL","B3","G2",7,2013,0,123,130]
["OPEX","O6","ALL","B3","G2",8,2013,0,117,129]
["OPEX","O6","ALL","B3","G2",9,2013,0,100,111]
["OPEX","O6","ALL","B3","G2",10,2013,0,86,86]
["OPEX","O6","ALL","B3","G2",11,2013,0,54,58]
["OPEX","O6","ALL","B3","G2",12,2013,0,112,120]
["OPEX","O6","ALL","B3","G2",1,2014,0,24,26]
["OPEX","O6","ALL","B3","G2",2,2014,0,47,49]
["OPEX","O6","ALL","B3","G2",3,2014,0,60,64]
["OPEX","O6","ALL","B3","G2",4,2014,0,60,62]
["OPEX","O6","ALL","B3","G2",5,2014,0,128,138]
["OPEX","O6","ALL","B3","G2",6,2014,0,129,135]
["OPEX","O6","ALL","B3","G2",7,2014,0,209,219]
["OPEX","O6","ALL","B3","G2",8,2014,0,195,214]
["OPEX","O6","ALL","B3","G2",9,2014,0,149,157]
["OPEX","O6","ALL","B3","G2",10,2014,0,108,104]
["OPEX","O6","ALL","B3","G2",11,2014,0,64,63]
["OPEX","O6","ALL","B3","G2",12,2014,0,96,100]
["OPEX","O6","ALL","B3","G3",1,2013,0,14,16]
["OPEX","O6","ALL","B3","G3",2,2013,0,34,33]
["OPEX","O6","ALL","B3","G3",3,2013,0,41,41]
["OPEX","O6","ALL","B3","G3",4,2013,0,49,52]
["OPEX","O6","ALL","B3","G3",5,2013,0,57,62]
["OPEX","O6","ALL","B3","G3",6,2013,0,77,76]
["OPEX","O6","ALL","B3","G3",7,2013,0,82,90]
["OPEX","O6","ALL","B3","G3",8,2013,0,126,129]
["OPEX","O6","ALL","B3","G3",9,2013,0,84,87]
["OPEX","O6","ALL","B3","G3",10,2013,0,69,72]
["OPEX","O6","ALL","B3","G3",11,2013,0,34,38]
["OPEX","O6","ALL","B3","G3",12,2013,0,89,101]
["OPEX","O6","ALL","B3","G3",1,2014,0,16,17]
["OPEX","O6","ALL","B3","G3",2,2014,0,26,27]
["OPEX","O6","ALL","B3","G3",3,2014,0,45,47]
["OPEX","O6","ALL","B3","G3",4,2014,0,53,58]
["OPEX","O6","ALL","B3","G3",5,2014,0,55,54]
["OPEX","O6","ALL","B3","G3",6,2014,0,98,101]
["OPEX","O6","ALL","B3","G3",7,2014,0,131,145]
["OPEX","O6","ALL","B3","G3",8,2014,0,74,81]
["OPEX","O6","ALL","B3","G3",9,2014,0,76,85]
["OPEX","O6","ALL","B3","G3",10,2014,0,74,74]
["OPEX","O6","ALL","B3","G3",11,2014,0,32,34]
["OPEX","O6","ALL","B3","G3",12,2014,0,89,96]
["OPEX","O6","ALL","B3","G4",1,2013,0,12,13]
["OPEX","O6","ALL","B3","G4",2,2013,0,19,21]
["OPEX","O6","ALL","B3","G4",3,2013,0,34,34]
["OPEX","O6","ALL","B3","G4",4,2013,0,26,26]
["OPEX","O6","ALL","B3","G4",5,2013,0,40,42]
["OPEX","O6","ALL","B3","G4",6,2013,0,53,54]
["OPEX","O6","ALL","B3","G4",7,2013,0,56,59]
["OPEX","O6","ALL","B3","G4",8,2013,0,72,73]
["OPEX","O6","ALL","B3","G4",9,2013,0,56,59]
["OPEX","O6","ALL","B3","G4",10,2013,0,41,43]
["OPEX","O6","ALL","B3","G4",11,2013,0,28,30]
["OPEX","O6","ALL","B3","G4",12,2013,0,77,82]
["OPEX","O6","ALL","B3","G4",1,2014,0,8,9]
["OPEX","O6","ALL","B3","G4",2,2014,0,16,16]
["OPEX","O6","ALL","B3","G4",3,2014,0,34,37]
["OPEX","O6","ALL","B3","G4",4,2014,0,39,40]
["OPEX","O6","ALL","B3","G4",5,2014,0,41,44]
["OPEX","O6","ALL","B3","G4",6,2014,0,87,91]
["OPEX","O6","ALL","B3","G4",7,2014,0,68,67]
["OPEX","O6","ALL","B3","G4",8,2014,0,76,78]
["OPEX","O6","ALL","B3","G4",9,2014,0,47,51]
["OPEX","O6","ALL","B3","G4",10,2014,0,40,44]
["OPEX","O6","ALL","B3","G4",11,2014,0,24,24]
["OPEX","O6","ALL","B3","G4",12,2014,0,52,51]
["OPEX","O6","ALL","B3","G5",1,2013,0,11,11]
["OPEX","O6","ALL","B3","G5",2,2013,0,26,28]
["OPEX","O6","ALL","B3","G5",3,2013,0,44,46]
["OPEX","O6","ALL","B3","G5",4,2013,0,56,58]
["OPEX","O6","ALL","B3","G5",5,2013,0,54,60]
["OPEX","O6","ALL","B3","G5",6,2013,0,71,76]
["OPEX","O6","ALL","B3","G5",7,2013,0,121,125]
["OPEX","O6","ALL","B3","G5",8,2013,0,104,111]
["OPEX","O6","ALL","B3","G5",9,2013,0,57,59]
["OPEX","O6","ALL","B3","G5",10,2013,0,40,44]
["OPEX","O6","ALL","B3","G5",11,2013,0,29,33]
["OPEX","O6","ALL","B3","G5",12,2013,0,82,85]
["OPEX","O6","ALL","B3","G5",1,2014,0,13,13]
["OPEX","O6","ALL","B3","G5",2,2014,0,25,26]
["OPEX","O6","ALL","B3","G5",3,2014,0,43,43]
["OPEX","O6","ALL","B3","G5",4,2014,0,49,50]
["OPEX","O6","ALL","B3","G5",5,2014,0,76,87]
["OPEX","O6","ALL","B3","G5",6,2014,0,98,95]
["OPEX","O6","ALL","B3","G5",7,2014,0,110,115]
["OPEX","O6","ALL","B3","G5",8,2014,0,114,124]
["OPEX","O6","ALL","B3","G5",9,2014,0,93,101]
["OPEX","O6","ALL","B3","G5",10,2014,0,55,57]
["OPEX","O6","ALL","B3","G5",11,2014,0,45,49]
["OPEX","O6","ALL","B3","G5",12,2014,0,79,82]
["PRD","P1","ALL","B1","G1",1,2013,0,660,756]
["PRD","P1","ALL","B1","G1",2,2013,0,1621,1676]
["PRD","P1","ALL","B1","G1",3,2013,0,1517,1598]
["PRD","P1","ALL","B1","G1",4,2013,0,1893,1975]
["PRD","P1","ALL","B1","G1",5,2013,0,3009,3036]
["PRD","P1","ALL","B1","G1",6,2013,0,3085,3188]
["PRD","P1","ALL","B1","G1",7,2013,0,4440,4649]
["PRD","P1","ALL","B1","G1",8,2013,0,4054,3938]
["PRD","P1","ALL","B1","G1",9,2013,0,2891,3008]
["PRD","P1","ALL","B1","G1",10,2013,0,1932,2127]
["PRD","P1","ALL","B1","G1",11,2013,0,1433,1624]
["PRD","P1","ALL","B1","G1",12,2013,0,4046,4418]
["PRD","P1","ALL","B1","G1",1,2014,0,488,518]
["PRD","P1","ALL","B1","G1",2,2014,0,1139,1309]
["PRD","P1","ALL","B1","G1",3,2014,0,1941,1953]
["PRD","P1","ALL","B1","G1",4,2014,0,1863,1957]
["PRD","P1","ALL","B1","G1",5,2014,0,3294,3673]
["PRD","P1","ALL","B1","G1",6,2014,0,4790,5187]
["PRD","P1","ALL","B1","G1",7,2014,0,5080,5608]
["PRD","P1","ALL","B1","G1",8,2014,0,4630,4868]
["PRD","P1","ALL","B1","G1",9,2014,0,4514,4720]
["PRD","P1","ALL","B1","G1",10,2014,0,2521,2512]
["PRD","P1","ALL","B1","G1",11,2014,0,1736,1855]
["PRD","P1","ALL","B1","G1",12,2014,0,2984,3323]
["PRD","P1","ALL","B1","G2",1,2013,0,711,701]
["PRD","P1","ALL","B1","G2",2,2013,0,1534,1680]
["PRD","P1","ALL","B1","G2",3,2013,0,1873,2156]
["PRD","P1","ALL","B1","G2",4,2013,0,2533,2647]
["PRD","P1","ALL","B1","G2",5,2013,0,2302,2255]
["PRD","P1","ALL","B1","G2",6,2013,0,5605,5997]
["PRD","P1","ALL","B1","G2",7,2013,0,7414,7686]
["PRD","P1","ALL","B1","G2",8,2013,0,8581,8595]
["PRD","P1","ALL","B1","G2",9,2013,0,4831,5049]
["PRD","P1","ALL","B1","G2",10,2013,0,2961,2970]
["PRD","P1","ALL","B1","G2",11,2013,0,1906,1932]
["PRD","P1","ALL","B1","G2",12,2013,0,2932,3023]
["PRD","P1","ALL","B1","G2",1,2014,0,705,701]
["PRD","P1","ALL","B1","G2",2,2014,0,1876,2147]
["PRD","P1","ALL","B1","G2",3,2014,0,2321,2274]
["PRD","P1","ALL","B1","G2",4,2014,0,2709,2847]
["PRD","P1","ALL","B1","G2",5,2014,0,2440,2625]
["PRD","P1","ALL","B1","G2",6,2014,0,4917,4751]
["PRD","P1","ALL","B1","G2",7,2014,0,7501,8045]
["PRD","P1","ALL","B1","G2",8,2014,0,4521,4811]
["PRD","P1","ALL","B1","G2",9,2014,0,3058,3059]
["PRD","P1","ALL","B1","G2",10,2014,0,2923,3058]
["PRD","P1","ALL","B1","G2",11,2014,0,2033,2208]
["PRD","P1","ALL","B1","G2",12,2014,0,6113,6383]
["PRD","P1","ALL","B1","G3",1,2013,0,574,564]
["PRD","P1","ALL","B1","G3",2,2013,0,1157,1215]
["PRD","P1","ALL","B1","G3",3,2013,0,1361,1442]
["PRD","P1","ALL","B1","G3",4,2013,0,1473,1486]
["PRD","P1","ALL","B1","G3",5,2013,0,1924,2151]
["PRD","P1","ALL","B1","G3",6,2013,0,2776,2964]
["PRD","P1","ALL","B1","G3",7,2013,0,3373,3543]
["PRD","P1","ALL","B1","G3",8,2013,0,3477,3847]
["PRD","P1","ALL","B1","G3",9,2013,0,2359,2464]
["PRD","P1","ALL","B1","G3",10,2013,0,2341,2536]
["PRD","P1","ALL","B1","G3",11,2013,0,1353,1386]
["PRD","P1","ALL","B1","G3",12,2013,0,1641,1757]
["PRD","P1","ALL","B1","G3",1,2014,0,500,530]
["PRD","P1","ALL","B1","G3",2,2014,0,1316,1324]
["PRD","P1","ALL","B1","G3",3,2014,0,1997,2162]
["PRD","P1","ALL","B1","G3",4,2014,0,2014,2131]
["PRD","P1","ALL","B1","G3",5,2014,0,1650,1839]
["PRD","P1","ALL","B1","G3",6,2014,0,2942,3020]
["PRD","P1","ALL","B1","G3",7,2014,0,4026,4381]
["PRD","P1","ALL","B1","G3",8,2014,0,4570,4830]
["PRD","P1","ALL","B1","G3",9,2014,0,2871,3244]
["PRD","P1","ALL","B1","G3",10,2014,0,1707,1762]
["PRD","P1","ALL","B1","G3",11,2014,0,1305,1405]
["PRD","P1","ALL","B1","G3",12,2014,0,2717,2918]
["PRD","P1","ALL","B1","G4",1,2013,0,378,408]
["PRD","P1","ALL","B1","G4",2,2013,0,724,725]
["PRD","P1","ALL","B1","G4",3,2013,0,981,1069]
["PRD","P1","ALL","B1","G4",4,2013,0,1075,1163]
["PRD","P1","ALL","B1","G4",5,2013,0,1322,1400]
["PRD","P1","ALL","B1","G4",6,2013,0,1995,2038]
["PRD","P1","ALL","B1","G4",7,2013,0,2878,3092]
["PRD","P1","ALL","B1","G4",8,2013,0,2107,2304]
["PRD","P1","ALL","B1","G4",9,2013,0,1742,1760]
["PRD","P1","ALL","B1","G4",10,2013,0,899,1013]
["PRD","P1","ALL","B1","G4",11,2013,0,692,738]
["PRD","P1","ALL","B1","G4",12,2013,0,1793,1821]
["PRD","P1","ALL","B1","G4",1,2014,0,340,383]
["PRD","P1","ALL","B1","G4",2,2014,0,726,744]
["PRD","P1","ALL","B1","G4",3,2014,0,1015,1035]
["PRD","P1","ALL","B1","G4",4,2014,0,1223,1242]
["PRD","P1","ALL","B1","G4",5,2014,0,1377,1449]
["PRD","P1","ALL","B1","G4",6,2014,0,2026,2105]
["PRD","P1","ALL","B1","G4",7,2014,0,2398,2646]
["PRD","P1","ALL","B1","G4",8,2014,0,1779,1761]
["PRD","P1","ALL","B1","G4",9,2014,0,2169,2426]
["PRD","P1","ALL","B1","G4",10,2014,0,1414,1551]
["PRD","P1","ALL","B1","G4",11,2014,0,888,948]
["PRD","P1","ALL","B1","G4",12,2014,0,1734,1788]
["PRD","P1","ALL","B1","G5",1,2013,0,426,443]
["PRD","P1","ALL","B1","G5",2,2013,0,937,1036]
["PRD","P1","ALL","B1","G5",3,2013,0,891,950]
["PRD","P1","ALL","B1","G5",4,2013,0,1173,1201]
["PRD","P1","ALL","B1","G5",5,2013,0,2733,2874]
["PRD","P1","ALL","B1","G5",6,2013,0,3018,3251]
["PRD","P1","ALL","B1","G5",7,2013,0,3314,3323]
["PRD","P1","ALL","B1","G5",8,2013,0,3717,3631]
["PRD","P1","ALL","B1","G5",9,2013,0,3161,3158]
["PRD","P1","ALL","B1","G5",10,2013,0,1904,1978]
["PRD","P1","ALL","B1","G5",11,2013,0,1112,1224]
["PRD","P1","ALL","B1","G5",12,2013,0,2041,2260]
["PRD","P1","ALL","B1","G5",1,2014,0,385,384]
["PRD","P1","ALL","B1","G5",2,2014,0,904,911]
["PRD","P1","ALL","B1","G5",3,2014,0,1742,1706]
["PRD","P1","ALL","B1","G5",4,2014,0,1953,2152]
["PRD","P1","ALL","B1","G5",5,2014,0,3047,3372]
["PRD","P1","ALL","B1","G5",6,2014,0,2856,2991]
["PRD","P1","ALL","B1","G5",7,2014,0,3259,3451]
["PRD","P1","ALL","B1","G5",8,2014,0,2727,2903]
["PRD","P1","ALL","B1","G5",9,2014,0,3052,2951]
["PRD","P1","ALL","B1","G5",10,2014,0,1825,1994]
["PRD","P1","ALL","B1","G5",11,2014,0,1287,1248]
["PRD","P1","ALL","B1","G5",12,2014,0,2989,3018]
["PRD","P1","ALL","B2","G1",1,2013,0,104,109]
["PRD","P1","ALL","B2","G1",2,2013,0,342,381]
["PRD","P1","ALL","B2","G1",3,2013,0,677,684]
["PRD","P1","ALL","B2","G1",4,2013,0,682,674]
["PRD","P1","ALL","B2","G1",5,2013,0,652,704]
["PRD","P1","ALL","B2","G1",6,2013,0,1288,1310]
["PRD","P1","ALL","B2","G1",7,2013,0,1355,1356]
["PRD","P1","ALL","B2","G1",8,2013,0,1053,1110]
["PRD","P1","ALL","B2","G1",9,2013,0,786,800]
["PRD","P1","ALL","B2","G1",10,2013,0,572,658]
["PRD","P1","ALL","B2","G1",11,2013,0,412,434]
["PRD","P1","ALL","B2","G1",12,2013,0,844,830]
["PRD","P1","ALL","B2","G1",1,2014,0,179,197]
["PRD","P1","ALL","B2","G1",2,2014,0,446,461]
["PRD","P1","ALL","B2","G1",3,2014,0,762,765]
["PRD","P1","ALL","B2","G1",4,2014,0,464,469]
["PRD","P1","ALL","B2","G1",5,2014,0,540,589]
["PRD","P1","ALL","B2","G1",6,2014,0,1146,1154]
["PRD","P1","ALL","B2","G1",7,2014,0,1219,1298]
["PRD","P1","ALL","B2","G1",8,2014,0,1295,1295]
["PRD","P1","ALL","B2","G1",9,2014,0,1179,1193]
["PRD","P1","ALL","B2","G1",10,2014,0,702,730]
["PRD","P1","ALL","B2","G1",11,2014,0,479,508]
["PRD","P1","ALL","B2","G1",12,2014,0,1041,1060]
["PRD","P1","ALL","B2","G2",1,2013,0,237,244]
["PRD","P1","ALL","B2","G2",2,2013,0,573,601]
["PRD","P1","ALL","B2","G2",3,2013,0,725,749]
["PRD","P1","ALL","B2","G2",4,2013,0,767,792]
["PRD","P1","ALL","B2","G2",5,2013,0,888,913]
["PRD","P1","ALL","B2","G2",6,2013,0,972,1014]
["PRD","P1","ALL","B2","G2",7,2013,0,1351,1494]
["PRD","P1","ALL","B2","G2",8,2013,0,1761,1798]
["PRD","P1","ALL","B2","G2",9,2013,0,1165,1211]
["PRD","P1","ALL","B2","G2",10,2013,0,885,903]
["PRD","P1","ALL","B2","G2",11,2013,0,482,522]
["PRD","P1","ALL","B2","G2",12,2013,0,1030,1183]
["PRD","P1","ALL","B2","G2",1,2014,0,215,220]
["PRD","P1","ALL","B2","G2",2,2014,0,487,503]
["PRD","P1","ALL","B2","G2",3,2014,0,606,664]
["PRD","P1","ALL","B2","G2",4,2014,0,575,599]
["PRD","P1","ALL","B2","G2",5,2014,0,1262,1207]
["PRD","P1","ALL","B2","G2",6,2014,0,1594,1696]
["PRD","P1","ALL","B2","G2",7,2014,0,1450,1493]
["PRD","P1","ALL","B2","G2",8,2014,0,1542,1604]
["PRD","P1","ALL","B2","G2",9,2014,0,1348,1369]
["PRD","P1","ALL","B2","G2",10,2014,0,1336,1400]
["PRD","P1","ALL","B2","G2",11,2014,0,547,590]
["PRD","P1","ALL","B2","G2",12,2014,0,1227,1228]
["PRD","P1","ALL","B2","G3",1,2013,0,181,191]
["PRD","P1","ALL","B2","G3",2,2013,0,292,318]
["PRD","P1","ALL","B2","G3",3,2013,0,508,532]
["PRD","P1","ALL","B2","G3",4,2013,0,402,417]
["PRD","P1","ALL","B2","G3",5,2013,0,615,644]
["PRD","P1","ALL","B2","G3",6,2013,0,501,568]
["PRD","P1","ALL","B2","G3",7,2013,0,1389,1455]
["PRD","P1","ALL","B2","G3",8,2013,0,755,797]
["PRD","P1","ALL","B2","G3",9,2013,0,880,948]
["PRD","P1","ALL","B2","G3",10,2013,0,712,741]
["PRD","P1","ALL","B2","G3",11,2013,0,285,303]
["PRD","P1","ALL","B2","G3",12,2013,0,826,899]
["PRD","P1","ALL","B2","G3",1,2014,0,144,142]
["PRD","P1","ALL","B2","G3",2,2014,0,357,383]
["PRD","P1","ALL","B2","G3",3,2014,0,345,364]
["PRD","P1","ALL","B2","G3",4,2014,0,420,473]
["PRD","P1","ALL","B2","G3",5,2014,0,615,624]
["PRD","P1","ALL","B2","G3",6,2014,0,775,832]
["PRD","P1","ALL","B2","G3",7,2014,0,1194,1357]
["PRD","P1","ALL","B2","G3",8,2014,0,738,777]
["PRD","P1","ALL","B2","G3",9,2014,0,649,655]
["PRD","P1","ALL","B2","G3",10,2014,0,416,436]
["PRD","P1","ALL","B2","G3",11,2014,0,357,379]
["PRD","P1","ALL","B2","G3",12,2014,0,638,717]
["PRD","P1","ALL","B2","G4",1,2013,0,96,100]
["PRD","P1","ALL","B2","G4",2,2013,0,161,170]
["PRD","P1","ALL","B2","G4",3,2013,0,193,206]
["PRD","P1","ALL","B2","G4",4,2013,0,495,538]
["PRD","P1","ALL","B2","G4",5,2013,0,488,470]
["PRD","P1","ALL","B2","G4",6,2013,0,653,655]
["PRD","P1","ALL","B2","G4",7,2013,0,953,1031]
["PRD","P1","ALL","B2","G4",8,2013,0,811,892]
["PRD","P1","ALL","B2","G4",9,2013,0,364,382]
["PRD","P1","ALL","B2","G4",10,2013,0,439,454]
["PRD","P1","ALL","B2","G4",11,2013,0,224,248]
["PRD","P1","ALL","B2","G4",12,2013,0,359,355]
["PRD","P1","ALL","B2","G4",1,2014,0,90,92]
["PRD","P1","ALL","B2","G4",2,2014,0,170,176]
["PRD","P1","ALL","B2","G4",3,2014,0,407,420]
["PRD","P1","ALL","B2","G4",4,2014,0,328,345]
["PRD","P1","ALL","B2","G4",5,2014,0,340,352]
["PRD","P1","ALL","B2","G4",6,2014,0,878,949]
["PRD","P1","ALL","B2","G4",7,2014,0,656,648]
["PRD","P1","ALL","B2","G4",8,2014,0,622,632]
["PRD","P1","ALL","B2","G4",9,2014,0,356,375]
["PRD","P1","ALL","B2","G4",10,2014,0,340,326]
["PRD","P1","ALL","B2","G4",11,2014,0,212,210]
["PRD","P1","ALL","B2","G4",12,2014,0,855,869]
["PRD","P1","ALL","B2","G5",1,2013,0,111,119]
["PRD","P1","ALL","B2","G5",2,2013,0,301,345]
["PRD","P1","ALL","B2","G5",3,2013,0,382,392]
["PRD","P1","ALL","B2","G5",4,2013,0,345,360]
["PRD","P1","ALL","B2","G5",5,2013,0,557,548]
["PRD","P1","ALL","B2","G5",6,2013,0,697,722]
["PRD","P1","ALL","B2","G5",7,2013,0,1291,1244]
["PRD","P1","ALL","B2","G5",8,2013,0,667,692]
["PRD","P1","ALL","B2","G5",9,2013,0,914,968]
["PRD","P1","ALL","B2","G5",10,2013,0,528,547]
["PRD","P1","ALL","B2","G5",11,2013,0,398,415]
["PRD","P1","ALL","B2","G5",12,2013,0,576,608]
["PRD","P1","ALL","B2","G5",1,2014,0,130,143]
["PRD","P1","ALL","B2","G5",2,2014,0,324,354]
["PRD","P1","ALL","B2","G5",3,2014,0,480,507]
["PRD","P1","ALL","B2","G5",4,2014,0,449,452]
["PRD","P1","ALL","B2","G5",5,2014,0,355,382]
["PRD","P1","ALL","B2","G5",6,2014,0,857,859]
["PRD","P1","ALL","B2","G5",7,2014,0,1119,1176]
["PRD","P1","ALL","B2","G5",8,2014,0,1049,1043]
["PRD","P1","ALL","B2","G5",9,2014,0,965,955]
["PRD","P1","ALL","B2","G5",10,2014,0,586,635]
["PRD","P1","ALL","B2","G5",11,2014,0,283,297]
["PRD","P1","ALL","B2","G5",12,2014,0,681,744]
["PRD","P1","ALL","B3","G1",1,2013,0,65,64]
["PRD","P1","ALL","B3","G1",2,2013,0,179,197]
["PRD","P1","ALL","B3","G1",3,2013,0,295,303]
["PRD","P1","ALL","B3","G1",4,2013,0,276,290]
["PRD","P1","ALL","B3","G1",5,2013,0,459,476]
["PRD","P1","ALL","B3","G1",6,2013,0,579,643]
["PRD","P1","ALL","B3","G1",7,2013,0,669,698]
["PRD","P1","ALL","B3","G1",8,2013,0,482,532]
["PRD","P1","ALL","B3","G1",9,2013,0,443,467]
["PRD","P1","ALL","B3","G1",10,2013,0,311,357]
["PRD","P1","ALL","B3","G1",11,2013,0,230,233]
["PRD","P1","ALL","B3","G1",12,2013,0,560,638]
["PRD","P1","ALL","B3","G1",1,2014,0,92,99]
["PRD","P1","ALL","B3","G1",2,2014,0,176,187]
["PRD","P1","ALL","B3","G1",3,2014,0,221,249]
["PRD","P1","ALL","B3","G1",4,2014,0,243,276]
["PRD","P1","ALL","B3","G1",5,2014,0,359,358]
["PRD","P1","ALL","B3","G1",6,2014,0,550,572]
["PRD","P1","ALL","B3","G1",7,2014,0,643,663]
["PRD","P1","ALL","B3","G1",8,2014,0,635,624]
["PRD","P1","ALL","B3","G1",9,2014,0,571,617]
["PRD","P1","ALL","B3","G1",10,2014,0,388,407]
["PRD","P1","ALL","B3","G1",11,2014,0,236,248]
["PRD","P1","ALL","B3","G1",12,2014,0,433,454]
["PRD","P1","ALL","B3","G2",1,2013,0,77,79]
["PRD","P1","ALL","B3","G2",2,2013,0,202,203]
["PRD","P1","ALL","B3","G2",3,2013,0,307,311]
["PRD","P1","ALL","B3","G2",4,2013,0,306,343]
["PRD","P1","ALL","B3","G2",5,2013,0,448,481]
["PRD","P1","ALL","B3","G2",6,2013,0,618,691]
["PRD","P1","ALL","B3","G2",7,2013,0,985,1020]
["PRD","P1","ALL","B3","G2",8,2013,0,850,877]
["PRD","P1","ALL","B3","G2",9,2013,0,491,510]
["PRD","P1","ALL","B3","G2",10,2013,0,387,413]
["PRD","P1","ALL","B3","G2",11,2013,0,252,244]
["PRD","P1","ALL","B3","G2",12,2013,0,515,541]
["PRD","P1","ALL","B3","G2",1,2014,0,118,126]
["PRD","P1","ALL","B3","G2",2,2014,0,184,203]
["PRD","P1","ALL","B3","G2",3,2014,0,362,389]
["PRD","P1","ALL","B3","G2",4,2014,0,384,396]
["PRD","P1","ALL","B3","G2",5,2014,0,395,436]
["PRD","P1","ALL","B3","G2",6,2014,0,942,1037]
["PRD","P1","ALL","B3","G2",7,2014,0,907,898]
["PRD","P1","ALL","B3","G2",8,2014,0,663,711]
["PRD","P1","ALL","B3","G2",9,2014,0,730,788]
["PRD","P1","ALL","B3","G2",10,2014,0,495,532]
["PRD","P1","ALL","B3","G2",11,2014,0,286,316]
["PRD","P1","ALL","B3","G2",12,2014,0,652,679]
["PRD","P1","ALL","B3","G3",1,2013,0,68,70]
["PRD","P1","ALL","B3","G3",2,2013,0,116,119]
["PRD","P1","ALL","B3","G3",3,2013,0,171,186]
["PRD","P1","ALL","B3","G3",4,2013,0,225,239]
["PRD","P1","ALL","B3","G3",5,2013,0,387,431]
["PRD","P1","ALL","B3","G3",6,2013,0,353,368]
["PRD","P1","ALL","B3","G3",7,2013,0,439,480]
["PRD","P1","ALL","B3","G3",8,2013,0,432,453]
["PRD","P1","ALL","B3","G3",9,2013,0,333,381]
["PRD","P1","ALL","B3","G3",10,2013,0,235,247]
["PRD","P1","ALL","B3","G3",11,2013,0,172,178]
["PRD","P1","ALL","B3","G3",12,2013,0,482,475]
["PRD","P1","ALL","B3","G3",1,2014,0,85,84]
["PRD","P1","ALL","B3","G3",2,2014,0,144,153]
["PRD","P1","ALL","B3","G3",3,2014,0,214,223]
["PRD","P1","ALL","B3","G3",4,2014,0,240,267]
["PRD","P1","ALL","B3","G3",5,2014,0,255,286]
["PRD","P1","ALL","B3","G3",6,2014,0,325,343]
["PRD","P1","ALL","B3","G3",7,2014,0,475,487]
["PRD","P1","ALL","B3","G3",8,2014,0,499,552]
["PRD","P1","ALL","B3","G3",9,2014,0,385,412]
["PRD","P1","ALL","B3","G3",10,2014,0,223,228]
["PRD","P1","ALL","B3","G3",11,2014,0,262,266]
["PRD","P1","ALL","B3","G3",12,2014,0,389,407]
["PRD","P1","ALL","B3","G4",1,2013,0,38,42]
["PRD","P1","ALL","B3","G4",2,2013,0,103,108]
["PRD","P1","ALL","B3","G4",3,2013,0,181,183]
["PRD","P1","ALL","B3","G4",4,2013,0,123,128]
["PRD","P1","ALL","B3","G4",5,2013,0,206,216]
["PRD","P1","ALL","B3","G4",6,2013,0,446,506]
["PRD","P1","ALL","B3","G4",7,2013,0,276,275]
["PRD","P1","ALL","B3","G4",8,2013,0,336,349]
["PRD","P1","ALL","B3","G4",9,2013,0,217,229]
["PRD","P1","ALL","B3","G4",10,2013,0,162,165]
["PRD","P1","ALL","B3","G4",11,2013,0,150,153]
["PRD","P1","ALL","B3","G4",12,2013,0,256,264]
["PRD","P1","ALL","B3","G4",1,2014,0,44,48]
["PRD","P1","ALL","B3","G4",2,2014,0,137,142]
["PRD","P1","ALL","B3","G4",3,2014,0,119,121]
["PRD","P1","ALL","B3","G4",4,2014,0,161,167]
["PRD","P1","ALL","B3","G4",5,2014,0,243,261]
["PRD","P1","ALL","B3","G4",6,2014,0,304,321]
["PRD","P1","ALL","B3","G4",7,2014,0,348,358]
["PRD","P1","ALL","B3","G4",8,2014,0,366,383]
["PRD","P1","ALL","B3","G4",9,2014,0,272,305]
["PRD","P1","ALL","B3","G4",10,2014,0,249,258]
["PRD","P1","ALL","B3","G4",11,2014,0,109,116]
["PRD","P1","ALL","B3","G4",12,2014,0,234,257]
["PRD","P1","ALL","B3","G5",1,2013,0,57,55]
["PRD","P1","ALL","B3","G5",2,2013,0,161,171]
["PRD","P1","ALL","B3","G5",3,2013,0,163,173]
["PRD","P1","ALL","B3","G5",4,2013,0,269,285]
["PRD","P1","ALL","B3","G5",5,2013,0,250,256]
["PRD","P1","ALL","B3","G5",6,2013,0,366,397]
["PRD","P1","ALL","B3","G5",7,2013,0,529,561]
["PRD","P1","ALL","B3","G5",8,2013,0,412,432]
["PRD","P1","ALL","B3","G5",9,2013,0,413,410]
["PRD","P1","ALL","B3","G5",10,2013,0,253,274]
["PRD","P1","ALL","B3","G5",11,2013,0,139,147]
["PRD","P1","ALL","B3","G5",12,2013,0,262,264]
["PRD","P1","ALL","B3","G5",1,2014,0,91,96]
["PRD","P1","ALL","B3","G5",2,2014,0,121,126]
["PRD","P1","ALL","B3","G5",3,2014,0,244,242]
["PRD","P1","ALL","B3","G5",4,2014,0,188,202]
["PRD","P1","ALL","B3","G5",5,2014,0,292,314]
["PRD","P1","ALL","B3","G5",6,2014,0,372,376]
["PRD","P1","ALL","B3","G5",7,2014,0,420,418]
["PRD","P1","ALL","B3","G5",8,2014,0,506,529]
["PRD","P1","ALL","B3","G5",9,2014,0,379,421]
["PRD","P1","ALL","B3","G5",10,2014,0,272,275]
["PRD","P1","ALL","B3","G5",11,2014,0,180,181]
["PRD","P1","ALL","B3","G5",12,2014,0,236,247]
["PRD","P2","ALL","B1","G1",1,2013,0,326,337]
["PRD","P2","ALL","B1","G1",2,2013,0,701,701]
["PRD","P2","ALL","B1","G1",3,2013,0,1009,1111]
["PRD","P2","ALL","B1","G1",4,2013,0,1100,1163]
["PRD","P2","ALL","B1","G1",5,2013,0,2108,2213]
["PRD","P2","ALL","B1","G1",6,2013,0,4104,4163]
["PRD","P2","ALL","B1","G1",7,2013,0,3923,4148]
["PRD","P2","ALL","B1","G1",8,2013,0,3872,4237]
["PRD","P2","ALL","B1","G1",9,2013,0,1950,2148]
["PRD","P2","ALL","B1","G1",10,2013,0,2224,2252]
["PRD","P2","ALL","B1","G1",11,2013,0,1104,1167]
["PRD","P2","ALL","B1","G1",12,2013,0,2216,2529]
["PRD","P2","ALL","B1","G1",1,2014,0,514,494]
["PRD","P2","ALL","B1","G1",2,2014,0,1365,1472]
["PRD","P2","ALL","B1","G1",3,2014,0,1443,1474]
["PRD","P2","ALL","B1","G1",4,2014,0,1333,1309]
["PRD","P2","ALL","B1","G1",5,2014,0,1483,1520]
["PRD","P2","ALL","B1","G1",6,2014,0,3059,3126]
["PRD","P2","ALL","B1","G1",7,2014,0,4852,5083]
["PRD","P2","ALL","B1","G1",8,2014,0,2633,2894]
["PRD","P2","ALL","B1","G1",9,2014,0,2657,2710]
["PRD","P2","ALL","B1","G1",10,2014,0,1327,1352]
["PRD","P2","ALL","B1","G1",11,2014,0,1209,1300]
["PRD","P2","ALL","B1","G1",12,2014,0,2049,2264]
["PRD","P2","ALL","B1","G2",1,2013,0,538,547]
["PRD","P2","ALL","B1","G2",2,2013,0,921,949]
["PRD","P2","ALL","B1","G2",3,2013,0,1640,1735]
["PRD","P2","ALL","B1","G2",4,2013,0,2080,2306]
["PRD","P2","ALL","B1","G2",5,2013,0,2612,3000]
["PRD","P2","ALL","B1","G2",6,2013,0,3334,3490]
["PRD","P2","ALL","B1","G2",7,2013,0,4980,5611]
["PRD","P2","ALL","B1","G2",8,2013,0,2672,2693]
["PRD","P2","ALL","B1","G2",9,2013,0,2428,2474]
["PRD","P2","ALL","B1","G2",10,2013,0,2420,2752]
["PRD","P2","ALL","B1","G2",11,2013,0,1416,1439]
["PRD","P2","ALL","B1","G2",12,2013,0,2709,2629]
["PRD","P2","ALL","B1","G2",1,2014,0,553,592]
["PRD","P2","ALL","B1","G2",2,2014,0,1134,1185]
["PRD","P2","ALL","B1","G2",3,2014,0,1678,1750]
["PRD","P2","ALL","B1","G2",4,2014,0,1804,1879]
["PRD","P2","ALL","B1","G2",5,2014,0,2743,2626]
["PRD","P2","ALL","B1","G2",6,2014,0,3754,3713]
["PRD","P2","ALL","B1","G2",7,2014,0,4136,4325]
["PRD","P2","ALL","B1","G2",8,2014,0,3446,3594]
["PRD","P2","ALL","B1","G2",9,2014,0,3124,3375]
["PRD","P2","ALL","B1","G2",10,2014,0,2382,2439]
["PRD","P2","ALL","B1","G2",11,2014,0,2154,2295]
["PRD","P2","ALL","B1","G2",12,2014,0,2972,3200]
["PRD","P2","ALL","B1","G3",1,2013,0,423,458]
["PRD","P2","ALL","B1","G3",2,2013,0,697,787]
["PRD","P2","ALL","B1","G3",3,2013,0,1513,1511]
["PRD","P2","ALL","B1","G3",4,2013,0,954,1042]
["PRD","P2","ALL","B1","G3",5,2013,0,1722,1740]
["PRD","P2","ALL","B1","G3",6,2013,0,2588,2720]
["PRD","P2","ALL","B1","G3",7,2013,0,3485,3639]
["PRD","P2","ALL","B1","G3",8,2013,0,3664,3836]
["PRD","P2","ALL","B1","G3",9,2013,0,1416,1419]
["PRD","P2","ALL","B1","G3",10,2013,0,1553,1613]
["PRD","P2","ALL","B1","G3",11,2013,0,914,918]
["PRD","P2","ALL","B1","G3",12,2013,0,2033,2079]
["PRD","P2","ALL","B1","G3",1,2014,0,365,395]
["PRD","P2","ALL","B1","G3",2,2014,0,920,962]
["PRD","P2","ALL","B1","G3",3,2014,0,1368,1438]
["PRD","P2","ALL","B1","G3",4,2014,0,1471,1572]
["PRD","P2","ALL","B1","G3",5,2014,0,1652,1729]
["PRD","P2","ALL","B1","G3",6,2014,0,2291,2270]
["PRD","P2","ALL","B1","G3",7,2014,0,2762,3057]
["PRD","P2","ALL","B1","G3",8,2014,0,2171,2344]
["PRD","P2","ALL","B1","G3",9,2014,0,2489,2750]
["PRD","P2","ALL","B1","G3",10,2014,0,1932,2004]
["PRD","P2","ALL","B1","G3",11,2014,0,675,678]
["PRD","P2","ALL","B1","G3",12,2014,0,2205,2261]
["PRD","P2","ALL","B1","G4",1,2013,0,256,276]
["PRD","P2","ALL","B1","G4",2,2013,0,618,609]
["PRD","P2","ALL","B1","G4",3,2013,0,603,633]
["PRD","P2","ALL","B1","G4",4,2013,0,833,835]
["PRD","P2","ALL","B1","G4",5,2013,0,1124,1073]
["PRD","P2","ALL","B1","G4",6,2013,0,1815,1819]
["PRD","P2","ALL","B1","G4",7,2013,0,2311,2490]
["PRD","P2","ALL","B1","G4",8,2013,0,1747,1783]
["PRD","P2","ALL","B1","G4",9,2013,0,1100,1180]
["PRD","P2","ALL","B1","G4",10,2013,0,976,1111]
["PRD","P2","ALL","B1","G4",11,2013,0,527,555]
["PRD","P2","ALL","B1","G4",12,2013,0,1475,1626]
["PRD","P2","ALL","B1","G4",1,2014,0,314,334]
["PRD","P2","ALL","B1","G4",2,2014,0,659,673]
["PRD","P2","ALL","B1","G4",3,2014,0,730,782]
["PRD","P2","ALL","B1","G4",4,2014,0,974,946]
["PRD","P2","ALL","B1","G4",5,2014,0,1520,1569]
["PRD","P2","ALL","B1","G4",6,2014,0,1472,1497]
["PRD","P2","ALL","B1","G4",7,2014,0,2165,2412]
["PRD","P2","ALL","B1","G4",8,2014,0,2288,2310]
["PRD","P2","ALL","B1","G4",9,2014,0,1742,1764]
["PRD","P2","ALL","B1","G4",10,2014,0,1341,1404]
["PRD","P2","ALL","B1","G4",11,2014,0,546,612]
["PRD","P2","ALL","B1","G4",12,2014,0,1772,1731]
["PRD","P2","ALL","B1","G5",1,2013,0,441,431]
["PRD","P2","ALL","B1","G5",2,2013,0,962,1064]
["PRD","P2","ALL","B1","G5",3,2013,0,1193,1181]
["PRD","P2","ALL","B1","G5",4,2013,0,1356,1321]
["PRD","P2","ALL","B1","G5",5,2013,0,1575,1737]
["PRD","P2","ALL","B1","G5",6,2013,0,2227,2361]
["PRD","P2","ALL","B1","G5",7,2013,0,2955,3261]
["PRD","P2","ALL","B1","G5",8,2013,0,2279,2303]
["PRD","P2","ALL","B1","G5",9,2013,0,2137,2201]
["PRD","P2","ALL","B1","G5",10,2013,0,1764,1916]
["PRD","P2","ALL","B1","G5",11,2013,0,709,780]
["PRD","P2","ALL","B1","G5",12,2013,0,1621,1752]
["PRD","P2","ALL","B1","G5",1,2014,0,379,423]
["PRD","P2","ALL","B1","G5",2,2014,0,1048,1028]
["PRD","P2","ALL","B1","G5",3,2014,0,1163,1212]
["PRD","P2","ALL","B1","G5",4,2014,0,1353,1444]
["PRD","P2","ALL","B1","G5",5,2014,0,1336,1393]
["PRD","P2","ALL","B1","G5",6,2014,0,2847,2960]
["PRD","P2","ALL","B1","G5",7,2014,0,3587,3846]
["PRD","P2","ALL","B1","G5",8,2014,0,1820,2017]
["PRD","P2","ALL","B1","G5",9,2014,0,2660,2752]
["PRD","P2","ALL","B1","G5",10,2014,0,1804,1896]
["PRD","P2","ALL","B1","G5",11,2014,0,893,953]
["PRD","P2","ALL","B1","G5",12,2014,0,1874,1863]
["PRD","P2","ALL","B2","G1",1,2013,0,115,123]
["PRD","P2","ALL","B2","G1",2,2013,0,236,255]
["PRD","P2","ALL","B2","G1",3,2013,0,400,419]
["PRD","P2","ALL","B2","G1",4,2013,0,375,400]
["PRD","P2","ALL","B2","G1",5,2013,0,678,669]
["PRD","P2","ALL","B2","G1",6,2013,0,694,733]
["PRD","P2","ALL","B2","G1",7,2013,0,913,932]
["PRD","P2","ALL","B2","G1",8,2013,0,822,862]
["PRD","P2","ALL","B2","G1",9,2013,0,848,933]
["PRD","P2","ALL","B2","G1",10,2013,0,426,451]
["PRD","P2","ALL","B2","G1",11,2013,0,348,360]
["PRD","P2","ALL","B2","G1",12,2013,0,492,532]
["PRD","P2","ALL","B2","G1",1,2014,0,133,140]
["PRD","P2","ALL","B2","G1",2,2014,0,241,251]
["PRD","P2","ALL","B2","G1",3,2014,0,557,596]
["PRD","P2","ALL","B2","G1",4,2014,0,679,708]
["PRD","P2","ALL","B2","G1",5,2014,0,506,549]
["PRD","P2","ALL","B2","G1",6,2014,0,618,653]
["PRD","P2","ALL","B2","G1",7,2014,0,1308,1312]
["PRD","P2","ALL","B2","G1",8,2014,0,1152,1309]
["PRD","P2","ALL","B2","G1",9,2014,0,805,869]
["PRD","P2","ALL","B2","G1",10,2014,0,658,722]
["PRD","P2","ALL","B2","G1",11,2014,0,325,357]
["PRD","P2","ALL","B2","G1",12,2014,0,673,679]
["PRD","P2","ALL","B2","G2",1,2013,0,180,181]
["PRD","P2","ALL","B2","G2",2,2013,0,506,571]
["PRD","P2","ALL","B2","G2",3,2013,0,707,717]
["PRD","P2","ALL","B2","G2",4,2013,0,551,545]
["PRD","P2","ALL","B2","G2",5,2013,0,845,904]
["PRD","P2","ALL","B2","G2",6,2013,0,954,995]
["PRD","P2","ALL","B2","G2",7,2013,0,1355,1424]
["PRD","P2","ALL","B2","G2",8,2013,0,1443,1507]
["PRD","P2","ALL","B2","G2",9,2013,0,777,834]
["PRD","P2","ALL","B2","G2",10,2013,0,692,758]
["PRD","P2","ALL","B2","G2",11,2013,0,374,365]
["PRD","P2","ALL","B2","G2",12,2013,0,670,747]
["PRD","P2","ALL","B2","G2",1,2014,0,168,176]
["PRD","P2","ALL","B2","G2",2,2014,0,279,284]
["PRD","P2","ALL","B2","G2",3,2014,0,580,612]
["PRD","P2","ALL","B2","G2",4,2014,0,541,605]
["PRD","P2","ALL","B2","G2",5,2014,0,748,861]
["PRD","P2","ALL","B2","G2",6,2014,0,897,952]
["PRD","P2","ALL","B2","G2",7,2014,0,1390,1442]
["PRD","P2","ALL","B2","G2",8,2014,0,1156,1165]
["PRD","P2","ALL","B2","G2",9,2014,0,869,1002]
["PRD","P2","ALL","B2","G2",10,2014,0,598,654]
["PRD","P2","ALL","B2","G2",11,2014,0,384,423]
["PRD","P2","ALL","B2","G2",12,2014,0,1032,1106]
["PRD","P2","ALL","B2","G3",1,2013,0,68,70]
["PRD","P2","ALL","B2","G3",2,2013,0,227,223]
["PRD","P2","ALL","B2","G3",3,2013,0,249,250]
["PRD","P2","ALL","B2","G3",4,2013,0,450,497]
["PRD","P2","ALL","B2","G3",5,2013,0,392,400]
["PRD","P2","ALL","B2","G3",6,2013,0,739,785]
["PRD","P2","ALL","B2","G3",7,2013,0,751,815]
["PRD","P2","ALL","B2","G3",8,2013,0,641,674]
["PRD","P2","ALL","B2","G3",9,2013,0,529,517]
["PRD","P2","ALL","B2","G3",10,2013,0,339,387]
["PRD","P2","ALL","B2","G3",11,2013,0,252,276]
["PRD","P2","ALL","B2","G3",12,2013,0,542,586]
["PRD","P2","ALL","B2","G3",1,2014,0,77,80]
["PRD","P2","ALL","B2","G3",2,2014,0,143,146]
["PRD","P2","ALL","B2","G3",3,2014,0,376,385]
["PRD","P2","ALL","B2","G3",4,2014,0,499,487]
["PRD","P2","ALL","B2","G3",5,2014,0,692,710]
["PRD","P2","ALL","B2","G3",6,2014,0,703,694]
["PRD","P2","ALL","B2","G3",7,2014,0,840,872]
["PRD","P2","ALL","B2","G3",8,2014,0,994,1031]
["PRD","P2","ALL","B2","G3",9,2014,0,488,472]
["PRD","P2","ALL","B2","G3",10,2014,0,413,439]
["PRD","P2","ALL","B2","G3",11,2014,0,273,273]
["PRD","P2","ALL","B2","G3",12,2014,0,452,474]
["PRD","P2","ALL","B2","G4",1,2013,0,62,68]
["PRD","P2","ALL","B2","G4",2,2013,0,113,120]
["PRD","P2","ALL","B2","G4",3,2013,0,216,229]
["PRD","P2","ALL","B2","G4",4,2013,0,275,295]
["PRD","P2","ALL","B2","G4",5,2013,0,381,405]
["PRD","P2","ALL","B2","G4",6,2013,0,280,283]
["PRD","P2","ALL","B2","G4",7,2013,0,643,661]
["PRD","P2","ALL","B2","G4",8,2013,0,525,578]
["PRD","P2","ALL","B2","G4",9,2013,0,446,430]
["PRD","P2","ALL","B2","G4",10,2013,0,288,295]
["PRD","P2","ALL","B2","G4",11,2013,0,262,274]
["PRD","P2","ALL","B2","G4",12,2013,0,549,582]
["PRD","P2","ALL","B2","G4",1,2014,0,56,54]
["PRD","P2","ALL","B2","G4",2,2014,0,152,160]
["PRD","P2","ALL","B2","G4",3,2014,0,195,219]
["PRD","P2","ALL","B2","G4",4,2014,0,252,270]
["PRD","P2","ALL","B2","G4",5,2014,0,354,367]
["PRD","P2","ALL","B2","G4",6,2014,0,312,341]
["PRD","P2","ALL","B2","G4",7,2014,0,623,645]
["PRD","P2","ALL","B2","G4",8,2014,0,563,566]
["PRD","P2","ALL","B2","G4",9,2014,0,391,393]
["PRD","P2","ALL","B2","G4",10,2014,0,323,341]
["PRD","P2","ALL","B2","G4",11,2014,0,182,189]
["PRD","P2","ALL","B2","G4",12,2014,0,638,652]
["PRD","P2","ALL","B2","G5",1,2013,0,88,92]
["PRD","P2","ALL","B2","G5",2,2013,0,172,181]
["PRD","P2","ALL","B2","G5",3,2013,0,295,326]
["PRD","P2","ALL","B2","G5",4,2013,0,316,329]
["PRD","P2","ALL","B2","G5",5,2013,0,343,369]
["PRD","P2","ALL","B2","G5",6,2013,0,615,632]
["PRD","P2","ALL","B2","G5",7,2013,0,550,623]
["PRD","P2","ALL","B2","G5",8,2013,0,830,889]
["PRD","P2","ALL","B2","G5",9,2013,0,549,574]
["PRD","P2","ALL","B2","G5",10,2013,0,345,379]
["PRD","P2","ALL","B2","G5",11,2013,0,206,202]
["PRD","P2","ALL","B2","G5",12,2013,0,366,378]
["PRD","P2","ALL","B2","G5",1,2014,0,89,93]
["PRD","P2","ALL","B2","G5",2,2014,0,214,214]
["PRD","P2","ALL","B2","G5",3,2014,0,220,243]
["PRD","P2","ALL","B2","G5",4,2014,0,443,446]
["PRD","P2","ALL","B2","G5",5,2014,0,400,428]
["PRD","P2","ALL","B2","G5",6,2014,0,517,508]
["PRD","P2","ALL","B2","G5",7,2014,0,914,901]
["PRD","P2","ALL","B2","G5",8,2014,0,583,585]
["PRD","P2","ALL","B2","G5",9,2014,0,509,541]
["PRD","P2","ALL","B2","G5",10,2014,0,294,324]
["PRD","P2","ALL","B2","G5",11,2014,0,304,325]
["PRD","P2","ALL","B2","G5",12,2014,0,381,410]
["PRD","P2","ALL","B3","G1",1,2013,0,66,69]
["PRD","P2","ALL","B3","G1",2,2013,0,137,147]
["PRD","P2","ALL","B3","G1",3,2013,0,167,175]
["PRD","P2","ALL","B3","G1",4,2013,0,231,255]
["PRD","P2","ALL","B3","G1",5,2013,0,314,335]
["PRD","P2","ALL","B3","G1",6,2013,0,386,400]
["PRD","P2","ALL","B3","G1",7,2013,0,370,414]
["PRD","P2","ALL","B3","G1",8,2013,0,513,527]
["PRD","P2","ALL","B3","G1",9,2013,0,361,377]
["PRD","P2","ALL","B3","G1",10,2013,0,280,302]
["PRD","P2","ALL","B3","G1",11,2013,0,178,192]
["PRD","P2","ALL","B3","G1",12,2013,0,461,487]
["PRD","P2","ALL","B3","G1",1,2014,0,78,80]
["PRD","P2","ALL","B3","G1",2,2014,0,132,148]
["PRD","P2","ALL","B3","G1",3,2014,0,222,232]
["PRD","P2","ALL","B3","G1",4,2014,0,305,313]
["PRD","P2","ALL","B3","G1",5,2014,0,358,367]
["PRD","P2","ALL","B3","G1",6,2014,0,504,573]
["PRD","P2","ALL","B3","G1",7,2014,0,348,363]
["PRD","P2","ALL","B3","G1",8,2014,0,437,471]
["PRD","P2","ALL","B3","G1",9,2014,0,326,339]
["PRD","P2","ALL","B3","G1",10,2014,0,239,248]
["PRD","P2","ALL","B3","G1",11,2014,0,173,174]
["PRD","P2","ALL","B3","G1",12,2014,0,300,317]
["PRD","P2","ALL","B3","G2",1,2013,0,77,84]
["PRD","P2","ALL","B3","G2",2,2013,0,169,182]
["PRD","P2","ALL","B3","G2",3,2013,0,199,212]
["PRD","P2","ALL","B3","G2",4,2013,0,278,279]
["PRD","P2","ALL","B3","G2",5,2013,0,416,440]
["PRD","P2","ALL","B3","G2",6,2013,0,621,665]
["PRD","P2","ALL","B3","G2",7,2013,0,719,774]
["PRD","P2","ALL","B3","G2",8,2013,0,560,568]
["PRD","P2","ALL","B3","G2",9,2013,0,515,575]
["PRD","P2","ALL","B3","G2",10,2013,0,413,444]
["PRD","P2","ALL","B3","G2",11,2013,0,213,219]
["PRD","P2","ALL","B3","G2",12,2013,0,350,390]
["PRD","P2","ALL","B3","G2",1,2014,0,95,98]
["PRD","P2","ALL","B3","G2",2,2014,0,202,215]
["PRD","P2","ALL","B3","G2",3,2014,0,181,174]
["PRD","P2","ALL","B3","G2",4,2014,0,272,302]
["PRD","P2","ALL","B3","G2",5,2014,0,360,364]
["PRD","P2","ALL","B3","G2",6,2014,0,598,620]
["PRD","P2","ALL","B3","G2",7,2014,0,490,494]
["PRD","P2","ALL","B3","G2",8,2014,0,625,648]
["PRD","P2","ALL","B3","G2",9,2014,0,375,432]
["PRD","P2","ALL","B3","G2",10,2014,0,332,333]
["PRD","P2","ALL","B3","G2",11,2014,0,232,247]
["PRD","P2","ALL","B3","G2",12,2014,0,425,434]
["PRD","P2","ALL","B3","G3",1,2013,0,66,73]
["PRD","P2","ALL","B3","G3",2,2013,0,126,127]
["PRD","P2","ALL","B3","G3",3,2013,0,117,123]
["PRD","P2","ALL","B3","G3",4,2013,0,181,188]
["PRD","P2","ALL","B3","G3",5,2013,0,257,272]
["PRD","P2","ALL","B3","G3",6,2013,0,248,266]
["PRD","P2","ALL","B3","G3",7,2013,0,468,477]
["PRD","P2","ALL","B3","G3",8,2013,0,419,434]
["PRD","P2","ALL","B3","G3",9,2013,0,335,351]
["PRD","P2","ALL","B3","G3",10,2013,0,233,238]
["PRD","P2","ALL","B3","G3",11,2013,0,156,161]
["PRD","P2","ALL","B3","G3",12,2013,0,358,393]
["PRD","P2","ALL","B3","G3",1,2014,0,49,49]
["PRD","P2","ALL","B3","G3",2,2014,0,94,93]
["PRD","P2","ALL","B3","G3",3,2014,0,181,188]
["PRD","P2","ALL","B3","G3",4,2014,0,172,184]
["PRD","P2","ALL","B3","G3",5,2014,0,288,311]
["PRD","P2","ALL","B3","G3",6,2014,0,345,346]
["PRD","P2","ALL","B3","G3",7,2014,0,230,246]
["PRD","P2","ALL","B3","G3",8,2014,0,302,321]
["PRD","P2","ALL","B3","G3",9,2014,0,296,307]
["PRD","P2","ALL","B3","G3",10,2014,0,193,200]
["PRD","P2","ALL","B3","G3",11,2014,0,93,104]
["PRD","P2","ALL","B3","G3",12,2014,0,336,339]
["PRD","P2","ALL","B3","G4",1,2013,0,47,48]
["PRD","P2","ALL","B3","G4",2,2013,0,57,61]
["PRD","P2","ALL","B3","G4",3,2013,0,123,128]
["PRD","P2","ALL","B3","G4",4,2013,0,143,155]
["PRD","P2","ALL","B3","G4",5,2013,0,148,156]
["PRD","P2","ALL","B3","G4",6,2013,0,227,262]
["PRD","P2","ALL","B3","G4",7,2013,0,355,362]
["PRD","P2","ALL","B3","G4",8,2013,0,321,352]
["PRD","P2","ALL","B3","G4",9,2013,0,146,161]
["PRD","P2","ALL","B3","G4",10,2013,0,189,202]
["PRD","P2","ALL","B3","G4",11,2013,0,93,94]
["PRD","P2","ALL","B3","G4",12,2013,0,160,179]
["PRD","P2","ALL","B3","G4",1,2014,0,36,37]
["PRD","P2","ALL","B3","G4",2,2014,0,88,93]
["PRD","P2","ALL","B3","G4",3,2014,0,94,100]
["PRD","P2","ALL","B3","G4",4,2014,0,95,99]
["PRD","P2","ALL","B3","G4",5,2014,0,151,157]
["PRD","P2","ALL","B3","G4",6,2014,0,298,305]
["PRD","P2","ALL","B3","G4",7,2014,0,315,344]
["PRD","P2","ALL","B3","G4",8,2014,0,285,306]
["PRD","P2","ALL","B3","G4",9,2014,0,198,223]
["PRD","P2","ALL","B3","G4",10,2014,0,144,157]
["PRD","P2","ALL","B3","G4",11,2014,0,139,136]
["PRD","P2","ALL","B3","G4",12,2014,0,145,153]
["PRD","P2","ALL","B3","G5",1,2013,0,38,39]
["PRD","P2","ALL","B3","G5",2,2013,0,98,94]
["PRD","P2","ALL","B3","G5",3,2013,0,180,190]
["PRD","P2","ALL","B3","G5",4,2013,0,147,158]
["PRD","P2","ALL","B3","G5",5,2013,0,319,332]
["PRD","P2","ALL","B3","G5",6,2013,0,327,339]
["PRD","P2","ALL","B3","G5",7,2013,0,395,450]
["PRD","P2","ALL","B3","G5",8,2013,0,390,436]
["PRD","P2","ALL","B3","G5",9,2013,0,202,202]
["PRD","P2","ALL","B3","G5",10,2013,0,232,237]
["PRD","P2","ALL","B3","G5",11,2013,0,98,106]
["PRD","P2","ALL","B3","G5",12,2013,0,219,227]
["PRD","P2","ALL","B3","G5",1,2014,0,57,62]
["PRD","P2","ALL","B3","G5",2,2014,0,117,114]
["PRD","P2","ALL","B3","G5",3,2014,0,150,157]
["PRD","P2","ALL","B3","G5",4,2014,0,191,198]
["PRD","P2","ALL","B3","G5",5,2014,0,259,268]
["PRD","P2","ALL","B3","G5",6,2014,0,242,260]
["PRD","P2","ALL","B3","G5",7,2014,0,411,411]
["PRD","P2","ALL","B3","G5",8,2014,0,297,321]
["PRD","P2","ALL","B3","G5",9,2014,0,295,335]
["PRD","P2","ALL","B3","G5",10,2014,0,266,286]
["PRD","P2","ALL","B3","G5",11,2014,0,180,175]
["PRD","P2","ALL","B3","G5",12,2014,0,299,307]
["PRD","P3","ALL","B1","G1",1,2013,0,342,363]
["PRD","P3","ALL","B1","G1",2,2013,0,701,774]
["PRD","P3","ALL","B1","G1",3,2013,0,811,896]
["PRD","P3","ALL","B1","G1",4,2013,0,1194,1197]
["PRD","P3","ALL","B1","G1",5,2013,0,1017,1124]
["PRD","P3","ALL","B1","G1",6,2013,0,1165,1266]
["PRD","P3","ALL","B1","G1",7,2013,0,2308,2553]
["PRD","P3","ALL","B1","G1",8,2013,0,2528,2585]
["PRD","P3","ALL","B1","G1",9,2013,0,1602,1624]
["PRD","P3","ALL","B1","G1",10,2013,0,1319,1470]
["PRD","P3","ALL","B1","G1",11,2013,0,858,880]
["PRD","P3","ALL","B1","G1",12,2013,0,1223,1301]
["PRD","P3","ALL","B1","G1",1,2014,0,283,299]
["PRD","P3","ALL","B1","G1",2,2014,0,487,527]
["PRD","P3","ALL","B1","G1",3,2014,0,947,1007]
["PRD","P3","ALL","B1","G1",4,2014,0,863,976]
["PRD","P3","ALL","B1","G1",5,2014,0,1107,1112]
["PRD","P3","ALL","B1","G1",6,2014,0,2039,2026]
["PRD","P3","ALL","B1","G1",7,2014,0,1691,1797]
["PRD","P3","ALL","B1","G1",8,2014,0,1461,1508]
["PRD","P3","ALL","B1","G1",9,2014,0,1275,1342]
["PRD","P3","ALL","B1","G1",10,2014,0,994,1079]
["PRD","P3","ALL","B1","G1",11,2014,0,682,675]
["PRD","P3","ALL","B1","G1",12,2014,0,1124,1162]
["PRD","P3","ALL","B1","G2",1,2013,0,332,354]
["PRD","P3","ALL","B1","G2",2,2013,0,461,500]
["PRD","P3","ALL","B1","G2",3,2013,0,1239,1209]
["PRD","P3","ALL","B1","G2",4,2013,0,1105,1232]
["PRD","P3","ALL","B1","G2",5,2013,0,1459,1529]
["PRD","P3","ALL","B1","G2",6,2013,0,1353,1456]
["PRD","P3","ALL","B1","G2",7,2013,0,2399,2436]
["PRD","P3","ALL","B1","G2",8,2013,0,2513,2495]
["PRD","P3","ALL","B1","G2",9,2013,0,1992,2253]
["PRD","P3","ALL","B1","G2",10,2013,0,1492,1643]
["PRD","P3","ALL","B1","G2",11,2013,0,777,789]
["PRD","P3","ALL","B1","G2",12,2013,0,1865,1999]
["PRD","P3","ALL","B1","G2",1,2014,0,321,353]
["PRD","P3","ALL","B1","G2",2,2014,0,796,816]
["PRD","P3","ALL","B1","G2",3,2014,0,1022,1118]
["PRD","P3","ALL","B1","G2",4,2014,0,1089,1065]
["PRD","P3","ALL","B1","G2",5,2014,0,1655,1684]
["PRD","P3","ALL","B1","G2",6,2014,0,1586,1722]
["PRD","P3","ALL","B1","G2",7,2014,0,2405,2625]
["PRD","P3","ALL","B1","G2",8,2014,0,2907,2876]
["PRD","P3","ALL","B1","G2",9,2014,0,1916,2093]
["PRD","P3","ALL","B1","G2",10,2014,0,1324,1407]
["PRD","P3","ALL","B1","G2",11,2014,0,781,774]
["PRD","P3","ALL","B1","G2",12,2014,0,2378,2434]
["PRD","P3","ALL","B1","G3",1,2013,0,208,219]
["PRD","P3","ALL","B1","G3",2,2013,0,505,502]
["PRD","P3","ALL","B1","G3",3,2013,0,487,516]
["PRD","P3","ALL","B1","G3",4,2013,0,530,524]
["PRD","P3","ALL","B1","G3",5,2013,0,1170,1237]
["PRD","P3","ALL","B1","G3",6,2013,0,862,912]
["PRD","P3","ALL","B1","G3",7,2013,0,1717,1883]
["PRD","P3","ALL","B1","G3",8,2013,0,1202,1339]
["PRD","P3","ALL","B1","G3",9,2013,0,1047,1081]
["PRD","P3","ALL","B1","G3",10,2013,0,717,754]
["PRD","P3","ALL","B1","G3",11,2013,0,596,633]
["PRD","P3","ALL","B1","G3",12,2013,0,985,1066]
["PRD","P3","ALL","B1","G3",1,2014,0,221,232]
["PRD","P3","ALL","B1","G3",2,2014,0,435,449]
["PRD","P3","ALL","B1","G3",3,2014,0,441,435]
["PRD","P3","ALL","B1","G3",4,2014,0,873,927]
["PRD","P3","ALL","B1","G3",5,2014,0,1145,1220]
["PRD","P3","ALL","B1","G3",6,2014,0,1185,1268]
["PRD","P3","ALL","B1","G3",7,2014,0,1374,1455]
["PRD","P3","ALL","B1","G3",8,2014,0,1242,1273]
["PRD","P3","ALL","B1","G3",9,2014,0,892,943]
["PRD","P3","ALL","B1","G3",10,2014,0,1307,1272]
["PRD","P3","ALL","B1","G3",11,2014,0,377,399]
["PRD","P3","ALL","B1","G3",12,2014,0,685,738]
["PRD","P3","ALL","B1","G4",1,2013,0,152,157]
["PRD","P3","ALL","B1","G4",2,2013,0,267,275]
["PRD","P3","ALL","B1","G4",3,2013,0,649,645]
["PRD","P3","ALL","B1","G4",4,2013,0,580,598]
["PRD","P3","ALL","B1","G4",5,2013,0,587,625]
["PRD","P3","ALL","B1","G4",6,2013,0,1251,1337]
["PRD","P3","ALL","B1","G4",7,2013,0,986,979]
["PRD","P3","ALL","B1","G4",8,2013,0,902,962]
["PRD","P3","ALL","B1","G4",9,2013,0,966,1010]
["PRD","P3","ALL","B1","G4",10,2013,0,672,654]
["PRD","P3","ALL","B1","G4",11,2013,0,388,396]
["PRD","P3","ALL","B1","G4",12,2013,0,677,740]
["PRD","P3","ALL","B1","G4",1,2014,0,203,206]
["PRD","P3","ALL","B1","G4",2,2014,0,258,269]
["PRD","P3","ALL","B1","G4",3,2014,0,362,386]
["PRD","P3","ALL","B1","G4",4,2014,0,487,504]
["PRD","P3","ALL","B1","G4",5,2014,0,877,916]
["PRD","P3","ALL","B1","G4",6,2014,0,1057,1119]
["PRD","P3","ALL","B1","G4",7,2014,0,1122,1137]
["PRD","P3","ALL","B1","G4",8,2014,0,770,830]
["PRD","P3","ALL","B1","G4",9,2014,0,699,702]
["PRD","P3","ALL","B1","G4",10,2014,0,495,556]
["PRD","P3","ALL","B1","G4",11,2014,0,313,306]
["PRD","P3","ALL","B1","G4",12,2014,0,723,746]
["PRD","P3","ALL","B1","G5",1,2013,0,217,221]
["PRD","P3","ALL","B1","G5",2,2013,0,502,560]
["PRD","P3","ALL","B1","G5",3,2013,0,689,736]
["PRD","P3","ALL","B1","G5",4,2013,0,852,894]
["PRD","P3","ALL","B1","G5",5,2013,0,892,958]
["PRD","P3","ALL","B1","G5",6,2013,0,1440,1400]
["PRD","P3","ALL","B1","G5",7,2013,0,1638,1668]
["PRD","P3","ALL","B1","G5",8,2013,0,1180,1174]
["PRD","P3","ALL","B1","G5",9,2013,0,710,748]
["PRD","P3","ALL","B1","G5",10,2013,0,746,776]
["PRD","P3","ALL","B1","G5",11,2013,0,472,485]
["PRD","P3","ALL","B1","G5",12,2013,0,1069,1038]
["PRD","P3","ALL","B1","G5",1,2014,0,200,210]
["PRD","P3","ALL","B1","G5",2,2014,0,478,511]
["PRD","P3","ALL","B1","G5",3,2014,0,556,610]
["PRD","P3","ALL","B1","G5",4,2014,0,538,553]
["PRD","P3","ALL","B1","G5",5,2014,0,813,852]
["PRD","P3","ALL","B1","G5",6,2014,0,1502,1529]
["PRD","P3","ALL","B1","G5",7,2014,0,1481,1573]
["PRD","P3","ALL","B1","G5",8,2014,0,1696,1739]
["PRD","P3","ALL","B1","G5",9,2014,0,1243,1246]
["PRD","P3","ALL","B1","G5",10,2014,0,1023,1102]
["PRD","P3","ALL","B1","G5",11,2014,0,461,506]
["PRD","P3","ALL","B1","G5",12,2014,0,1018,984]
["PRD","P3","ALL","B2","G1",1,2013,0,65,74]
["PRD","P3","ALL","B2","G1",2,2013,0,154,162]
["PRD","P3","ALL","B2","G1",3,2013,0,225,238]
["PRD","P3","ALL","B2","G1",4,2013,0,166,181]
["PRD","P3","ALL","B2","G1",5,2013,0,286,324]
["PRD","P3","ALL","B2","G1",6,2013,0,435,451]
["PRD","P3","ALL","B2","G1",7,2013,0,425,465]
["PRD","P3","ALL","B2","G1",8,2013,0,498,521]
["PRD","P3","ALL","B2","G1",9,2013,0,490,487]
["PRD","P3","ALL","B2","G1",10,2013,0,235,238]
["PRD","P3","ALL","B2","G1",11,2013,0,160,171]
["PRD","P3","ALL","B2","G1",12,2013,0,432,444]
["PRD","P3","ALL","B2","G1",1,2014,0,72,77]
["PRD","P3","ALL","B2","G1",2,2014,0,143,155]
["PRD","P3","ALL","B2","G1",3,2014,0,187,207]
["PRD","P3","ALL","B2","G1",4,2014,0,242,257]
["PRD","P3","ALL","B2","G1",5,2014,0,473,516]
["PRD","P3","ALL","B2","G1",6,2014,0,549,570]
["PRD","P3","ALL","B2","G1",7,2014,0,481,547]
["PRD","P3","ALL","B2","G1",8,2014,0,618,617]
["PRD","P3","ALL","B2","G1",9,2014,0,408,424]
["PRD","P3","ALL","B2","G1",10,2014,0,364,387]
["PRD","P3","ALL","B2","G1",11,2014,0,194,203]
["PRD","P3","ALL","B2","G1",12,2014,0,369,402]
["PRD","P3","ALL","B2","G2",1,2013,0,73,75]
["PRD","P3","ALL","B2","G2",2,2013,0,201,214]
["PRD","P3","ALL","B2","G2",3,2013,0,341,342]
["PRD","P3","ALL","B2","G2",4,2013,0,424,430]
["PRD","P3","ALL","B2","G2",5,2013,0,349,367]
["PRD","P3","ALL","B2","G2",6,2013,0,451,473]
["PRD","P3","ALL","B2","G2",7,2013,0,743,749]
["PRD","P3","ALL","B2","G2",8,2013,0,737,793]
["PRD","P3","ALL","B2","G2",9,2013,0,416,421]
["PRD","P3","ALL","B2","G2",10,2013,0,385,386]
["PRD","P3","ALL","B2","G2",11,2013,0,203,201]
["PRD","P3","ALL","B2","G2",12,2013,0,605,674]
["PRD","P3","ALL","B2","G2",1,2014,0,103,111]
["PRD","P3","ALL","B2","G2",2,2014,0,199,211]
["PRD","P3","ALL","B2","G2",3,2014,0,294,308]
["PRD","P3","ALL","B2","G2",4,2014,0,293,280]
["PRD","P3","ALL","B2","G2",5,2014,0,322,337]
["PRD","P3","ALL","B2","G2",6,2014,0,596,616]
["PRD","P3","ALL","B2","G2",7,2014,0,980,1021]
["PRD","P3","ALL","B2","G2",8,2014,0,562,598]
["PRD","P3","ALL","B2","G2",9,2014,0,746,760]
["PRD","P3","ALL","B2","G2",10,2014,0,283,323]
["PRD","P3","ALL","B2","G2",11,2014,0,198,189]
["PRD","P3","ALL","B2","G2",12,2014,0,513,561]
["PRD","P3","ALL","B2","G3",1,2013,0,89,88]
["PRD","P3","ALL","B2","G3",2,2013,0,125,126]
["PRD","P3","ALL","B2","G3",3,2013,0,187,191]
["PRD","P3","ALL","B2","G3",4,2013,0,257,267]
["PRD","P3","ALL","B2","G3",5,2013,0,233,250]
["PRD","P3","ALL","B2","G3",6,2013,0,455,502]
["PRD","P3","ALL","B2","G3",7,2013,0,506,498]
["PRD","P3","ALL","B2","G3",8,2013,0,321,347]
["PRD","P3","ALL","B2","G3",9,2013,0,344,376]
["PRD","P3","ALL","B2","G3",10,2013,0,253,259]
["PRD","P3","ALL","B2","G3",11,2013,0,149,155]
["PRD","P3","ALL","B2","G3",12,2013,0,218,217]
["PRD","P3","ALL","B2","G3",1,2014,0,65,74]
["PRD","P3","ALL","B2","G3",2,2014,0,100,109]
["PRD","P3","ALL","B2","G3",3,2014,0,168,169]
["PRD","P3","ALL","B2","G3",4,2014,0,209,222]
["PRD","P3","ALL","B2","G3",5,2014,0,300,306]
["PRD","P3","ALL","B2","G3",6,2014,0,209,204]
["PRD","P3","ALL","B2","G3",7,2014,0,489,511]
["PRD","P3","ALL","B2","G3",8,2014,0,432,479]
["PRD","P3","ALL","B2","G3",9,2014,0,303,313]
["PRD","P3","ALL","B2","G3",10,2014,0,283,292]
["PRD","P3","ALL","B2","G3",11,2014,0,120,131]
["PRD","P3","ALL","B2","G3",12,2014,0,278,294]
["PRD","P3","ALL","B2","G4",1,2013,0,41,40]
["PRD","P3","ALL","B2","G4",2,2013,0,94,100]
["PRD","P3","ALL","B2","G4",3,2013,0,102,107]
["PRD","P3","ALL","B2","G4",4,2013,0,146,147]
["PRD","P3","ALL","B2","G4",5,2013,0,240,262]
["PRD","P3","ALL","B2","G4",6,2013,0,183,202]
["PRD","P3","ALL","B2","G4",7,2013,0,314,328]
["PRD","P3","ALL","B2","G4",8,2013,0,369,387]
["PRD","P3","ALL","B2","G4",9,2013,0,153,166]
["PRD","P3","ALL","B2","G4",10,2013,0,221,216]
["PRD","P3","ALL","B2","G4",11,2013,0,142,150]
["PRD","P3","ALL","B2","G4",12,2013,0,320,327]
["PRD","P3","ALL","B2","G4",1,2014,0,38,40]
["PRD","P3","ALL","B2","G4",2,2014,0,97,101]
["PRD","P3","ALL","B2","G4",3,2014,0,162,176]
["PRD","P3","ALL","B2","G4",4,2014,0,177,192]
["PRD","P3","ALL","B2","G4",5,2014,0,197,219]
["PRD","P3","ALL","B2","G4",6,2014,0,266,279]
["PRD","P3","ALL","B2","G4",7,2014,0,298,336]
["PRD","P3","ALL","B2","G4",8,2014,0,309,324]
["PRD","P3","ALL","B2","G4",9,2014,0,264,278]
["PRD","P3","ALL","B2","G4",10,2014,0,175,188]
["PRD","P3","ALL","B2","G4",11,2014,0,114,122]
["PRD","P3","ALL","B2","G4",12,2014,0,170,187]
["PRD","P3","ALL","B2","G5",1,2013,0,40,43]
["PRD","P3","ALL","B2","G5",2,2013,0,95,91]
["PRD","P3","ALL","B2","G5",3,2013,0,196,195]
["PRD","P3","ALL","B2","G5",4,2013,0,168,178]
["PRD","P3","ALL","B2","G5",5,2013,0,280,301]
["PRD","P3","ALL","B2","G5",6,2013,0,296,312]
["PRD","P3","ALL","B2","G5",7,2013,0,373,385]
["PRD","P3","ALL","B2","G5",8,2013,0,427,433]
["PRD","P3","ALL","B2","G5",9,2013,0,275,294]
["PRD","P3","ALL","B2","G5",10,2013,0,306,319]
["PRD","P3","ALL","B2","G5",11,2013,0,141,145]
["PRD","P3","ALL","B2","G5",12,2013,0,311,304]
["PRD","P3","ALL","B2","G5",1,2014,0,43,48]
["PRD","P3","ALL","B2","G5",2,2014,0,93,96]
["PRD","P3","ALL","B2","G5",3,2014,0,136,143]
["PRD","P3","ALL","B2","G5",4,2014,0,205,222]
["PRD","P3","ALL","B2","G5",5,2014,0,350,367]
["PRD","P3","ALL","B2","G5",6,2014,0,510,540]
["PRD","P3","ALL","B2","G5",7,2014,0,334,364]
["PRD","P3","ALL","B2","G5",8,2014,0,424,444]
["PRD","P3","ALL","B2","G5",9,2014,0,292,313]
["PRD","P3","ALL","B2","G5",10,2014,0,262,263]
["PRD","P3","ALL","B2","G5",11,2014,0,131,132]
["PRD","P3","ALL","B2","G5",12,2014,0,309,346]
["PRD","P3","ALL","B3","G1",1,2013,0,34,36]
["PRD","P3","ALL","B3","G1",2,2013,0,70,71]
["PRD","P3","ALL","B3","G1",3,2013,0,107,113]
["PRD","P3","ALL","B3","G1",4,2013,0,129,130]
["PRD","P3","ALL","B3","G1",5,2013,0,194,210]
["PRD","P3","ALL","B3","G1",6,2013,0,266,269]
["PRD","P3","ALL","B3","G1",7,2013,0,288,314]
["PRD","P3","ALL","B3","G1",8,2013,0,196,195]
["PRD","P3","ALL","B3","G1",9,2013,0,199,221]
["PRD","P3","ALL","B3","G1",10,2013,0,161,170]
["PRD","P3","ALL","B3","G1",11,2013,0,85,88]
["PRD","P3","ALL","B3","G1",12,2013,0,179,191]
["PRD","P3","ALL","B3","G1",1,2014,0,40,43]
["PRD","P3","ALL","B3","G1",2,2014,0,69,73]
["PRD","P3","ALL","B3","G1",3,2014,0,110,118]
["PRD","P3","ALL","B3","G1",4,2014,0,122,133]
["PRD","P3","ALL","B3","G1",5,2014,0,130,138]
["PRD","P3","ALL","B3","G1",6,2014,0,238,256]
["PRD","P3","ALL","B3","G1",7,2014,0,374,404]
["PRD","P3","ALL","B3","G1",8,2014,0,285,296]
["PRD","P3","ALL","B3","G1",9,2014,0,216,225]
["PRD","P3","ALL","B3","G1",10,2014,0,153,153]
["PRD","P3","ALL","B3","G1",11,2014,0,110,106]
["PRD","P3","ALL","B3","G1",12,2014,0,216,228]
["PRD","P3","ALL","B3","G2",1,2013,0,42,48]
["PRD","P3","ALL","B3","G2",2,2013,0,97,101]
["PRD","P3","ALL","B3","G2",3,2013,0,138,140]
["PRD","P3","ALL","B3","G2",4,2013,0,155,171]
["PRD","P3","ALL","B3","G2",5,2013,0,295,287]
["PRD","P3","ALL","B3","G2",6,2013,0,403,405]
["PRD","P3","ALL","B3","G2",7,2013,0,280,298]
["PRD","P3","ALL","B3","G2",8,2013,0,357,368]
["PRD","P3","ALL","B3","G2",9,2013,0,281,302]
["PRD","P3","ALL","B3","G2",10,2013,0,182,192]
["PRD","P3","ALL","B3","G2",11,2013,0,101,104]
["PRD","P3","ALL","B3","G2",12,2013,0,259,269]
["PRD","P3","ALL","B3","G2",1,2014,0,51,53]
["PRD","P3","ALL","B3","G2",2,2014,0,109,113]
["PRD","P3","ALL","B3","G2",3,2014,0,121,133]
["PRD","P3","ALL","B3","G2",4,2014,0,151,164]
["PRD","P3","ALL","B3","G2",5,2014,0,176,169]
["PRD","P3","ALL","B3","G2",6,2014,0,280,295]
["PRD","P3","ALL","B3","G2",7,2014,0,415,437]
["PRD","P3","ALL","B3","G2",8,2014,0,398,414]
["PRD","P3","ALL","B3","G2",9,2014,0,257,276]
["PRD","P3","ALL","B3","G2",10,2014,0,141,153]
["PRD","P3","ALL","B3","G2",11,2014,0,122,132]
["PRD","P3","ALL","B3","G2",12,2014,0,281,291]
["PRD","P3","ALL","B3","G3",1,2013,0,26,29]
["PRD","P3","ALL","B3","G3",2,2013,0,49,51]
["PRD","P3","ALL","B3","G3",3,2013,0,90,92]
["PRD","P3","ALL","B3","G3",4,2013,0,78,81]
["PRD","P3","ALL","B3","G3",5,2013,0,136,135]
["PRD","P3","ALL","B3","G3",6,2013,0,192,196]
["PRD","P3","ALL","B3","G3",7,2013,0,173,180]
["PRD","P3","ALL","B3","G3",8,2013,0,178,182]
["PRD","P3","ALL","B3","G3",9,2013,0,176,184]
["PRD","P3","ALL","B3","G3",10,2013,0,148,158]
["PRD","P3","ALL","B3","G3",11,2013,0,86,88]
["PRD","P3","ALL","B3","G3",12,2013,0,146,153]
["PRD","P3","ALL","B3","G3",1,2014,0,27,29]
["PRD","P3","ALL","B3","G3",2,2014,0,69,79]
["PRD","P3","ALL","B3","G3",3,2014,0,102,103]
["PRD","P3","ALL","B3","G3",4,2014,0,94,99]
["PRD","P3","ALL","B3","G3",5,2014,0,154,162]
["PRD","P3","ALL","B3","G3",6,2014,0,210,234]
["PRD","P3","ALL","B3","G3",7,2014,0,181,206]
["PRD","P3","ALL","B3","G3",8,2014,0,284,302]
["PRD","P3","ALL","B3","G3",9,2014,0,153,162]
["PRD","P3","ALL","B3","G3",10,2014,0,102,102]
["PRD","P3","ALL","B3","G3",11,2014,0,76,78]
["PRD","P3","ALL","B3","G3",12,2014,0,158,158]
["PRD","P3","ALL","B3","G4",1,2013,0,19,20]
["PRD","P3","ALL","B3","G4",2,2013,0,46,49]
["PRD","P3","ALL","B3","G4",3,2013,0,51,55]
["PRD","P3","ALL","B3","G4",4,2013,0,66,67]
["PRD","P3","ALL","B3","G4",5,2013,0,120,122]
["PRD","P3","ALL","B3","G4",6,2013,0,155,164]
["PRD","P3","ALL","B3","G4",7,2013,0,123,121]
["PRD","P3","ALL","B3","G4",8,2013,0,121,131]
["PRD","P3","ALL","B3","G4",9,2013,0,93,104]
["PRD","P3","ALL","B3","G4",10,2013,0,78,84]
["PRD","P3","ALL","B3","G4",11,2013,0,54,54]
["PRD","P3","ALL","B3","G4",12,2013,0,86,93]
["PRD","P3","ALL","B3","G4",1,2014,0,22,22]
["PRD","P3","ALL","B3","G4",2,2014,0,36,38]
["PRD","P3","ALL","B3","G4",3,2014,0,76,74]
["PRD","P3","ALL","B3","G4",4,2014,0,99,101]
["PRD","P3","ALL","B3","G4",5,2014,0,99,105]
["PRD","P3","ALL","B3","G4",6,2014,0,136,152]
["PRD","P3","ALL","B3","G4",7,2014,0,215,205]
["PRD","P3","ALL","B3","G4",8,2014,0,154,164]
["PRD","P3","ALL","B3","G4",9,2014,0,103,105]
["PRD","P3","ALL","B3","G4",10,2014,0,63,69]
["PRD","P3","ALL","B3","G4",11,2014,0,55,58]
["PRD","P3","ALL","B3","G4",12,2014,0,88,94]
["PRD","P3","ALL","B3","G5",1,2013,0,30,29]
["PRD","P3","ALL","B3","G5",2,2013,0,48,51]
["PRD","P3","ALL","B3","G5",3,2013,0,66,74]
["PRD","P3","ALL","B3","G5",4,2013,0,91,94]
["PRD","P3","ALL","B3","G5",5,2013,0,168,189]
["PRD","P3","ALL","B3","G5",6,2013,0,137,132]
["PRD","P3","ALL","B3","G5",7,2013,0,216,217]
["PRD","P3","ALL","B3","G5",8,2013,0,225,234]
["PRD","P3","ALL","B3","G5",9,2013,0,108,109]
["PRD","P3","ALL","B3","G5",10,2013,0,104,106]
["PRD","P3","ALL","B3","G5",11,2013,0,59,63]
["PRD","P3","ALL","B3","G5",12,2013,0,162,164]
["PRD","P3","ALL","B3","G5",1,2014,0,30,34]
["PRD","P3","ALL","B3","G5",2,2014,0,57,54]
["PRD","P3","ALL","B3","G5",3,2014,0,103,105]
["PRD","P3","ALL","B3","G5",4,2014,0,81,87]
["PRD","P3","ALL","B3","G5",5,2014,0,123,121]
["PRD","P3","ALL","B3","G5",6,2014,0,202,205]
["PRD","P3","ALL","B3","G5",7,2014,0,239,265]
["PRD","P3","ALL","B3","G5",8,2014,0,201,216]
["PRD","P3","ALL","B3","G5",9,2014,0,177,195]
["PRD","P3","ALL","B3","G5",10,2014,0,140,147]
["PRD","P3","ALL","B3","G5",11,2014,0,77,83]
["PRD","P3","ALL","B3","G5",12,2014,0,165,174]
["VOL","ALL","S1","B1","G1",1,2013,0,1177,1169]
["VOL","ALL","S1","B1","G1",2,2013,0,2660,2711]
["VOL","ALL","S1","B1","G1",3,2013,0,2893,3092]
["VOL","ALL","S1","B1","G1",4,2013,0,5142,5848]
["VOL","ALL","S1","B1","G1",5,2013,0,6959,7328]
["VOL","ALL","S1","B1","G1",6,2013,0,7172,7074]
["VOL","ALL","S1","B1","G1",7,2013,0,10107,10780]
["VOL","ALL","S1","B1","G1",8,2013,0,9086,10233]
["VOL","ALL","S1","B1","G1",9,2013,0,8028,8106]
["VOL","ALL","S1","B1","G1",10,2013,0,5364,5950]
["VOL","ALL","S1","B1","G1",11,2013,0,3859,3887]
["VOL","ALL","S1","B1","G1",12,2013,0,6920,7213]
["VOL","ALL","S1","B1","G1",1,2014,0,1439,1523]
["VOL","ALL","S1","B1","G1",2,2014,0,3197,3456]
["VOL","ALL","S1","B1","G1",3,2014,0,3972,4306]
["VOL","ALL","S1","B1","G1",4,2014,0,4100,4670]
["VOL","ALL","S1","B1","G1",5,2014,0,7633,7549]
["VOL","ALL","S1","B1","G1",6,2014,0,8891,9679]
["VOL","ALL","S1","B1","G1",7,2014,0,11052,12134]
["VOL","ALL","S1","B1","G1",8,2014,0,10551,10363]
["VOL","ALL","S1","B1","G1",9,2014,0,7348,7344]
["VOL","ALL","S1","B1","G1",10,2014,0,6080,6913]
["VOL","ALL","S1","B1","G1",11,2014,0,2778,2883]
["VOL","ALL","S1","B1","G1",12,2014,0,5845,6064]
["VOL","ALL","S1","B1","G2",1,2013,0,1839,2012]
["VOL","ALL","S1","B1","G2",2,2013,0,2817,3243]
["VOL","ALL","S1","B1","G2",3,2013,0,5393,5648]
["VOL","ALL","S1","B1","G2",4,2013,0,4901,5083]
["VOL","ALL","S1","B1","G2",5,2013,0,6682,6827]
["VOL","ALL","S1","B1","G2",6,2013,0,10025,10220]
["VOL","ALL","S1","B1","G2",7,2013,0,10487,10865]
["VOL","ALL","S1","B1","G2",8,2013,0,11594,11719]
["VOL","ALL","S1","B1","G2",9,2013,0,11502,11483]
["VOL","ALL","S1","B1","G2",10,2013,0,5290,5583]
["VOL","ALL","S1","B1","G2",11,2013,0,4111,4323]
["VOL","ALL","S1","B1","G2",12,2013,0,7640,8276]
["VOL","ALL","S1","B1","G2",1,2014,0,1432,1472]
["VOL","ALL","S1","B1","G2",2,2014,0,4353,4461]
["VOL","ALL","S1","B1","G2",3,2014,0,4594,4879]
["VOL","ALL","S1","B1","G2",4,2014,0,7516,8494]
["VOL","ALL","S1","B1","G2",5,2014,0,7841,8354]
["VOL","ALL","S1","B1","G2",6,2014,0,12634,13169]
["VOL","ALL","S1","B1","G2",7,2014,0,12606,12214]
["VOL","ALL","S1","B1","G2",8,2014,0,11556,12859]
["VOL","ALL","S1","B1","G2",9,2014,0,11774,11411]
["VOL","ALL","S1","B1","G2",10,2014,0,8336,8420]
["VOL","ALL","S1","B1","G2",11,2014,0,3748,3974]
["VOL","ALL","S1","B1","G2",12,2014,0,8958,8939]
["VOL","ALL","S1","B1","G3",1,2013,0,1167,1198]
["VOL","ALL","S1","B1","G3",2,2013,0,1855,1939]
["VOL","ALL","S1","B1","G3",3,2013,0,3747,3616]
["VOL","ALL","S1","B1","G3",4,2013,0,4030,4371]
["VOL","ALL","S1","B1","G3",5,2013,0,4625,4817]
["VOL","ALL","S1","B1","G3",6,2013,0,7981,8379]
["VOL","ALL","S1","B1","G3",7,2013,0,6800,7037]
["VOL","ALL","S1","B1","G3",8,2013,0,9106,9047]
["VOL","ALL","S1","B1","G3",9,2013,0,4361,4927]
["VOL","ALL","S1","B1","G3",10,2013,0,2958,3027]
["VOL","ALL","S1","B1","G3",11,2013,0,2183,2177]
["VOL","ALL","S1","B1","G3",12,2013,0,5189,5230]
["VOL","ALL","S1","B1","G3",1,2014,0,955,997]
["VOL","ALL","S1","B1","G3",2,2014,0,2759,2859]
["VOL","ALL","S1","B1","G3",3,2014,0,4183,4469]
["VOL","ALL","S1","B1","G3",4,2014,0,3445,3682]
["VOL","ALL","S1","B1","G3",5,2014,0,5688,6040]
["VOL","ALL","S1","B1","G3",6,2014,0,6593,6885]
["VOL","ALL","S1","B1","G3",7,2014,0,8679,9475]
["VOL","ALL","S1","B1","G3",8,2014,0,6859,7184]
["VOL","ALL","S1","B1","G3",9,2014,0,5153,5624]
["VOL","ALL","S1","B1","G3",10,2014,0,4188,4463]
["VOL","ALL","S1","B1","G3",11,2014,0,3737,3954]
["VOL","ALL","S1","B1","G3",12,2014,0,6567,7269]
["VOL","ALL","S1","B1","G4",1,2013,0,853,898]
["VOL","ALL","S1","B1","G4",2,2013,0,1581,1587]
["VOL","ALL","S1","B1","G4",3,2013,0,2550,2837]
["VOL","ALL","S1","B1","G4",4,2013,0,2228,2398]
["VOL","ALL","S1","B1","G4",5,2013,0,3432,3542]
["VOL","ALL","S1","B1","G4",6,2013,0,4318,4549]
["VOL","ALL","S1","B1","G4",7,2013,0,4710,4862]
["VOL","ALL","S1","B1","G4",8,2013,0,6069,6244]
["VOL","ALL","S1","B1","G4",9,2013,0,4876,5417]
["VOL","ALL","S1","B1","G4",10,2013,0,3444,3507]
["VOL","ALL","S1","B1","G4",11,2013,0,1671,1916]
["VOL","ALL","S1","B1","G4",12,2013,0,4803,5050]
["VOL","ALL","S1","B1","G4",1,2014,0,815,879]
["VOL","ALL","S1","B1","G4",2,2014,0,1590,1590]
["VOL","ALL","S1","B1","G4",3,2014,0,2365,2706]
["VOL","ALL","S1","B1","G4",4,2014,0,3479,3456]
["VOL","ALL","S1","B1","G4",5,2014,0,4091,4084]
["VOL","ALL","S1","B1","G4",6,2014,0,4575,4569]
["VOL","ALL","S1","B1","G4",7,2014,0,4152,4561]
["VOL","ALL","S1","B1","G4",8,2014,0,7343,7961]
["VOL","ALL","S1","B1","G4",9,2014,0,3790,4169]
["VOL","ALL","S1","B1","G4",10,2014,0,3714,3816]
["VOL","ALL","S1","B1","G4",11,2014,0,1740,1940]
["VOL","ALL","S1","B1","G4",12,2014,0,2955,2938]
["VOL","ALL","S1","B1","G5",1,2013,0,1315,1317]
["VOL","ALL","S1","B1","G5",2,2013,0,2318,2316]
["VOL","ALL","S1","B1","G5",3,2013,0,2664,2701]
["VOL","ALL","S1","B1","G5",4,2013,0,3568,3738]
["VOL","ALL","S1","B1","G5",5,2013,0,5229,5256]
["VOL","ALL","S1","B1","G5",6,2013,0,5762,6069]
["VOL","ALL","S1","B1","G5",7,2013,0,7290,7362]
["VOL","ALL","S1","B1","G5",8,2013,0,8018,8152]
["VOL","ALL","S1","B1","G5",9,2013,0,5333,5908]
["VOL","ALL","S1","B1","G5",10,2013,0,4953,5043]
["VOL","ALL","S1","B1","G5",11,2013,0,2007,2161]
["VOL","ALL","S1","B1","G5",12,2013,0,5217,5586]
["VOL","ALL","S1","B1","G5",1,2014,0,1317,1375]
["VOL","ALL","S1","B1","G5",2,2014,0,1656,1766]
["VOL","ALL","S1","B1","G5",3,2014,0,3531,3450]
["VOL","ALL","S1","B1","G5",4,2014,0,3916,4117]
["VOL","ALL","S1","B1","G5",5,2014,0,4415,4627]
["VOL","ALL","S1","B1","G5",6,2014,0,5104,5396]
["VOL","ALL","S1","B1","G5",7,2014,0,8958,10052]
["VOL","ALL","S1","B1","G5",8,2014,0,9200,9143]
["VOL","ALL","S1","B1","G5",9,2014,0,4907,5072]
["VOL","ALL","S1","B1","G5",10,2014,0,4497,4741]
["VOL","ALL","S1","B1","G5",11,2014,0,1821,1961]
["VOL","ALL","S1","B1","G5",12,2014,0,3955,3949]
["VOL","ALL","S1","B2","G1",1,2013,0,519,533]
["VOL","ALL","S1","B2","G1",2,2013,0,868,920]
["VOL","ALL","S1","B2","G1",3,2013,0,1104,1148]
["VOL","ALL","S1","B2","G1",4,2013,0,1139,1283]
["VOL","ALL","S1","B2","G1",5,2013,0,2168,2418]
["VOL","ALL","S1","B2","G1",6,2013,0,2768,2692]
["VOL","ALL","S1","B2","G1",7,2013,0,2247,2371]
["VOL","ALL","S1","B2","G1",8,2013,0,3821,3665]
["VOL","ALL","S1","B2","G1",9,2013,0,3062,3167]
["VOL","ALL","S1","B2","G1",10,2013,0,1010,1012]
["VOL","ALL","S1","B2","G1",11,2013,0,1046,1121]
["VOL","ALL","S1","B2","G1",12,2013,0,2829,3047]
["VOL","ALL","S1","B2","G1",1,2014,0,476,494]
["VOL","ALL","S1","B2","G1",2,2014,0,796,858]
["VOL","ALL","S1","B2","G1",3,2014,0,1400,1372]
["VOL","ALL","S1","B2","G1",4,2014,0,1729,1829]
["VOL","ALL","S1","B2","G1",5,2014,0,1690,1766]
["VOL","ALL","S1","B2","G1",6,2014,0,2414,2570]
["VOL","ALL","S1","B2","G1",7,2014,0,3809,3841]
["VOL","ALL","S1","B2","G1",8,2014,0,2414,2433]
["VOL","ALL","S1","B2","G1",9,2014,0,2249,2526]
["VOL","ALL","S1","B2","G1",10,2014,0,2191,2328]
["VOL","ALL","S1","B2","G1",11,2014,0,1044,1131]
["VOL","ALL","S1","B2","G1",12,2014,0,1802,1800]
["VOL","ALL","S1","B2","G2",1,2013,0,498,541]
["VOL","ALL","S1","B2","G2",2,2013,0,1104,1099]
["VOL","ALL","S1","B2","G2",3,2013,0,1155,1133]
["VOL","ALL","S1","B2","G2",4,2013,0,1563,1778]
["VOL","ALL","S1","B2","G2",5,2013,0,1734,1849]
["VOL","ALL","S1","B2","G2",6,2013,0,3790,4160]
["VOL","ALL","S1","B2","G2",7,2013,0,3538,3565]
["VOL","ALL","S1","B2","G2",8,2013,0,4379,4509]
["VOL","ALL","S1","B2","G2",9,2013,0,2463,2556]
["VOL","ALL","S1","B2","G2",10,2013,0,1417,1549]
["VOL","ALL","S1","B2","G2",11,2013,0,1408,1447]
["VOL","ALL","S1","B2","G2",12,2013,0,2022,2106]
["VOL","ALL","S1","B2","G2",1,2014,0,580,606]
["VOL","ALL","S1","B2","G2",2,2014,0,774,870]
["VOL","ALL","S1","B2","G2",3,2014,0,1167,1163]
["VOL","ALL","S1","B2","G2",4,2014,0,2092,2228]
["VOL","ALL","S1","B2","G2",5,2014,0,2595,2814]
["VOL","ALL","S1","B2","G2",6,2014,0,2673,2580]
["VOL","ALL","S1","B2","G2",7,2014,0,4375,4533]
["VOL","ALL","S1","B2","G2",8,2014,0,3415,3616]
["VOL","ALL","S1","B2","G2",9,2014,0,2389,2461]
["VOL","ALL","S1","B2","G2",10,2014,0,1815,1808]
["VOL","ALL","S1","B2","G2",11,2014,0,908,1029]
["VOL","ALL","S1","B2","G2",12,2014,0,2483,2723]
["VOL","ALL","S1","B2","G3",1,2013,0,318,347]
["VOL","ALL","S1","B2","G3",2,2013,0,587,601]
["VOL","ALL","S1","B2","G3",3,2013,0,1030,1050]
["VOL","ALL","S1","B2","G3",4,2013,0,980,1074]
["VOL","ALL","S1","B2","G3",5,2013,0,1247,1251]
["VOL","ALL","S1","B2","G3",6,2013,0,1692,1853]
["VOL","ALL","S1","B2","G3",7,2013,0,2541,2793]
["VOL","ALL","S1","B2","G3",8,2013,0,1747,1820]
["VOL","ALL","S1","B2","G3",9,2013,0,1859,2044]
["VOL","ALL","S1","B2","G3",10,2013,0,1059,1169]
["VOL","ALL","S1","B2","G3",11,2013,0,919,949]
["VOL","ALL","S1","B2","G3",12,2013,0,1505,1466]
["VOL","ALL","S1","B2","G3",1,2014,0,272,300]
["VOL","ALL","S1","B2","G3",2,2014,0,750,802]
["VOL","ALL","S1","B2","G3",3,2014,0,776,829]
["VOL","ALL","S1","B2","G3",4,2014,0,1044,1043]
["VOL","ALL","S1","B2","G3",5,2014,0,1655,1773]
["VOL","ALL","S1","B2","G3",6,2014,0,2171,2257]
["VOL","ALL","S1","B2","G3",7,2014,0,2276,2456]
["VOL","ALL","S1","B2","G3",8,2014,0,2454,2658]
["VOL","ALL","S1","B2","G3",9,2014,0,1303,1361]
["VOL","ALL","S1","B2","G3",10,2014,0,1072,1185]
["VOL","ALL","S1","B2","G3",11,2014,0,838,835]
["VOL","ALL","S1","B2","G3",12,2014,0,1700,1910]
["VOL","ALL","S1","B2","G4",1,2013,0,241,246]
["VOL","ALL","S1","B2","G4",2,2013,0,522,539]
["VOL","ALL","S1","B2","G4",3,2013,0,584,628]
["VOL","ALL","S1","B2","G4",4,2013,0,727,802]
["VOL","ALL","S1","B2","G4",5,2013,0,1171,1227]
["VOL","ALL","S1","B2","G4",6,2013,0,1581,1670]
["VOL","ALL","S1","B2","G4",7,2013,0,1374,1568]
["VOL","ALL","S1","B2","G4",8,2013,0,1448,1553]
["VOL","ALL","S1","B2","G4",9,2013,0,847,814]
["VOL","ALL","S1","B2","G4",10,2013,0,844,880]
["VOL","ALL","S1","B2","G4",11,2013,0,605,651]
["VOL","ALL","S1","B2","G4",12,2013,0,909,992]
["VOL","ALL","S1","B2","G4",1,2014,0,248,247]
["VOL","ALL","S1","B2","G4",2,2014,0,500,567]
["VOL","ALL","S1","B2","G4",3,2014,0,987,1068]
["VOL","ALL","S1","B2","G4",4,2014,0,776,850]
["VOL","ALL","S1","B2","G4",5,2014,0,863,879]
["VOL","ALL","S1","B2","G4",6,2014,0,1149,1194]
["VOL","ALL","S1","B2","G4",7,2014,0,1971,2094]
["VOL","ALL","S1","B2","G4",8,2014,0,2119,2284]
["VOL","ALL","S1","B2","G4",9,2014,0,1717,1735]
["VOL","ALL","S1","B2","G4",10,2014,0,570,644]
["VOL","ALL","S1","B2","G4",11,2014,0,385,409]
["VOL","ALL","S1","B2","G4",12,2014,0,1143,1215]
["VOL","ALL","S1","B2","G5",1,2013,0,267,282]
["VOL","ALL","S1","B2","G5",2,2013,0,436,492]
["VOL","ALL","S1","B2","G5",3,2013,0,1048,1051]
["VOL","ALL","S1","B2","G5",4,2013,0,906,950]
["VOL","ALL","S1","B2","G5",5,2013,0,1258,1344]
["VOL","ALL","S1","B2","G5",6,2013,0,1228,1377]
["VOL","ALL","S1","B2","G5",7,2013,0,1986,2282]
["VOL","ALL","S1","B2","G5",8,2013,0,2147,2054]
["VOL","ALL","S1","B2","G5",9,2013,0,1813,1811]
["VOL","ALL","S1","B2","G5",10,2013,0,877,899]
["VOL","ALL","S1","B2","G5",11,2013,0,665,728]
["VOL","ALL","S1","B2","G5",12,2013,0,1410,1401]
["VOL","ALL","S1","B2","G5",1,2014,0,359,385]
["VOL","ALL","S1","B2","G5",2,2014,0,511,510]
["VOL","ALL","S1","B2","G5",3,2014,0,936,975]
["VOL","ALL","S1","B2","G5",4,2014,0,1262,1230]
["VOL","ALL","S1","B2","G5",5,2014,0,1402,1469]
["VOL","ALL","S1","B2","G5",6,2014,0,2114,2205]
["VOL","ALL","S1","B2","G5",7,2014,0,1772,1842]
["VOL","ALL","S1","B2","G5",8,2014,0,2249,2349]
["VOL","ALL","S1","B2","G5",9,2014,0,1458,1447]
["VOL","ALL","S1","B2","G5",10,2014,0,1481,1714]
["VOL","ALL","S1","B2","G5",11,2014,0,920,936]
["VOL","ALL","S1","B2","G5",12,2014,0,1212,1349]
["VOL","ALL","S1","B3","G1",1,2013,0,172,181]
["VOL","ALL","S1","B3","G1",2,2013,0,538,548]
["VOL","ALL","S1","B3","G1",3,2013,0,669,667]
["VOL","ALL","S1","B3","G1",4,2013,0,906,917]
["VOL","ALL","S1","B3","G1",5,2013,0,1005,1010]
["VOL","ALL","S1","B3","G1",6,2013,0,1000,960]
["VOL","ALL","S1","B3","G1",7,2013,0,1056,1179]
["VOL","ALL","S1","B3","G1",8,2013,0,1329,1323]
["VOL","ALL","S1","B3","G1",9,2013,0,1107,1156]
["VOL","ALL","S1","B3","G1",10,2013,0,671,693]
["VOL","ALL","S1","B3","G1",11,2013,0,523,560]
["VOL","ALL","S1","B3","G1",12,2013,0,970,1050]
["VOL","ALL","S1","B3","G1",1,2014,0,145,155]
["VOL","ALL","S1","B3","G1",2,2014,0,407,451]
["VOL","ALL","S1","B3","G1",3,2014,0,715,734]
["VOL","ALL","S1","B3","G1",4,2014,0,528,571]
["VOL","ALL","S1","B3","G1",5,2014,0,1183,1207]
["VOL","ALL","S1","B3","G1",6,2014,0,1096,1127]
["VOL","ALL","S1","B3","G1",7,2014,0,1863,1915]
["VOL","ALL","S1","B3","G1",8,2014,0,1506,1615]
["VOL","ALL","S1","B3","G1",9,2014,0,1044,1161]
["VOL","ALL","S1","B3","G1",10,2014,0,816,864]
["VOL","ALL","S1","B3","G1",11,2014,0,425,466]
["VOL","ALL","S1","B3","G1",12,2014,0,1017,1103]
["VOL","ALL","S1","B3","G2",1,2013,0,238,249]
["VOL","ALL","S1","B3","G2",2,2013,0,449,444]
["VOL","ALL","S1","B3","G2",3,2013,0,890,973]
["VOL","ALL","S1","B3","G2",4,2013,0,792,876]
["VOL","ALL","S1","B3","G2",5,2013,0,1441,1584]
["VOL","ALL","S1","B3","G2",6,2013,0,1162,1229]
["VOL","ALL","S1","B3","G2",7,2013,0,1558,1500]
["VOL","ALL","S1","B3","G2",8,2013,0,1937,2002]
["VOL","ALL","S1","B3","G2",9,2013,0,1346,1446]
["VOL","ALL","S1","B3","G2",10,2013,0,806,835]
["VOL","ALL","S1","B3","G2",11,2013,0,893,916]
["VOL","ALL","S1","B3","G2",12,2013,0,1397,1481]
["VOL","ALL","S1","B3","G2",1,2014,0,270,297]
["VOL","ALL","S1","B3","G2",2,2014,0,480,546]
["VOL","ALL","S1","B3","G2",3,2014,0,889,1010]
["VOL","ALL","S1","B3","G2",4,2014,0,631,660]
["VOL","ALL","S1","B3","G2",5,2014,0,1203,1247]
["VOL","ALL","S1","B3","G2",6,2014,0,1775,1764]
["VOL","ALL","S1","B3","G2",7,2014,0,2369,2403]
["VOL","ALL","S1","B3","G2",8,2014,0,1504,1637]
["VOL","ALL","S1","B3","G2",9,2014,0,1151,1179]
["VOL","ALL","S1","B3","G2",10,2014,0,1002,998]
["VOL","ALL","S1","B3","G2",11,2014,0,656,713]
["VOL","ALL","S1","B3","G2",12,2014,0,1360,1500]
["VOL","ALL","S1","B3","G3",1,2013,0,161,166]
["VOL","ALL","S1","B3","G3",2,2013,0,249,249]
["VOL","ALL","S1","B3","G3",3,2013,0,542,610]
["VOL","ALL","S1","B3","G3",4,2013,0,474,495]
["VOL","ALL","S1","B3","G3",5,2013,0,717,775]
["VOL","ALL","S1","B3","G3",6,2013,0,1141,1278]
["VOL","ALL","S1","B3","G3",7,2013,0,1309,1281]
["VOL","ALL","S1","B3","G3",8,2013,0,1191,1339]
["VOL","ALL","S1","B3","G3",9,2013,0,885,933]
["VOL","ALL","S1","B3","G3",10,2013,0,730,818]
["VOL","ALL","S1","B3","G3",11,2013,0,277,291]
["VOL","ALL","S1","B3","G3",12,2013,0,993,1090]
["VOL","ALL","S1","B3","G3",1,2014,0,132,139]
["VOL","ALL","S1","B3","G3",2,2014,0,230,252]
["VOL","ALL","S1","B3","G3",3,2014,0,575,623]
["VOL","ALL","S1","B3","G3",4,2014,0,605,618]
["VOL","ALL","S1","B3","G3",5,2014,0,649,669]
["VOL","ALL","S1","B3","G3",6,2014,0,736,805]
["VOL","ALL","S1","B3","G3",7,2014,0,1039,1114]
["VOL","ALL","S1","B3","G3",8,2014,0,1024,993]
["VOL","ALL","S1","B3","G3",9,2014,0,601,635]
["VOL","ALL","S1","B3","G3",10,2014,0,545,554]
["VOL","ALL","S1","B3","G3",11,2014,0,338,347]
["VOL","ALL","S1","B3","G3",12,2014,0,761,794]
["VOL","ALL","S1","B3","G4",1,2013,0,110,111]
["VOL","ALL","S1","B3","G4",2,2013,0,270,284]
["VOL","ALL","S1","B3","G4",3,2013,0,343,358]
["VOL","ALL","S1","B3","G4",4,2013,0,341,344]
["VOL","ALL","S1","B3","G4",5,2013,0,370,396]
["VOL","ALL","S1","B3","G4",6,2013,0,712,714]
["VOL","ALL","S1","B3","G4",7,2013,0,902,916]
["VOL","ALL","S1","B3","G4",8,2013,0,883,929]
["VOL","ALL","S1","B3","G4",9,2013,0,511,531]
["VOL","ALL","S1","B3","G4",10,2013,0,506,543]
["VOL","ALL","S1","B3","G4",11,2013,0,253,272]
["VOL","ALL","S1","B3","G4",12,2013,0,516,542]
["VOL","ALL","S1","B3","G4",1,2014,0,102,105]
["VOL","ALL","S1","B3","G4",2,2014,0,237,260]
["VOL","ALL","S1","B3","G4",3,2014,0,344,379]
["VOL","ALL","S1","B3","G4",4,2014,0,318,320]
["VOL","ALL","S1","B3","G4",5,2014,0,584,603]
["VOL","ALL","S1","B3","G4",6,2014,0,740,787]
["VOL","ALL","S1","B3","G4",7,2014,0,652,720]
["VOL","ALL","S1","B3","G4",8,2014,0,795,823]
["VOL","ALL","S1","B3","G4",9,2014,0,652,693]
["VOL","ALL","S1","B3","G4",10,2014,0,425,417]
["VOL","ALL","S1","B3","G4",11,2014,0,261,298]
["VOL","ALL","S1","B3","G4",12,2014,0,823,857]
["VOL","ALL","S1","B3","G5",1,2013,0,132,144]
["VOL","ALL","S1","B3","G5",2,2013,0,290,288]
["VOL","ALL","S1","B3","G5",3,2013,0,485,518]
["VOL","ALL","S1","B3","G5",4,2013,0,606,623]
["VOL","ALL","S1","B3","G5",5,2013,0,874,890]
["VOL","ALL","S1","B3","G5",6,2013,0,934,999]
["VOL","ALL","S1","B3","G5",7,2013,0,816,874]
["VOL","ALL","S1","B3","G5",8,2013,0,712,761]
["VOL","ALL","S1","B3","G5",9,2013,0,854,932]
["VOL","ALL","S1","B3","G5",10,2013,0,581,619]
["VOL","ALL","S1","B3","G5",11,2013,0,365,376]
["VOL","ALL","S1","B3","G5",12,2013,0,795,830]
["VOL","ALL","S1","B3","G5",1,2014,0,157,167]
["VOL","ALL","S1","B3","G5",2,2014,0,282,277]
["VOL","ALL","S1","B3","G5",3,2014,0,528,554]
["VOL","ALL","S1","B3","G5",4,2014,0,426,459]
["VOL","ALL","S1","B3","G5",5,2014,0,725,758]
["VOL","ALL","S1","B3","G5",6,2014,0,742,760]
["VOL","ALL","S1","B3","G5",7,2014,0,1138,1129]
["VOL","ALL","S1","B3","G5",8,2014,0,765,779]
["VOL","ALL","S1","B3","G5",9,2014,0,906,944]
["VOL","ALL","S1","B3","G5",10,2014,0,693,702]
["VOL","ALL","S1","B3","G5",11,2014,0,441,451]
["VOL","ALL","S1","B3","G5",12,2014,0,890,913]
["VOL","ALL","S2","B1","G1",1,2013,0,1848,2042]
["VOL","ALL","S2","B1","G1",2,2013,0,4763,4622]
["VOL","ALL","S2","B1","G1",3,2013,0,6019,6272]
["VOL","ALL","S2","B1","G1",4,2013,0,6448,7305]
["VOL","ALL","S2","B1","G1",5,2013,0,11520,11896]
["VOL","ALL","S2","B1","G1",6,2013,0,10351,11835]
["VOL","ALL","S2","B1","G1",7,2013,0,17488,18135]
["VOL","ALL","S2","B1","G1",8,2013,0,19170,19210]
["VOL","ALL","S2","B1","G1",9,2013,0,10421,11553]
["VOL","ALL","S2","B1","G1",10,2013,0,10228,9812]
["VOL","ALL","S2","B1","G1",11,2013,0,4971,5218]
["VOL","ALL","S2","B1","G1",12,2013,0,11742,12709]
["VOL","ALL","S2","B1","G1",1,2014,0,2158,2291]
["VOL","ALL","S2","B1","G1",2,2014,0,3381,3664]
["VOL","ALL","S2","B1","G1",3,2014,0,6207,6436]
["VOL","ALL","S2","B1","G1",4,2014,0,6161,6134]
["VOL","ALL","S2","B1","G1",5,2014,0,8926,8895]
["VOL","ALL","S2","B1","G1",6,2014,0,11830,13423]
["VOL","ALL","S2","B1","G1",7,2014,0,15588,16350]
["VOL","ALL","S2","B1","G1",8,2014,0,15183,15456]
["VOL","ALL","S2","B1","G1",9,2014,0,10595,11959]
["VOL","ALL","S2","B1","G1",10,2014,0,7088,7711]
["VOL","ALL","S2","B1","G1",11,2014,0,6404,7028]
["VOL","ALL","S2","B1","G1",12,2014,0,9616,9313]
["VOL","ALL","S2","B1","G2",1,2013,0,2786,2817]
["VOL","ALL","S2","B1","G2",2,2013,0,4090,4497]
["VOL","ALL","S2","B1","G2",3,2013,0,8178,8850]
["VOL","ALL","S2","B1","G2",4,2013,0,10431,11212]
["VOL","ALL","S2","B1","G2",5,2013,0,11131,11588]
["VOL","ALL","S2","B1","G2",6,2013,0,14969,16214]
["VOL","ALL","S2","B1","G2",7,2013,0,17673,17920]
["VOL","ALL","S2","B1","G2",8,2013,0,21561,22276]
["VOL","ALL","S2","B1","G2",9,2013,0,12199,12627]
["VOL","ALL","S2","B1","G2",10,2013,0,10634,11531]
["VOL","ALL","S2","B1","G2",11,2013,0,6029,6687]
["VOL","ALL","S2","B1","G2",12,2013,0,15710,16537]
["VOL","ALL","S2","B1","G2",1,2014,0,2272,2346]
["VOL","ALL","S2","B1","G2",2,2014,0,4724,4815]
["VOL","ALL","S2","B1","G2",3,2014,0,7758,8054]
["VOL","ALL","S2","B1","G2",4,2014,0,9765,9879]
["VOL","ALL","S2","B1","G2",5,2014,0,12492,12876]
["VOL","ALL","S2","B1","G2",6,2014,0,15131,15487]
["VOL","ALL","S2","B1","G2",7,2014,0,18840,19955]
["VOL","ALL","S2","B1","G2",8,2014,0,17912,18302]
["VOL","ALL","S2","B1","G2",9,2014,0,10290,11718]
["VOL","ALL","S2","B1","G2",10,2014,0,9795,10260]
["VOL","ALL","S2","B1","G2",11,2014,0,5188,5223]
["VOL","ALL","S2","B1","G2",12,2014,0,14393,13934]
["VOL","ALL","S2","B1","G3",1,2013,0,1709,1795]
["VOL","ALL","S2","B1","G3",2,2013,0,3836,3859]
["VOL","ALL","S2","B1","G3",3,2013,0,5815,5636]
["VOL","ALL","S2","B1","G3",4,2013,0,6702,6723]
["VOL","ALL","S2","B1","G3",5,2013,0,6308,6212]
["VOL","ALL","S2","B1","G3",6,2013,0,10030,10559]
["VOL","ALL","S2","B1","G3",7,2013,0,11935,12052]
["VOL","ALL","S2","B1","G3",8,2013,0,10976,11441]
["VOL","ALL","S2","B1","G3",9,2013,0,8727,9356]
["VOL","ALL","S2","B1","G3",10,2013,0,5168,5239]
["VOL","ALL","S2","B1","G3",11,2013,0,4938,4802]
["VOL","ALL","S2","B1","G3",12,2013,0,8719,8987]
["VOL","ALL","S2","B1","G3",1,2014,0,1576,1630]
["VOL","ALL","S2","B1","G3",2,2014,0,3396,3667]
["VOL","ALL","S2","B1","G3",3,2014,0,5135,5254]
["VOL","ALL","S2","B1","G3",4,2014,0,6989,7672]
["VOL","ALL","S2","B1","G3",5,2014,0,6545,6996]
["VOL","ALL","S2","B1","G3",6,2014,0,9759,10582]
["VOL","ALL","S2","B1","G3",7,2014,0,10672,11521]
["VOL","ALL","S2","B1","G3",8,2014,0,10836,10924]
["VOL","ALL","S2","B1","G3",9,2014,0,10200,10586]
["VOL","ALL","S2","B1","G3",10,2014,0,6735,6827]
["VOL","ALL","S2","B1","G3",11,2014,0,4200,4627]
["VOL","ALL","S2","B1","G3",12,2014,0,6619,6853]
["VOL","ALL","S2","B1","G4",1,2013,0,1125,1100]
["VOL","ALL","S2","B1","G4",2,2013,0,2538,2654]
["VOL","ALL","S2","B1","G4",3,2013,0,3620,3677]
["VOL","ALL","S2","B1","G4",4,2013,0,3636,3662]
["VOL","ALL","S2","B1","G4",5,2013,0,5209,5193]
["VOL","ALL","S2","B1","G4",6,2013,0,5497,5527]
["VOL","ALL","S2","B1","G4",7,2013,0,9711,10501]
["VOL","ALL","S2","B1","G4",8,2013,0,8457,8404]
["VOL","ALL","S2","B1","G4",9,2013,0,6139,6154]
["VOL","ALL","S2","B1","G4",10,2013,0,5101,4954]
["VOL","ALL","S2","B1","G4",11,2013,0,3429,3412]
["VOL","ALL","S2","B1","G4",12,2013,0,6487,6925]
["VOL","ALL","S2","B1","G4",1,2014,0,1181,1254]
["VOL","ALL","S2","B1","G4",2,2014,0,2644,2702]
["VOL","ALL","S2","B1","G4",3,2014,0,3741,3925]
["VOL","ALL","S2","B1","G4",4,2014,0,4361,4667]
["VOL","ALL","S2","B1","G4",5,2014,0,5735,5851]
["VOL","ALL","S2","B1","G4",6,2014,0,7410,7108]
["VOL","ALL","S2","B1","G4",7,2014,0,7910,8768]
["VOL","ALL","S2","B1","G4",8,2014,0,9274,9868]
["VOL","ALL","S2","B1","G4",9,2014,0,7695,8136]
["VOL","ALL","S2","B1","G4",10,2014,0,4647,5105]
["VOL","ALL","S2","B1","G4",11,2014,0,2677,2730]
["VOL","ALL","S2","B1","G4",12,2014,0,5044,5299]
["VOL","ALL","S2","B1","G5",1,2013,0,1651,1700]
["VOL","ALL","S2","B1","G5",2,2013,0,2953,3008]
["VOL","ALL","S2","B1","G5",3,2013,0,5380,5833]
["VOL","ALL","S2","B1","G5",4,2013,0,4839,4701]
["VOL","ALL","S2","B1","G5",5,2013,0,7254,7706]
["VOL","ALL","S2","B1","G5",6,2013,0,7415,7704]
["VOL","ALL","S2","B1","G5",7,2013,0,12972,13504]
["VOL","ALL","S2","B1","G5",8,2013,0,12086,12927]
["VOL","ALL","S2","B1","G5",9,2013,0,6817,7733]
["VOL","ALL","S2","B1","G5",10,2013,0,5876,5846]
["VOL","ALL","S2","B1","G5",11,2013,0,4717,5011]
["VOL","ALL","S2","B1","G5",12,2013,0,9672,9912]
["VOL","ALL","S2","B1","G5",1,2014,0,1853,1856]
["VOL","ALL","S2","B1","G5",2,2014,0,3377,3713]
["VOL","ALL","S2","B1","G5",3,2014,0,4542,4687]
["VOL","ALL","S2","B1","G5",4,2014,0,5391,5895]
["VOL","ALL","S2","B1","G5",5,2014,0,6877,7104]
["VOL","ALL","S2","B1","G5",6,2014,0,8338,9245]
["VOL","ALL","S2","B1","G5",7,2014,0,11774,12373]
["VOL","ALL","S2","B1","G5",8,2014,0,10248,10371]
["VOL","ALL","S2","B1","G5",9,2014,0,6430,6607]
["VOL","ALL","S2","B1","G5",10,2014,0,5766,6269]
["VOL","ALL","S2","B1","G5",11,2014,0,4406,4628]
["VOL","ALL","S2","B1","G5",12,2014,0,8002,8230]
["VOL","ALL","S2","B2","G1",1,2013,0,515,570]
["VOL","ALL","S2","B2","G1",2,2013,0,1121,1179]
["VOL","ALL","S2","B2","G1",3,2013,0,1327,1479]
["VOL","ALL","S2","B2","G1",4,2013,0,2149,2147]
["VOL","ALL","S2","B2","G1",5,2013,0,2691,2918]
["VOL","ALL","S2","B2","G1",6,2013,0,3187,3506]
["VOL","ALL","S2","B2","G1",7,2013,0,3851,3829]
["VOL","ALL","S2","B2","G1",8,2013,0,4325,4925]
["VOL","ALL","S2","B2","G1",9,2013,0,4038,4380]
["VOL","ALL","S2","B2","G1",10,2013,0,2737,2968]
["VOL","ALL","S2","B2","G1",11,2013,0,1413,1533]
["VOL","ALL","S2","B2","G1",12,2013,0,2564,2484]
["VOL","ALL","S2","B2","G1",1,2014,0,617,652]
["VOL","ALL","S2","B2","G1",2,2014,0,1032,1132]
["VOL","ALL","S2","B2","G1",3,2014,0,1967,2082]
["VOL","ALL","S2","B2","G1",4,2014,0,2070,2191]
["VOL","ALL","S2","B2","G1",5,2014,0,3153,3234]
["VOL","ALL","S2","B2","G1",6,2014,0,3878,4230]
["VOL","ALL","S2","B2","G1",7,2014,0,4288,4433]
["VOL","ALL","S2","B2","G1",8,2014,0,3714,3863]
["VOL","ALL","S2","B2","G1",9,2014,0,3475,3508]
["VOL","ALL","S2","B2","G1",10,2014,0,2876,2975]
["VOL","ALL","S2","B2","G1",11,2014,0,1691,1784]
["VOL","ALL","S2","B2","G1",12,2014,0,3063,3058]
["VOL","ALL","S2","B2","G2",1,2013,0,844,888]
["VOL","ALL","S2","B2","G2",2,2013,0,1352,1510]
["VOL","ALL","S2","B2","G2",3,2013,0,2119,2288]
["VOL","ALL","S2","B2","G2",4,2013,0,2642,2681]
["VOL","ALL","S2","B2","G2",5,2013,0,4007,4123]
["VOL","ALL","S2","B2","G2",6,2013,0,3891,4368]
["VOL","ALL","S2","B2","G2",7,2013,0,6247,6666]
["VOL","ALL","S2","B2","G2",8,2013,0,5650,6018]
["VOL","ALL","S2","B2","G2",9,2013,0,4799,4729]
["VOL","ALL","S2","B2","G2",10,2013,0,3266,3540]
["VOL","ALL","S2","B2","G2",11,2013,0,2273,2500]
["VOL","ALL","S2","B2","G2",12,2013,0,3975,4274]
["VOL","ALL","S2","B2","G2",1,2014,0,697,771]
["VOL","ALL","S2","B2","G2",2,2014,0,1287,1409]
["VOL","ALL","S2","B2","G2",3,2014,0,2283,2327]
["VOL","ALL","S2","B2","G2",4,2014,0,2992,3161]
["VOL","ALL","S2","B2","G2",5,2014,0,2975,2994]
["VOL","ALL","S2","B2","G2",6,2014,0,4169,4266]
["VOL","ALL","S2","B2","G2",7,2014,0,4814,5116]
["VOL","ALL","S2","B2","G2",8,2014,0,5838,6143]
["VOL","ALL","S2","B2","G2",9,2014,0,4037,4211]
["VOL","ALL","S2","B2","G2",10,2014,0,2614,2814]
["VOL","ALL","S2","B2","G2",11,2014,0,1555,1652]
["VOL","ALL","S2","B2","G2",12,2014,0,4053,3935]
["VOL","ALL","S2","B2","G3",1,2013,0,465,512]
["VOL","ALL","S2","B2","G3",2,2013,0,1172,1306]
["VOL","ALL","S2","B2","G3",3,2013,0,1826,1864]
["VOL","ALL","S2","B2","G3",4,2013,0,1405,1444]
["VOL","ALL","S2","B2","G3",5,2013,0,1662,1654]
["VOL","ALL","S2","B2","G3",6,2013,0,2562,2712]
["VOL","ALL","S2","B2","G3",7,2013,0,3633,3817]
["VOL","ALL","S2","B2","G3",8,2013,0,2311,2345]
["VOL","ALL","S2","B2","G3",9,2013,0,2459,2513]
["VOL","ALL","S2","B2","G3",10,2013,0,1510,1586]
["VOL","ALL","S2","B2","G3",11,2013,0,800,818]
["VOL","ALL","S2","B2","G3",12,2013,0,2561,2691]
["VOL","ALL","S2","B2","G3",1,2014,0,539,553]
["VOL","ALL","S2","B2","G3",2,2014,0,936,987]
["VOL","ALL","S2","B2","G3",3,2014,0,1553,1570]
["VOL","ALL","S2","B2","G3",4,2014,0,1427,1506]
["VOL","ALL","S2","B2","G3",5,2014,0,2477,2542]
["VOL","ALL","S2","B2","G3",6,2014,0,3441,3419]
["VOL","ALL","S2","B2","G3",7,2014,0,3255,3518]
["VOL","ALL","S2","B2","G3",8,2014,0,3540,3783]
["VOL","ALL","S2","B2","G3",9,2014,0,2013,2141]
["VOL","ALL","S2","B2","G3",10,2014,0,2671,2804]
["VOL","ALL","S2","B2","G3",11,2014,0,1097,1205]
["VOL","ALL","S2","B2","G3",12,2014,0,3088,3484]
["VOL","ALL","S2","B2","G4",1,2013,0,307,306]
["VOL","ALL","S2","B2","G4",2,2013,0,605,577]
["VOL","ALL","S2","B2","G4",3,2013,0,1142,1252]
["VOL","ALL","S2","B2","G4",4,2013,0,1135,1181]
["VOL","ALL","S2","B2","G4",5,2013,0,1534,1660]
["VOL","ALL","S2","B2","G4",6,2013,0,1600,1640]
["VOL","ALL","S2","B2","G4",7,2013,0,1780,1839]
["VOL","ALL","S2","B2","G4",8,2013,0,1766,1902]
["VOL","ALL","S2","B2","G4",9,2013,0,1501,1537]
["VOL","ALL","S2","B2","G4",10,2013,0,1348,1408]
["VOL","ALL","S2","B2","G4",11,2013,0,949,1000]
["VOL","ALL","S2","B2","G4",12,2013,0,1637,1663]
["VOL","ALL","S2","B2","G4",1,2014,0,361,364]
["VOL","ALL","S2","B2","G4",2,2014,0,715,697]
["VOL","ALL","S2","B2","G4",3,2014,0,885,899]
["VOL","ALL","S2","B2","G4",4,2014,0,1476,1559]
["VOL","ALL","S2","B2","G4",5,2014,0,1242,1330]
["VOL","ALL","S2","B2","G4",6,2014,0,1606,1690]
["VOL","ALL","S2","B2","G4",7,2014,0,2536,2487]
["VOL","ALL","S2","B2","G4",8,2014,0,2219,2120]
["VOL","ALL","S2","B2","G4",9,2014,0,1979,2098]
["VOL","ALL","S2","B2","G4",10,2014,0,1487,1532]
["VOL","ALL","S2","B2","G4",11,2014,0,796,818]
["VOL","ALL","S2","B2","G4",12,2014,0,1752,1867]
["VOL","ALL","S2","B2","G5",1,2013,0,436,462]
["VOL","ALL","S2","B2","G5",2,2013,0,796,801]
["VOL","ALL","S2","B2","G5",3,2013,0,1462,1577]
["VOL","ALL","S2","B2","G5",4,2013,0,1967,1910]
["VOL","ALL","S2","B2","G5",5,2013,0,1762,1745]
["VOL","ALL","S2","B2","G5",6,2013,0,3213,3394]
["VOL","ALL","S2","B2","G5",7,2013,0,3128,3063]
["VOL","ALL","S2","B2","G5",8,2013,0,2909,3185]
["VOL","ALL","S2","B2","G5",9,2013,0,2292,2417]
["VOL","ALL","S2","B2","G5",10,2013,0,2468,2440]
["VOL","ALL","S2","B2","G5",11,2013,0,719,806]
["VOL","ALL","S2","B2","G5",12,2013,0,2099,2310]
["VOL","ALL","S2","B2","G5",1,2014,0,443,464]
["VOL","ALL","S2","B2","G5",2,2014,0,776,788]
["VOL","ALL","S2","B2","G5",3,2014,0,1191,1245]
["VOL","ALL","S2","B2","G5",4,2014,0,1325,1444]
["VOL","ALL","S2","B2","G5",5,2014,0,2066,2219]
["VOL","ALL","S2","B2","G5",6,2014,0,2717,2854]
["VOL","ALL","S2","B2","G5",7,2014,0,2311,2449]
["VOL","ALL","S2","B2","G5",8,2014,0,4155,4225]
["VOL","ALL","S2","B2","G5",9,2014,0,2357,2388]
["VOL","ALL","S2","B2","G5",10,2014,0,1485,1442]
["VOL","ALL","S2","B2","G5",11,2014,0,1182,1250]
["VOL","ALL","S2","B2","G5",12,2014,0,1821,1980]
["VOL","ALL","S2","B3","G1",1,2013,0,367,411]
["VOL","ALL","S2","B3","G1",2,2013,0,575,590]
["VOL","ALL","S2","B3","G1",3,2013,0,893,915]
["VOL","ALL","S2","B3","G1",4,2013,0,951,1009]
["VOL","ALL","S2","B3","G1",5,2013,0,1179,1150]
["VOL","ALL","S2","B3","G1",6,2013,0,1594,1836]
["VOL","ALL","S2","B3","G1",7,2013,0,2616,2667]
["VOL","ALL","S2","B3","G1",8,2013,0,1820,1942]
["VOL","ALL","S2","B3","G1",9,2013,0,1456,1635]
["VOL","ALL","S2","B3","G1",10,2013,0,1211,1330]
["VOL","ALL","S2","B3","G1",11,2013,0,726,702]
["VOL","ALL","S2","B3","G1",12,2013,0,1594,1755]
["VOL","ALL","S2","B3","G1",1,2014,0,335,341]
["VOL","ALL","S2","B3","G1",2,2014,0,694,713]
["VOL","ALL","S2","B3","G1",3,2014,0,776,834]
["VOL","ALL","S2","B3","G1",4,2014,0,1132,1154]
["VOL","ALL","S2","B3","G1",5,2014,0,1359,1482]
["VOL","ALL","S2","B3","G1",6,2014,0,1645,1638]
["VOL","ALL","S2","B3","G1",7,2014,0,2765,2872]
["VOL","ALL","S2","B3","G1",8,2014,0,2238,2468]
["VOL","ALL","S2","B3","G1",9,2014,0,1989,1934]
["VOL","ALL","S2","B3","G1",10,2014,0,1199,1352]
["VOL","ALL","S2","B3","G1",11,2014,0,738,808]
["VOL","ALL","S2","B3","G1",12,2014,0,1925,2037]
["VOL","ALL","S2","B3","G2",1,2013,0,385,380]
["VOL","ALL","S2","B3","G2",2,2013,0,765,812]
["VOL","ALL","S2","B3","G2",3,2013,0,901,937]
["VOL","ALL","S2","B3","G2",4,2013,0,1506,1559]
["VOL","ALL","S2","B3","G2",5,2013,0,1517,1746]
["VOL","ALL","S2","B3","G2",6,2013,0,1766,1773]
["VOL","ALL","S2","B3","G2",7,2013,0,2450,2630]
["VOL","ALL","S2","B3","G2",8,2013,0,2389,2553]
["VOL","ALL","S2","B3","G2",9,2013,0,2286,2290]
["VOL","ALL","S2","B3","G2",10,2013,0,1354,1401]
["VOL","ALL","S2","B3","G2",11,2013,0,946,1017]
["VOL","ALL","S2","B3","G2",12,2013,0,1970,2164]
["VOL","ALL","S2","B3","G2",1,2014,0,391,403]
["VOL","ALL","S2","B3","G2",2,2014,0,712,721]
["VOL","ALL","S2","B3","G2",3,2014,0,1175,1226]
["VOL","ALL","S2","B3","G2",4,2014,0,1375,1389]
["VOL","ALL","S2","B3","G2",5,2014,0,1766,1767]
["VOL","ALL","S2","B3","G2",6,2014,0,2446,2477]
["VOL","ALL","S2","B3","G2",7,2014,0,3390,3601]
["VOL","ALL","S2","B3","G2",8,2014,0,2747,2918]
["VOL","ALL","S2","B3","G2",9,2014,0,1726,1768]
["VOL","ALL","S2","B3","G2",10,2014,0,1401,1436]
["VOL","ALL","S2","B3","G2",11,2014,0,884,846]
["VOL","ALL","S2","B3","G2",12,2014,0,2208,2262]
["VOL","ALL","S2","B3","G3",1,2013,0,238,249]
["VOL","ALL","S2","B3","G3",2,2013,0,427,432]
["VOL","ALL","S2","B3","G3",3,2013,0,660,744]
["VOL","ALL","S2","B3","G3",4,2013,0,863,839]
["VOL","ALL","S2","B3","G3",5,2013,0,973,1061]
["VOL","ALL","S2","B3","G3",6,2013,0,1408,1585]
["VOL","ALL","S2","B3","G3",7,2013,0,1799,1897]
["VOL","ALL","S2","B3","G3",8,2013,0,1607,1588]
["VOL","ALL","S2","B3","G3",9,2013,0,1169,1284]
["VOL","ALL","S2","B3","G3",10,2013,0,831,862]
["VOL","ALL","S2","B3","G3",11,2013,0,486,487]
["VOL","ALL","S2","B3","G3",12,2013,0,1176,1286]
["VOL","ALL","S2","B3","G3",1,2014,0,229,248]
["VOL","ALL","S2","B3","G3",2,2014,0,569,578]
["VOL","ALL","S2","B3","G3",3,2014,0,715,730]
["VOL","ALL","S2","B3","G3",4,2014,0,730,783]
["VOL","ALL","S2","B3","G3",5,2014,0,1194,1267]
["VOL","ALL","S2","B3","G3",6,2014,0,1240,1252]
["VOL","ALL","S2","B3","G3",7,2014,0,1940,1937]
["VOL","ALL","S2","B3","G3",8,2014,0,1571,1665]
["VOL","ALL","S2","B3","G3",9,2014,0,1300,1289]
["VOL","ALL","S2","B3","G3",10,2014,0,1081,1205]
["VOL","ALL","S2","B3","G3",11,2014,0,511,564]
["VOL","ALL","S2","B3","G3",12,2014,0,1094,1209]
["VOL","ALL","S2","B3","G4",1,2013,0,157,182]
["VOL","ALL","S2","B3","G4",2,2013,0,320,336]
["VOL","ALL","S2","B3","G4",3,2013,0,459,466]
["VOL","ALL","S2","B3","G4",4,2013,0,671,690]
["VOL","ALL","S2","B3","G4",5,2013,0,875,925]
["VOL","ALL","S2","B3","G4",6,2013,0,1098,1143]
["VOL","ALL","S2","B3","G4",7,2013,0,1068,1149]
["VOL","ALL","S2","B3","G4",8,2013,0,914,1006]
["VOL","ALL","S2","B3","G4",9,2013,0,680,725]
["VOL","ALL","S2","B3","G4",10,2013,0,750,785]
["VOL","ALL","S2","B3","G4",11,2013,0,386,385]
["VOL","ALL","S2","B3","G4",12,2013,0,964,1070]
["VOL","ALL","S2","B3","G4",1,2014,0,156,156]
["VOL","ALL","S2","B3","G4",2,2014,0,389,401]
["VOL","ALL","S2","B3","G4",3,2014,0,520,566]
["VOL","ALL","S2","B3","G4",4,2014,0,704,786]
["VOL","ALL","S2","B3","G4",5,2014,0,625,678]
["VOL","ALL","S2","B3","G4",6,2014,0,1018,1058]
["VOL","ALL","S2","B3","G4",7,2014,0,1321,1441]
["VOL","ALL","S2","B3","G4",8,2014,0,1095,1247]
["VOL","ALL","S2","B3","G4",9,2014,0,1002,992]
["VOL","ALL","S2","B3","G4",10,2014,0,605,674]
["VOL","ALL","S2","B3","G4",11,2014,0,415,425]
["VOL","ALL","S2","B3","G4",12,2014,0,1132,1115]
["VOL","ALL","S2","B3","G5",1,2013,0,177,191]
["VOL","ALL","S2","B3","G5",2,2013,0,440,451]
["VOL","ALL","S2","B3","G5",3,2013,0,631,669]
["VOL","ALL","S2","B3","G5",4,2013,0,650,675]
["VOL","ALL","S2","B3","G5",5,2013,0,976,1057]
["VOL","ALL","S2","B3","G5",6,2013,0,1463,1667]
["VOL","ALL","S2","B3","G5",7,2013,0,1461,1469]
["VOL","ALL","S2","B3","G5",8,2013,0,1476,1519]
["VOL","ALL","S2","B3","G5",9,2013,0,1049,1133]
["VOL","ALL","S2","B3","G5",10,2013,0,753,829]
["VOL","ALL","S2","B3","G5",11,2013,0,569,589]
["VOL","ALL","S2","B3","G5",12,2013,0,1182,1311]
["VOL","ALL","S2","B3","G5",1,2014,0,190,198]
["VOL","ALL","S2","B3","G5",2,2014,0,462,495]
["VOL","ALL","S2","B3","G5",3,2014,0,642,667]
["VOL","ALL","S2","B3","G5",4,2014,0,949,939]
["VOL","ALL","S2","B3","G5",5,2014,0,1076,1180]
["VOL","ALL","S2","B3","G5",6,2014,0,1145,1213]
["VOL","ALL","S2","B3","G5",7,2014,0,1910,1984]
["VOL","ALL","S2","B3","G5",8,2014,0,1343,1410]
["VOL","ALL","S2","B3","G5",9,2014,0,1311,1455]
["VOL","ALL","S2","B3","G5",10,2014,0,891,889]
["VOL","ALL","S2","B3","G5",11,2014,0,574,625]
["VOL","ALL","S2","B3","G5",12,2014,0,1239,1192]
["DA","A1","ALL","B1","G1",4,2014,1,755,0]
["DA","A1","ALL","B1","G2",4,2014,1,1126,0]
["DA","A1","ALL","B1","G3",4,2014,1,768,0]
["DA","A1","ALL","B1","G4",4,2014,1,450,0]
["DA","A1","ALL","B1","G5",4,2014,1,469,0]
["DA","A1","ALL","B2","G1",4,2014,1,235,0]
["DA","A1","ALL","B2","G2",4,2014,1,314,0]
["DA","A1","ALL","B2","G3",4,2014,1,158,0]
["DA","A1","ALL","B2","G4",4,2014,1,109,0]
["DA","A1","ALL","B2","G5",4,2014,1,180,0]
["DA","A1","ALL","B3","G1",4,2014,1,104,0]
["DA","A1","ALL","B3","G2",4,2014,1,91,0]
["DA","A1","ALL","B3","G3",4,2014,1,91,0]
["DA","A1","ALL","B3","G4",4,2014,1,51,0]
["DA","A1","ALL","B3","G5",4,2014,1,107,0]
["DA","A2","ALL","B1","G1",4,2014,1,431,0]
["DA","A2","ALL","B1","G2",4,2014,1,523,0]
["DA","A2","ALL","B1","G3",4,2014,1,272,0]
["DA","A2","ALL","B1","G4",4,2014,1,182,0]
["DA","A2","ALL","B1","G5",4,2014,1,295,0]
["DA","A2","ALL","B2","G1",4,2014,1,107,0]
["DA","A2","ALL","B2","G2",4,2014,1,110,0]
["DA","A2","ALL","B2","G3",4,2014,1,123,0]
["DA","A2","ALL","B2","G4",4,2014,1,54,0]
["DA","A2","ALL","B2","G5",4,2014,1,67,0]
["DA","A2","ALL","B3","G1",4,2014,1,63,0]
["DA","A2","ALL","B3","G2",4,2014,1,56,0]
["DA","A2","ALL","B3","G3",4,2014,1,62,0]
["DA","A2","ALL","B3","G4",4,2014,1,46,0]
["DA","A2","ALL","B3","G5",4,2014,1,30,0]
["DEDUC","D1","S1","B1","G1",4,2014,1,327,0]
["DEDUC","D1","S1","B1","G2",4,2014,1,773,0]
["DEDUC","D1","S1","B1","G3",4,2014,1,289,0]
["DEDUC","D1","S1","B1","G4",4,2014,1,230,0]
["DEDUC","D1","S1","B1","G5",4,2014,1,242,0]
["DEDUC","D1","S1","B2","G1",4,2014,1,112,0]
["DEDUC","D1","S1","B2","G2",4,2014,1,149,0]
["DEDUC","D1","S1","B2","G3",4,2014,1,83,0]
["DEDUC","D1","S1","B2","G4",4,2014,1,58,0]
["DEDUC","D1","S1","B2","G5",4,2014,1,60,0]
["DEDUC","D1","S1","B3","G1",4,2014,1,71,0]
["DEDUC","D1","S1","B3","G2",4,2014,1,72,0]
["DEDUC","D1","S1","B3","G3",4,2014,1,42,0]
["DEDUC","D1","S1","B3","G4",4,2014,1,26,0]
["DEDUC","D1","S1","B3","G5",4,2014,1,37,0]
["DEDUC","D1","S2","B1","G1",4,2014,1,622,0]
["DEDUC","D1","S2","B1","G2",4,2014,1,820,0]
["DEDUC","D1","S2","B1","G3",4,2014,1,419,0]
["DEDUC","D1","S2","B1","G4",4,2014,1,341,0]
["DEDUC","D1","S2","B1","G5",4,2014,1,350,0]
["DEDUC","D1","S2","B2","G1",4,2014,1,125,0]
["DEDUC","D1","S2","B2","G2",4,2014,1,184,0]
["DEDUC","D1","S2","B2","G3",4,2014,1,181,0]
["DEDUC","D1","S2","B2","G4",4,2014,1,91,0]
["DEDUC","D1","S2","B2","G5",4,2014,1,124,0]
["DEDUC","D1","S2","B3","G1",4,2014,1,80,0]
["DEDUC","D1","S2","B3","G2",4,2014,1,86,0]
["DEDUC","D1","S2","B3","G3",4,2014,1,55,0]
["DEDUC","D1","S2","B3","G4",4,2014,1,52,0]
["DEDUC","D1","S2","B3","G5",4,2014,1,62,0]
["DEDUC","D2","S1","B1","G1",4,2014,1,184,0]
["DEDUC","D2","S1","B1","G2",4,2014,1,300,0]
["DEDUC","D2","S1","B1","G3",4,2014,1,178,0]
["DEDUC","D2","S1","B1","G4",4,2014,1,137,0]
["DEDUC","D2","S1","B1","G5",4,2014,1,159,0]
["DEDUC","D2","S1","B2","G1",4,2014,1,80,0]
["DEDUC","D2","S1","B2","G2",4,2014,1,55,0]
["DEDUC","D2","S1","B2","G3",4,2014,1,33,0]
["DEDUC","D2","S1","B2","G4",4,2014,1,33,0]
["DEDUC","D2","S1","B2","G5",4,2014,1,46,0]
["DEDUC","D2","S1","B3","G1",4,2014,1,28,0]
["DEDUC","D2","S1","B3","G2",4,2014,1,34,0]
["DEDUC","D2","S1","B3","G3",4,2014,1,22,0]
["DEDUC","D2","S1","B3","G4",4,2014,1,12,0]
["DEDUC","D2","S1","B3","G5",4,2014,1,20,0]
["DEDUC","D2","S2","B1","G1",4,2014,1,336,0]
["DEDUC","D2","S2","B1","G2",4,2014,1,454,0]
["DEDUC","D2","S2","B1","G3",4,2014,1,270,0]
["DEDUC","D2","S2","B1","G4",4,2014,1,197,0]
["DEDUC","D2","S2","B1","G5",4,2014,1,198,0]
["DEDUC","D2","S2","B2","G1",4,2014,1,111,0]
["DEDUC","D2","S2","B2","G2",4,2014,1,128,0]
["DEDUC","D2","S2","B2","G3",4,2014,1,82,0]
["DEDUC","D2","S2","B2","G4",4,2014,1,41,0]
["DEDUC","D2","S2","B2","G5",4,2014,1,67,0]
["DEDUC","D2","S2","B3","G1",4,2014,1,41,0]
["DEDUC","D2","S2","B3","G2",4,2014,1,52,0]
["DEDUC","D2","S2","B3","G3",4,2014,1,36,0]
["DEDUC","D2","S2","B3","G4",4,2014,1,28,0]
["DEDUC","D2","S2","B3","G5",4,2014,1,38,0]
["DEDUC","D3","S1","B1","G1",4,2014,1,91,0]
["DEDUC","D3","S1","B1","G2",4,2014,1,132,0]
["DEDUC","D3","S1","B1","G3",4,2014,1,68,0]
["DEDUC","D3","S1","B1","G4",4,2014,1,50,0]
["DEDUC","D3","S1","B1","G5",4,2014,1,65,0]
["DEDUC","D3","S1","B2","G1",4,2014,1,31,0]
["DEDUC","D3","S1","B2","G2",4,2014,1,41,0]
["DEDUC","D3","S1","B2","G3",4,2014,1,25,0]
["DEDUC","D3","S1","B2","G4",4,2014,1,26,0]
["DEDUC","D3","S1","B2","G5",4,2014,1,15,0]
["DEDUC","D3","S1","B3","G1",4,2014,1,15,0]
["DEDUC","D3","S1","B3","G2",4,2014,1,17,0]
["DEDUC","D3","S1","B3","G3",4,2014,1,13,0]
["DEDUC","D3","S1","B3","G4",4,2014,1,7,0]
["DEDUC","D3","S1","B3","G5",4,2014,1,8,0]
["DEDUC","D3","S2","B1","G1",4,2014,1,139,0]
["DEDUC","D3","S2","B1","G2",4,2014,1,172,0]
["DEDUC","D3","S2","B1","G3",4,2014,1,127,0]
["DEDUC","D3","S2","B1","G4",4,2014,1,78,0]
["DEDUC","D3","S2","B1","G5",4,2014,1,119,0]
["DEDUC","D3","S2","B2","G1",4,2014,1,47,0]
["DEDUC","D3","S2","B2","G2",4,2014,1,45,0]
["DEDUC","D3","S2","B2","G3",4,2014,1,29,0]
["DEDUC","D3","S2","B2","G4",4,2014,1,22,0]
["DEDUC","D3","S2","B2","G5",4,2014,1,32,0]
["DEDUC","D3","S2","B3","G1",4,2014,1,23,0]
["DEDUC","D3","S2","B3","G2",4,2014,1,27,0]
["DEDUC","D3","S2","B3","G3",4,2014,1,19,0]
["DEDUC","D3","S2","B3","G4",4,2014,1,17,0]
["DEDUC","D3","S2","B3","G5",4,2014,1,17,0]
["DEDUC","D4","S1","B1","G1",4,2014,1,88,0]
["DEDUC","D4","S1","B1","G2",4,2014,1,68,0]
["DEDUC","D4","S1","B1","G3",4,2014,1,43,0]
["DEDUC","D4","S1","B1","G4",4,2014,1,53,0]
["DEDUC","D4","S1","B1","G5",4,2014,1,35,0]
["DEDUC","D4","S1","B2","G1",4,2014,1,14,0]
["DEDUC","D4","S1","B2","G2",4,2014,1,22,0]
["DEDUC","D4","S1","B2","G3",4,2014,1,16,0]
["DEDUC","D4","S1","B2","G4",4,2014,1,11,0]
["DEDUC","D4","S1","B2","G5",4,2014,1,14,0]
["DEDUC","D4","S1","B3","G1",4,2014,1,11,0]
["DEDUC","D4","S1","B3","G2",4,2014,1,13,0]
["DEDUC","D4","S1","B3","G3",4,2014,1,7,0]
["DEDUC","D4","S1","B3","G4",4,2014,1,5,0]
["DEDUC","D4","S1","B3","G5",4,2014,1,8,0]
["DEDUC","D4","S2","B1","G1",4,2014,1,94,0]
["DEDUC","D4","S2","B1","G2",4,2014,1,94,0]
["DEDUC","D4","S2","B1","G3",4,2014,1,66,0]
["DEDUC","D4","S2","B1","G4",4,2014,1,52,0]
["DEDUC","D4","S2","B1","G5",4,2014,1,76,0]
["DEDUC","D4","S2","B2","G1",4,2014,1,30,0]
["DEDUC","D4","S2","B2","G2",4,2014,1,36,0]
["DEDUC","D4","S2","B2","G3",4,2014,1,28,0]
["DEDUC","D4","S2","B2","G4",4,2014,1,18,0]
["DEDUC","D4","S2","B2","G5",4,2014,1,19,0]
["DEDUC","D4","S2","B3","G1",4,2014,1,14,0]
["DEDUC","D4","S2","B3","G2",4,2014,1,21,0]
["DEDUC","D4","S2","B3","G3",4,2014,1,11,0]
["DEDUC","D4","S2","B3","G4",4,2014,1,7,0]
["DEDUC","D4","S2","B3","G5",4,2014,1,11,0]
["DEDUC","D5","S1","B1","G1",4,2014,1,37,0]
["DEDUC","D5","S1","B1","G2",4,2014,1,33,0]
["DEDUC","D5","S1","B1","G3",4,2014,1,20,0]
["DEDUC","D5","S1","B1","G4",4,2014,1,18,0]
["DEDUC","D5","S1","B1","G5",4,2014,1,20,0]
["DEDUC","D5","S1","B2","G1",4,2014,1,8,0]
["DEDUC","D5","S1","B2","G2",4,2014,1,8,0]
["DEDUC","D5","S1","B2","G3",4,2014,1,6,0]
["DEDUC","D5","S1","B2","G4",4,2014,1,6,0]
["DEDUC","D5","S1","B2","G5",4,2014,1,8,0]
["DEDUC","D5","S1","B3","G1",4,2014,1,5,0]
["DEDUC","D5","S1","B3","G2",4,2014,1,6,0]
["DEDUC","D5","S1","B3","G3",4,2014,1,6,0]
["DEDUC","D5","S1","B3","G4",4,2014,1,4,0]
["DEDUC","D5","S1","B3","G5",4,2014,1,4,0]
["DEDUC","D5","S2","B1","G1",4,2014,1,53,0]
["DEDUC","D5","S2","B1","G2",4,2014,1,52,0]
["DEDUC","D5","S2","B1","G3",4,2014,1,35,0]
["DEDUC","D5","S2","B1","G4",4,2014,1,24,0]
["DEDUC","D5","S2","B1","G5",4,2014,1,33,0]
["DEDUC","D5","S2","B2","G1",4,2014,1,15,0]
["DEDUC","D5","S2","B2","G2",4,2014,1,15,0]
["DEDUC","D5","S2","B2","G3",4,2014,1,10,0]
["DEDUC","D5","S2","B2","G4",4,2014,1,8,0]
["DEDUC","D5","S2","B2","G5",4,2014,1,13,0]
["DEDUC","D5","S2","B3","G1",4,2014,1,7,0]
["DEDUC","D5","S2","B3","G2",4,2014,1,8,0]
["DEDUC","D5","S2","B3","G3",4,2014,1,6,0]
["DEDUC","D5","S2","B3","G4",4,2014,1,4,0]
["DEDUC","D5","S2","B3","G5",4,2014,1,5,0]
["GRREV","ALL","S1","B1","G1",4,2014,1,5521,0]
["GRREV","ALL","S1","B1","G2",4,2014,1,6103,0]
["GRREV","ALL","S1","B1","G3",4,2014,1,2649,0]
["GRREV","ALL","S1","B1","G4",4,2014,1,3622,0]
["GRREV","ALL","S1","B1","G5",4,2014,1,3880,0]
["GRREV","ALL","S1","B2","G1",4,2014,1,1298,0]
["GRREV","ALL","S1","B2","G2",4,2014,1,1278,0]
["GRREV","ALL","S1","B2","G3",4,2014,1,1090,0]
["GRREV","ALL","S1","B2","G4",4,2014,1,763,0]
["GRREV","ALL","S1","B2","G5",4,2014,1,888,0]
["GRREV","ALL","S1","B3","G1",4,2014,1,719,0]
["GRREV","ALL","S1","B3","G2",4,2014,1,718,0]
["GRREV","ALL","S1","B3","G3",4,2014,1,626,0]
["GRREV","ALL","S1","B3","G4",4,2014,1,471,0]
["GRREV","ALL","S1","B3","G5",4,2014,1,619,0]
["GRREV","ALL","S2","B1","G1",4,2014,1,7360,0]
["GRREV","ALL","S2","B1","G2",4,2014,1,8380,0]
["GRREV","ALL","S2","B1","G3",4,2014,1,4836,0]
["GRREV","ALL","S2","B1","G4",4,2014,1,4566,0]
["GRREV","ALL","S2","B1","G5",4,2014,1,5426,0]
["GRREV","ALL","S2","B2","G1",4,2014,1,1761,0]
["GRREV","ALL","S2","B2","G2",4,2014,1,2284,0]
["GRREV","ALL","S2","B2","G3",4,2014,1,1906,0]
["GRREV","ALL","S2","B2","G4",4,2014,1,1112,0]
["GRREV","ALL","S2","B2","G5",4,2014,1,1745,0]
["GRREV","ALL","S2","B3","G1",4,2014,1,1005,0]
["GRREV","ALL","S2","B3","G2",4,2014,1,1303,0]
["GRREV","ALL","S2","B3","G3",4,2014,1,1000,0]
["GRREV","ALL","S2","B3","G4",4,2014,1,729,0]
["GRREV","ALL","S2","B3","G5",4,2014,1,843,0]
["OPEX","O1","ALL","B1","G1",4,2014,1,1295,0]
["OPEX","O1","ALL","B1","G2",4,2014,1,959,0]
["OPEX","O1","ALL","B1","G3",4,2014,1,572,0]
["OPEX","O1","ALL","B1","G4",4,2014,1,611,0]
["OPEX","O1","ALL","B1","G5",4,2014,1,721,0]
["OPEX","O1","ALL","B2","G1",4,2014,1,214,0]
["OPEX","O1","ALL","B2","G2",4,2014,1,394,0]
["OPEX","O1","ALL","B2","G3",4,2014,1,184,0]
["OPEX","O1","ALL","B2","G4",4,2014,1,140,0]
["OPEX","O1","ALL","B2","G5",4,2014,1,179,0]
["OPEX","O1","ALL","B3","G1",4,2014,1,108,0]
["OPEX","O1","ALL","B3","G2",4,2014,1,230,0]
["OPEX","O1","ALL","B3","G3",4,2014,1,102,0]
["OPEX","O1","ALL","B3","G4",4,2014,1,69,0]
["OPEX","O1","ALL","B3","G5",4,2014,1,95,0]
["OPEX","O2","ALL","B1","G1",4,2014,1,492,0]
["OPEX","O2","ALL","B1","G2",4,2014,1,403,0]
["OPEX","O2","ALL","B1","G3",4,2014,1,315,0]
["OPEX","O2","ALL","B1","G4",4,2014,1,284,0]
["OPEX","O2","ALL","B1","G5",4,2014,1,386,0]
["OPEX","O2","ALL","B2","G1",4,2014,1,130,0]
["OPEX","O2","ALL","B2","G2",4,2014,1,247,0]
["OPEX","O2","ALL","B2","G3",4,2014,1,118,0]
["OPEX","O2","ALL","B2","G4",4,2014,1,94,0]
["OPEX","O2","ALL","B2","G5",4,2014,1,110,0]
["OPEX","O2","ALL","B3","G1",4,2014,1,68,0]
["OPEX","O2","ALL","B3","G2",4,2014,1,75,0]
["OPEX","O2","ALL","B3","G3",4,2014,1,66,0]
["OPEX","O2","ALL","B3","G4",4,2014,1,50,0]
["OPEX","O2","ALL","B3","G5",4,2014,1,59,0]
["OPEX","O3","ALL","B1","G1",4,2014,1,97,0]
["OPEX","O3","ALL","B1","G2",4,2014,1,106,0]
["OPEX","O3","ALL","B1","G3",4,2014,1,83,0]
["OPEX","O3","ALL","B1","G4",4,2014,1,44,0]
["OPEX","O3","ALL","B1","G5",4,2014,1,90,0]
["OPEX","O3","ALL","B2","G1",4,2014,1,32,0]
["OPEX","O3","ALL","B2","G2",4,2014,1,43,0]
["OPEX","O3","ALL","B2","G3",4,2014,1,27,0]
["OPEX","O3","ALL","B2","G4",4,2014,1,15,0]
["OPEX","O3","ALL","B2","G5",4,2014,1,26,0]
["OPEX","O3","ALL","B3","G1",4,2014,1,24,0]
["OPEX","O3","ALL","B3","G2",4,2014,1,24,0]
["OPEX","O3","ALL","B3","G3",4,2014,1,12,0]
["OPEX","O3","ALL","B3","G4",4,2014,1,8,0]
["OPEX","O3","ALL","B3","G5",4,2014,1,14,0]
["OPEX","O4","ALL","B1","G1",4,2014,1,150,0]
["OPEX","O4","ALL","B1","G2",4,2014,1,146,0]
["OPEX","O4","ALL","B1","G3",4,2014,1,116,0]
["OPEX","O4","ALL","B1","G4",4,2014,1,75,0]
["OPEX","O4","ALL","B1","G5",4,2014,1,93,0]
["OPEX","O4","ALL","B2","G1",4,2014,1,49,0]
["OPEX","O4","ALL","B2","G2",4,2014,1,63,0]
["OPEX","O4","ALL","B2","G3",4,2014,1,30,0]
["OPEX","O4","ALL","B2","G4",4,2014,1,27,0]
["OPEX","O4","ALL","B2","G5",4,2014,1,31,0]
["OPEX","O4","ALL","B3","G1",4,2014,1,19,0]
["OPEX","O4","ALL","B3","G2",4,2014,1,22,0]
["OPEX","O4","ALL","B3","G3",4,2014,1,14,0]
["OPEX","O4","ALL","B3","G4",4,2014,1,10,0]
["OPEX","O4","ALL","B3","G5",4,2014,1,13,0]
["OPEX","O5","ALL","B1","G1",4,2014,1,185,0]
["OPEX","O5","ALL","B1","G2",4,2014,1,256,0]
["OPEX","O5","ALL","B1","G3",4,2014,1,139,0]
["OPEX","O5","ALL","B1","G4",4,2014,1,105,0]
["OPEX","O5","ALL","B1","G5",4,2014,1,111,0]
["OPEX","O5","ALL","B2","G1",4,2014,1,70,0]
["OPEX","O5","ALL","B2","G2",4,2014,1,68,0]
["OPEX","O5","ALL","B2","G3",4,2014,1,40,0]
["OPEX","O5","ALL","B2","G4",4,2014,1,30,0]
["OPEX","O5","ALL","B2","G5",4,2014,1,23,0]
["OPEX","O5","ALL","B3","G1",4,2014,1,28,0]
["OPEX","O5","ALL","B3","G2",4,2014,1,21,0]
["OPEX","O5","ALL","B3","G3",4,2014,1,17,0]
["OPEX","O5","ALL","B3","G4",4,2014,1,14,0]
["OPEX","O5","ALL","B3","G5",4,2014,1,25,0]
["OPEX","O6","ALL","B1","G1",4,2014,1,608,0]
["OPEX","O6","ALL","B1","G2",4,2014,1,501,0]
["OPEX","O6","ALL","B1","G3",4,2014,1,315,0]
["OPEX","O6","ALL","B1","G4",4,2014,1,293,0]
["OPEX","O6","ALL","B1","G5",4,2014,1,285,0]
["OPEX","O6","ALL","B2","G1",4,2014,1,156,0]
["OPEX","O6","ALL","B2","G2",4,2014,1,176,0]
["OPEX","O6","ALL","B2","G3",4,2014,1,89,0]
["OPEX","O6","ALL","B2","G4",4,2014,1,74,0]
["OPEX","O6","ALL","B2","G5",4,2014,1,69,0]
["OPEX","O6","ALL","B3","G1",4,2014,1,80,0]
["OPEX","O6","ALL","B3","G2",4,2014,1,61,0]
["OPEX","O6","ALL","B3","G3",4,2014,1,52,0]
["OPEX","O6","ALL","B3","G4",4,2014,1,41,0]
["OPEX","O6","ALL","B3","G5",4,2014,1,51,0]
["PRD","P1","ALL","B1","G1",4,2014,1,1951,0]
["PRD","P1","ALL","B1","G2",4,2014,1,2779,0]
["PRD","P1","ALL","B1","G3",4,2014,1,2068,0]
["PRD","P1","ALL","B1","G4",4,2014,1,1177,0]
["PRD","P1","ALL","B1","G5",4,2014,1,2009,0]
["PRD","P1","ALL","B2","G1",4,2014,1,448,0]
["PRD","P1","ALL","B2","G2",4,2014,1,565,0]
["PRD","P1","ALL","B2","G3",4,2014,1,402,0]
["PRD","P1","ALL","B2","G4",4,2014,1,332,0]
["PRD","P1","ALL","B2","G5",4,2014,1,446,0]
["PRD","P1","ALL","B3","G1",4,2014,1,253,0]
["PRD","P1","ALL","B3","G2",4,2014,1,374,0]
["PRD","P1","ALL","B3","G3",4,2014,1,230,0]
["PRD","P1","ALL","B3","G4",4,2014,1,162,0]
["PRD","P1","ALL","B3","G5",4,2014,1,185,0]
["PRD","P2","ALL","B1","G1",4,2014,1,1344,0]
["PRD","P2","ALL","B1","G2",4,2014,1,1875,0]
["PRD","P2","ALL","B1","G3",4,2014,1,1511,0]
["PRD","P2","ALL","B1","G4",4,2014,1,984,0]
["PRD","P2","ALL","B1","G5",4,2014,1,1413,0]
["PRD","P2","ALL","B2","G1",4,2014,1,675,0]
["PRD","P2","ALL","B2","G2",4,2014,1,538,0]
["PRD","P2","ALL","B2","G3",4,2014,1,475,0]
["PRD","P2","ALL","B2","G4",4,2014,1,243,0]
["PRD","P2","ALL","B2","G5",4,2014,1,456,0]
["PRD","P2","ALL","B3","G1",4,2014,1,302,0]
["PRD","P2","ALL","B3","G2",4,2014,1,272,0]
["PRD","P2","ALL","B3","G3",4,2014,1,172,0]
["PRD","P2","ALL","B3","G4",4,2014,1,100,0]
["PRD","P2","ALL","B3","G5",4,2014,1,192,0]
["PRD","P3","ALL","B1","G1",4,2014,1,903,0]
["PRD","P3","ALL","B1","G2",4,2014,1,1052,0]
["PRD","P3","ALL","B1","G3",4,2014,1,914,0]
["PRD","P3","ALL","B1","G4",4,2014,1,503,0]
["PRD","P3","ALL","B1","G5",4,2014,1,538,0]
["PRD","P3","ALL","B2","G1",4,2014,1,236,0]
["PRD","P3","ALL","B2","G2",4,2014,1,293,0]
["PRD","P3","ALL","B2","G3",4,2014,1,216,0]
["PRD","P3","ALL","B2","G4",4,2014,1,186,0]
["PRD","P3","ALL","B2","G5",4,2014,1,211,0]
["PRD","P3","ALL","B3","G1",4,2014,1,126,0]
["PRD","P3","ALL","B3","G2",4,2014,1,153,0]
["PRD","P3","ALL","B3","G3",4,2014,1,93,0]
["PRD","P3","ALL","B3","G4",4,2014,1,103,0]
["PRD","P3","ALL","B3","G5",4,2014,1,82,0]
["VOL","ALL","S1","B1","G1",4,2014,1,3963,0]
["VOL","ALL","S1","B1","G2",4,2014,1,7503,0]
["VOL","ALL","S1","B1","G3",4,2014,1,3427,0]
["VOL","ALL","S1","B1","G4",4,2014,1,3462,0]
["VOL","ALL","S1","B1","G5",4,2014,1,3856,0]
["VOL","ALL","S1","B2","G1",4,2014,1,1684,0]
["VOL","ALL","S1","B2","G2",4,2014,1,2072,0]
["VOL","ALL","S1","B2","G3",4,2014,1,1008,0]
["VOL","ALL","S1","B2","G4",4,2014,1,791,0]
["VOL","ALL","S1","B2","G5",4,2014,1,1269,0]
["VOL","ALL","S1","B3","G1",4,2014,1,530,0]
["VOL","ALL","S1","B3","G2",4,2014,1,636,0]
["VOL","ALL","S1","B3","G3",4,2014,1,577,0]
["VOL","ALL","S1","B3","G4",4,2014,1,309,0]
["VOL","ALL","S1","B3","G5",4,2014,1,427,0]
["VOL","ALL","S2","B1","G1",4,2014,1,6211,0]
["VOL","ALL","S2","B1","G2",4,2014,1,9818,0]
["VOL","ALL","S2","B1","G3",4,2014,1,6814,0]
["VOL","ALL","S2","B1","G4",4,2014,1,4514,0]
["VOL","ALL","S2","B1","G5",4,2014,1,5200,0]
["VOL","ALL","S2","B2","G1",4,2014,1,2086,0]
["VOL","ALL","S2","B2","G2",4,2014,1,3103,0]
["VOL","ALL","S2","B2","G3",4,2014,1,1498,0]
["VOL","ALL","S2","B2","G4",4,2014,1,1418,0]
["VOL","ALL","S2","B2","G5",4,2014,1,1374,0]
["VOL","ALL","S2","B3","G1",4,2014,1,1134,0]
["VOL","ALL","S2","B3","G2",4,2014,1,1432,0]
["VOL","ALL","S2","B3","G3",4,2014,1,724,0]
["VOL","ALL","S2","B3","G4",4,2014,1,678,0]
["VOL","ALL","S2","B3","G5",4,2014,1,931,0]

{"sheet":"REF","index":1,"n_rows":63,"n_cols":25,"rows_kept":63,"cut":false,"hidden":false,"merged":[]}
["SUB","ENG","RUS",null,"CurrentMonth",null,"Header","Column","i1","i2","i3",null,"Header","Item","Row",null,"Chart","SEL1","GR","NR","GP","EBIT","SEL2","SEL3","SEL4"]
["A1","Amortization","Аммортизация",null,4,null,"MTD ACT Amounts",5,"MTD","ACT","Amount",null,"Deductions","On invoice",19,null,1,1,true,true,true,true,1,1,1]
["A2","Depreciation","Переоценка",null,null,null,"MTD ACT Amount/Unit",6,"MTD","ACT","AmtU",null,"Deductions","Volume",22,null,2,1,true,true,true,true,2,1,1]
["B1","Core","Основной",null,"CurrentLanguage",null,"MTD BP Amounts",7,"MTD","BP","Amount",null,"Deductions","Promo",25,null,3,1,true,true,true,true,3,2,1]
["B2","Juice","Сок",null,"ENG",null,"MTD BP Amount/Unit",8,"MTD","BP","AmtU",null,"Deductions","CDE",28,null,4,1,true,true,true,true,4,1,1]
["B3","Spirit","Алкоголь",null,null,null,"MTD ACT vs. BP Diff",9,"MTD","BP","D",null,"Deductions","Client Stock",31]
["BUS","Business","Бизнес",null,"Version",null,"MTD ACT vs. BP Diff / Unit",10,"MTD","BP","DU",null,"_","Gross Revenue",15]
["D1","On invoice","В счете",null,"0.02 от 10.07.2014",null,"MTD ACT vs. BP Diff %",11,"MTD","BP","D%",null,"_","Net Revenue",34]
["D1S1","On invoice (local)","В счете (розница)",null,null,null,"MTD ACT vs. BP Diff % / Unit",12,"MTD","BP","D%U",null,"_","Gross Profit",41]
["D1S2","On invoice (KA)","В счете (ключи)",null,null,null,"MTD RE Amounts",13,"MTD","RE","Amount",null,"_","EBIT",49]
["D2","Volume","На объём",null,null,null,"MTD RE Amount/Unit",14,"MTD","RE","AmtU",null,"OPEX","Marketing",43]
["D2S1","Volume (local)","На объём (розница)",null,null,null,"MTD ACT vs. RE Diff",15,"MTD","RE","D",null,"OPEX","Sales",44]
["D2S2","Volume (KA)","На объём (ключи)",null,null,null,"MTD ACT vs. RE Diff / Unit",16,"MTD","RE","DU",null,"OPEX","Warehouse",45]
["D3","Promo","Промо",null,null,null,"MTD ACT vs. RE Diff %",17,"MTD","RE","D%",null,"OPEX","Distribution",46]
["D3S1","Promo (local)","Промо (розница)",null,null,null,"MTD ACT vs. RE Diff % / Unit",18,"MTD","RE","D%U",null,"OPEX","Administration",47]
["D3S2","Promo (KA)","Промо (ключи)",null,null,null,"MTD PY Amounts",19,"MTD","PY","Amount",null,"OPEX","Other",48]
["D4","CDE","Оборуд.",null,null,null,"MTD PY Amount/Unit",20,"MTD","PY","AmtU",null,"Production Cost","Raw Materials",38]
["D4S1","CDE (local)","Оборуд. (розница)",null,null,null,"MTD ACT vs. PY Diff",21,"MTD","PY","D",null,"Production Cost","Production",39]
["D4S2","CDE (KA)","Оборуд. (ключи)",null,null,null,"MTD ACT vs. PY Diff / Unit",22,"MTD","PY","DU",null,"Production Cost","Haulage",40]
["D5","Client Stock","Запас в точке",null,null,null,"MTD ACT vs. PY Diff %",23,"MTD","PY","D%"]
["D5S1","Client Stock (local)","Запас в точке (розница)",null,null,null,"MTD ACT vs. PY Diff % / Unit",24,"MTD","PY","D%U"]
["D5S2","Client Stock (KA)","Запас в точке (ключи)",null,null,null,"YTD ACT Amounts",25,"YTD","ACT","Amount"]
["DA","Depreciation","Аммортизация, переоценка",null,null,null,"YTD ACT Amount/Unit",26,"YTD","ACT","AmtU"]
["DEDUC","Deductions","Скидки",null,null,null,"YTD BP Amounts",27,"YTD","BP","Amount"]
["EBIT","EBIT","Опер. прибыль",null,null,null,"YTD BP Amount/Unit",28,"YTD","BP","AmtU"]
["EBITDA","EBITDA","Опер. прибыль+амморт.",null,null,null,"YTD ACT vs. BP Diff",29,"YTD","BP","D"]
["G1","N. Novgorod","Н.Новгород",null,null,null,"YTD ACT vs. BP Diff / Unit",30,"YTD","BP","DU"]
["G2","Kazan","Казань",null,null,null,"YTD ACT vs. BP Diff %",31,"YTD","BP","D%"]
["G3","Samara","Самара",null,null,null,"YTD ACT vs. BP Diff % / Unit",32,"YTD","BP","D%U"]
["G4","Voronezh","Воронеж",null,null,null,"YTD PY Amounts",33,"YTD","PY","Amount"]
["G5","Oryol","Орёл",null,null,null,"YTD PY Amount/Unit",34,"YTD","PY","AmtU"]
["GRPRF","Gross Profit","Валовая прибыль",null,null,null,"YTD ACT vs. PY Diff",35,"YTD","PY","D"]
["GRREV","Gross Revenue","Выручка",null,null,null,"YTD ACT vs. PY Diff / Unit",36,"YTD","PY","DU"]
["NREV","Net Revenue","Чистый доход",null,null,null,"YTD ACT vs. PY Diff %",37,"YTD","PY","D%"]
["O1","Marketing","Маркетинг",null,null,null,"YTD ACT vs. PY Diff % / Unit",38,"YTD","PY","D%U"]
["O2","Sales","Коммерческий",null,null,null,"YTG RE Amounts",39,"YTG","RE","Amount"]
["O3","Warehouse","Склад",null,null,null,"YTG RE Amount/Unit",40,"YTG","RE","AmtU"]
["O4","Distribution","Дистрибуция",null,null,null,"YTG BP Amounts",41,"YTG","BP","Amount"]
["O5","Administration","Администрация",null,null,null,"YTG BP Amount/Unit",42,"YTG","BP","AmtU"]
["O6","Other","Прочее",null,null,null,"YTG RE vs. BP Diff",43,"YTG","BP","D"]
["OPEX","OPEX","Опер. расходы",null,null,null,"YTG RE vs. BP Diff / Unit",44,"YTG","BP","DU"]
["P1","Raw Materials","Расходные материалы",null,null,null,"YTG RE vs. BP Diff %",45,"YTG","BP","D%"]
["P2","Production","Производство",null,null,null,"YTG RE vs. BP Diff % / Unit",46,"YTG","BP","D%U"]
["P3","Haulage","Транспортировка",null,null,null,"YTG PY Amounts",47,"YTG","PY","Amount"]
["PRD","Production Cost","Произв. затраты",null,null,null,"YTG PY Amount/Unit",48,"YTG","PY","AmtU"]
["S1","Local","Розница",null,null,null,"YTG RE vs. PY Diff",49,"YTG","PY","D"]
["S2","KA","Ключи",null,null,null,"YTG RE vs. PY Diff / Unit",50,"YTG","PY","DU"]
["SEG","Client","Клиенты",null,null,null,"YTG RE vs. PY Diff %",51,"YTG","PY","D%"]
["VOL","Sales Volume","Объем продаж",null,null,null,"YTG RE vs. PY Diff % / Unit",52,"YTG","PY","D%U"]
[null,null,null,null,null,null,"FY ACT/RE Amounts",53,"FY","ACT","Amount"]
[null,null,null,null,null,null,"FY ACT/RE Amount/Unit",54,"FY","ACT","AmtU"]
[null,null,null,null,null,null,"FY BP Amounts",55,"FY","BP","Amount"]
[null,null,null,null,null,null,"FY BP Amount/Unit",56,"FY","BP","AmtU"]
[null,null,null,null,null,null,"FY ACT/RE vs. BP Diff",57,"FY","BP","D"]
[null,null,null,null,null,null,"FY ACT/RE vs. BP Diff / Unit",58,"FY","BP","DU"]
[null,null,null,null,null,null,"FY ACT/RE vs. BP Diff %",59,"FY","BP","D%"]
[null,null,null,null,null,null,"FY ACT/RE vs. BP Diff % / Unit",60,"FY","BP","D%U"]
[null,null,null,null,null,null,"FY PY Amounts",61,"FY","PY","Amount"]
[null,null,null,null,null,null,"FY PY Amount/Unit",62,"FY","PY","AmtU"]
[null,null,null,null,null,null,"FY ACT/RE vs. PY Diff",63,"FY","PY","D"]
[null,null,null,null,null,null,"FY ACT/RE vs. PY Diff / Unit",64,"FY","PY","DU"]
[null,null,null,null,null,null,"FY ACT/RE vs. PY Diff %",65,"FY","PY","D%"]
[null,null,null,null,null,null,"FY ACT/RE vs. PY Diff % / Unit",66,"FY","PY","D%U"]

{"sheet":"SELECT","index":2,"n_rows":177,"n_cols":66,"rows_kept":177,"cut":false,"hidden":false,"merged":[[1,0,1,2],[1,16,1,18],[85,0,85,2],[85,16,85,18]]}
[]
["[Year N - ACT_RE]",null,null,null,null,null,null,null,null,null,null,null,null,null,null,null,"[Year N - BP]",null,null,null,null,null,null,null,null,null,null,null,null,null,"[MTD RE]",null,"[MTD Final]",null,null,null,null,null,null,null,null,null,null,"[YTD Final]",null,null,null,null,null,null,null,"[YTG Final]",null,null,null,null,null,null,null,"[FY Final]"]
["TYPE","SUBTYPE",1,2,3,4,5,6,7,8,9,10,11,12,"Total",null,1,2,3,4,5,6,7,8,9,10,11,12,"Total",null,{"$f":"selCurMonth","v":4},null,"ACT","BP","DIFF","DIFF%","RE","DIFF","DIFF%","PY","DIFF","DIFF%",null,"ACT","BP","DIFF","DIFF%","PY","DIFF","DIFF%",null,"RE","BP","DIFF","DIFF%","PY","DIFF","DIFF%",null,"ACT_RE","BP","DIFF","DIFF%","PY","DIFF","DIFF%"]
["VOL","ALL",{"$f":"SUMPRODUCT(\n (rngTYPE=$A4)*\n ((rngBUS=valBUS1)+(rngBUS=valBUS2)+(rngBUS=valBUS3))*\n ((rngGEO=valGEO1)+(rngGEO=valGEO2)+(rngGEO=valGEO3)+(rngGEO=valGEO4)+(rngGEO=valGEO5))*\n (rngYEAR=valYEAR)*\n (rngMONTH=C$3)*\n (rngMTDRE=0)*\n rngACT_RE\n )","v":21697},43616,66052,78714,100725,129180,160025,155667,112841,87766,52358,106520,{"$f":"SUM(C4:N4)","v":1115161},null,{"$f":"SUMPRODUCT(\n (rngTYPE=$A4)*\n ((rngBUS=valBUS1)+(rngBUS=valBUS2)+(rngBUS=valBUS3))*\n ((rngGEO=valGEO1)+(rngGEO=valGEO2)+(rngGEO=valGEO3)+(rngGEO=valGEO4)+(rngGEO=valGEO5))*\n (rngYEAR=valYEAR)*\n (rngMONTH=Q$3)*\n (rngMTDRE=0)*\n rngBP\n )","v":22668},46007,69019,83386,104254,135689,169288,161460,118552,92862,55540,109091,{"$f":"SUM(Q4:AB4)","v":1167816},null,{"$f":"SUMPRODUCT(\n (rngTYPE=$A4)*\n ((rngBUS=valBUS1)+(rngBUS=valBUS2)+(rngBUS=valBUS3))*\n ((rngGEO=valGEO1)+(rngGEO=valGEO2)+(rngGEO=valGEO3)+(rngGEO=valGEO4)+(rngGEO=valGEO5))*\n (rngYEAR=valYEAR)*\n (rngMONTH=AE$3)*\n (rngMTDRE=1)*\n rngACT_RE\n )","v":78449},null,{"$f":"INDEX(rngACT_RE_BP_data,ROW()-2,2+selCurMonth)","v":78714},{"$f":"INDEX(rngACT_RE_BP_data,ROW()-2,16+selCurMonth)","v":83386},{"$f":"$AG4-AH4","v":-4672},{"$f":"AI4/ABS(AH4)","v":-5.6028589931163504E-2},{"$f":"$AE4","v":78449},{"$f":"$AG4-AK4","v":265},{"$f":"AL4/ABS(AK4)","v":3.3779907965684713E-3},{"$f":"INDEX(rngPY,ROW()-2,2+selCurMonth)","v":74298},{"$f":"$AG4-AN4","v":4416},{"$f":"AO4/ABS(AN4)","v":5.9436323992570463E-2},null,{"$f":"SUM(OFFSET($C4,0,0,1,selCurMonth))","v":210079},{"$f":"SUM(OFFSET($Q4,0,0,1,selCurMonth))","v":221080},{"$f":"$AR4-AS4","v":-11001},{"$f":"AT4/ABS(AS4)","v":-4.9760267776370541E-2},{"$f":"SUM(OFFSET($C88,0,0,1,selCurMonth))","v":204141},{"$f":"$AR4-AV4","v":5938},{"$f":"AW4/ABS(AV4)","v":2.9087738376906157E-2},null,{"$f":"SUM(OFFSET($C4,0,selCurMonth,1,12-selCurMonth))","v":905082},{"$f":"SUM(OFFSET($Q4,0,selCurMonth,1,12-selCurMonth))","v":946736},{"$f":"AZ4-BA4","v":-41654},{"$f":"BB4/ABS(BA4)","v":-4.3997481874566931E-2},{"$f":"SUM(OFFSET($C88,0,selCurMonth,1,12-selCurMonth))","v":902164},{"$f":"AZ4-BD4","v":2918},{"$f":"BE4/ABS(BD4)","v":3.2344451784819613E-3},null,{"$f":"AR4+AZ4","v":1115161},1167816,{"$f":"BH4-BI4","v":-52655},{"$f":"BJ4/ABS(BI4)","v":-4.5088438589640831E-2},{"$f":"AV4+BD4","v":1106305},{"$f":"BH4-BL4","v":8856},{"$f":"BM4/ABS(BL4)","v":8.0050257388333233E-3}]
["VOL","S1",{"$f":"SUMPRODUCT(\n (rngTYPE=$A5)*\n (rngSEG=$B5)*\n ((rngBUS=valBUS1)+(rngBUS=valBUS2)+(rngBUS=valBUS3))*\n ((rngGEO=valGEO1)+(rngGEO=valGEO2)+(rngGEO=valGEO3)+(rngGEO=valGEO4)+(rngGEO=valGEO5))*\n (rngYEAR=valYEAR)*\n (rngMONTH=C$3)*\n (rngMTDRE=0)*\n rngACT_RE\n )","v":8699},18522,26962,31867,42217,53407,66711,63754,46442,37425,20040,41471,{"$f":"SUM(C5:N5)","v":457517},null,{"$f":"SUMPRODUCT(\n (rngTYPE=$A5)*\n (rngSEG=$B5)*\n ((rngBUS=valBUS1)+(rngBUS=valBUS2)+(rngBUS=valBUS3))*\n ((rngGEO=valGEO1)+(rngGEO=valGEO2)+(rngGEO=valGEO3)+(rngGEO=valGEO4)+(rngGEO=valGEO5))*\n (rngYEAR=valYEAR)*\n (rngMONTH=Q$3)*\n (rngMTDRE=0)*\n rngBP\n )","v":9141},19525,28517,34227,43839,55747,70483,66697,47762,39567,21327,43323,{"$f":"SUM(Q5:AB5)","v":480155},null,{"$f":"SUMPRODUCT(\n (rngTYPE=$A5)*\n (rngSEG=$B5)*\n ((rngBUS=valBUS1)+(rngBUS=valBUS2)+(rngBUS=valBUS3))*\n ((rngGEO=valGEO1)+(rngGEO=valGEO2)+(rngGEO=valGEO3)+(rngGEO=valGEO4)+(rngGEO=valGEO5))*\n (rngYEAR=valYEAR)*\n (rngMONTH=AE$3)*\n (rngMTDRE=1)*\n rngACT_RE\n )","v":31514},null,31867,34227,-2360,{"$f":"AI5/ABS(AH5)","v":-6.8951412627457853E-2},{"$f":"$AE5","v":31514},353,{"$f":"AL5/ABS(AK5)","v":1.1201370819318398E-2},28303,3564,{"$f":"AO5/ABS(AN5)","v":0.12592304702681695},null,86050,91410,{"$f":"$AR5-AS5","v":-5360},{"$f":"AT5/ABS(AS5)","v":-5.8636910622470187E-2},78951,{"$f":"$AR5-AV5","v":7099},{"$f":"AW5/ABS(AV5)","v":8.9916530506263373E-2},null,371467,388745,{"$f":"AZ5-BA5","v":-17278},{"$f":"BB5/ABS(BA5)","v":-4.4445587724600957E-2},{"$f":"SUM(OFFSET($C89,0,selCurMonth,1,12-selCurMonth))","v":353623},{"$f":"AZ5-BD5","v":17844},{"$f":"BE5/ABS(BD5)","v":5.0460518687981265E-2},null,457517,480155,{"$f":"BH5-BI5","v":-22638},{"$f":"BJ5/ABS(BI5)","v":-4.714727535899866E-2},{"$f":"AV5+BD5","v":432574},{"$f":"BH5-BL5","v":24943},{"$f":"BM5/ABS(BL5)","v":5.7661810464799089E-2}]
["VOL","S2",12998,25094,39090,46847,58508,75773,93314,91913,66399,50341,32318,65049,657644,null,13527,26482,40502,49159,60415,79942,98805,94763,70790,53295,34213,65768,687661,null,{"$f":"SUMPRODUCT(\n (rngTYPE=$A6)*\n (rngSEG=$B6)*\n ((rngBUS=valBUS1)+(rngBUS=valBUS2)+(rngBUS=valBUS3))*\n ((rngGEO=valGEO1)+(rngGEO=valGEO2)+(rngGEO=valGEO3)+(rngGEO=valGEO4)+(rngGEO=valGEO5))*\n (rngYEAR=valYEAR)*\n (rngMONTH=AE$3)*\n (rngMTDRE=1)*\n rngACT_RE\n )","v":46935},null,46847,49159,-2312,{"$f":"AI6/ABS(AH6)","v":-4.7031062470758153E-2},{"$f":"$AE6","v":46935},-88,{"$f":"AL6/ABS(AK6)","v":-1.8749334185575797E-3},45995,852,{"$f":"AO6/ABS(AN6)","v":1.8523752581802371E-2},null,124029,129670,{"$f":"$AR6-AS6","v":-5641},{"$f":"AT6/ABS(AS6)","v":-4.3502737718824708E-2},125190,{"$f":"$AR6-AV6","v":-1161},{"$f":"AW6/ABS(AV6)","v":-9.2739036664270316E-3},null,533615,557991,{"$f":"AZ6-BA6","v":-24376},{"$f":"BB6/ABS(BA6)","v":-4.3685292415110641E-2},{"$f":"SUM(OFFSET($C90,0,selCurMonth,1,12-selCurMonth))","v":548541},{"$f":"AZ6-BD6","v":-14926},{"$f":"BE6/ABS(BD6)","v":-2.7210363491516586E-2},null,657644,687661,{"$f":"BH6-BI6","v":-30017},{"$f":"BJ6/ABS(BI6)","v":-4.3650868669300714E-2},{"$f":"AV6+BD6","v":673731},{"$f":"BH6-BL6","v":-16087},{"$f":"BM6/ABS(BL6)","v":-2.3877482259239965E-2}]
["GRREV","ALL",{"$f":"SUMPRODUCT(\n (rngTYPE=$A7)*\n ((rngBUS=valBUS1)+(rngBUS=valBUS2)+(rngBUS=valBUS3))*\n ((rngGEO=valGEO1)+(rngGEO=valGEO2)+(rngGEO=valGEO3)+(rngGEO=valGEO4)+(rngGEO=valGEO5))*\n (rngYEAR=valYEAR)*\n (rngMONTH=C$3)*\n (rngMTDRE=0)*\n rngACT_RE\n )","v":19970},41444,64010,74850,96907,128455,163739,148118,116702,92369,54163,118228,1118955,null,{"$f":"SUMPRODUCT(\n (rngTYPE=$A7)*\n ((rngBUS=valBUS1)+(rngBUS=valBUS2)+(rngBUS=valBUS3))*\n ((rngGEO=valGEO1)+(rngGEO=valGEO2)+(rngGEO=valGEO3)+(rngGEO=valGEO4)+(rngGEO=valGEO5))*\n (rngYEAR=valYEAR)*\n (rngMONTH=Q$3)*\n (rngMTDRE=0)*\n rngBP\n )","v":21217},43289,67925,78064,104636,132280,170173,155199,123599,94790,57342,126096,1174610,null,{"$f":"SUMPRODUCT(\n (rngTYPE=$A7)*\n ((rngBUS=valBUS1)+(rngBUS=valBUS2)+(rngBUS=valBUS3))*\n ((rngGEO=valGEO1)+(rngGEO=valGEO2)+(rngGEO=valGEO3)+(rngGEO=valGEO4)+(rngGEO=valGEO5))*\n (rngYEAR=valYEAR)*\n (rngMONTH=AE$3)*\n (rngMTDRE=1)*\n rngACT_RE\n )","v":74501},null,74850,78064,-3214,{"$f":"AI7/ABS(AH7)","v":-4.1171346587415454E-2},{"$f":"$AE7","v":74501},349,{"$f":"AL7/ABS(AK7)","v":4.6845008791828301E-3},73725,1125,{"$f":"AO7/ABS(AN7)","v":1.5259409969481181E-2},null,200274,210495,-10221,-4.8556972849711395E-2,194386,5888,3.0290247240027574E-2,null,918681,964115,{"$f":"AZ7-BA7","v":-45434},{"$f":"BB7/ABS(BA7)","v":-4.7125083625915998E-2},{"$f":"SUM(OFFSET($C89,0,selCurMonth,1,12-selCurMonth))","v":353623},{"$f":"AZ7-BD7","v":565058},{"$f":"BE7/ABS(BD7)","v":1.5979107693786887},null,{"$f":"AR7+AZ7","v":1118955},{"$f":"AS7+BA7","v":1174610},{"$f":"BH7-BI7","v":-55655},{"$f":"BJ7/ABS(BI7)","v":-4.7381684133457065E-2},{"$f":"AV7+BD7","v":548009},{"$f":"BH7-BL7","v":570946},{"$f":"BM7/ABS(BL7)","v":1.0418551520139268}]
["GRREV","S1",{"$f":"SUMPRODUCT(\n (rngTYPE=$A8)*\n (rngSEG=$B8)*\n ((rngBUS=valBUS1)+(rngBUS=valBUS2)+(rngBUS=valBUS3))*\n ((rngGEO=valGEO1)+(rngGEO=valGEO2)+(rngGEO=valGEO3)+(rngGEO=valGEO4)+(rngGEO=valGEO5))*\n (rngYEAR=valYEAR)*\n (rngMONTH=C$3)*\n (rngMTDRE=0)*\n rngACT_RE\n )","v":8015},15334,27231,30483,40234,54221,61751,59815,49706,36210,21957,51880,456837,null,{"$f":"SUMPRODUCT(\n (rngTYPE=$A8)*\n (rngSEG=$B8)*\n ((rngBUS=valBUS1)+(rngBUS=valBUS2)+(rngBUS=valBUS3))*\n ((rngGEO=valGEO1)+(rngGEO=valGEO2)+(rngGEO=valGEO3)+(rngGEO=valGEO4)+(rngGEO=valGEO5))*\n (rngYEAR=valYEAR)*\n (rngMONTH=Q$3)*\n (rngMTDRE=0)*\n rngBP\n )","v":8650},16004,28649,31098,42901,55647,65016,62236,53477,37634,23540,55123,479975,null,{"$f":"SUMPRODUCT(\n (rngTYPE=$A7)*\n (rngSEG=$B8)*\n ((rngBUS=valBUS1)+(rngBUS=valBUS2)+(rngBUS=valBUS3))*\n ((rngGEO=valGEO1)+(rngGEO=valGEO2)+(rngGEO=valGEO3)+(rngGEO=valGEO4)+(rngGEO=valGEO5))*\n (rngYEAR=valYEAR)*\n (rngMONTH=AE$3)*\n (rngMTDRE=1)*\n rngACT_RE\n )","v":30245},null,30483,31098,-615,{"$f":"AI8/ABS(AH8)","v":-1.9776191394945013E-2},{"$f":"$AE8","v":30245},238,{"$f":"AL8/ABS(AK8)","v":7.8690692676475459E-3},27424,3059,{"$f":"AO8/ABS(AN8)","v":0.11154463243873979},null,81063,84401,-3338,-3.9549294439639338E-2,74812,6251,8.355611399240763E-2,null,375774,395574,-19800,-5.0053845803819261E-2,{"$f":"SUM(OFFSET($C92,0,selCurMonth,1,12-selCurMonth))","v":360223},15551,4.3170480507907602E-2,null,{"$f":"AR8+AZ8","v":456837},{"$f":"AS8+BA8","v":479975},{"$f":"BH8-BI8","v":-23138},{"$f":"BJ8/ABS(BI8)","v":-4.8206677431116202E-2},{"$f":"AV8+BD8","v":435035},{"$f":"BH8-BL8","v":21802},{"$f":"BM8/ABS(BL8)","v":5.0115507947636397E-2}]
["GRREV","S2",11955,26110,36779,44367,56673,74234,101988,88303,66996,56159,32206,66348,662118,null,12567,27285,39276,46966,61735,76633,105157,92963,70122,57156,33802,70973,694635,null,{"$f":"SUMPRODUCT(\n (rngTYPE=$A8)*\n (rngSEG=$B9)*\n ((rngBUS=valBUS1)+(rngBUS=valBUS2)+(rngBUS=valBUS3))*\n ((rngGEO=valGEO1)+(rngGEO=valGEO2)+(rngGEO=valGEO3)+(rngGEO=valGEO4)+(rngGEO=valGEO5))*\n (rngYEAR=valYEAR)*\n (rngMONTH=AE$3)*\n (rngMTDRE=1)*\n rngACT_RE\n )","v":44256},null,44367,46966,-2599,{"$f":"AI9/ABS(AH9)","v":-5.5337904015670909E-2},{"$f":"$AE9","v":44256},111,{"$f":"AL9/ABS(AK9)","v":2.5081344902386118E-3},46301,-1934,{"$f":"AO9/ABS(AN9)","v":-4.1770156152134946E-2},null,119211,126094,-6883,-5.4586261043348613E-2,119574,-363,-3.0357770083797482E-3,null,542907,568541,-25634,-4.5087337588669944E-2,{"$f":"SUM(OFFSET($C93,0,selCurMonth,1,12-selCurMonth))","v":531255},11652,2.1932970042634892E-2,null,{"$f":"AR9+AZ9","v":662118},{"$f":"AS9+BA9","v":694635},{"$f":"BH9-BI9","v":-32517},{"$f":"BJ9/ABS(BI9)","v":-4.6811634887386898E-2},{"$f":"AV9+BD9","v":650829},{"$f":"BH9-BL9","v":11289},{"$f":"BM9/ABS(BL9)","v":1.7345570034525196E-2}]
["DEDUC","ALL",{"$f":"SUMPRODUCT(\n (rngTYPE=$A10)*\n ((rngBUS=valBUS1)+(rngBUS=valBUS2)+(rngBUS=valBUS3))*\n ((rngGEO=valGEO1)+(rngGEO=valGEO2)+(rngGEO=valGEO3)+(rngGEO=valGEO4)+(rngGEO=valGEO5))*\n (rngYEAR=valYEAR)*\n (rngMONTH=C$3)*\n (rngMTDRE=0)*\n rngACT_RE\n )","v":3408},7057,10457,12448,15360,19850,25637,24321,18901,13660,8726,18404,178229,null,{"$f":"SUMPRODUCT(\n (rngTYPE=$A10)*\n ((rngBUS=valBUS1)+(rngBUS=valBUS2)+(rngBUS=valBUS3))*\n ((rngGEO=valGEO1)+(rngGEO=valGEO2)+(rngGEO=valGEO3)+(rngGEO=valGEO4)+(rngGEO=valGEO5))*\n (rngYEAR=valYEAR)*\n (rngMONTH=Q$3)*\n (rngMTDRE=0)*\n rngBP\n )","v":3581},7414,10980,13162,16158,20757,27092,25424,19879,14300,9185,19317,187249,null,{"$f":"SUMPRODUCT(\n (rngTYPE=$A10)*\n ((rngBUS=valBUS1)+(rngBUS=valBUS2)+(rngBUS=valBUS3))*\n ((rngGEO=valGEO1)+(rngGEO=valGEO2)+(rngGEO=valGEO3)+(rngGEO=valGEO4)+(rngGEO=valGEO5))*\n (rngYEAR=valYEAR)*\n (rngMONTH=AE$3)*\n (rngMTDRE=1)*\n rngACT_RE\n )","v":12542},null,12448,13162,-714,-5.4247074912627258E-2,12542,-94,-7.4948174134906714E-3,11395,1053,9.2408951294427374E-2,null,33370,35137,-1767,-5.0288869283091897E-2,31403,1967,6.2637327643855684E-2,null,144859,152112,-7253,-4.7681971179131165E-2,{"$f":"SUM(OFFSET($C90,0,selCurMonth,1,12-selCurMonth))","v":548541},-403682,-0.73591946636623329,null,178229,187249,-9020,-4.8171151781851974E-2,579944,-401715,-0.69267894831225085]
["DEDUC","D1",{"$f":"SUMPRODUCT(\n (rngTYPE=$A11)*\n (rngSUBTYPE=$B11)*\n ((rngBUS=valBUS1)+(rngBUS=valBUS2)+(rngBUS=valBUS3))*\n ((rngGEO=valGEO1)+(rngGEO=valGEO2)+(rngGEO=valGEO3)+(rngGEO=valGEO4)+(rngGEO=valGEO5))*\n (rngYEAR=valYEAR)*\n (rngMONTH=C$3)*\n (rngMTDRE=0)*\n rngACT_RE\n )","v":1631},3627,5287,6121,7483,9529,12738,11670,9631,6616,4241,9503,88077,null,{"$f":"SUMPRODUCT(\n (rngTYPE=$A11)*\n (rngSUBTYPE=$B11)*\n ((rngBUS=valBUS1)+(rngBUS=valBUS2)+(rngBUS=valBUS3))*\n ((rngGEO=valGEO1)+(rngGEO=valGEO2)+(rngGEO=valGEO3)+(rngGEO=valGEO4)+(rngGEO=valGEO5))*\n (rngYEAR=valYEAR)*\n (rngMONTH=Q$3)*\n (rngMTDRE=0)*\n rngBP\n )","v":1709},3801,5522,6519,7845,9823,13471,12304,10106,6935,4478,10050,92563,null,{"$f":"SUMPRODUCT(\n (rngTYPE=$A11)*\n (rngSUBTYPE=$B11)*\n ((rngBUS=valBUS1)+(rngBUS=valBUS2)+(rngBUS=valBUS3))*\n ((rngGEO=valGEO1)+(rngGEO=valGEO2)+(rngGEO=valGEO3)+(rngGEO=valGEO4)+(rngGEO=valGEO5))*\n (rngYEAR=valYEAR)*\n (rngMONTH=AE$3)*\n (rngMTDRE=1)*\n rngACT_RE\n )","v":6163},null,6121,6519,-398,-6.1052308636293913E-2,6163,-42,-6.8148628914489699E-3,5685,436,7.6693051890941069E-2,null,16666,17551,-885,-5.0424477237764227E-2,15657,1009,6.4444018649805201E-2,null,71411,75012,-3601,-4.8005652428944702E-2,{"$f":"SUM(OFFSET($C91,0,selCurMonth,1,12-selCurMonth))","v":891478},-820067,-0.91989594807723807,null,88077,92563,-4486,-4.8464289186824112E-2,907135,-819058,-0.90290640312632631]
["DEDUC","D1S1",{"$f":"SUMPRODUCT(\n (rngTYPE=$A12)*\n (rngSUBTYPE=LEFT($B12,2))*\n (rngSEG=RIGHT($B12,2))*\n ((rngBUS=valBUS1)+(rngBUS=valBUS2)+(rngBUS=valBUS3))*\n ((rngGEO=valGEO1)+(rngGEO=valGEO2)+(rngGEO=valGEO3)+(rngGEO=valGEO4)+(rngGEO=valGEO5))*\n (rngYEAR=valYEAR)*\n (rngMONTH=C$3)*\n (rngMTDRE=0)*\n rngACT_RE\n )","v":676},{"$f":"SUMPRODUCT(\n (rngTYPE=$A12)*\n (rngSUBTYPE=LEFT($B12,2))*\n (rngSEG=RIGHT($B12,2))*\n ((rngBUS=valBUS1)+(rngBUS=valBUS2)+(rngBUS=valBUS3))*\n ((rngGEO=valGEO1)+(rngGEO=valGEO2)+(rngGEO=valGEO3)+(rngGEO=valGEO4)+(rngGEO=valGEO5))*\n (rngYEAR=valYEAR)*\n (rngMONTH=D$3)*\n (rngMTDRE=0)*\n rngACT_RE\n )","v":1504},2141,2563,3035,3860,5131,4768,3670,2839,1668,3752,35607,null,{"$f":"SUMPRODUCT(\n (rngTYPE=$A12)*\n (rngSUBTYPE=LEFT($B12,2))*\n (rngSEG=RIGHT($B12,2))*\n ((rngBUS=valBUS1)+(rngBUS=valBUS2)+(rngBUS=valBUS3))*\n ((rngGEO=valGEO1)+(rngGEO=valGEO2)+(rngGEO=valGEO3)+(rngGEO=valGEO4)+(rngGEO=valGEO5))*\n (rngYEAR=valYEAR)*\n (rngMONTH=Q$3)*\n (rngMTDRE=0)*\n rngBP\n )","v":705},1552,2219,2743,3247,3937,5380,4919,3887,2928,1748,3890,37155,null,{"$f":"SUMPRODUCT(\n (rngTYPE=$A12)*\n (rngSUBTYPE=LEFT($B12,2))*\n (rngSEG=RIGHT($B12,2))*\n ((rngBUS=valBUS1)+(rngBUS=valBUS2)+(rngBUS=valBUS3))*\n ((rngGEO=valGEO1)+(rngGEO=valGEO2)+(rngGEO=valGEO3)+(rngGEO=valGEO4)+(rngGEO=valGEO5))*\n (rngYEAR=valYEAR)*\n (rngMONTH=AE$3)*\n (rngMTDRE=1)*\n rngACT_RE\n )","v":2571},null,2563,2743,-180,{"$f":"AI12/ABS(AH12)","v":-6.562158220925994E-2},{"$f":"$AE12","v":2571},-8,{"$f":"AL12/ABS(AK12)","v":-3.1116297160637884E-3},2255,308,{"$f":"AO12/ABS(AN12)","v":0.13658536585365855},null,6884,7219,-335,-4.6405319296301428E-2,6241,643,0.10302836083960903,null,28723,29936,-1213,-4.0519775521111703E-2,{"$f":"SUM(OFFSET($C96,0,selCurMonth,1,12-selCurMonth))","v":29130},-407,-1.3971850326124271E-2,null,{"$f":"AR12+AZ12","v":35607},{"$f":"AS12+BA12","v":37155},{"$f":"BH12-BI12","v":-1548},{"$f":"BJ12/ABS(BI12)","v":-4.1663302381913604E-2},{"$f":"AV12+BD12","v":35371},{"$f":"BH12-BL12","v":236},{"$f":"BM12/ABS(BL12)","v":6.6721325379548221E-3}]
["DEDUC","D1S2",955,2123,3146,3558,4448,5669,7607,6902,5961,3777,2573,5751,52470,null,1004,2249,3303,3776,4598,5886,8091,7385,6219,4007,2730,6160,55408,null,{"$f":"SUMPRODUCT(\n (rngTYPE=$A13)*\n (rngSUBTYPE=LEFT($B13,2))*\n (rngSEG=RIGHT($B13,2))*\n ((rngBUS=valBUS1)+(rngBUS=valBUS2)+(rngBUS=valBUS3))*\n ((rngGEO=valGEO1)+(rngGEO=valGEO2)+(rngGEO=valGEO3)+(rngGEO=valGEO4)+(rngGEO=valGEO5))*\n (rngYEAR=valYEAR)*\n (rngMONTH=AE$3)*\n (rngMTDRE=1)*\n rngACT_RE\n )","v":3592},null,3558,3776,{"$f":"$AG13-AH13","v":-218},{"$f":"AI13/ABS(AH13)","v":-5.7733050847457626E-2},{"$f":"$AE13","v":3592},{"$f":"$AG13-AK13","v":-34},{"$f":"AL13/ABS(AK13)","v":-9.4654788418708242E-3},3430,{"$f":"$AG13-AN13","v":128},{"$f":"AO13/ABS(AN13)","v":3.7317784256559766E-2},null,9782,10332,-550,-5.3232675183894698E-2,9416,366,3.8870008496176722E-2,null,42688,45076,-2388,-5.2977194072233558E-2,{"$f":"SUM(OFFSET($C97,0,selCurMonth,1,12-selCurMonth))","v":41942},746,1.7786467025892899E-2,null,{"$f":"AR13+AZ13","v":52470},{"$f":"AS13+BA13","v":55408},{"$f":"BH13-BI13","v":-2938},{"$f":"BJ13/ABS(BI13)","v":-5.3024833958995092E-2},{"$f":"AV13+BD13","v":51358},{"$f":"BH13-BL13","v":1112},{"$f":"BM13/ABS(BL13)","v":2.1651933486506483E-2}]
["DEDUC","D2",{"$f":"SUMPRODUCT(\n (rngTYPE=$A14)*\n (rngSUBTYPE=$B14)*\n ((rngBUS=valBUS1)+(rngBUS=valBUS2)+(rngBUS=valBUS3))*\n ((rngGEO=valGEO1)+(rngGEO=valGEO2)+(rngGEO=valGEO3)+(rngGEO=valGEO4)+(rngGEO=valGEO5))*\n (rngYEAR=valYEAR)*\n (rngMONTH=C$3)*\n (rngMTDRE=0)*\n rngACT_RE\n )","v":852},1694,2572,3392,3834,5255,6485,6305,4613,3580,2383,4344,45309,null,{"$f":"SUMPRODUCT(\n (rngTYPE=$A14)*\n (rngSUBTYPE=$B14)*\n ((rngBUS=valBUS1)+(rngBUS=valBUS2)+(rngBUS=valBUS3))*\n ((rngGEO=valGEO1)+(rngGEO=valGEO2)+(rngGEO=valGEO3)+(rngGEO=valGEO4)+(rngGEO=valGEO5))*\n (rngYEAR=valYEAR)*\n (rngMONTH=Q$3)*\n (rngMTDRE=0)*\n rngBP\n )","v":912},1791,2714,3574,4084,5643,6893,6542,4899,3744,2488,4516,47800,null,{"$f":"SUMPRODUCT(\n (rngTYPE=$A14)*\n (rngSUBTYPE=$B14)*\n ((rngBUS=valBUS1)+(rngBUS=valBUS2)+(rngBUS=valBUS3))*\n ((rngGEO=valGEO1)+(rngGEO=valGEO2)+(rngGEO=valGEO3)+(rngGEO=valGEO4)+(rngGEO=valGEO5))*\n (rngYEAR=valYEAR)*\n (rngMONTH=AE$3)*\n (rngMTDRE=1)*\n rngACT_RE\n )","v":3400},null,3392,3574,-182,-5.0923335198656966E-2,3400,-8,-2.352941176470588E-3,2785,607,0.21795332136445242,null,8510,8991,-481,-5.3497942386831275E-2,7709,801,0.10390452717602802,null,36799,38809,-2010,-5.1792110077559329E-2,{"$f":"SUM(OFFSET($C92,0,selCurMonth,1,12-selCurMonth))","v":360223},-323424,-0.89784383562404402,null,45309,47800,-2491,-5.2112970711297071E-2,367932,-322623,-0.87685496232999571]
["DEDUC","D2S1",{"$f":"SUMPRODUCT(\n (rngTYPE=$A15)*\n (rngSUBTYPE=LEFT($B15,2))*\n (rngSEG=RIGHT($B15,2))*\n ((rngBUS=valBUS1)+(rngBUS=valBUS2)+(rngBUS=valBUS3))*\n ((rngGEO=valGEO1)+(rngGEO=valGEO2)+(rngGEO=valGEO3)+(rngGEO=valGEO4)+(rngGEO=valGEO5))*\n (rngYEAR=valYEAR)*\n (rngMONTH=C$3)*\n (rngMTDRE=0)*\n rngACT_RE\n )","v":323},709,983,1316,1585,2126,2690,2766,1809,1590,953,1629,18479,null,{"$f":"SUMPRODUCT(\n (rngTYPE=$A15)*\n (rngSUBTYPE=LEFT($B15,2))*\n (rngSEG=RIGHT($B15,2))*\n ((rngBUS=valBUS1)+(rngBUS=valBUS2)+(rngBUS=valBUS3))*\n ((rngGEO=valGEO1)+(rngGEO=valGEO2)+(rngGEO=valGEO3)+(rngGEO=valGEO4)+(rngGEO=valGEO5))*\n (rngYEAR=valYEAR)*\n (rngMONTH=Q$3)*\n (rngMTDRE=0)*\n rngBP\n )","v":342},746,1029,1392,1687,2257,2899,2800,1935,1676,997,1699,19459,null,{"$f":"SUMPRODUCT(\n (rngTYPE=$A15)*\n (rngSUBTYPE=LEFT($B15,2))*\n (rngSEG=RIGHT($B15,2))*\n ((rngBUS=valBUS1)+(rngBUS=valBUS2)+(rngBUS=valBUS3))*\n ((rngGEO=valGEO1)+(rngGEO=valGEO2)+(rngGEO=valGEO3)+(rngGEO=valGEO4)+(rngGEO=valGEO5))*\n (rngYEAR=valYEAR)*\n (rngMONTH=AE$3)*\n (rngMTDRE=1)*\n rngACT_RE\n )","v":1321},null,1316,1392,-76,-5.459770114942529E-2,1321,-5,-3.7850113550340651E-3,1047,269,0.25692454632282713,null,3331,3509,-178,-5.0726702764320321E-2,3017,314,0.10407689758037786,null,15148,15950,-802,-5.0282131661442006E-2,{"$f":"SUM(OFFSET($C99,0,selCurMonth,1,12-selCurMonth))","v":13495},1653,0.12248981104112634,null,{"$f":"AR15+AZ15","v":18479},{"$f":"AS15+BA15","v":19459},{"$f":"BH15-BI15","v":-980},{"$f":"BJ15/ABS(BI15)","v":-5.0362300220977436E-2},{"$f":"AV15+BD15","v":16512},{"$f":"BH15-BL15","v":1967},{"$f":"BM15/ABS(BL15)","v":0.11912548449612403}]
["DEDUC","D2S2",529,985,1589,2076,2249,3129,3795,3539,2804,1990,1430,2715,26830,null,570,1045,1685,2182,2397,3386,3994,3742,2964,2068,1491,2817,28341,null,{"$f":"SUMPRODUCT(\n (rngTYPE=$A16)*\n (rngSUBTYPE=LEFT($B16,2))*\n (rngSEG=RIGHT($B16,2))*\n ((rngBUS=valBUS1)+(rngBUS=valBUS2)+(rngBUS=valBUS3))*\n ((rngGEO=valGEO1)+(rngGEO=valGEO2)+(rngGEO=valGEO3)+(rngGEO=valGEO4)+(rngGEO=valGEO5))*\n (rngYEAR=valYEAR)*\n (rngMONTH=AE$3)*\n (rngMTDRE=1)*\n rngACT_RE\n )","v":2079},null,2076,2182,-106,-4.857928505957837E-2,2079,-3,-1.443001443001443E-3,1738,338,0.19447640966628307,null,5179,5482,-303,-5.5271798613644653E-2,4692,487,0.10379369138959932,null,21651,22859,-1208,-5.284570628636423E-2,{"$f":"SUM(OFFSET($C100,0,selCurMonth,1,12-selCurMonth))","v":21545},106,4.9199350197261542E-3,null,{"$f":"AR16+AZ16","v":26830},{"$f":"AS16+BA16","v":28341},{"$f":"BH16-BI16","v":-1511},{"$f":"BJ16/ABS(BI16)","v":-5.3314985356903426E-2},{"$f":"AV16+BD16","v":26237},{"$f":"BH16-BL16","v":593},{"$f":"BM16/ABS(BL16)","v":2.2601669398178145E-2}]
["DEDUC","D3",{"$f":"SUMPRODUCT(\n (rngTYPE=$A17)*\n (rngSUBTYPE=$B17)*\n ((rngBUS=valBUS1)+(rngBUS=valBUS2)+(rngBUS=valBUS3))*\n ((rngGEO=valGEO1)+(rngGEO=valGEO2)+(rngGEO=valGEO3)+(rngGEO=valGEO4)+(rngGEO=valGEO5))*\n (rngYEAR=valYEAR)*\n (rngMONTH=C$3)*\n (rngMTDRE=0)*\n rngACT_RE\n )","v":477},883,1353,1502,2101,2635,3357,3311,2472,1774,1094,2343,23302,null,{"$f":"SUMPRODUCT(\n (rngTYPE=$A17)*\n (rngSUBTYPE=$B17)*\n ((rngBUS=valBUS1)+(rngBUS=valBUS2)+(rngBUS=valBUS3))*\n ((rngGEO=valGEO1)+(rngGEO=valGEO2)+(rngGEO=valGEO3)+(rngGEO=valGEO4)+(rngGEO=valGEO5))*\n (rngYEAR=valYEAR)*\n (rngMONTH=Q$3)*\n (rngMTDRE=0)*\n rngBP\n )","v":494},935,1436,1574,2185,2732,3498,3416,2578,1850,1166,2426,24290,null,{"$f":"SUMPRODUCT(\n (rngTYPE=$A17)*\n (rngSUBTYPE=$B17)*\n ((rngBUS=valBUS1)+(rngBUS=valBUS2)+(rngBUS=valBUS3))*\n ((rngGEO=valGEO1)+(rngGEO=valGEO2)+(rngGEO=valGEO3)+(rngGEO=valGEO4)+(rngGEO=valGEO5))*\n (rngYEAR=valYEAR)*\n (rngMONTH=AE$3)*\n (rngMTDRE=1)*\n rngACT_RE\n )","v":1517},null,1502,1574,-72,-4.5743329097839895E-2,1517,-15,-9.8879367172050106E-3,1532,-30,-1.95822454308094E-2,null,4215,4439,-224,-5.046181572426222E-2,4193,22,5.246839971380873E-3,null,19087,19851,-764,-3.8486726109515895E-2,{"$f":"SUM(OFFSET($C93,0,selCurMonth,1,12-selCurMonth))","v":531255},-512168,-0.96407186755889351,null,23302,24290,-988,-4.0675174969123096E-2,535448,-512146,-0.95648130163900136]
["DEDUC","D3S1",{"$f":"SUMPRODUCT(\n (rngTYPE=$A18)*\n (rngSUBTYPE=LEFT($B18,2))*\n (rngSEG=RIGHT($B18,2))*\n ((rngBUS=valBUS1)+(rngBUS=valBUS2)+(rngBUS=valBUS3))*\n ((rngGEO=valGEO1)+(rngGEO=valGEO2)+(rngGEO=valGEO3)+(rngGEO=valGEO4)+(rngGEO=valGEO5))*\n (rngYEAR=valYEAR)*\n (rngMONTH=C$3)*\n (rngMTDRE=0)*\n rngACT_RE\n )","v":191},360,568,590,760,1066,1364,1336,1000,698,472,903,9308,null,{"$f":"SUMPRODUCT(\n (rngTYPE=$A18)*\n (rngSUBTYPE=LEFT($B18,2))*\n (rngSEG=RIGHT($B18,2))*\n ((rngBUS=valBUS1)+(rngBUS=valBUS2)+(rngBUS=valBUS3))*\n ((rngGEO=valGEO1)+(rngGEO=valGEO2)+(rngGEO=valGEO3)+(rngGEO=valGEO4)+(rngGEO=valGEO5))*\n (rngYEAR=valYEAR)*\n (rngMONTH=Q$3)*\n (rngMTDRE=0)*\n rngBP\n )","v":195},386,606,615,806,1106,1450,1389,1046,722,509,930,9760,null,{"$f":"SUMPRODUCT(\n (rngTYPE=$A18)*\n (rngSUBTYPE=LEFT($B18,2))*\n (rngSEG=RIGHT($B18,2))*\n ((rngBUS=valBUS1)+(rngBUS=valBUS2)+(rngBUS=valBUS3))*\n ((rngGEO=valGEO1)+(rngGEO=valGEO2)+(rngGEO=valGEO3)+(rngGEO=valGEO4)+(rngGEO=valGEO5))*\n (rngYEAR=valYEAR)*\n (rngMONTH=AE$3)*\n (rngMTDRE=1)*\n rngACT_RE\n )","v":604},null,590,615,-25,-4.065040650406504E-2,604,-14,-2.3178807947019868E-2,606,-16,-2.6402640264026403E-2,null,1709,1802,-93,-5.1609322974472807E-2,1679,30,1.7867778439547351E-2,null,7599,7958,-359,-4.511183714501131E-2,{"$f":"SUM(OFFSET($C102,0,selCurMonth,1,12-selCurMonth))","v":7283},316,4.3388713442262805E-2,null,{"$f":"AR18+AZ18","v":9308},{"$f":"AS18+BA18","v":9760},{"$f":"BH18-BI18","v":-452},{"$f":"BJ18/ABS(BI18)","v":-4.6311475409836066E-2},{"$f":"AV18+BD18","v":8962},{"$f":"BH18-BL18","v":346},{"$f":"BM18/ABS(BL18)","v":3.8607453693372012E-2}]
["DEDUC","D3S2",286,523,785,912,1341,1569,1993,1975,1472,1076,622,1440,13994,null,299,549,830,959,1379,1626,2048,2027,1532,1128,657,1496,14530,null,{"$f":"SUMPRODUCT(\n (rngTYPE=$A19)*\n (rngSUBTYPE=LEFT($B19,2))*\n (rngSEG=RIGHT($B19,2))*\n ((rngBUS=valBUS1)+(rngBUS=valBUS2)+(rngBUS=valBUS3))*\n ((rngGEO=valGEO1)+(rngGEO=valGEO2)+(rngGEO=valGEO3)+(rngGEO=valGEO4)+(rngGEO=valGEO5))*\n (rngYEAR=valYEAR)*\n (rngMONTH=AE$3)*\n (rngMTDRE=1)*\n rngACT_RE\n )","v":913},null,912,959,-47,-4.9009384775808136E-2,913,-1,-1.0952902519167579E-3,926,-14,-1.511879049676026E-2,null,2506,2637,-131,-4.9677664012135005E-2,2514,-8,-3.1821797931583136E-3,null,11488,11893,-405,-3.4053645001261248E-2,{"$f":"SUM(OFFSET($C103,0,selCurMonth,1,12-selCurMonth))","v":11277},211,1.8710649995566198E-2,null,{"$f":"AR19+AZ19","v":13994},{"$f":"AS19+BA19","v":14530},{"$f":"BH19-BI19","v":-536},{"$f":"BJ19/ABS(BI19)","v":-3.6889194769442531E-2},{"$f":"AV19+BD19","v":13791},{"$f":"BH19-BL19","v":203},{"$f":"BM19/ABS(BL19)","v":1.4719744761076065E-2}]
["DEDUC","D4",{"$f":"SUMPRODUCT(\n (rngTYPE=$A20)*\n (rngSUBTYPE=$B20)*\n ((rngBUS=valBUS1)+(rngBUS=valBUS2)+(rngBUS=valBUS3))*\n ((rngGEO=valGEO1)+(rngGEO=valGEO2)+(rngGEO=valGEO3)+(rngGEO=valGEO4)+(rngGEO=valGEO5))*\n (rngYEAR=valYEAR)*\n (rngMONTH=C$3)*\n (rngMTDRE=0)*\n rngACT_RE\n )","v":297},545,805,969,1297,1602,2009,2058,1467,1095,663,1493,14300,null,{"$f":"SUMPRODUCT(\n (rngTYPE=$A20)*\n (rngSUBTYPE=$B20)*\n ((rngBUS=valBUS1)+(rngBUS=valBUS2)+(rngBUS=valBUS3))*\n ((rngGEO=valGEO1)+(rngGEO=valGEO2)+(rngGEO=valGEO3)+(rngGEO=valGEO4)+(rngGEO=valGEO5))*\n (rngYEAR=valYEAR)*\n (rngMONTH=Q$3)*\n (rngMTDRE=0)*\n rngBP\n )","v":307},575,846,1007,1359,1693,2114,2143,1541,1148,691,1557,14981,null,{"$f":"SUMPRODUCT(\n (rngTYPE=$A20)*\n (rngSUBTYPE=$B20)*\n ((rngBUS=valBUS1)+(rngBUS=valBUS2)+(rngBUS=valBUS3))*\n ((rngGEO=valGEO1)+(rngGEO=valGEO2)+(rngGEO=valGEO3)+(rngGEO=valGEO4)+(rngGEO=valGEO5))*\n (rngYEAR=valYEAR)*\n (rngMONTH=AE$3)*\n (rngMTDRE=1)*\n rngACT_RE\n )","v":985},null,969,1007,-38,-3.7735849056603772E-2,985,-16,-1.6243654822335026E-2,897,72,8.0267558528428096E-2,null,2616,2735,-119,-4.3510054844606946E-2,2522,94,3.7272006344171292E-2,null,11684,12246,-562,-4.5892536338396211E-2,{"$f":"SUM(OFFSET($C94,0,selCurMonth,1,12-selCurMonth))","v":141601},-129917,-0.91748645842896592,null,14300,14981,-681,-4.5457579600827712E-2,144123,-129823,-0.90077919554824704]
["DEDUC","D4S1",{"$f":"SUMPRODUCT(\n (rngTYPE=$A21)*\n (rngSUBTYPE=LEFT($B21,2))*\n (rngSEG=RIGHT($B21,2))*\n ((rngBUS=valBUS1)+(rngBUS=valBUS2)+(rngBUS=valBUS3))*\n ((rngGEO=valGEO1)+(rngGEO=valGEO2)+(rngGEO=valGEO3)+(rngGEO=valGEO4)+(rngGEO=valGEO5))*\n (rngYEAR=valYEAR)*\n (rngMONTH=C$3)*\n (rngMTDRE=0)*\n rngACT_RE\n )","v":116},223,324,402,526,644,778,877,604,441,271,564,5770,null,{"$f":"SUMPRODUCT(\n (rngTYPE=$A21)*\n (rngSUBTYPE=LEFT($B21,2))*\n (rngSEG=RIGHT($B21,2))*\n ((rngBUS=valBUS1)+(rngBUS=valBUS2)+(rngBUS=valBUS3))*\n ((rngGEO=valGEO1)+(rngGEO=valGEO2)+(rngGEO=valGEO3)+(rngGEO=valGEO4)+(rngGEO=valGEO5))*\n (rngYEAR=valYEAR)*\n (rngMONTH=Q$3)*\n (rngMTDRE=0)*\n rngBP\n )","v":122},236,341,415,567,667,810,912,636,477,283,579,6045,null,{"$f":"SUMPRODUCT(\n (rngTYPE=$A21)*\n (rngSUBTYPE=LEFT($B21,2))*\n (rngSEG=RIGHT($B21,2))*\n ((rngBUS=valBUS1)+(rngBUS=valBUS2)+(rngBUS=valBUS3))*\n ((rngGEO=valGEO1)+(rngGEO=valGEO2)+(rngGEO=valGEO3)+(rngGEO=valGEO4)+(rngGEO=valGEO5))*\n (rngYEAR=valYEAR)*\n (rngMONTH=AE$3)*\n (rngMTDRE=1)*\n rngACT_RE\n )","v":408},null,402,415,-13,-3.1325301204819279E-2,408,-6,-1.4705882352941176E-2,385,17,4.4155844155844157E-2,null,1065,1114,-49,-4.3985637342908439E-2,1056,9,8.5227272727272721E-3,null,4705,4931,-226,-4.5832488339079297E-2,{"$f":"SUM(OFFSET($C105,0,selCurMonth,1,12-selCurMonth))","v":4441},264,5.9446070704796218E-2,null,{"$f":"AR21+AZ21","v":5770},{"$f":"AS21+BA21","v":6045},{"$f":"BH21-BI21","v":-275},{"$f":"BJ21/ABS(BI21)","v":-4.5492142266335814E-2},{"$f":"AV21+BD21","v":5497},{"$f":"BH21-BL21","v":273},{"$f":"BM21/ABS(BL21)","v":4.9663452792432235E-2}]
["DEDUC","D4S2",181,322,481,567,771,958,1231,1181,863,654,392,929,8530,null,185,339,505,592,792,1026,1304,1231,905,671,408,978,8936,null,{"$f":"SUMPRODUCT(\n (rngTYPE=$A22)*\n (rngSUBTYPE=LEFT($B22,2))*\n (rngSEG=RIGHT($B22,2))*\n ((rngBUS=valBUS1)+(rngBUS=valBUS2)+(rngBUS=valBUS3))*\n ((rngGEO=valGEO1)+(rngGEO=valGEO2)+(rngGEO=valGEO3)+(rngGEO=valGEO4)+(rngGEO=valGEO5))*\n (rngYEAR=valYEAR)*\n (rngMONTH=AE$3)*\n (rngMTDRE=1)*\n rngACT_RE\n )","v":577},null,567,592,-25,-4.2229729729729729E-2,577,-10,-1.7331022530329289E-2,512,55,0.107421875,null,1551,1621,-70,-4.3183220234423197E-2,1466,85,5.7980900409276941E-2,null,6979,7315,-336,-4.5933014354066985E-2,{"$f":"SUM(OFFSET($C106,0,selCurMonth,1,12-selCurMonth))","v":6737},242,3.5921033100786703E-2,null,{"$f":"AR22+AZ22","v":8530},{"$f":"AS22+BA22","v":8936},{"$f":"BH22-BI22","v":-406},{"$f":"BJ22/ABS(BI22)","v":-4.5434198746642791E-2},{"$f":"AV22+BD22","v":8203},{"$f":"BH22-BL22","v":327},{"$f":"BM22/ABS(BL22)","v":3.986346458612703E-2}]
["DEDUC","D5",{"$f":"SUMPRODUCT(\n (rngTYPE=$A23)*\n (rngSUBTYPE=$B23)*\n ((rngBUS=valBUS1)+(rngBUS=valBUS2)+(rngBUS=valBUS3))*\n ((rngGEO=valGEO1)+(rngGEO=valGEO2)+(rngGEO=valGEO3)+(rngGEO=valGEO4)+(rngGEO=valGEO5))*\n (rngYEAR=valYEAR)*\n (rngMONTH=C$3)*\n (rngMTDRE=0)*\n rngACT_RE\n )","v":151},308,440,464,645,829,1048,977,718,595,345,721,7241,null,{"$f":"SUMPRODUCT(\n (rngTYPE=$A23)*\n (rngSUBTYPE=$B23)*\n ((rngBUS=valBUS1)+(rngBUS=valBUS2)+(rngBUS=valBUS3))*\n ((rngGEO=valGEO1)+(rngGEO=valGEO2)+(rngGEO=valGEO3)+(rngGEO=valGEO4)+(rngGEO=valGEO5))*\n (rngYEAR=valYEAR)*\n (rngMONTH=Q$3)*\n (rngMTDRE=0)*\n rngBP\n )","v":159},312,462,488,685,866,1116,1019,755,623,362,768,7615,null,{"$f":"SUMPRODUCT(\n (rngTYPE=$A23)*\n (rngSUBTYPE=$B23)*\n ((rngBUS=valBUS1)+(rngBUS=valBUS2)+(rngBUS=valBUS3))*\n ((rngGEO=valGEO1)+(rngGEO=valGEO2)+(rngGEO=valGEO3)+(rngGEO=valGEO4)+(rngGEO=valGEO5))*\n (rngYEAR=valYEAR)*\n (rngMONTH=AE$3)*\n (rngMTDRE=1)*\n rngACT_RE\n )","v":477},null,464,488,-24,-4.9180327868852458E-2,477,-13,-2.7253668763102725E-2,496,-32,-6.4516129032258063E-2,null,1363,1421,-58,-4.0816326530612242E-2,1322,41,3.1013615733736764E-2,null,5878,6194,-316,-5.1017113335485954E-2,{"$f":"SUM(OFFSET($C95,0,selCurMonth,1,12-selCurMonth))","v":71072},-65194,-0.91729513732552903,null,7241,7615,-374,-4.9113591595535126E-2,72394,-65153,-0.89997789872088851]
["DEDUC","D5S1",{"$f":"SUMPRODUCT(\n (rngTYPE=$A24)*\n (rngSUBTYPE=LEFT($B24,2))*\n (rngSEG=RIGHT($B24,2))*\n ((rngBUS=valBUS1)+(rngBUS=valBUS2)+(rngBUS=valBUS3))*\n ((rngGEO=valGEO1)+(rngGEO=valGEO2)+(rngGEO=valGEO3)+(rngGEO=valGEO4)+(rngGEO=valGEO5))*\n (rngYEAR=valYEAR)*\n (rngMONTH=C$3)*\n (rngMTDRE=0)*\n rngACT_RE\n )","v":60},124,181,181,271,342,437,359,293,243,133,274,2898,null,{"$f":"SUMPRODUCT(\n (rngTYPE=$A24)*\n (rngSUBTYPE=LEFT($B24,2))*\n (rngSEG=RIGHT($B24,2))*\n ((rngBUS=valBUS1)+(rngBUS=valBUS2)+(rngBUS=valBUS3))*\n ((rngGEO=valGEO1)+(rngGEO=valGEO2)+(rngGEO=valGEO3)+(rngGEO=valGEO4)+(rngGEO=valGEO5))*\n (rngYEAR=valYEAR)*\n (rngMONTH=Q$3)*\n (rngMTDRE=0)*\n rngBP\n )","v":64},122,189,190,287,363,453,377,309,259,139,296,3048,null,{"$f":"SUMPRODUCT(\n (rngTYPE=$A24)*\n (rngSUBTYPE=LEFT($B24,2))*\n (rngSEG=RIGHT($B24,2))*\n ((rngBUS=valBUS1)+(rngBUS=valBUS2)+(rngBUS=valBUS3))*\n ((rngGEO=valGEO1)+(rngGEO=valGEO2)+(rngGEO=valGEO3)+(rngGEO=valGEO4)+(rngGEO=valGEO5))*\n (rngYEAR=valYEAR)*\n (rngMONTH=AE$3)*\n (rngMTDRE=1)*\n rngACT_RE\n )","v":189},null,181,190,-9,-4.736842105263158E-2,189,-8,-4.2328042328042326E-2,189,-8,-4.2328042328042326E-2,null,546,565,-19,-3.3628318584070796E-2,530,16,3.0188679245283019E-2,null,2352,2483,-131,-5.2758759565042286E-2,{"$f":"SUM(OFFSET($C108,0,selCurMonth,1,12-selCurMonth))","v":2297},55,2.3944275141488898E-2,null,{"$f":"AR24+AZ24","v":2898},{"$f":"AS24+BA24","v":3048},{"$f":"BH24-BI24","v":-150},{"$f":"BJ24/ABS(BI24)","v":-4.9212598425196853E-2},{"$f":"AV24+BD24","v":2827},{"$f":"BH24-BL24","v":71},{"$f":"BM24/ABS(BL24)","v":2.5114962858153518E-2}]
["DEDUC","D5S2",91,184,259,283,374,487,611,618,425,352,212,447,4343,null,95,190,273,298,398,503,663,642,446,364,223,472,4567,null,{"$f":"SUMPRODUCT(\n (rngTYPE=$A25)*\n (rngSUBTYPE=LEFT($B25,2))*\n (rngSEG=RIGHT($B25,2))*\n ((rngBUS=valBUS1)+(rngBUS=valBUS2)+(rngBUS=valBUS3))*\n ((rngGEO=valGEO1)+(rngGEO=valGEO2)+(rngGEO=valGEO3)+(rngGEO=valGEO4)+(rngGEO=valGEO5))*\n (rngYEAR=valYEAR)*\n (rngMONTH=AE$3)*\n (rngMTDRE=1)*\n rngACT_RE\n )","v":288},null,283,298,-15,-5.0335570469798654E-2,288,-5,-1.7361111111111112E-2,307,-24,-7.8175895765472306E-2,null,817,856,-39,-4.55607476635514E-2,792,25,3.1565656565656568E-2,null,3526,3711,-185,-4.9851791969819453E-2,{"$f":"SUM(OFFSET($C109,0,selCurMonth,1,12-selCurMonth))","v":3454},72,2.0845396641574986E-2,null,{"$f":"AR25+AZ25","v":4343},{"$f":"AS25+BA25","v":4567},{"$f":"BH25-BI25","v":-224},{"$f":"BJ25/ABS(BI25)","v":-4.9047514779943069E-2},{"$f":"AV25+BD25","v":4246},{"$f":"BH25-BL25","v":97},{"$f":"BM25/ABS(BL25)","v":2.2845030617051343E-2}]
["NREV","ALL",{"$f":"C7-C10","v":16562},{"$f":"D7-D10","v":34387},53553,62402,81547,108605,138102,123797,97801,78709,45437,99824,940726,null,{"$f":"Q7-Q10","v":17636},{"$f":"R7-R10","v":35875},56945,64902,88478,111523,143081,129775,103720,80490,48157,106779,987361,null,{"$f":"AE7-AE10","v":61959},null,62402,64902,{"$f":"$AG26-AH26","v":-2500},-3.85196141875443E-2,61959,{"$f":"$AG26-AK26","v":443},7.1498894430187705E-3,62330,{"$f":"$AG26-AN26","v":72},1.1551419862024708E-3,null,166904,175358,-8454,-4.8209947649950388E-2,162983,3921,2.4057723811685881E-2,null,773822,812003,-38181,-4.7020762238563156E-2,{"$f":"SUM(OFFSET($C96,0,selCurMonth,1,12-selCurMonth))","v":29130},744692,25.564435290078958,null,940726,987361,-46635,-4.7231964803146974E-2,192113,748613,3.8967326521370236]
["NREV","S1",{"$f":"C8-C12-C15-C18-C21-C24","v":6649},{"$f":"D8-D12-D15-D18-D21-D24","v":12414},23034,25431,34057,46183,51351,49709,42330,30399,18460,44758,384775,null,{"$f":"Q8-Q12-Q15-Q18-Q21-Q24","v":7222},{"$f":"R8-R12-R15-R18-R21-R24","v":12962},24265,25743,36307,47317,54024,51839,45664,31572,19864,47729,404508,null,{"$f":"AE8-AE12-AE15-AE18-AE21-AE24","v":25152},null,25431,25743,-312,-1.211979955716117E-2,25152,279,1.1092557251908396E-2,22942,2489,0.10849097724697063,null,67528,70192,-2664,-3.7953043081832685E-2,62289,5239,8.4107948433912894E-2,null,317247,334316,-17069,-5.1056485480802591E-2,{"$f":"SUM(OFFSET($C111,0,selCurMonth,1,12-selCurMonth))","v":303577},13670,4.5029761806724487E-2,null,{"$f":"AR27+AZ27","v":384775},{"$f":"AS27+BA27","v":404508},{"$f":"BH27-BI27","v":-19733},{"$f":"BJ27/ABS(BI27)","v":-4.8782718759579541E-2},{"$f":"AV27+BD27","v":365866},{"$f":"BH27-BL27","v":18909},{"$f":"BM27/ABS(BL27)","v":5.1682856564971874E-2}]
["NREV","S2",{"$f":"C9-C13-C16-C19-C22-C25","v":9913},{"$f":"D9-D13-D16-D19-D22-D25","v":21973},30519,36971,47490,62422,86751,74088,55471,48310,26977,55066,555951,null,{"$f":"Q9-Q13-Q16-Q19-Q22-Q25","v":10414},{"$f":"R9-R13-R16-R19-R22-R25","v":22913},32680,39159,52171,64206,89057,77936,58056,48918,28293,59050,582853,null,{"$f":"AE9-AE13-AE16-AE19-AE22-AE25","v":36807},null,36971,39159,-2188,-5.587476697566332E-2,36807,164,4.4556741924090528E-3,39388,-2417,-6.136386716766528E-2,null,99376,105166,-5790,-5.5055816518646709E-2,100694,-1318,-1.3089161221125389E-2,null,456575,477687,-21112,-4.4196304274556349E-2,{"$f":"SUM(OFFSET($C112,0,selCurMonth,1,12-selCurMonth))","v":446300},10275,2.3022630517589064E-2,null,{"$f":"AR28+AZ28","v":555951},{"$f":"AS28+BA28","v":582853},{"$f":"BH28-BI28","v":-26902},{"$f":"BJ28/ABS(BI28)","v":-4.6155720224481986E-2},{"$f":"AV28+BD28","v":546994},{"$f":"BH28-BL28","v":8957},{"$f":"BM28/ABS(BL28)","v":1.6374951096355717E-2}]
["PRD","ALL",{"$f":"SUMPRODUCT(\n (rngTYPE=$A29)*\n ((rngBUS=valBUS1)+(rngBUS=valBUS2)+(rngBUS=valBUS3))*\n ((rngGEO=valGEO1)+(rngGEO=valGEO2)+(rngGEO=valGEO3)+(rngGEO=valGEO4)+(rngGEO=valGEO5))*\n (rngYEAR=valYEAR)*\n (rngMONTH=C$3)*\n (rngMTDRE=0)*\n rngACT_RE\n )","v":8288},18721,26701,29121,37235,54296,67145,56637,48666,34752,21773,46951,450286,null,{"$f":"SUMPRODUCT(\n (rngTYPE=$A29)*\n ((rngBUS=valBUS1)+(rngBUS=valBUS2)+(rngBUS=valBUS3))*\n ((rngGEO=valGEO1)+(rngGEO=valGEO2)+(rngGEO=valGEO3)+(rngGEO=valGEO4)+(rngGEO=valGEO5))*\n (rngYEAR=valYEAR)*\n (rngMONTH=Q$3)*\n (rngMTDRE=0)*\n rngBP\n )","v":8701},19762,27728,30519,39210,56026,71563,59285,51131,36396,22910,49081,472312,null,{"$f":"SUMPRODUCT(\n (rngTYPE=$A29)*\n ((rngBUS=valBUS1)+(rngBUS=valBUS2)+(rngBUS=valBUS3))*\n ((rngGEO=valGEO1)+(rngGEO=valGEO2)+(rngGEO=valGEO3)+(rngGEO=valGEO4)+(rngGEO=valGEO5))*\n (rngYEAR=valYEAR)*\n (rngMONTH=AE$3)*\n (rngMTDRE=1)*\n rngACT_RE\n )","v":29542},null,29121,30519,{"$f":"$AG29-AH29","v":-1398},-4.5807529735574559E-2,29542,{"$f":"$AG29-AK29","v":-421},-1.4250897027960192E-2,27248,{"$f":"$AG29-AN29","v":1873},6.8738990017615978E-2,null,82831,86710,-3879,-4.4735324645369626E-2,77304,5527,7.14969471178723E-2,null,367455,385602,-18147,-4.7061477896898872E-2,{"$f":"SUM(OFFSET($C97,0,selCurMonth,1,12-selCurMonth))","v":41942},325513,7.7610271327070715,null,450286,472312,-22026,-4.6634428089906671E-2,119246,331040,2.7761098904785064]
["PRD","P1",{"$f":"SUMPRODUCT(\n (rngTYPE=$A30)*\n (rngSUBTYPE=$B30)*\n ((rngBUS=valBUS1)+(rngBUS=valBUS2)+(rngBUS=valBUS3))*\n ((rngGEO=valGEO1)+(rngGEO=valGEO2)+(rngGEO=valGEO3)+(rngGEO=valGEO4)+(rngGEO=valGEO5))*\n (rngYEAR=valYEAR)*\n (rngMONTH=C$3)*\n (rngMTDRE=0)*\n rngACT_RE\n )","v":3606},8507,12776,13214,16464,25274,30695,26142,22498,15397,10200,22923,207696,null,{"$f":"SUMPRODUCT(\n (rngTYPE=$A30)*\n (rngSUBTYPE=$B30)*\n ((rngBUS=valBUS1)+(rngBUS=valBUS2)+(rngBUS=valBUS3))*\n ((rngGEO=valGEO1)+(rngGEO=valGEO2)+(rngGEO=valGEO3)+(rngGEO=valGEO4)+(rngGEO=valGEO5))*\n (rngYEAR=valYEAR)*\n (rngMONTH=Q$3)*\n (rngMTDRE=0)*\n rngBP\n )","v":3763},9123,13074,13975,17767,26193,32927,27323,23490,16104,10775,24092,218606,null,{"$f":"SUMPRODUCT(\n (rngTYPE=$A30)*\n (rngSUBTYPE=$B30)*\n ((rngBUS=valBUS1)+(rngBUS=valBUS2)+(rngBUS=valBUS3))*\n ((rngGEO=valGEO1)+(rngGEO=valGEO2)+(rngGEO=valGEO3)+(rngGEO=valGEO4)+(rngGEO=valGEO5))*\n (rngYEAR=valYEAR)*\n (rngMONTH=AE$3)*\n (rngMTDRE=1)*\n rngACT_RE\n )","v":13381},null,13214,13975,-761,-5.4454382826475849E-2,13381,-167,-1.2480382632090278E-2,12037,1177,9.7781839328736395E-2,null,38103,39935,-1832,-4.5874546137473396E-2,34448,3655,0.10610195076637251,null,169593,178671,-9078,-5.080846919757543E-2,35040,134553,3.839982876712329,null,207696,218606,-10910,-4.9907138870845268E-2,69488,138208,1.9889477319825006]
["PRD","P2",2963,6788,9138,10384,12850,18457,24371,18752,17224,12246,7762,15553,156488,null,3107,7038,9562,10762,13219,18818,25753,19882,18264,12799,8241,16190,163635,null,{"$f":"SUMPRODUCT(\n (rngTYPE=$A31)*\n (rngSUBTYPE=$B31)*\n ((rngBUS=valBUS1)+(rngBUS=valBUS2)+(rngBUS=valBUS3))*\n ((rngGEO=valGEO1)+(rngGEO=valGEO2)+(rngGEO=valGEO3)+(rngGEO=valGEO4)+(rngGEO=valGEO5))*\n (rngYEAR=valYEAR)*\n (rngMONTH=AE$3)*\n (rngMTDRE=1)*\n rngACT_RE\n )","v":10552},null,10384,10762,-378,-3.5123582977141798E-2,10552,-168,-1.5921152388172859E-2,9270,1114,0.12017259978425027,null,29273,30469,-1196,-3.9253011257343533E-2,26412,2861,0.10832197485991216,null,127215,133166,-5951,-4.4688584173137286E-2,13495,113720,8.4268247499073734,null,156488,163635,-7147,-4.367647508173679E-2,39907,116581,2.9213170621695443]
["PRD","P3",1719,3426,4787,5523,7921,10565,12079,11743,8944,7109,3811,8475,86102,null,1831,3601,5092,5782,8224,11015,12883,12080,9377,7493,3894,8799,90071,null,{"$f":"SUMPRODUCT(\n (rngTYPE=$A32)*\n (rngSUBTYPE=$B32)*\n ((rngBUS=valBUS1)+(rngBUS=valBUS2)+(rngBUS=valBUS3))*\n ((rngGEO=valGEO1)+(rngGEO=valGEO2)+(rngGEO=valGEO3)+(rngGEO=valGEO4)+(rngGEO=valGEO5))*\n (rngYEAR=valYEAR)*\n (rngMONTH=AE$3)*\n (rngMTDRE=1)*\n rngACT_RE\n )","v":5609},null,5523,5782,-259,-4.4794188861985475E-2,5609,-86,-1.5332501337136744E-2,5941,-418,-7.0358525500757454E-2,null,15455,16306,-851,-5.2189378143014845E-2,16444,-989,-6.0143517392361956E-2,null,70647,73765,-3118,-4.2269368941910121E-2,21545,49102,2.2790438616848459,null,86102,90071,-3969,-4.4065237423810105E-2,37989,48113,1.2664981968464555]
["GRPRF","ALL",{"$f":"C26-C29","v":8274},{"$f":"D26-D29","v":15666},26852,33281,44312,54309,70957,67160,49135,43957,23664,52873,490440,null,{"$f":"Q26-Q29","v":8935},{"$f":"R26-R29","v":16113},29217,34383,49268,55497,71518,70490,52589,44094,25247,57698,515049,null,{"$f":"AE26-AE29","v":32417},null,33281,34383,-1102,-3.2050722740889395E-2,32417,864,2.6652682234629979E-2,35082,-1801,-5.1336867909469244E-2,null,84073,88648,-4575,-5.1608609331287789E-2,85679,-1606,-1.8744383104377968E-2,null,406367,426401,-20034,-4.6983942345350971E-2,18560,387807,20.894773706896551,null,490440,515049,-24609,-4.7779919968779672E-2,104239,386201,3.7049568779439559]
["OPEX","ALL",{"$f":"SUMPRODUCT(\n (rngTYPE=$A34)*\n ((rngBUS=valBUS1)+(rngBUS=valBUS2)+(rngBUS=valBUS3))*\n ((rngGEO=valGEO1)+(rngGEO=valGEO2)+(rngGEO=valGEO3)+(rngGEO=valGEO4)+(rngGEO=valGEO5))*\n (rngYEAR=valYEAR)*\n (rngMONTH=C$3)*\n (rngMTDRE=0)*\n rngACT_RE\n )","v":4110},8545,12563,14148,18421,23818,32662,30568,23540,17241,10699,22525,218840,null,{"$f":"SUMPRODUCT(\n (rngTYPE=$A34)*\n ((rngBUS=valBUS1)+(rngBUS=valBUS2)+(rngBUS=valBUS3))*\n ((rngGEO=valGEO1)+(rngGEO=valGEO2)+(rngGEO=valGEO3)+(rngGEO=valGEO4)+(rngGEO=valGEO5))*\n (rngYEAR=valYEAR)*\n (rngMONTH=Q$3)*\n (rngMTDRE=0)*\n rngBP\n )","v":4287},8948,13055,14949,19444,25132,34165,32011,24532,18005,11461,23608,229597,null,{"$f":"SUMPRODUCT(\n (rngTYPE=$A34)*\n ((rngBUS=valBUS1)+(rngBUS=valBUS2)+(rngBUS=valBUS3))*\n ((rngGEO=valGEO1)+(rngGEO=valGEO2)+(rngGEO=valGEO3)+(rngGEO=valGEO4)+(rngGEO=valGEO5))*\n (rngYEAR=valYEAR)*\n (rngMONTH=AE$3)*\n (rngMTDRE=1)*\n rngACT_RE\n )","v":14256},null,14148,14949,-801,-5.3582179409993977E-2,14256,-108,-7.575757575757576E-3,13972,176,1.2596621815058689E-2,null,39366,41239,-1873,-4.5418172118625574E-2,38545,821,2.1299779478531587E-2,null,179474,188358,-8884,-4.7165503987088415E-2,7283,172191,23.642866950432513,null,218840,229597,-10757,-4.6851657469392023E-2,45828,173012,3.7752465741468098]
["OPEX","O1",{"$f":"SUMPRODUCT(\n (rngTYPE=$A35)*\n (rngSUBTYPE=$B35)*\n ((rngBUS=valBUS1)+(rngBUS=valBUS2)+(rngBUS=valBUS3))*\n ((rngGEO=valGEO1)+(rngGEO=valGEO2)+(rngGEO=valGEO3)+(rngGEO=valGEO4)+(rngGEO=valGEO5))*\n (rngYEAR=valYEAR)*\n (rngMONTH=C$3)*\n (rngMTDRE=0)*\n rngACT_RE\n )","v":1729},3459,5006,5749,7219,9331,13714,11607,8725,7134,4320,8833,86826,null,{"$f":"SUMPRODUCT(\n (rngTYPE=$A35)*\n (rngSUBTYPE=$B35)*\n ((rngBUS=valBUS1)+(rngBUS=valBUS2)+(rngBUS=valBUS3))*\n ((rngGEO=valGEO1)+(rngGEO=valGEO2)+(rngGEO=valGEO3)+(rngGEO=valGEO4)+(rngGEO=valGEO5))*\n (rngYEAR=valYEAR)*\n (rngMONTH=Q$3)*\n (rngMTDRE=0)*\n rngBP\n )","v":1792},3620,5189,6131,7650,10101,14615,12325,8994,7500,4670,9236,91823,null,{"$f":"SUMPRODUCT(\n (rngTYPE=$A35)*\n (rngSUBTYPE=$B35)*\n ((rngBUS=valBUS1)+(rngBUS=valBUS2)+(rngBUS=valBUS3))*\n ((rngGEO=valGEO1)+(rngGEO=valGEO2)+(rngGEO=valGEO3)+(rngGEO=valGEO4)+(rngGEO=valGEO5))*\n (rngYEAR=valYEAR)*\n (rngMONTH=AE$3)*\n (rngMTDRE=1)*\n rngACT_RE\n )","v":5873},null,5749,6131,-382,-6.230631218398304E-2,5873,-124,-2.1113570577217775E-2,5199,550,0.10578957491825351,null,15943,16732,-789,-4.7155151804924696E-2,15027,916,6.0956944167165766E-2,null,70883,75091,-4208,-5.6038673076666976E-2,11277,59606,5.2856256096479557,null,86826,91823,-4997,-5.4419916578634986E-2,26304,60522,2.300866788321168]
["OPEX","O2",890,1880,2971,2910,4345,5490,7395,7956,5580,3845,2739,5362,51363,null,939,1970,3062,3024,4557,5641,7600,8161,5816,3967,2919,5771,53427,null,2897,null,2910,3024,-114,-3.7698412698412696E-2,2897,13,4.4874007594062825E-3,3371,-461,-0.13675467220409374,null,8651,8995,-344,-3.8243468593663149E-2,8950,-299,-3.3407821229050276E-2,null,42712,44432,-1720,-3.8710839034929778E-2,11178,31534,2.821077115763106,null,51363,53427,-2064,-3.8632152282553768E-2,20128,31235,1.5518183624801272]
["OPEX","O3",228,391,609,645,793,1148,1544,1465,1224,858,528,1021,10454,null,234,411,644,685,851,1178,1694,1526,1306,919,540,1080,11068,null,645,null,645,685,-40,-5.8394160583941604E-2,645,0,0,826,-181,-0.21912832929782083,null,1873,1974,-101,-5.1165146909827763E-2,2118,-245,-0.11567516525023608,null,8581,9094,-513,-5.6410820321090828E-2,4441,4140,0.93222247241612255,null,10454,11068,-614,-5.5475243946512466E-2,6559,3895,0.59384052447019364]
["OPEX","O4",224,484,796,841,1096,1345,1857,1667,1398,973,607,1324,12612,null,232,502,830,879,1152,1400,1925,1750,1455,1048,667,1383,13223,null,858,null,841,879,-38,-4.3230944254835042E-2,858,-17,-1.9813519813519812E-2,828,13,1.570048309178744E-2,null,2345,2443,-98,-4.0114613180515762E-2,2320,25,1.0775862068965518E-2,null,10267,10780,-513,-4.7588126159554732E-2,6737,3530,0.52397209440403736,null,12612,13223,-611,-4.6207365953263253E-2,9057,3555,0.39251407750910899]
["OPEX","O5",300,622,875,1128,1258,1929,2529,2011,1642,1218,732,1435,15679,null,316,672,915,1185,1321,2014,2600,2094,1688,1291,790,1486,16372,null,1132,null,1128,1185,-57,-4.810126582278481E-2,1132,-4,-3.5335689045936395E-3,1008,120,0.11904761904761904,null,2925,3088,-163,-5.2784974093264249E-2,2736,189,6.9078947368421059E-2,null,12754,13284,-530,-3.9897621198434208E-2,5751,7003,1.2177012693444618,null,15679,16372,-693,-4.2328365502076713E-2,8487,7192,0.84741369152821966]
["OPEX","O6",739,1709,2306,2875,3710,4575,5623,5862,4971,3213,1773,4550,41906,null,774,1773,2415,3045,3913,4798,5731,6155,5273,3280,1875,4652,43684,null,2851,null,2875,3045,-170,-5.5829228243021348E-2,2851,24,8.4180989126622242E-3,2740,135,4.9270072992700732E-2,null,7629,8007,-378,-4.7208692394155115E-2,7394,235,3.1782526372734647E-2,null,34277,35677,-1400,-3.9240967570143233E-2,2297,31980,13.922507618633,null,41906,43684,-1778,-4.0701400970607086E-2,9691,32215,3.3242183469198223]
["EBIT","ALL",{"$f":"C33-C34","v":4164},{"$f":"D33-D34","v":7121},14289,19133,25891,30491,38295,36592,25595,26716,12965,30348,271600,null,{"$f":"Q33-Q34","v":4648},{"$f":"R33-R34","v":7165},16162,19434,29824,30365,37353,38479,28057,26089,13786,34090,285452,null,{"$f":"AE33-AE34","v":18161},null,19133,19434,-301,-1.5488319440156427E-2,18161,972,5.3521281867738559E-2,21110,-1977,-9.3652297489341549E-2,null,44707,47409,-2702,-5.6993397878040038E-2,47134,-2427,-5.1491492340985275E-2,null,226893,238043,-11150,-4.6840276756720423E-2,3454,223439,64.689924724956569,null,271600,285452,-13852,-4.8526547370486103E-2,50588,221012,4.3688621807543289]
["DA","ALL",{"$f":"SUMPRODUCT(\n (rngTYPE=$A42)*\n ((rngBUS=valBUS1)+(rngBUS=valBUS2)+(rngBUS=valBUS3))*\n ((rngGEO=valGEO1)+(rngGEO=valGEO2)+(rngGEO=valGEO3)+(rngGEO=valGEO4)+(rngGEO=valGEO5))*\n (rngYEAR=valYEAR)*\n (rngMONTH=C$3)*\n (rngMTDRE=0)*\n rngACT_RE\n )","v":2119},4271,6352,7482,8630,13087,15214,14500,10950,7977,5733,11432,107747,null,{"$f":"SUMPRODUCT(\n (rngTYPE=$A42)*\n ((rngBUS=valBUS1)+(rngBUS=valBUS2)+(rngBUS=valBUS3))*\n ((rngGEO=valGEO1)+(rngGEO=valGEO2)+(rngGEO=valGEO3)+(rngGEO=valGEO4)+(rngGEO=valGEO5))*\n (rngYEAR=valYEAR)*\n (rngMONTH=Q$3)*\n (rngMTDRE=0)*\n rngBP\n )","v":2217},4460,6618,7724,9107,13572,16069,15620,11682,8510,6054,11868,113501,null,{"$f":"SUMPRODUCT(\n (rngTYPE=$A42)*\n ((rngBUS=valBUS1)+(rngBUS=valBUS2)+(rngBUS=valBUS3))*\n ((rngGEO=valGEO1)+(rngGEO=valGEO2)+(rngGEO=valGEO3)+(rngGEO=valGEO4)+(rngGEO=valGEO5))*\n (rngYEAR=valYEAR)*\n (rngMONTH=AE$3)*\n (rngMTDRE=1)*\n rngACT_RE\n )","v":7429},null,7482,7724,-242,-3.1330916623511132E-2,7429,53,7.1342037959348497E-3,7676,-194,-2.5273579989577907E-2,null,20224,21019,-795,-3.7822922118083642E-2,20469,-245,-1.1969319458693634E-2,null,87523,92482,-4959,-5.3621245215285135E-2,749877,-662354,-0.88328352516479369,null,107747,113501,-5754,-5.0695588585122596E-2,770346,-662599,-0.86013168108875748]
["DA","A1",{"$f":"SUMPRODUCT(\n (rngTYPE=$A43)*\n (rngSUBTYPE=$B43)*\n ((rngBUS=valBUS1)+(rngBUS=valBUS2)+(rngBUS=valBUS3))*\n ((rngGEO=valGEO1)+(rngGEO=valGEO2)+(rngGEO=valGEO3)+(rngGEO=valGEO4)+(rngGEO=valGEO5))*\n (rngYEAR=valYEAR)*\n (rngMONTH=C$3)*\n (rngMTDRE=0)*\n rngACT_RE\n )","v":1321},2650,4148,5045,5624,8814,9803,9591,7037,5144,3810,7407,70394,null,{"$f":"SUMPRODUCT(\n (rngTYPE=$A43)*\n (rngSUBTYPE=$B43)*\n ((rngBUS=valBUS1)+(rngBUS=valBUS2)+(rngBUS=valBUS3))*\n ((rngGEO=valGEO1)+(rngGEO=valGEO2)+(rngGEO=valGEO3)+(rngGEO=valGEO4)+(rngGEO=valGEO5))*\n (rngYEAR=valYEAR)*\n (rngMONTH=Q$3)*\n (rngMTDRE=0)*\n rngBP\n )","v":1376},2764,4308,5183,6020,9218,10479,10287,7511,5556,3985,7645,74332,null,{"$f":"SUMPRODUCT(\n (rngTYPE=$A43)*\n (rngSUBTYPE=$B43)*\n ((rngBUS=valBUS1)+(rngBUS=valBUS2)+(rngBUS=valBUS3))*\n ((rngGEO=valGEO1)+(rngGEO=valGEO2)+(rngGEO=valGEO3)+(rngGEO=valGEO4)+(rngGEO=valGEO5))*\n (rngYEAR=valYEAR)*\n (rngMONTH=AE$3)*\n (rngMTDRE=1)*\n rngACT_RE\n )","v":5008},null,5045,5183,-138,-2.6625506463438163E-2,5008,37,7.3881789137380189E-3,4919,126,2.5614962390729822E-2,null,13164,13631,-467,-3.426014232264691E-2,13051,113,8.6583403570607616E-3,null,57230,60701,-3471,-5.7181924515246868E-2,303577,-246347,-0.81148110693497866,null,70394,74332,-3938,-5.2978528762847761E-2,316628,-246234,-0.7776760109655495]
["DA","A2",798,1621,2204,2437,3006,4273,5411,4909,3913,2833,1923,4025,37353,null,841,1696,2310,2541,3087,4354,5590,5333,4171,2954,2069,4223,39169,null,{"$f":"SUMPRODUCT(\n (rngTYPE=$A44)*\n (rngSUBTYPE=$B44)*\n ((rngBUS=valBUS1)+(rngBUS=valBUS2)+(rngBUS=valBUS3))*\n ((rngGEO=valGEO1)+(rngGEO=valGEO2)+(rngGEO=valGEO3)+(rngGEO=valGEO4)+(rngGEO=valGEO5))*\n (rngYEAR=valYEAR)*\n (rngMONTH=AE$3)*\n (rngMTDRE=1)*\n rngACT_RE\n )","v":2421},null,2437,2541,-104,-4.0928768201495477E-2,2421,16,6.6088393225939698E-3,2757,-320,-0.11606819006166122,null,7060,7388,-328,-4.4396318354087708E-2,7418,-358,-4.8260986788891881E-2,null,30293,31781,-1488,-4.6820427299329788E-2,446300,-416007,-0.93212413174994402,null,37353,39169,-1816,-4.6363195384104779E-2,453718,-416365,-0.91767353289928988]
["EBITDA","ALL",{"$f":"C41+C42","v":6283},{"$f":"D41+D42","v":11392},20641,26615,34521,43578,53509,51092,36545,34693,18698,41780,379347,null,{"$f":"Q41+Q42","v":6865},{"$f":"R41+R42","v":11625},22780,27158,38931,43937,53422,54099,39739,34599,19840,45958,398953,null,{"$f":"AE41+AE42","v":25590},null,26615,27158,-543,-1.999410854996686E-2,25590,1025,4.00547088706526E-2,28786,-2171,-7.541860626693532E-2,null,64931,68428,-3497,-5.110481089612439E-2,67603,-2672,-3.9524873156516725E-2,null,314416,330525,-16109,-4.8737614401331217E-2,356097,-41681,-0.11704956795479883,null,379347,398953,-19606,-4.9143633460583078E-2,423700,-44353,-0.10468019825348124]
["GRREV/U","ALL",{"$f":"C7/C$4","v":0.92040374245287371},0.95020176082171681,0.96908496336219951,0.95091089259852124,0.96209481260858776,0.9943876761108531,1.0232088736134979,0.95150545716176194,1.0342162866334046,1.0524462776018049,1.0344741968753581,1.1099136312429592,1.003402199323685,null,{"$f":"Q7/Q$4","v":0.93598905946709021},0.94092203360358206,0.98414929222388037,0.93617633655529708,1.0036641279950889,0.97487637170293828,1.0052277775152403,0.9612225938312895,1.0425720358998583,1.0207619909112446,1.0324450846236946,1.1558790367674694,1.00581769730848,null,{"$f":"AE7/AE$4","v":0.94967431069867048},null,{"$f":"AG7/AG$4","v":0.95091089259852124},{"$f":"AH7/AH$4","v":0.93617633655529708},{"$f":"AG46-AH46","v":1.4734556043224156E-2},1.5739081909975014E-2,0.94967431069867048,{"$f":"AG46-AK46","v":1.2365818998507638E-3},1.3021115617426957E-3,{"$f":"AN7/AN$4","v":0.99228781393846399},{"$f":"AG46-AN46","v":-4.1376921339942752E-2},-4.1698507992066008E-2,null,{"$f":"AR7/AR$4","v":0.95332708171687797},{"$f":"AS7/AS$4","v":0.95212140401664558},{"$f":"AR46-AS46","v":1.2056777002323882E-3},{"$f":"AT46/ABS(AS46)","v":1.2663066864646495E-3},{"$f":"AV7/AV$4","v":0.95221440083079834},{"$f":"AR46-AV46","v":1.1126808860796311E-3},{"$f":"AW46/ABS(AV46)","v":1.1685192800159577E-3},null,{"$f":"AZ7/AZ$4","v":1.0150251579414904},{"$f":"BA7/BA$4","v":1.018356754153217},{"$f":"AZ46-BA46","v":-3.3315962117266285E-3},-3.2715413317967474E-3,{"$f":"BD7/BD$4","v":0.39197196961971437},{"$f":"AZ46-BD46","v":0.62305318832177603},1.5895350601887512,null,{"$f":"BH7/BH$4","v":1.003402199323685},{"$f":"BI7/BI$4","v":1.00581769730848},{"$f":"BH46-BI46","v":-2.415497984795012E-3},-2.4015266297846708E-3,{"$f":"BL7/BL$4","v":0.4953507396242447},{"$f":"BH46-BL46","v":0.50805145969944032},1.0256398528542219]
["GRREV/U","S1",{"$f":"C8/C$5","v":0.92137027244510861},0.82788035849260344,1.0099770046732439,0.956569491950921,0.95302840088116159,1.0152414477502949,0.92564944312032493,0.9382156413715218,1.0702812109728264,0.96753507014028051,1.0956586826347305,1.250994670974898,0.99851371643020914,null,{"$f":"Q8/Q$5","v":0.9462859643365058},0.8196670934699104,1.0046288178980958,0.9085809448680866,0.97860352654029514,0.998206181498556,0.92243519713973587,0.93311543247822237,1.1196557933084879,0.95114615715116135,1.1037651802878981,1.2723726427071071,0.99962512105465939,null,{"$f":"AE8/AE$5","v":0.95973218252205372},null,{"$f":"AG8/AG$5","v":0.956569491950921},{"$f":"AH8/AH$5","v":0.9085809448680866},{"$f":"AG47-AH47","v":4.7988547082834399E-2},5.2817030066376391E-2,0.95973218252205372,{"$f":"AG47-AK47","v":-3.1626905711327202E-3},-3.2953886810605567E-3,{"$f":"AN8/AN$5","v":0.96894322156661838},{"$f":"AG47-AN47","v":-1.2373729615697382E-2},-1.2770335082886632E-2,null,{"$f":"AR8/AR$5","v":0.94204532248692618},{"$f":"AS8/AS$5","v":0.92332348758341543},{"$f":"AR47-AS47","v":1.8721834903510759E-2},2.0276571705666029E-2,0.36647219323898678,{"$f":"AR47-AV47","v":0.57557312924793935},1.5705779043175372,null,{"$f":"AZ8/AZ$5","v":1.0115945696387567},{"$f":"BA8/BA$5","v":1.0175667854248929},{"$f":"AZ47-BA47","v":-5.9722157861361591E-3},-5.8691143143419465E-3,0.39928771265534868,{"$f":"AZ47-BD47","v":0.61230685698340803},1.5334978702736342,null,{"$f":"BH8/BH$5","v":0.99851371643020914},{"$f":"BI8/BI$5","v":0.99962512105465939},{"$f":"BH47-BI47","v":-1.1114046244502518E-3},-1.111821422892673E-3,0.39323242686239329,{"$f":"BH47-BL47","v":0.60528128956781591},1.5392456171464883]
["GRREV/U","S2",{"$f":"C9/C$6","v":0.91975688567471914},1.0404877659998406,0.94088002046559227,0.94706171152901997,0.96863676762152184,0.97968933525134283,1.0929549692436291,0.96072372787309734,1.0089910992635431,1.1155718003218054,0.99653443901231509,1.0199695614075543,1.0068030727871007,null,{"$f":"Q9/Q$6","v":0.9290308272344201},1.0303224831961333,0.96972988988198117,0.95538965397994269,1.0218488785897542,0.95860749043056215,1.0642882445220383,0.98100524466300143,0.99056363893205257,1.0724458204334366,0.98798702247683634,1.0791418318939301,1.0101416250158144,null,{"$f":"AE9/AE$6","v":0.94292106104186646},null,{"$f":"AG9/AG$6","v":0.94706171152901997},{"$f":"AH9/AH$6","v":0.95538965397994269},-8.3279424509227207E-3,-8.7168020045332792E-3,0.94292106104186646,4.1406504871535077E-3,4.3913013063663657E-3,{"$f":"AN9/AN$6","v":1.0066528970540276},-5.9591185525007639E-2,-5.9197351638684399E-2,null,{"$f":"AR9/AR$6","v":0.96115424618436007},{"$f":"AS9/AS$6","v":0.97242230276856634},-1.1268056584206265E-2,-1.1587616359811145E-2,0.5857422075918115,0.37541203859254857,0.64091682949739459,null,{"$f":"AZ9/AZ$6","v":1.0174133035990367},{"$f":"BA9/BA$6","v":1.0189071149893099},-1.4938113902731587E-3,-1.4660918235798474E-3,0.58886743430241062,0.42854586929662608,0.72774591416197754,null,{"$f":"BH9/BH$6","v":1.0068030727871007},{"$f":"BI9/BI$6","v":1.0101416250158144},-3.3385522287137093E-3,-3.305033815096415E-3,0.58829075164624589,0.41851232114085479,0.71140387634806268]
["DEDUC/U","ALL",{"$f":"C10/C$4","v":0.15707240632345484},0.16179842259721203,0.15831466117604312,0.15814213481718628,0.15249441548771409,0.15366155751664345,0.1602062177784721,0.15623735281080769,0.16750117421859076,0.15564113665884283,0.1666603002406509,0.17277506571535861,0.15982355910940213,null,{"$f":"Q10/Q$4","v":0.15797600141168167},0.1611493903101702,0.15908662831973805,0.1578442424387787,0.15498685901739981,0.15297481741334965,0.16003496999196634,0.15746314876749659,0.16768169242189082,0.15399194503672115,0.16537630536550235,0.17707235243970629,0.16034118388513258,null,{"$f":"AE10/AE$4","v":0.15987456819079912},null,{"$f":"AG10/AG$4","v":0.15814213481718628},{"$f":"AH10/AH$4","v":0.1578442424387787},2.978923784075771E-4,1.8872552701636699E-3,0.15987456819079912,-1.7324333736128406E-3,-1.0836203613981321E-2,{"$f":"AN10/AN$4","v":0.15336886591832888},4.7732688988574024E-3,3.1122802338508761E-2,null,{"$f":"AR10/AR$4","v":0.15884500592634199},{"$f":"AS10/AS$4","v":0.15893341776732406},-8.8411840982072221E-5,-5.5628226098746402E-4,0.1538299508672927,5.0150550590492837E-3,3.2601291431053718E-2,null,{"$f":"AZ10/AZ$4","v":0.16005069153955112},{"$f":"BA10/BA$4","v":0.16066992276621994},-6.1923122666882047E-4,-3.8540581585380009E-3,0.60802803038028563,-0.44797733884073454,-0.73677086656769941,null,{"$f":"BH10/BH$4","v":0.15982355910940213},{"$f":"BI10/BI$4","v":0.16034118388513258},-5.1762477573044641E-4,-3.2282708857960633E-3,0.5242171010706812,-0.36439354196127904,-0.69511952436696101]
["DEDUC/U","D1",{"$f":"C11/C$4","v":7.517168272111352E-2},8.3157556859867934E-2,8.0042996427057464E-2,7.7762532713367374E-2,7.4291387441052376E-2,7.3765288744387675E-2,7.9600062490235907E-2,7.4967719555204385E-2,8.5350183000859614E-2,7.5382266481325344E-2,8.1000038198556099E-2,8.921329327825761E-2,7.8981420619982229E-2,null,{"$f":"Q11/Q$4","v":7.5392623963296282E-2},8.2617862499184902E-2,8.0006954606702499E-2,7.8178591130405581E-2,7.5248911312755393E-2,7.2393488049878774E-2,7.9574453003166207E-2,7.620463272637186E-2,8.5245293204669684E-2,7.4680709009067217E-2,8.0626575441123519E-2,9.2124923229230646E-2,7.9261630256821286E-2,null,{"$f":"AE11/AE$4","v":7.8560593506609391E-2},null,{"$f":"AG11/AG$4","v":7.7762532713367374E-2},{"$f":"AH11/AH$4","v":7.8178591130405581E-2},-4.1605841703820645E-4,-5.3218970951292967E-3,7.8560593506609391E-2,-7.9806079324201695E-4,-1.0158538239338469E-2,{"$f":"AN11/AN$4","v":7.6516191552935472E-2},1.2463411604319019E-3,1.6288593762140625E-2,null,{"$f":"AR11/AR$4","v":7.9332060796176676E-2},{"$f":"AS11/AS$4","v":7.9387552017369273E-2},-5.5491221192596751E-5,-6.9899146380601057E-4,7.6696988845944711E-2,2.6350719502319653E-3,3.4356915308954697E-2,null,{"$f":"AZ11/AZ$4","v":7.8900033367142422E-2},{"$f":"BA11/BA$4","v":7.9232225245474977E-2},-3.3219187833255504E-4,-4.1926359799105452E-3,0.9881551469577593,-0.90925511359061684,-0.92015420492414313,null,{"$f":"BH11/BH$4","v":7.8981420619982229E-2},{"$f":"BI11/BI$4","v":7.9261630256821286E-2},-2.802096368390572E-4,-3.5352494760848329E-3,0.81996827276383999,-0.74098685214385773,-0.90367746747839139]
["DEDUC/U","D1S1",{"$f":"C12/C$5","v":7.7710081618576843E-2},8.1200734261958757E-2,7.9408055782212009E-2,8.0428028995512602E-2,7.1890470663476799E-2,7.2275169921545868E-2,7.6913852288228335E-2,7.4787464315964489E-2,7.902329787692175E-2,7.5858383433533738E-2,8.3233532934131743E-2,9.0472860553157633E-2,7.7826616278739366E-2,null,{"$f":"Q12/Q$5","v":7.7125041023957994E-2},7.9487836107554416E-2,7.7813234211172283E-2,8.0141408829286817E-2,7.4066470494308714E-2,7.0622634401851223E-2,7.6330462664756044E-2,7.3751443093392502E-2,8.1382689167120312E-2,7.4001061490636136E-2,8.1961832418999389E-2,8.9790642383953095E-2,7.7381262300715389E-2,null,{"$f":"AE12/AE$5","v":8.1582788601891221E-2},null,{"$f":"AG12/AG$5","v":8.0428028995512602E-2},{"$f":"AH12/AH$5","v":8.0141408829286817E-2},2.8662016622578446E-4,3.5764303424753647E-3,8.1582788601891221E-2,-1.1547596063786192E-3,-1.4154451277874682E-2,{"$f":"AN12/AN$5","v":7.9673532841041589E-2},7.544961544710127E-4,9.4698468558727586E-3,null,{"$f":"AR12/AR$5","v":0.08},{"$f":"AS12/AS$5","v":7.8973854064106772E-2},1.0261459358932301E-3,1.2993489402964423E-2,3.0572006603279106E-2,4.9427993396720896E-2,1.6167729530523955,null,{"$f":"AZ12/AZ$5","v":7.7323153873695372E-2},{"$f":"BA12/BA$5","v":7.7006778222227942E-2},3.163756514674293E-4,4.1084130354658533E-3,3.2289029489095109E-2,4.5034124384600263E-2,1.394719045359029,null,{"$f":"BH12/BH$5","v":7.7826616278739366E-2},{"$f":"BI12/BI$5","v":7.7381262300715389E-2},4.453539780239768E-4,5.7553206652698856E-3,3.197219573264154E-2,4.5854420546097827E-2,1.4341967917856651]
["DEDUC/U","D1S2",{"$f":"C13/C$6","v":7.3472841975688569E-2},8.4601896867777152E-2,8.0480941417242255E-2,7.5949367088607597E-2,7.6023791618240244E-2,7.4815567550446729E-2,8.1520457809117597E-2,7.5092750753429874E-2,8.9775448425428089E-2,7.5028306946624018E-2,7.9615075190296425E-2,8.8410275330904398E-2,7.9784807585867132E-2,null,{"$f":"Q13/Q$6","v":7.4221926517335696E-2},8.4925609848198774E-2,8.1551528319589159E-2,7.6811977460892203E-2,7.61069270876438E-2,7.3628380575917543E-2,8.1888568392287836E-2,7.7931260090963766E-2,8.7851391439468851E-2,7.5185289426775492E-2,7.9794230263350183E-2,9.3662571463325628E-2,8.0574585442536373E-2,null,{"$f":"AE13/AE$6","v":7.653137317566848E-2},null,{"$f":"AG13/AG$6","v":7.5949367088607597E-2},{"$f":"AH13/AH$6","v":7.6811977460892203E-2},-8.6261037228460569E-4,-1.1230154473288912E-2,7.653137317566848E-2,-5.820060870608823E-4,-7.6048039243325474E-3,{"$f":"AN13/AN$6","v":7.4573323187302962E-2},1.3760439013046355E-3,1.8452227183821199E-2,null,{"$f":"AR13/AR$6","v":7.8868651686299168E-2},{"$f":"AS13/AS$6","v":7.9679185625048193E-2},-8.1053393874902513E-4,-1.0172467657528658E-2,4.6124982242665612E-2,3.2743669443633557E-2,0.70989012573203036,null,{"$f":"AZ13/AZ$6","v":7.9997751187654023E-2},{"$f":"BA13/BA$6","v":8.0782664953377381E-2},-7.8491376572335791E-4,-9.7163638532643138E-3,4.6490438545541607E-2,3.3507312642112416E-2,0.72073556822418361,null,{"$f":"BH13/BH$6","v":7.9784807585867132E-2},{"$f":"BI13/BI$6","v":8.0574585442536373E-2},-7.8977785666924094E-4,-9.8018233954487947E-3,4.6423002698170936E-2,3.3361804887696196E-2,0.71864814744115313]
["DEDUC/U","D2",{"$f":"C14/C$4","v":3.9268101580863711E-2},3.8838958180484225E-2,3.8939017743595955E-2,4.3092715400055902E-2,3.8064035740878632E-2,4.0679671775816689E-2,4.0524917981565378E-2,4.0503125260973744E-2,4.088053101266384E-2,4.0790283253195996E-2,4.5513579586691624E-2,4.0781073976717985E-2,4.0630007684988985E-2,null,{"$f":"Q14/Q$4","v":4.0232927474854421E-2},3.8928858651944266E-2,3.9322505397064576E-2,4.2860911903676878E-2,3.9173556889903503E-2,4.1587748454185676E-2,4.071759368649875E-2,4.0517775300383994E-2,4.1323638572103381E-2,4.0317891064159721E-2,4.4796543032048976E-2,4.1396632169473195E-2,4.0931105585126422E-2,null,{"$f":"AE14/AE$4","v":4.3340259276727557E-2},null,{"$f":"AG14/AG$4","v":4.3092715400055902E-2},{"$f":"AH14/AH$4","v":4.2860911903676878E-2},2.3180349637902387E-4,5.4082726214497159E-3,4.3340259276727557E-2,-2.4754387667165478E-4,-5.7116381120631311E-3,{"$f":"AN14/AN$4","v":3.7484185307814478E-2},5.6085300922414233E-3,0.14962390261879829,null,{"$f":"AR14/AR$4","v":4.0508570585351227E-2},{"$f":"AS14/AS$4","v":4.0668536276461012E-2},-1.5996569110978548E-4,-3.9334017340175035E-3,3.7763114709930878E-2,2.7454558754203481E-3,7.2702050572601554E-2,null,{"$f":"AZ14/AZ$4","v":4.0658194506133144E-2},{"$f":"BA14/BA$4","v":4.0992420273444762E-2},-3.3422576731161752E-4,-8.1533553052521718E-3,0.39928771265534868,-0.35862951814921551,-0.89817318886236819,null,{"$f":"BH14/BH$4","v":4.0630007684988985E-2},{"$f":"BI14/BI$4","v":4.0931105585126422E-2},-3.0109790013743698E-4,-7.3562122457510697E-3,0.33257736338532323,-0.29194735570033425,-0.87783291300582245]
["DEDUC/U","D2S1",{"$f":"C15/C$5","v":3.7130704678698702E-2},3.8278803584926031E-2,3.6458719679548994E-2,4.1296639156494182E-2,3.7544117298718524E-2,3.9807515868706352E-2,4.0323185081920523E-2,4.3385513065846849E-2,3.8951810860858707E-2,4.2484969939879762E-2,4.7554890219560879E-2,3.928046104506764E-2,4.038975600906633E-2,null,{"$f":"Q15/Q$5","v":3.7413849688217919E-2},3.8207426376440458E-2,3.6083739523792825E-2,4.0669646770093784E-2,3.8481717192454211E-2,4.0486483577591617E-2,4.1130485365265382E-2,4.1980898691095551E-2,4.0513378836732131E-2,4.2358531099148278E-2,4.6748253387724481E-2,3.9217044064353807E-2,4.0526496652122754E-2,null,{"$f":"AE15/AE$5","v":4.1917877768610778E-2},null,{"$f":"AG15/AG$5","v":4.1296639156494182E-2},{"$f":"AH15/AH$5","v":4.0669646770093784E-2},6.2699238640039762E-4,1.5416715811297709E-2,4.1917877768610778E-2,-6.2123861211659664E-4,-1.4820373673158535E-2,{"$f":"AN15/AN$5","v":3.6992544959898246E-2},4.3040941965959353E-3,0.11635031332020511,null,{"$f":"AR15/AR$5","v":3.8710052295177225E-2},{"$f":"AS15/AS$5","v":3.8387484957882072E-2},3.2256733729515291E-4,8.4029296956825098E-3,1.4779000788670575E-2,2.3931051506506651E-2,1.6192604526316785,null,{"$f":"AZ15/AZ$5","v":4.0778857879703985E-2},{"$f":"BA15/BA$5","v":4.1029466616933977E-2},-2.5060873722999172E-4,-6.1080184046691625E-3,1.4958477616043202E-2,2.5820380263660785E-2,1.7261369055342919,null,{"$f":"BH15/BH$5","v":4.038975600906633E-2},{"$f":"BI15/BI$5","v":4.0526496652122754E-2},-1.3674064305642386E-4,-3.3741047056250165E-3,1.4925359643136387E-2,2.5464396365929943E-2,1.7061160986924737]
["DEDUC/U","D2S2",{"$f":"C16/C$6","v":4.0698569010617018E-2},3.9252410934884831E-2,4.0649782553082631E-2,4.4314470510384868E-2,3.8439187803377316E-2,4.12943924616948E-2,4.066913860728294E-2,3.8503802508894278E-2,4.2229551649874242E-2,3.9530402653900398E-2,4.4247787610619468E-2,4.1737766914172393E-2,4.0797148609277967E-2,null,{"$f":"Q16/Q$6","v":4.2137946329563095E-2},3.9460765803187067E-2,4.1602883808207002E-2,4.4386582314530403E-2,3.9675577257303647E-2,4.2355707888218956E-2,4.0423055513384952E-2,3.9487985817249348E-2,4.1870320666760844E-2,3.8802889576883381E-2,4.3579925759214336E-2,4.2832380488991607E-2,4.1213621246515363E-2,null,{"$f":"AE16/AE$6","v":4.429530201342282E-2},null,{"$f":"AG16/AG$6","v":4.4314470510384868E-2},{"$f":"AH16/AH$6","v":4.4386582314530403E-2},-7.2111804145534586E-5,-1.6246306966041864E-3,4.429530201342282E-2,1.9168496962047865E-5,4.3274334050683814E-4,{"$f":"AN16/AN$6","v":3.7786715947385585E-2},6.5277545629992828E-3,0.17275263010653166,null,{"$f":"AR16/AR$6","v":4.1756363431133044E-2},{"$f":"AS16/AS$6","v":4.227654816071566E-2},-5.2018472958261647E-4,-1.2304333069131318E-2,2.2984113921260305E-2,1.8772249509872739E-2,0.81674888900147713,null,{"$f":"AZ16/AZ$6","v":4.0574196752340169E-2},{"$f":"BA16/BA$6","v":4.0966610572571956E-2},-3.9241382023178645E-4,-9.5788695903125578E-3,2.3881467227688091E-2,1.6692729524652079E-2,0.69898257780822548,null,{"$f":"BH16/BH$6","v":4.0797148609277967E-2},{"$f":"BI16/BI$6","v":4.1213621246515363E-2},-4.1647263723739586E-4,-1.0105218241957054E-2,2.3715883052142041E-2,1.7081265557135926E-2,0.72024581667825061]
["DEDUC/U","D3",{"$f":"C17/C$4","v":2.1984606166751165E-2},2.0244864269992665E-2,2.0483861200266455E-2,1.9081738953680413E-2,2.0858773889302556E-2,2.0397894410899519E-2,2.0977972191845023E-2,2.1269761734985577E-2,2.1906930991394971E-2,2.0212838684684275E-2,2.0894610183735056E-2,2.1995869320315435E-2,2.0895637490909384E-2,null,{"$f":"Q17/Q$4","v":2.1792835715546143E-2},2.0322994326950245E-2,2.0805865051652443E-2,1.8876070323555514E-2,2.0958428453584515E-2,2.0134277649625245E-2,2.0663012144983697E-2,2.1156942896073332E-2,2.1745731830757811E-2,1.9922034847407982E-2,2.0993878285920059E-2,2.2238314801404334E-2,2.0799509511772403E-2,null,{"$f":"AE17/AE$4","v":1.9337403918469324E-2},null,{"$f":"AG17/AG$4","v":1.9081738953680413E-2},{"$f":"AH17/AH$4","v":1.8876070323555514E-2},2.056686301248993E-4,1.089573341270321E-2,1.9337403918469324E-2,-2.5566496478891115E-4,-1.3221266198236842E-2,{"$f":"AN17/AN$4","v":2.0619666747422542E-2},-1.537927793742129E-3,-7.4585482519225005E-2,null,{"$f":"AR17/AR$4","v":2.0063880730582306E-2},{"$f":"AS17/AS$4","v":2.0078704541342501E-2},-1.4823810760195705E-5,-7.3828521803650962E-4,2.0539724993999246E-2,-4.7584426341694061E-4,-2.3167022126925275E-2,null,{"$f":"AZ17/AZ$4","v":2.1088696935747258E-2},{"$f":"BA17/BA$4","v":2.0967830525088303E-2},1.2086641065895548E-4,5.764373692086891E-3,0.58886743430241062,-0.5677787373666634,-0.96418770047841162,null,{"$f":"BH17/BH$4","v":2.0895637490909384E-2},{"$f":"BI17/BI$4","v":2.0799509511772403E-2},9.6127979136981234E-5,4.6216464423150631E-3,0.48399672784629916,-0.46310109035538977,-0.95682690338860077]
["DEDUC/U","D3S1",{"$f":"C18/C$5","v":2.1956546729509138E-2},1.9436345966958212E-2,2.1066686447592908E-2,1.8514450685662282E-2,1.8002226591183647E-2,1.9959930346209298E-2,2.0446403141910631E-2,2.0955547887191391E-2,2.1532233753929632E-2,1.8650634602538411E-2,2.3552894211576848E-2,2.1774251886860697E-2,2.0344599217078273E-2,null,{"$f":"Q18/Q$5","v":2.1332458155562849E-2},1.9769526248399488E-2,2.1250482168531051E-2,1.7968270663511265E-2,1.8385455872624832E-2,1.9839632625970903E-2,2.0572336591802277E-2,2.0825524386404184E-2,2.1900255433189564E-2,1.8247529506912327E-2,2.3866460355418014E-2,2.1466657433695729E-2,2.0326769480688529E-2,null,{"$f":"AE18/AE$5","v":1.9166084914641113E-2},null,{"$f":"AG18/AG$5","v":1.8514450685662282E-2},{"$f":"AH18/AH$5","v":1.7968270663511265E-2},5.4618002215101741E-4,3.0396916452297352E-2,1.9166084914641113E-2,-6.5163422897883058E-4,-3.3999339556355736E-2,{"$f":"AN18/AN$5","v":2.1411157827792106E-2},-2.8967071421298236E-3,-0.13528960766287196,null,{"$f":"AR18/AR$5","v":1.9860546194073212E-2},{"$f":"AS18/AS$5","v":1.9713379280166282E-2},1.4716691390692996E-4,7.4653316316495386E-3,8.2247074326078536E-3,1.1635838761465359E-2,1.4147419658155449,null,{"$f":"AZ18/AZ$5","v":2.0456729669122695E-2},{"$f":"BA18/BA$5","v":2.0471002842480289E-2},-1.4273173357594315E-5,-6.9723859976099551E-4,8.0728115952310216E-3,1.2383918073891673E-2,1.534027882083538,null,{"$f":"BH18/BH$5","v":2.0344599217078273E-2},{"$f":"BI18/BI$5","v":2.0326769480688529E-2},1.7829736389744777E-5,8.7715543813708023E-4,8.1008401842168291E-3,1.2243759032861444E-2,1.5114184151807388]
["DEDUC/U","D3S2",{"$f":"C19/C$6","v":2.2003385136174797E-2},2.0841635450705349E-2,2.0081862368892301E-2,1.9467628663521676E-2,2.2919942571955971E-2,2.0706584139469204E-2,2.135799558479971E-2,2.1487711205161401E-2,2.2169008569406165E-2,2.1374227766631573E-2,1.9246240485178537E-2,2.213715814232348E-2,2.1278989848611103E-2,null,{"$f":"Q19/Q$6","v":2.2103940267612924E-2},2.0731062608564308E-2,2.0492815169621252E-2,1.9508126690941638E-2,2.2825457253993212E-2,2.0339746316079158E-2,2.0727695966803298E-2,2.139020503783122E-2,2.1641474784574094E-2,2.1165212496481848E-2,1.9203226843597463E-2,2.2746624498236223E-2,2.1129597287035326E-2,null,{"$f":"AE19/AE$6","v":1.9452434217534887E-2},null,{"$f":"AG19/AG$6","v":1.9467628663521676E-2},{"$f":"AH19/AH$6","v":1.9508126690941638E-2},-4.0498027419962057E-5,-2.0759567569738424E-3,1.9452434217534887E-2,1.519444598678879E-5,7.8110769155523762E-4,{"$f":"AN19/AN$6","v":2.013262311120774E-2},-6.6499444768606392E-4,-3.3030690735767289E-2,null,{"$f":"AR19/AR$6","v":2.0204952067661597E-2},{"$f":"AS19/AS$6","v":2.033623814297833E-2},-1.3128607531673331E-4,-6.4557699606829005E-3,1.2315017561391391E-2,7.8899345062702058E-3,0.64067586318397218,null,{"$f":"AZ19/AZ$6","v":2.1528630192179755E-2},{"$f":"BA19/BA$6","v":2.1313963845294995E-2},2.1466634688475927E-4,1.0071629493363635E-2,1.2499944577704276E-2,9.028685614475479E-3,0.72229805167133598,null,{"$f":"BH19/BH$6","v":2.1278989848611103E-2},{"$f":"BI19/BI$6","v":2.1129597287035326E-2},1.4939256157577713E-4,7.0702985743813134E-3,1.2465820908339021E-2,8.8131689402720821E-3,0.7069866481377497]
["DEDUC/U","D4",{"$f":"C20/C$4","v":1.368852836797714E-2},1.2495414526779164E-2,1.2187367528613819E-2,1.2310389511395686E-2,1.2876644328617523E-2,1.2401300510915002E-2,1.2554288392438681E-2,1.3220528435699281E-2,1.3000593755815705E-2,1.2476357587220564E-2,1.2662821345353145E-2,1.4016147202403304E-2,1.2823260497811528E-2,null,{"$f":"Q20/Q$4","v":1.3543320981118758E-2},1.2498098115504163E-2,1.2257494313160144E-2,1.2076367735591106E-2,1.3035471061062405E-2,1.2477061515671867E-2,1.2487595104201124E-2,1.3272637185680664E-2,1.2998515419394022E-2,1.2362430272878033E-2,1.2441483615412316E-2,1.4272488106259912E-2,1.2828219514033033E-2,null,{"$f":"AE20/AE$4","v":1.2555928055169601E-2},null,{"$f":"AG20/AG$4","v":1.2310389511395686E-2},{"$f":"AH20/AH$4","v":1.2076367735591106E-2},2.3402177580457949E-4,1.9378490364687851E-2,1.2555928055169601E-2,-2.4553854377391479E-4,-1.9555587025908469E-2,{"$f":"AN20/AN$4","v":1.2073003310990874E-2},2.3738620040481169E-4,1.9662564010787847E-2,null,{"$f":"AR20/AR$4","v":1.2452458360902327E-2},{"$f":"AS20/AS$4","v":1.2371087389180387E-2},8.1370971721939772E-5,6.5775116739621373E-3,1.235420616142764E-2,9.825219947468683E-5,7.9529350725464094E-3,null,{"$f":"AZ20/AZ$4","v":1.2909327552641639E-2},{"$f":"BA20/BA$4","v":1.2934968143178247E-2},-2.5640590536607846E-5,-1.9822693224127034E-3,0.15695704993770535,-0.14404772238506369,-0.91775248351211214,null,{"$f":"BH20/BH$4","v":1.2823260497811528E-2},{"$f":"BI20/BI$4","v":1.2828219514033033E-2},-4.9590162215056022E-6,-3.8657088897495401E-4,0.13027420105667062,-0.11745094055885909,-0.90156715302185364]
["DEDUC/U","D4S1",{"$f":"C21/C$5","v":1.3334866076560524E-2},1.2039736529532448E-2,1.2016912691936801E-2,1.2614930806163115E-2,1.2459435772319208E-2,1.2058344411781228E-2,1.1662244607336121E-2,1.3755999623553032E-2,1.3005469187373497E-2,1.1783567134268537E-2,1.3522954091816367E-2,1.3599864965879772E-2,1.2611553231901766E-2,null,{"$f":"Q21/Q$5","v":1.3346460999890604E-2},1.2087067861715749E-2,1.1957779570081005E-2,1.2124930610336869E-2,1.2933689180866351E-2,1.1964769404631639E-2,1.1492132854730929E-2,1.3673778430813979E-2,1.3316025292073196E-2,1.2055500796117977E-2,1.3269564401931824E-2,1.3364725434526695E-2,1.2589684581020713E-2,null,{"$f":"AE21/AE$5","v":1.2946626895982739E-2},null,{"$f":"AG21/AG$5","v":1.2614930806163115E-2},{"$f":"AH21/AH$5","v":1.2124930610336869E-2},4.900001958262467E-4,4.0412618560349264E-2,1.2946626895982739E-2,-3.3169608981962334E-4,-2.5620271016116688E-2,{"$f":"AN21/AN$5","v":1.3602798289933929E-2},-9.8786748377081325E-4,-7.2622372449780079E-2,null,{"$f":"AR21/AR$5","v":1.2376525276002324E-2},{"$f":"AS21/AS$5","v":1.2186850453998468E-2},1.8967482200385639E-4,1.5563891812722185E-2,5.172895204784928E-3,7.2036300712173965E-3,1.3925722030003698,null,{"$f":"AZ21/AZ$5","v":1.2665997248746187E-2},{"$f":"BA21/BA$5","v":1.268440751649539E-2},-1.8410267749202971E-5,-1.4514093563504176E-3,4.9226083062503048E-3,7.743388942495882E-3,1.5730256117806474,null,{"$f":"BH21/BH$5","v":1.2611553231901766E-2},{"$f":"BI21/BI$5","v":1.2589684581020713E-2},2.1868650881053456E-5,1.7370292909499126E-3,4.9687925120107026E-3,7.6427607198910636E-3,1.5381525192321417]
["DEDUC/U","D4S2",{"$f":"C22/C$6","v":1.3925219264502232E-2},1.2831752610185702E-2,1.2304937324123816E-2,1.2103229662518412E-2,1.3177685102891912E-2,1.2643025879930846E-2,1.3192018346657522E-2,1.284910730799778E-2,1.2997183692525489E-2,1.2991398661131085E-2,1.2129463456897084E-2,1.4281541607096189E-2,1.2970543333475254E-2,null,{"$f":"Q22/Q$6","v":1.3676351001700303E-2},1.2801147949550638E-2,1.2468520073082811E-2,1.2042555788360219E-2,1.310932715385252E-2,1.2834304871031498E-2,1.3197712666363038E-2,1.2990302122136277E-2,1.2784291566605453E-2,1.259029927760578E-2,1.1925291555841346E-2,1.4870453716092932E-2,1.2994775041772036E-2,null,{"$f":"AE22/AE$6","v":1.2293597528496857E-2},null,{"$f":"AG22/AG$6","v":1.2103229662518412E-2},{"$f":"AH22/AH$6","v":1.2042555788360219E-2},6.0673874158192684E-5,5.03828881713276E-3,1.2293597528496857E-2,-1.9036786597844552E-4,-1.5485122685785686E-2,{"$f":"AN22/AN$6","v":1.1131644743993913E-2},9.7158491852449881E-4,8.7281344389715465E-2,null,{"$f":"AR22/AR$6","v":1.2505139926952567E-2},{"$f":"AS22/AS$6","v":1.2500963985501658E-2},4.1759414509089099E-6,3.3404955455851841E-4,7.1813109566427127E-3,5.3238289703098542E-3,0.74134499988269031,null,{"$f":"AZ22/AZ$6","v":1.3078717802160734E-2},{"$f":"BA22/BA$6","v":1.3109530440455134E-2},-3.0812638294399827E-5,-2.3503998434081276E-3,7.4676001259194559E-3,5.6111176762412779E-3,0.75139503744523328,null,{"$f":"BH22/BH$6","v":1.2970543333475254E-2},{"$f":"BI22/BI$6","v":1.2994775041772036E-2},-2.4231708296781895E-5,-1.8647270321254853E-3,7.4147725988764398E-3,5.5557707345988139E-3,0.74928403541879085]
["DEDUC/U","D5",{"$f":"C23/C$4","v":6.95948748674932E-3},7.0616287600880415E-3,6.6614182765094166E-3,5.8947582386868914E-3,6.4035740878629933E-3,6.4174020746245548E-3,6.5489767223871273E-3,6.2762178239447021E-3,6.3629354578566303E-3,6.7793906524166534E-3,6.5892509263149853E-3,6.7686819376642886E-3,6.4932328157100185E-3,null,{"$f":"Q23/Q$4","v":7.014293276866067E-3},6.7815767165866061E-3,6.6938089511583768E-3,5.8523013455496122E-3,6.5704913000940012E-3,6.3822417439880902E-3,6.5923160531165823E-3,6.3111606589867459E-3,6.3685133949659221E-3,6.7088798432082012E-3,6.5178249909974796E-3,7.0399941333382223E-3,6.5207190173794498E-3,null,{"$f":"AE23/AE$4","v":6.0803834338232481E-3},null,{"$f":"AG23/AG$4","v":5.8947582386868914E-3},{"$f":"AH23/AH$4","v":5.8523013455496122E-3},4.2456893137279156E-5,7.2547346130023768E-3,6.0803834338232481E-3,-1.8562519513635675E-4,-3.0528534451262163E-2,{"$f":"AN23/AN$4","v":6.6758189991655229E-3},-7.8106076047863154E-4,-0.11699849270572855,null,{"$f":"AR23/AR$4","v":6.4880354533294621E-3},{"$f":"AS23/AS$4","v":6.4275375429708702E-3},6.0497910358591964E-5,9.4122998044176721E-3,6.4759161559902224E-3,1.2119297339239707E-5,1.8714413601586483E-3,null,{"$f":"AZ23/AZ$4","v":6.4944391778866449E-3},{"$f":"BA23/BA$4","v":6.5424785790336483E-3},-4.8039401147003356E-5,-7.3426913923650902E-3,7.8779468034636715E-2,-7.2285028856750075E-2,-0.91756177923121729,null,{"$f":"BH23/BH$4","v":6.4932328157100185E-3},{"$f":"BI23/BI$4","v":6.5207190173794498E-3},-2.7486201669431332E-5,-4.2152102546012633E-3,6.5437650557486404E-2,-5.8944417741776389E-2,-0.90077221965654519]
["DEDUC/U","D5S1",{"$f":"C24/C$5","v":6.8973445223588919E-3},6.6947413886189397E-3,6.7131518433350638E-3,5.6798569052624974E-3,6.4192150081720635E-3,6.4036549515981049E-3,6.5506438218584642E-3,5.6310192301659507E-3,6.308944489901382E-3,6.4929859719438879E-3,6.6367265469061878E-3,6.6070265968990382E-3,6.3341908606674721E-3,null,{"$f":"Q24/Q$5","v":7.0014221638770371E-3},6.2483994878361074E-3,6.6276256268190904E-3,5.5511730505156745E-3,6.5466821779693882E-3,6.5115611602418067E-3,6.4270817076458155E-3,5.6524281451939369E-3,6.4695783258657512E-3,6.5458589228397403E-3,6.5175599005954897E-3,6.8323984950257365E-3,6.3479501411002701E-3,null,{"$f":"AE24/AE$5","v":5.9973345179920035E-3},null,{"$f":"AG24/AG$5","v":5.6798569052624974E-3},{"$f":"AH24/AH$5","v":5.5511730505156745E-3},1.286838547468229E-4,2.3181380507471091E-2,5.9973345179920035E-3,-3.1747761272950606E-4,-5.2936452315119863E-2,{"$f":"AN24/AN$5","v":6.677737342331202E-3},-9.9788043706870461E-4,-0.1494339153987066,null,{"$f":"AR24/AR$5","v":6.3451481696687973E-3},{"$f":"AS24/AS$5","v":6.1809430040476974E-3},1.642051656210999E-4,2.656636139721193E-2,2.5962447524015262E-3,3.7489034172672711E-3,1.4439714952912417,null,{"$f":"AZ24/AZ$5","v":6.3316526097876797E-3},{"$f":"BA24/BA$5","v":6.3872204144104746E-3},-5.5567804622794897E-5,-8.6998414047879183E-3,2.5461002655836409E-3,3.7855523442040387E-3,1.4868041119096616,null,{"$f":"BH24/BH$5","v":6.3341908606674721E-3},{"$f":"BI24/BI$5","v":6.3479501411002701E-3},-1.3759280432797984E-5,-2.167515517129303E-3,2.5553531801808722E-3,3.7788376804866E-3,1.4787927202372579]
["DEDUC/U","D5S2",{"$f":"C25/C$6","v":7.0010770887828895E-3},7.3324300629632579E-3,6.6257354822205168E-3,6.0409417892287659E-3,6.3922882340876463E-3,6.4270914441819649E-3,6.5477848983003621E-3,6.7237496328049354E-3,6.4006988057049054E-3,6.9923124292326335E-3,6.5598118695463824E-3,6.8717428400129135E-3,6.6038768695525236E-3,null,{"$f":"Q25/Q$6","v":7.0229910549271827E-3},7.174684691488558E-3,6.7404078810922915E-3,6.0619622042759206E-3,6.5877679384258878E-3,6.2920617447649544E-3,6.710186731440717E-3,6.774796070196174E-3,6.3003249046475491E-3,6.8299089970916592E-3,6.5179902376289716E-3,7.1767424887483272E-3,6.641353806599473E-3,null,{"$f":"AE25/AE$6","v":6.1361457334611694E-3},null,{"$f":"AG25/AG$6","v":6.0409417892287659E-3},{"$f":"AH25/AH$6","v":6.0619622042759206E-3},-2.1020415047154697E-5,-3.4675925614197243E-3,6.1361457334611694E-3,-9.5203944232403505E-5,-1.551526778662451E-2,{"$f":"AN25/AN$6","v":6.6746385476682251E-3},-6.3369675843945924E-4,-9.4940985030693578E-2,null,{"$f":"AR25/AR$6","v":6.5871691298002889E-3},{"$f":"AS25/AS$6","v":6.6013727153543611E-3},-1.4203585554072203E-5,-2.1516109098090449E-3,3.8796714035886962E-3,2.7074977262115927E-3,0.69786779460424331,null,{"$f":"AZ25/AZ$6","v":6.6077602766039184E-3},{"$f":"BA25/BA$6","v":6.6506449028747774E-3},-4.2884626270858935E-5,-6.4481906487477364E-3,3.8285721886486272E-3,2.7791880879552912E-3,0.72590719229360079,null,{"$f":"BH25/BH$6","v":6.6038768695525236E-3},{"$f":"BI25/BI$6","v":6.641353806599473E-3},-3.7476937046949411E-5,-5.6429665002501158E-3,3.8380012745129056E-3,2.7658755950396179E-3,0.72065520493883761]
["NREV/U","ALL",{"$f":"C26/C$4","v":0.76333133612941884},0.78840333822450481,0.81077030218615631,0.79276875778133493,0.80960039712087362,0.84072611859420965,0.86300265583502578,0.7952681043509543,0.8667151124148138,0.89680514094296193,0.8678138966347072,0.93713856552760044,0.84357864021428297,null,{"$f":"Q26/Q$4","v":0.77801305805540855},0.77977264329341189,0.82506266390414229,0.77833209411651838,0.84867726897768914,0.82190155428958867,0.84519280752327397,0.80375944506379293,0.87489034347796746,0.86677004587452344,0.86706877925819226,0.97880668432776308,0.84547651342334751,null,{"$f":"AE26/AE$4","v":0.78979974250787133},null,{"$f":"AG26/AG$4","v":0.79276875778133493},{"$f":"AH26/AH$4","v":0.77833209411651838},1.4436663664816551E-2,1.8548205546121736E-2,0.78979974250787133,2.9690152734636044E-3,3.7592001030995708E-3,{"$f":"AN26/AN$4","v":0.83891894802013511},-4.6150190238800182E-2,-5.501150063151574E-2,null,{"$f":"AR26/AR$4","v":0.79448207579053598},{"$f":"AS26/AS$4","v":0.79318798624932152},1.2940895412144604E-3,1.6315042129340714E-3,0.79838444996350566,-3.9023741729696804E-3,-4.8878384005951753E-3,null,{"$f":"AZ26/AZ$4","v":0.8549744664019393},{"$f":"BA26/BA$4","v":0.85768683138699697},-2.7123649850576692E-3,-3.1624188291096925E-3,3.2289029489095109E-2,0.82268543691284424,25.478791091899733,null,{"$f":"BH26/BH$4","v":0.84357864021428297},{"$f":"BI26/BI$4","v":0.84547651342334751},-1.8978732090645378E-3,-2.2447379423705333E-3,0.17365283533925996,0.66992580487502296,3.8578454740817243]
["NREV/U","S1",{"$f":"C27/C$5","v":0.76434072881940451},0.67022999676060901,0.85431347822861803,0.79803558540182629,0.8067129355472914,0.86473683225045406,0.76975311417907089,0.77970009724880007,0.91145945480384138,0.81226452905811619,0.92115768463073855,1.0792602059270333,0.84100700083275592,null,{"$f":"Q27/Q$5","v":0.79006673230499946},0.66386683738796415,0.85089595679769958,0.75212551494434221,0.82818951162207166,0.84878110032826881,0.76648269795553536,0.77723135973132229,0.95607386625350699,0.79793767533550686,0.93140150982322878,1.1017011748955521,0.84245295789901176,null,{"$f":"AE27/AE$5","v":0.79812146982293586},null,{"$f":"AG27/AG$5","v":0.79803558540182629},{"$f":"AH27/AH$5","v":0.75212551494434221},4.5910070457484076E-2,6.104043746060317E-2,0.79812146982293586,-8.5884421109572173E-5,-1.0760820796942817E-4,{"$f":"AN27/AN$5","v":0.81058545030562135},-1.254986490379506E-2,-1.5482469983964414E-2,null,{"$f":"AR27/AR$5","v":0.78475305055200462},{"$f":"AS27/AS$5","v":0.76788097582321413},1.6872074728790487E-2,2.1972252549560325E-2,0.30512733845724277,0.47962571209476185,1.571887050566501,null,{"$f":"AZ27/AZ$5","v":0.85403817835770068},{"$f":"BA27/BA$5","v":0.85998790981234485},-5.9497314546441693E-3,-6.9183896503178062E-3,0.33649868538314542,0.51753949297455526,1.5380134171557682,null,{"$f":"BH27/BH$5","v":0.84100700083275592},{"$f":"BI27/BI$5","v":0.84245295789901176},-1.4459570662558319E-3,-1.7163653503714858E-3,0.33070988561020698,0.51029711522254895,1.5430355650874417]
["NREV/U","S2",{"$f":"C28/C$6","v":0.76265579319895371},0.87562764007332428,0.78073676132003067,0.78918607381475869,0.81168387229096872,0.82380267377561933,0.92966757399747091,0.8060666064648091,0.83541920812060422,0.95965515186428563,0.83473606039977721,0.84653107657304494,0.84536770654031668,null,{"$f":"Q28/Q$6","v":0.76986767206328088},0.86522921229514382,0.80687373463038858,0.79657844952094226,0.86354382189853518,0.80315728903455008,0.90134102525175852,0.82243069552462456,0.82011583556999579,0.91787222065859841,0.82696635781720396,0.89785305923853542,0.84758769219135588,null,{"$f":"AE28/AE$6","v":0.7842122083732822},null,{"$f":"AG28/AG$6","v":0.78918607381475869},{"$f":"AH28/AH$6","v":0.79657844952094226},-7.3923757061835627E-3,-9.2801603038963655E-3,0.7842122083732822,4.9738654414764882E-3,6.3424993750020101E-3,{"$f":"AN28/AN$6","v":0.8563539515164692},-6.716787770171051E-2,-7.843471450416814E-2,null,{"$f":"AR28/AR$6","v":0.80123196994251344},{"$f":"AS28/AS$6","v":0.8110279941389682},-9.7960241964547556E-3,-1.2078527827950936E-2,0.49325711150626284,0.30797485843625061,0.62436982914607264,null,{"$f":"AZ28/AZ$6","v":0.85562624738809812},{"$f":"BA28/BA$6","v":0.85608370027473557},-4.5745288663745498E-4,-5.3435532821223975E-4,0.49469941163690861,0.3609268357511895,0.72958816457234177,null,{"$f":"BH28/BH$6","v":0.84536770654031668},{"$f":"BI28/BI$6","v":0.84758769219135588},-2.2199856510392024E-3,-2.6191810847319462E-3,0.49443327111420449,0.35093443542611219,0.70977107716736387]
["PRD/U","ALL",{"$f":"C29/C$4","v":0.3819882933124395},0.42922322083639031,0.40424211227517715,0.36995960057931243,0.3696698932737652,0.42031274191051249,0.4195906889548508,0.3638343386844996,0.43127941085243837,0.39596198983661096,0.41584858092364108,0.44077168606834399,0.40378564171451475,null,{"$f":"Q29/Q$4","v":0.38384506793718015},0.42954333036277087,0.401744447181211,0.36599669009186192,0.37610067719224205,0.41290008770055053,0.42272931335948205,0.36718072587637807,0.43129597138808284,0.39193642178716803,0.41249549873964708,0.44990879174267356,0.40444042554649018,null,{"$f":"AE29/AE$4","v":0.37657586457443687},null,{"$f":"AG29/AG$4","v":0.36995960057931243},0.36599669009186192,3.9629104874505106E-3,1.0827722202776903E-2,0.37657586457443687,-6.6162639951244384E-3,-1.7569538086572238E-2,{"$f":"AN29/AN$4","v":0.36673934695415761},3.2202536251548231E-3,8.7807693717613412E-3,null,{"$f":"AR29/AR$4","v":0.39428500706876934},0.39221096435679392,2.0740427119754212E-3,5.2880793768138173E-3,0.37867944215027849,1.5605564918490855E-2,4.1210488823678483E-2,null,{"$f":"AZ29/AZ$4","v":0.40599083839917266},0.40729622619188455,-1.3053877927118873E-3,-3.2050083176977332E-3,4.6490438545541607E-2,0.35950039985363103,7.7327814299163418,null,{"$f":"BH29/BH$4","v":0.40378564171451475},0.40444042554649018,-6.5478383197542511E-4,-1.6189871007347115E-3,0.10778763541699622,0.29599800629751855,2.746122086753235]
["PRD/U","P1",{"$f":"C30/C$4","v":0.16619809190210627},0.19504310344827586,0.19342336341064617,0.16787356759915645,0.16345495160089352,0.19564948134386129,0.19181377909701608,0.16793540056659409,0.19937788569757448,0.17543239979035161,0.19481263608235608,0.2151990236575291,0.18624754631842397,null,{"$f":"Q30/Q$4","v":0.16600494088583023},0.19829591149172951,0.18942610005940394,0.16759408054109803,0.17042031960404397,0.19303701847607396,0.19450285903312697,0.16922457574631489,0.19814090019569472,0.17341862117981521,0.1940043212099388,0.22084314929737558,0.18719216040883152,null,0.17056941452408572,null,0.16787356759915645,0.16759408054109803,2.7948705805841412E-4,1.6676427780507276E-3,0.17056941452408572,-2.6958469249292738E-3,-1.5804984337028368E-2,0.16200974454224878,5.8638230569076633E-3,3.6194261483934995E-2,null,0.18137462573603264,0.18063596888004343,7.3865685598920039E-4,4.0892013953197047E-3,0.16874611175609017,1.2628513979942468E-2,7.4837362760666368E-2,null,0.18737860215980431,0.18872314985381353,-1.3445476940092127E-3,-7.124444961048553E-3,3.8839944843731294E-2,0.14853865731607302,3.824378688324706,null,0.18624754631842397,0.18719216040883152,-9.4461409040755284E-4,-5.0462267668928886E-3,6.2810888498198963E-2,0.123436657820225,1.9652111404818675]
["PRD/U","P2",{"$f":"C31/C$4","v":0.1365626584320413},0.15563096111518709,0.13834554593350692,0.1319206240313032,0.12757508066517748,0.14287815451308253,0.15229495391345102,0.12046226881741152,0.1526395547717585,0.13953011416721736,0.14824859620306352,0.14601013894104395,0.14032771949521189,null,{"$f":"Q31/Q$4","v":0.13706546673725076},0.15297672093377096,0.13854156101942944,0.12906243254263305,0.12679609415466073,0.13868478653391211,0.15212537214687397,0.12313885792146662,0.15405897833861934,0.13782817514160797,0.14837954627295644,0.14840820965982529,0.14012053268665611,null,0.1345077693788321,null,0.1319206240313032,0.12906243254263305,2.8581914886701421E-3,2.2145805191809E-2,0.1345077693788321,-2.5871453475289075E-3,-1.9234170334372181E-2,0.12476782685940402,7.1527971718991779E-3,5.7328859145389981E-2,null,0.13934281865393494,0.13781888908992221,1.5239295640127326E-3,1.1057479668250842E-2,0.12938116301967759,9.9616556342573548E-3,7.699463663610974E-2,null,0.140556325283234,0.14065800814588228,-1.0168286264827797E-4,-7.229084499960958E-4,1.4958477616043202E-2,0.12559784766719079,8.3964325040995558,null,0.14032771949521189,0.14012053268665611,2.0718680855577598E-4,1.4786327498418558E-3,3.6072330867165929E-2,0.10425538862804595,2.8901761023417039]
["PRD/U","P3",{"$f":"C32/C$4","v":7.9227542978291932E-2},7.854915627292737E-2,7.2473202931024036E-2,7.0165408948852814E-2,7.8639861007694212E-2,8.178510605356866E-2,7.5481955944383686E-2,7.5436669300494003E-2,7.9261970383105437E-2,8.0999475879041993E-2,7.2787348638221477E-2,7.956252346977094E-2,7.7210375900878883E-2,null,{"$f":"Q32/Q$4","v":8.0774660314099175E-2},7.8270697937270414E-2,7.3776786102377603E-2,6.934017700813086E-2,7.8884263433537327E-2,8.1178282690564457E-2,7.6101082179481125E-2,7.481729220859655E-2,7.9096092853768812E-2,8.0689625465744874E-2,7.0111631256751891E-2,8.0657432785472674E-2,7.7127732451002559E-2,null,7.1498680671519071E-2,null,7.0165408948852814E-2,6.934017700813086E-2,8.2523194072195438E-4,1.1901209029581614E-2,7.1498680671519071E-2,-1.3332717226662572E-3,-1.864750104679002E-2,7.9961775552504777E-2,-9.7963666036519625E-3,-0.12251311999968584,null,7.3567562678801782E-2,7.3756106386828293E-2,-1.8854370802651177E-4,-2.556313195786902E-3,8.055216737451075E-2,-6.984604695708968E-3,-8.6709084601479233E-2,null,7.8055910956134358E-2,7.7915068192188741E-2,1.4084276394561723E-4,{"$f":"BB71/ABS(BA71)","v":1.8076447497704586E-3},2.3881467227688091E-2,5.4174443728446264E-2,{"$f":"BE71/ABS(BD71)","v":2.2684721676412161},null,7.7210375900878883E-2,7.7127732451002559E-2,8.2643449876323993E-5,{"$f":"BJ71/ABS(BI71)","v":1.0715140618042342E-3},3.4338631751641729E-2,4.2871744149237154E-2,{"$f":"BM71/ABS(BL71)","v":1.2484989052363}]
["GRPRF/U","ALL",{"$f":"C33/C$4","v":0.38134304281697928},0.35918011738811445,0.40652818991097922,0.4228091572020225,0.43993050384710847,0.42041337668369716,0.44341196688017498,0.43143376566645469,0.43543570156237538,0.50084315110635103,0.45196531571106613,0.4963668794592565,0.43979299849976822,null,{"$f":"Q33/Q$4","v":0.39416799011822834},0.35022931293064097,0.42331821672293135,0.4123354040246564,0.47257659178544709,0.40900146658903819,0.42246349416379186,0.43657871918741487,0.44359437208988461,0.47483362408735541,0.45457328051854518,0.52889789258508946,0.44103608787685733,null,0.41322387793343446,null,0.4228091572020225,0.4123354040246564,1.0473753177366096E-2,2.5401052335393925E-2,0.41322387793343446,9.5852792685880428E-3,2.3196334433829884E-2,0.47217960106597756,-4.937044386395506E-2,-0.10455861234262964,null,0.40019706872176658,0.4009770218925276,-7.7995317076101633E-4,-1.9451318359336419E-3,0.41970500781322712,-1.9507939091460536E-2,-4.6480119913512592E-2,null,0.44898362800276659,0.45039060519511248,-1.4069771923458929E-3,-3.1239043979089665E-3,2.0572756172935299E-2,0.42841087182983129,20.824184578312924,null,0.43979299849976822,0.44103608787685733,-1.2430893770891127E-3,-2.8185661247661859E-3,9.4222660116333193E-2,0.34557033838343504,3.6675926784148554]
["OPEX/U","ALL",{"$f":"C34/C$4","v":0.18942710973867355},0.19591434336023478,0.19019863138133591,0.17973930939858221,0.18288409034499875,0.18437838674717449,0.20410560849867207,0.19636788786319515,0.20861211793585666,0.19644281384590845,0.20434317582795369,0.21146263612467142,0.19624072219168354,null,{"$f":"Q34/Q$4","v":0.18912122816304924},0.19449214250005434,0.18915081354409655,0.17927469839061713,0.18650603334164637,0.18521766687056432,0.20181584046122583,0.19825963086832651,0.20693029219245562,0.19388985806896256,0.20635577961829313,0.21640648632792805,0.19660374579557052,null,0.18172315772030237,null,0.17973930939858221,0.17927469839061713,4.6461100796507671E-4,2.591615058544109E-3,0.18172315772030237,-1.9838483217201608E-3,-1.0916871281609489E-2,0.1880535142264933,-8.3142048279110925E-3,-4.4211908839402979E-2,null,0.18738664978412883,0.1865342862312285,8.523635529003315E-4,4.5694739027426785E-3,0.18881557354965439,-1.4289237655255582E-3,-7.567827900328266E-3,null,0.19829584501735753,0.19895514694698416,-6.593019296266267E-4,-3.3138219329521129E-3,8.0728115952310216E-3,0.19022303342212651,23.563417921768416,null,0.19624072219168354,0.19660374579557052,-3.6302360388698607E-4,-1.8464734861382533E-3,4.1424381160710656E-2,0.15481634103097289,3.7373241722150312]
["OPEX/U","O1",{"$f":"C35/C$4","v":7.9688436189334938E-2},7.9305759354365374E-2,7.5788772482286687E-2,7.3036562746144271E-2,7.1670389674857282E-2,7.2232543737420649E-2,8.5699109514138422E-2,7.4563009501050326E-2,7.7321186448188153E-2,8.128432422578219E-2,8.2508881164291989E-2,8.2923394667668043E-2,7.7859609509299557E-2,null,{"$f":"Q35/Q$4","v":7.9054173283924473E-2},7.8683678570652296E-2,7.5182196206841592E-2,7.3525531863862043E-2,7.3378479482801615E-2,7.4442290826817206E-2,8.6332167666934453E-2,7.6334695899913291E-2,7.5865443012349015E-2,8.0765006138140472E-2,8.4083543392149795E-2,8.4663262780614354E-2,7.8627968789603847E-2,null,7.4863924333006163E-2,null,7.3036562746144271E-2,7.3525531863862043E-2,-4.8896911771777185E-4,-6.6503309166553778E-3,7.4863924333006163E-2,-1.827361586861892E-3,-2.4409107632850084E-2,6.9974965678753123E-2,3.0615970673911475E-3,4.3752748396427676E-2,null,7.5890498336340137E-2,7.5683010674868822E-2,2.0748766147131448E-4,2.7415355126750064E-3,7.3610886593090064E-2,2.2796117432500734E-3,3.0968404929714068E-2,null,7.8316660810843652E-2,7.9315669838265365E-2,-9.9900902742171283E-4,-1.2595355110267844E-2,1.2499944577704276E-2,6.581671623313938E-2,5.2653606441211274,null,7.7859609509299557E-2,7.8627968789603847E-2,-7.683592803042899E-4,-9.7720860926765029E-3,2.3776445012903314E-2,5.4083164496396247E-2,2.2746531059225079]
["OPEX/U","O2",{"$f":"C36/C$4","v":4.1019495782827119E-2},4.3103448275862072E-2,4.4979712953430631E-2,3.6969281195213047E-2,4.3137254901960784E-2,4.2498838829540177E-2,4.6211529448523671E-2,5.1109098267455529E-2,4.9450111218440104E-2,4.380967572864207E-2,5.2312922571526796E-2,5.033796470146451E-2,4.6058820206230311E-2,null,{"$f":"Q36/Q$4","v":4.1424033880359978E-2},4.2819570934857741E-2,4.4364595256378675E-2,3.62650804691435E-2,4.3710553072304183E-2,4.1573008865862376E-2,4.4893908605453427E-2,5.0545026631983153E-2,4.9058640933936165E-2,4.2719303913333763E-2,5.2556715880446525E-2,5.2900789249342293E-2,4.5749501633819023E-2,null,3.6928450330788155E-2,null,3.6969281195213047E-2,3.62650804691435E-2,7.0420072606954681E-4,1.9418148724879375E-2,3.6928450330788155E-2,4.0830864424891422E-5,1.105675002854093E-3,4.5371342431828582E-2,-8.4020612366155351E-3,-0.18518432090123435,null,4.1179746666730133E-2,4.0686629274470781E-2,4.9311739225935125E-4,1.2119888057887423E-2,4.3842246290554075E-2,-2.6624996238239426E-3,-6.0729087788496477E-2,null,4.71913042133199E-2,4.6931774010917512E-2,2.5953020240238739E-4,5.5299465633243299E-3,1.2390208432169762E-2,3.4801095781150135E-2,2.8087578971466747,null,4.6058820206230311E-2,4.5749501633819023E-2,3.0931857241128791E-4,6.7611353427866174E-3,1.8193897704520904E-2,2.7864922501709407E-2,1.5315532138440793]
["OPEX/U","O3",{"$f":"C37/C$4","v":1.050836521178043E-2},8.9646001467351428E-3,9.2200084781687147E-3,8.1942221205884586E-3,7.8729213204269052E-3,8.8868245858492022E-3,9.6484924230588968E-3,9.411114751360276E-3,1.084712117049654E-2,9.7759952601235104E-3,1.0084418808969021E-2,9.5850544498685686E-3,9.374431135952566E-3,null,{"$f":"Q37/Q$4","v":1.0322922181048173E-2},8.9334231747342802E-3,9.3307639925237981E-3,8.2148082411915672E-3,8.162756345080284E-3,8.6816175224225991E-3,1.0006615944426067E-2,9.4512572773442338E-3,1.1016262905729131E-2,9.8964054187934778E-3,9.722722362261434E-3,9.8999917500068747E-3,9.4775204313008211E-3,null,8.2219021274968444E-3,null,8.1942221205884586E-3,8.2148082411915672E-3,-2.0586120603108618E-5,-2.5059770111106792E-3,8.2219021274968444E-3,-2.7680006908385735E-5,-3.3666183906293839E-3,1.1117392123610325E-2,-2.9231700030218667E-3,-0.26293666450910252,null,8.9156936200191356E-3,8.928894517821603E-3,-1.3200897802467457E-5,-1.4784470547971151E-3,1.0375181859597044E-2,-1.459488239577908E-3,-0.14067109948804235,null,9.4809089121206704E-3,9.6056345169086201E-3,-1.2472560478794976E-4,-1.2984629445186323E-2,4.9226083062503048E-3,4.5583006058703655E-3,0.92599295379293678,null,9.374431135952566E-3,9.4775204313008211E-3,-1.0308929534825519E-4,-1.0877243272173652E-2,5.9287447855699829E-3,3.4456863503825831E-3,0.58118311295319469]
["OPEX/U","O4",{"$f":"C38/C$4","v":1.0324007927363229E-2},1.1096845194424065E-2,1.2051111245685218E-2,1.0684249307619992E-2,1.0881111938446264E-2,1.0411828456417402E-2,1.1604436806748945E-2,1.0708756512298689E-2,1.2389113885910264E-2,1.108629765512841E-2,1.1593261774704915E-2,1.2429590687194894E-2,1.130957772016776E-2,null,{"$f":"Q38/Q$4","v":1.0234692076936652E-2},1.0911383050405373E-2,1.2025674089743404E-2,1.054133787446334E-2,1.1049935733880715E-2,1.0317711826308692E-2,1.1371154482302349E-2,1.0838597795119535E-2,1.2273095350563467E-2,1.1285563524369494E-2,1.200936262153403E-2,1.267748943542547E-2,1.1322845379751605E-2,null,1.0937041899833012E-2,null,1.0684249307619992E-2,1.054133787446334E-2,1.4291143315665195E-4,1.3557238640728757E-2,1.0937041899833012E-2,-2.5279259221301989E-4,-2.3113433643961769E-2,1.114431074860696E-2,-4.6006144098696862E-4,-4.1282179882185743E-2,null,1.1162467452720167E-2,1.1050298534467162E-2,1.1216891825300591E-4,1.01507590861132E-2,1.1364694010512343E-2,-2.0222655779217509E-4,-1.7794280919936387E-2,null,1.134372355212014E-2,1.1386490003549035E-2,-4.2766451428895638E-5,-3.7558941706852451E-3,7.4676001259194559E-3,3.8761234262006837E-3,0.51905878205060318,null,1.130957772016776E-2,1.1322845379751605E-2,-1.3267659583844973E-5,-1.1717602015100584E-3,8.1867116211171414E-3,3.1228660990506186E-3,0.38145549074861379]
["OPEX/U","O5",{"$f":"C39/C$4","v":1.3826796331290039E-2},1.4260821716801174E-2,1.3247138618058499E-2,1.4330360545773305E-2,1.2489451476793249E-2,1.4932652113330237E-2,1.5803780659271988E-2,1.2918601887362125E-2,1.4551448498329508E-2,1.3877811453182325E-2,1.3980671530616143E-2,1.3471648516710477E-2,1.4059853240922163E-2,null,{"$f":"Q39/Q$4","v":1.3940356449620611E-2},1.4606472928032691E-2,1.3257219026644836E-2,1.4211018636221907E-2,1.2670976653173979E-2,1.4842765441561217E-2,1.535844241765512E-2,1.2969156447417318E-2,1.4238477630069505E-2,1.3902349723245246E-2,1.4223982715160245E-2,1.3621655315287237E-2,1.4019331812545811E-2,null,1.4429756912133999E-2,null,1.4330360545773305E-2,1.4211018636221907E-2,1.1934190955139798E-4,8.397843434474998E-3,1.4429756912133999E-2,-9.9396366360693378E-5,-6.8882911171643411E-3,1.3566986998304126E-2,7.6337354746917885E-4,5.6266991894707394E-2,null,1.3923333603073129E-2,1.3967794463542609E-2,-4.4460860469480029E-5,-3.1830981323162709E-3,1.3402501212397314E-2,5.208323906758152E-4,3.886083518455833E-2,null,1.4091540876959215E-2,1.403136671680384E-2,6.0174160155374717E-5,4.2885458964813938E-3,6.3746724542322686E-3,7.7168684227269463E-3,1.2105513621493709,null,1.4059853240922163E-2,1.4019331812545811E-2,4.0521428376351712E-5,2.8903965551403342E-3,7.6714829997152683E-3,6.3883702412068947E-3,0.83274254032030093]
["OPEX/U","O6",{"$f":"C40/C$4","v":3.4060008296077797E-2},3.9182868672046955E-2,3.4911887603706171E-2,3.6524633483243134E-2,3.6832961032514273E-2,3.541569902461681E-2,3.5138259646930167E-2,3.7657306943668215E-2,4.4053136714492076E-2,3.6608709523049926E-2,3.3863019977844834E-2,4.2714983101764928E-2,3.7578430379111176E-2,null,{"$f":"Q40/Q$4","v":3.4145050291159343E-2},3.8537613841371963E-2,3.4990364971964241E-2,3.6516921305734779E-2,3.7533332054405587E-2,3.5360272387592213E-2,3.3853551344454419E-2,3.8120896816548989E-2,4.4478372359808352E-2,3.5321229351080098E-2,3.3759452646741087E-2,4.2643297797251838E-2,3.7406577748549427E-2,null,3.6342082117044192E-2,null,3.6524633483243134E-2,3.6516921305734779E-2,7.7121775083552335E-6,2.1119462519267963E-4,3.6342082117044192E-2,1.8255136619894224E-4,5.023139995419439E-3,3.6878516245390187E-2,-3.5388276214705361E-4,-9.595905643066345E-3,null,3.6314910105246123E-2,3.6217658766057537E-2,9.7251339188586527E-5,2.6851912161624464E-3,3.6220063583503562E-2,9.4846521742561474E-5,2.6186183114752827E-3,null,3.7871706651993964E-2,3.7684211860539794E-2,1.8749479145416942E-4,4.9754202674595549E-3,2.5461002655836409E-3,3.5325606386410323E-2,13.874397196338478,null,3.7578430379111176E-2,3.7406577748549427E-2,1.7185263056174876E-4,4.594182117299222E-3,8.7597904736939625E-3,2.8818639905417213E-2,3.2898777649945923]
["EBIT/U","ALL",{"$f":"C41/C$4","v":0.19191593307830576},0.16326577402787967,0.21632955852964331,0.24306984780344029,0.25704641350210972,0.23603498993652269,0.23930635838150288,0.23506587780325952,0.22682358362651872,0.30440033726044252,0.24762213988311241,0.28490424333458503,0.24355227630808465,null,{"$f":"Q41/Q$4","v":0.2050467619551791},0.15573717043058666,0.2341674031788348,0.2330607056340393,0.28607055844380069,0.22378379971847387,0.22064765370256603,0.23831908831908832,0.23666407989742896,0.28094376601839288,0.24821750090025207,0.31249140625716143,0.24443234208128678,null,0.23150072021313209,null,0.24306984780344029,0.2330607056340393,1.0009142169400992E-2,4.2946502466690906E-2,0.23150072021313209,1.1569127590308204E-2,4.9974477745283206E-2,0.28412608683948426,-4.1056239036043968E-2,-0.14450006858834649,null,0.21281041893763775,0.21444273566129907,-1.6323167236613201E-3,-7.6119002988260598E-3,0.23088943426357272,-1.8079015325934977E-2,-7.8301613859457983E-2,null,0.25068778298540906,0.2514354582481283,-7.4767526271923845E-4,-2.973626981367908E-3,3.8285721886486272E-3,0.24685921079676043,64.478139273088757,null,0.24355227630808465,0.24443234208128678,-8.8006577320212664E-4,-3.6004473291405027E-3,4.5726992104347351E-2,0.19782528420373729,4.3262256076740648]
["DA/U","ALL",{"$f":"C42/C$4","v":9.7663271420011979E-2},9.7922780630961118E-2,9.6166656573608678E-2,9.5052976598826125E-2,8.567882849342269E-2,0.10130825205140115,9.507264489923449E-2,9.3147552146569279E-2,9.7039196745863643E-2,9.0889410477861587E-2,0.10949616104511249,0.10732256853173112,9.6620129290748147E-2,null,{"$f":"Q42/Q$4","v":9.780307040762308E-2},9.6941769730693156E-2,9.5886639910749208E-2,9.2629458182428709E-2,8.7353962437892077E-2,0.10002284636190112,9.49210812343462E-2,9.6742227177009782E-2,9.8539037721843581E-2,9.1641360298076721E-2,0.10900252070579762,0.10878990934174222,9.7190824581954688E-2,null,9.4698466519649707E-2,null,9.5052976598826125E-2,9.2629458182428709E-2,2.4235184163974161E-3,2.6163581909595408E-2,9.4698466519649707E-2,3.5451007917641775E-4,3.7435672636035532E-3,0.10331368273708579,-8.2607061382596603E-3,-7.9957522754092791E-2,null,9.6268546594376406E-2,9.507418129184006E-2,1.194365302536346E-3,1.2562456876384956E-2,0.10026893176774876,-4.0003851733723533E-3,-3.9896557217128613E-2,null,9.6701735312380535E-2,9.7685099119501101E-2,-9.8336380712056581E-4,-1.0066671539305985E-2,0.83119809702005398,-0.73449636170767341,-0.883659821095515,null,9.6620129290748147E-2,9.7190824581954688E-2,-5.7069529120654106E-4,-5.8719050245870782E-3,0.69632334663587347,-0.59970321734512533,-0.86124243893652841]
["DA/U","A1",{"$f":"C43/C$4","v":6.0883993178780474E-2},6.0757520176082172E-2,6.2799006843093322E-2,6.4092791625377954E-2,5.5835194837428645E-2,6.8230376219228978E-2,6.1259178253397904E-2,6.1612287768120409E-2,6.2362084703255022E-2,5.8610395825262632E-2,7.2768249360174189E-2,6.9536237326323691E-2,6.312451744635976E-2,null,{"$f":"Q43/Q$4","v":6.0702311628727725E-2},6.0077814245658272E-2,6.2417595154957331E-2,6.2156716954884512E-2,5.7743587776008597E-2,6.7934762582081087E-2,6.1900430036387698E-2,6.3712374581939804E-2,6.3356164383561647E-2,5.9830716547134455E-2,7.1750090025207061E-2,7.0079108267409776E-2,6.3650438082711661E-2,null,6.3837652487603411E-2,null,6.4092791625377954E-2,6.2156716954884512E-2,1.9360746704934415E-3,3.1148277536902587E-2,6.3837652487603411E-2,2.5513913777454322E-4,3.9966873441044616E-3,6.6206358179224212E-2,-2.1135665538462578E-3,-3.1923921085112675E-2,null,6.2662141384907583E-2,6.1656413967794463E-2,1.0057274171131197E-3,1.6311805250925723E-2,6.3931302384136454E-2,-1.2691609992288716E-3,-1.985194970068049E-2,null,6.3231839767004541E-2,6.4116078822396103E-2,-8.8423905539156133E-4,-1.3791221665955837E-2,0.33649868538314542,-0.2732668456161409,-0.8120888951021985,null,6.312451744635976E-2,6.3650438082711661E-2,-5.2592063635190089E-4,-8.2626396957155932E-3,0.28620317181970611,-0.22307865437334634,-0.77944158674060715]
["DA/U","A2",{"$f":"C44/C$4","v":3.6779278241231506E-2},3.7165260454878946E-2,3.3367649730515349E-2,3.0960184973448178E-2,2.9843633655994042E-2,3.3077875832172164E-2,3.3813466645836586E-2,3.153526437844887E-2,3.4677112042608628E-2,3.2279014652598956E-2,3.6727911684938309E-2,3.7786331205407434E-2,3.3495611844388387E-2,null,{"$f":"Q44/Q$4","v":3.7100758778895362E-2},3.6863955485034884E-2,3.3469044755791884E-2,3.0472741227544193E-2,2.9610374661883477E-2,3.2088083779820031E-2,3.3020651197958509E-2,3.3029852595069985E-2,3.5182873338281934E-2,3.1810643750942259E-2,3.7252430680590566E-2,3.8710801074332439E-2,3.3540386499243034E-2,null,3.0860814032046296E-2,null,3.0960184973448178E-2,3.0472741227544193E-2,4.8744374590398501E-4,1.5996058321900705E-2,3.0860814032046296E-2,9.9370941401881463E-5,3.2199714919604293E-3,3.7107324557861587E-2,-6.1471395844134094E-3,-0.16565838840868605,null,3.3606405209468816E-2,3.3417767324045597E-2,1.886378854232193E-4,5.6448380765248135E-3,3.6337629383612305E-2,-2.7312241741434887E-3,-7.5162420346970335E-2,null,3.3469895545376001E-2,3.3569020297104998E-2,-9.912475172899754E-5,-2.9528640053146289E-3,0.49469941163690861,-0.46122951609153262,-0.93234296472149092,null,3.3495611844388387E-2,3.3540386499243034E-2,-4.47746548546471E-5,-1.3349474925000524E-3,0.4101201748161673,-0.37662456297177893,-0.91832732476669188]
["EBITDA/U","ALL",{"$f":"C45/C$4","v":0.28957920449831775},0.26118855465884078,0.31249621510325198,0.33812282440226643,0.34272524199553239,0.33734324198792381,0.33437900328073739,0.32821342994982883,0.32386278037238236,0.39528974773830411,0.35711830092822489,0.39222681186631619,0.34017240559883283,null,{"$f":"Q45/Q$4","v":0.30284983236280216},0.25267894016127979,0.33005404308958403,0.32569016381646798,0.37342452088169281,0.32380664608037496,0.31556873493691223,0.33506131549609808,0.33520311761927257,0.37258512631646962,0.35722002160604971,0.42128131559890369,0.3416231666632415,null,0.32619918673278181,null,0.33812282440226643,0.32569016381646798,1.243266058579845E-2,3.8173276220906896E-2,0.32619918673278181,1.1923637669484621E-2,3.6553241560507974E-2,0.38743976957657,-4.9316945174303572E-2,-0.12728932093935966,null,0.30907896553201414,0.30951691695313915,-4.3795142112501573E-4,-1.4149514845139192E-3,0.33115836603132148,-2.2079400499307344E-2,-6.6673237834550259E-2,null,0.34738951829778958,0.34912055736762942,-1.7310390698398459E-3,-4.9582845619057445E-3,0.39471426481216276,-4.7324746514373184E-2,-0.11989621539747027,null,0.34017240559883283,0.3416231666632415,-1.4507610644086677E-3,-4.2466706183271526E-3,0.38298660857539285,-4.2814202976560023E-2,-0.11179033944768288]
[]
["[Year (N-1) - ACT_RE]",null,null,null,null,null,null,null,null,null,null,null,null,null,null,null,"[Year (N-1) - BP]"]
["TYPE","SUBTYPE",1,2,3,4,5,6,7,8,9,10,11,12,"Total",null,1,2,3,4,5,6,7,8,9,10,11,12,"Total"]
["VOL","ALL",{"$f":"SUMPRODUCT(\n (rngTYPE=$A88)*\n ((rngBUS=valBUS1)+(rngBUS=valBUS2)+(rngBUS=valBUS3))*\n ((rngGEO=valGEO1)+(rngGEO=valGEO2)+(rngGEO=valGEO3)+(rngGEO=valGEO4)+(rngGEO=valGEO5))*\n (rngYEAR=valYEAR-1)*\n (rngMONTH=C$3)*\n (rngMTDRE=0)*\n rngACT_RE\n )","v":22017},42297,65529,74298,97510,121310,154533,160884,114879,83745,54136,115167,{"$f":"SUM(C88:N88)","v":1106305},null,{"$f":"SUMPRODUCT(\n (rngTYPE=$A88)*\n ((rngBUS=valBUS1)+(rngBUS=valBUS2)+(rngBUS=valBUS3))*\n ((rngGEO=valGEO1)+(rngGEO=valGEO2)+(rngGEO=valGEO3)+(rngGEO=valGEO4)+(rngGEO=valGEO5))*\n (rngYEAR=valYEAR-1)*\n (rngMONTH=Q$3)*\n (rngMTDRE=0)*\n rngBP\n )","v":22999},43894,68489,78318,101148,128686,160373,166591,121297,86658,56742,121438,{"$f":"SUM(Q88:AB88)","v":1156633}]
["VOL","S1",{"$f":"SUMPRODUCT(\n (rngTYPE=$A88)*\n (rngSEG=$B89)*\n ((rngBUS=valBUS1)+(rngBUS=valBUS2)+(rngBUS=valBUS3))*\n ((rngGEO=valGEO1)+(rngGEO=valGEO2)+(rngGEO=valGEO3)+(rngGEO=valGEO4)+(rngGEO=valGEO5))*\n (rngYEAR=valYEAR-1)*\n (rngMONTH=C$3)*\n (rngMTDRE=0)*\n rngACT_RE\n )","v":9007},16544,25097,28303,38912,51266,56721,63467,48847,30510,20785,43115,{"$f":"SUM(C89:N89)","v":432574},null,{"$f":"SUMPRODUCT(\n (rngTYPE=$A88)*\n (rngSEG=$B89)*\n ((rngBUS=valBUS1)+(rngBUS=valBUS2)+(rngBUS=valBUS3))*\n ((rngGEO=valGEO1)+(rngGEO=valGEO2)+(rngGEO=valGEO3)+(rngGEO=valGEO4)+(rngGEO=valGEO5))*\n (rngYEAR=valYEAR-1)*\n (rngMONTH=Q$3)*\n (rngMTDRE=0)*\n rngBP\n )","v":9394},17260,26030,30580,40514,53223,59235,65350,51231,32127,21775,45360,{"$f":"SUM(Q89:AB89)","v":452079}]
["VOL","S2",13010,25753,40432,45995,58598,70044,97812,97417,66032,53235,33351,72052,673731,null,13605,26634,42459,47738,60634,75463,101138,101241,70066,54531,34967,76078,704554]
["GRREV","ALL",{"$f":"SUMPRODUCT(\n (rngTYPE=$A91)*\n ((rngBUS=valBUS1)+(rngBUS=valBUS2)+(rngBUS=valBUS3))*\n ((rngGEO=valGEO1)+(rngGEO=valGEO2)+(rngGEO=valGEO3)+(rngGEO=valGEO4)+(rngGEO=valGEO5))*\n (rngYEAR=valYEAR-1)*\n (rngMONTH=C$3)*\n (rngMTDRE=0)*\n rngACT_RE\n )","v":21637},40011,59013,73725,95786,127741,153551,147995,115856,86013,53437,111099,1085864,null,{"$f":"SUMPRODUCT(\n (rngTYPE=$A91)*\n ((rngBUS=valBUS1)+(rngBUS=valBUS2)+(rngBUS=valBUS3))*\n ((rngGEO=valGEO1)+(rngGEO=valGEO2)+(rngGEO=valGEO3)+(rngGEO=valGEO4)+(rngGEO=valGEO5))*\n (rngYEAR=valYEAR-1)*\n (rngMONTH=Q$3)*\n (rngMTDRE=0)*\n rngBP\n )","v":22845},42150,62045,77577,99669,133798,161856,156965,120658,90863,56764,118018,1143208]
["GRREV","S1",{"$f":"SUMPRODUCT(\n (rngTYPE=$A91)*\n (rngSEG=$B92)*\n ((rngBUS=valBUS1)+(rngBUS=valBUS2)+(rngBUS=valBUS3))*\n ((rngGEO=valGEO1)+(rngGEO=valGEO2)+(rngGEO=valGEO3)+(rngGEO=valGEO4)+(rngGEO=valGEO5))*\n (rngYEAR=valYEAR-1)*\n (rngMONTH=C$3)*\n (rngMTDRE=0)*\n rngACT_RE\n )","v":8541},15722,23125,27424,37545,52249,58585,61681,45355,35969,23377,45462,435035,null,{"$f":"SUMPRODUCT(\n (rngTYPE=$A91)*\n (rngSEG=$B92)*\n ((rngBUS=valBUS1)+(rngBUS=valBUS2)+(rngBUS=valBUS3))*\n ((rngGEO=valGEO1)+(rngGEO=valGEO2)+(rngGEO=valGEO3)+(rngGEO=valGEO4)+(rngGEO=valGEO5))*\n (rngYEAR=valYEAR-1)*\n (rngMONTH=Q$3)*\n (rngMTDRE=0)*\n rngBP\n )","v":9044},16771,24361,28499,38437,54468,62108,66011,47222,37383,24809,49029,458142]
["GRREV","S2",13096,24289,35888,46301,58241,75492,94966,86314,70501,50044,30060,65637,650829,null,13801,25379,37684,49078,61232,79330,99748,90954,73436,53480,31955,68989,685066]
["DEDUC","ALL",{"$f":"SUMPRODUCT(\n (rngTYPE=$A94)*\n ((rngBUS=valBUS1)+(rngBUS=valBUS2)+(rngBUS=valBUS3))*\n ((rngGEO=valGEO1)+(rngGEO=valGEO2)+(rngGEO=valGEO3)+(rngGEO=valGEO4)+(rngGEO=valGEO5))*\n (rngYEAR=valYEAR-1)*\n (rngMONTH=C$3)*\n (rngMTDRE=0)*\n rngACT_RE\n )","v":3383},6921,9704,11395,15520,20272,23670,23870,18399,13577,8460,17833,173004,null,{"$f":"SUMPRODUCT(\n (rngTYPE=$A94)*\n ((rngBUS=valBUS1)+(rngBUS=valBUS2)+(rngBUS=valBUS3))*\n ((rngGEO=valGEO1)+(rngGEO=valGEO2)+(rngGEO=valGEO3)+(rngGEO=valGEO4)+(rngGEO=valGEO5))*\n (rngYEAR=valYEAR-1)*\n (rngMONTH=Q$3)*\n (rngMTDRE=0)*\n rngBP\n )","v":3536},7238,10197,11953,16289,21308,24763,25137,19487,14153,8837,18726,181624]
["DEDUC","D1",{"$f":"SUMPRODUCT(\n (rngTYPE=$A95)*\n (rngSUBTYPE=$B95)*\n ((rngBUS=valBUS1)+(rngBUS=valBUS2)+(rngBUS=valBUS3))*\n ((rngGEO=valGEO1)+(rngGEO=valGEO2)+(rngGEO=valGEO3)+(rngGEO=valGEO4)+(rngGEO=valGEO5))*\n (rngYEAR=valYEAR-1)*\n (rngMONTH=C$3)*\n (rngMTDRE=0)*\n rngACT_RE\n )","v":1675},3539,4758,5685,7637,10239,11218,12448,9554,6854,4141,8981,86729,null,{"$f":"SUMPRODUCT(\n (rngTYPE=$A95)*\n (rngSUBTYPE=$B95)*\n ((rngBUS=valBUS1)+(rngBUS=valBUS2)+(rngBUS=valBUS3))*\n ((rngGEO=valGEO1)+(rngGEO=valGEO2)+(rngGEO=valGEO3)+(rngGEO=valGEO4)+(rngGEO=valGEO5))*\n (rngYEAR=valYEAR-1)*\n (rngMONTH=Q$3)*\n (rngMTDRE=0)*\n rngBP\n )","v":1755},3652,5068,5949,8039,10778,11657,13073,10260,7054,4323,9449,91057]
["DEDUC","D1S1",{"$f":"SUMPRODUCT(\n (rngTYPE=$A96)*\n (rngSUBTYPE=LEFT($B96,2))*\n (rngSEG=RIGHT($B96,2))*\n ((rngBUS=valBUS1)+(rngBUS=valBUS2)+(rngBUS=valBUS3))*\n ((rngGEO=valGEO1)+(rngGEO=valGEO2)+(rngGEO=valGEO3)+(rngGEO=valGEO4)+(rngGEO=valGEO5))*\n (rngYEAR=valYEAR-1)*\n (rngMONTH=C$3)*\n (rngMTDRE=0)*\n rngACT_RE\n )","v":662},1429,1895,2255,3036,3986,4469,5265,3908,2768,1786,3912,35371,null,{"$f":"SUMPRODUCT(\n (rngTYPE=$A96)*\n (rngSUBTYPE=LEFT($B96,2))*\n (rngSEG=RIGHT($B96,2))*\n ((rngBUS=valBUS1)+(rngBUS=valBUS2)+(rngBUS=valBUS3))*\n ((rngGEO=valGEO1)+(rngGEO=valGEO2)+(rngGEO=valGEO3)+(rngGEO=valGEO4)+(rngGEO=valGEO5))*\n (rngYEAR=valYEAR-1)*\n (rngMONTH=Q$3)*\n (rngMTDRE=0)*\n rngBP\n )","v":704},1483,1988,2355,3187,4261,4669,5628,4108,2864,1885,4062,37194]
["DEDUC","D1S2",1013,2110,2863,3430,4601,6253,6749,7183,5646,4086,2355,5069,51358,null,1051,2169,3080,3594,4852,6517,6988,7445,6152,4190,2438,5387,53863]
["DEDUC","D2",{"$f":"SUMPRODUCT(\n (rngTYPE=$A98)*\n (rngSUBTYPE=$B98)*\n ((rngBUS=valBUS1)+(rngBUS=valBUS2)+(rngBUS=valBUS3))*\n ((rngGEO=valGEO1)+(rngGEO=valGEO2)+(rngGEO=valGEO3)+(rngGEO=valGEO4)+(rngGEO=valGEO5))*\n (rngYEAR=valYEAR-1)*\n (rngMONTH=C$3)*\n (rngMTDRE=0)*\n rngACT_RE\n )","v":833},1654,2437,2785,3831,4958,6409,5662,4429,3245,2154,4352,42749,null,{"$f":"SUMPRODUCT(\n (rngTYPE=$A98)*\n (rngSUBTYPE=$B98)*\n ((rngBUS=valBUS1)+(rngBUS=valBUS2)+(rngBUS=valBUS3))*\n ((rngGEO=valGEO1)+(rngGEO=valGEO2)+(rngGEO=valGEO3)+(rngGEO=valGEO4)+(rngGEO=valGEO5))*\n (rngYEAR=valYEAR-1)*\n (rngMONTH=Q$3)*\n (rngMTDRE=0)*\n rngBP\n )","v":878},1754,2520,2951,4007,5163,6734,5994,4608,3424,2253,4544,44830]
["DEDUC","D2S1",{"$f":"SUMPRODUCT(\n (rngTYPE=$A99)*\n (rngSUBTYPE=LEFT($B99,2))*\n (rngSEG=RIGHT($B99,2))*\n ((rngBUS=valBUS1)+(rngBUS=valBUS2)+(rngBUS=valBUS3))*\n ((rngGEO=valGEO1)+(rngGEO=valGEO2)+(rngGEO=valGEO3)+(rngGEO=valGEO4)+(rngGEO=valGEO5))*\n (rngYEAR=valYEAR-1)*\n (rngMONTH=C$3)*\n (rngMTDRE=0)*\n rngACT_RE\n )","v":351},659,960,1047,1669,1896,2386,2123,1707,1238,804,1672,16512,null,{"$f":"SUMPRODUCT(\n (rngTYPE=$A99)*\n (rngSUBTYPE=LEFT($B99,2))*\n (rngSEG=RIGHT($B99,2))*\n ((rngBUS=valBUS1)+(rngBUS=valBUS2)+(rngBUS=valBUS3))*\n ((rngGEO=valGEO1)+(rngGEO=valGEO2)+(rngGEO=valGEO3)+(rngGEO=valGEO4)+(rngGEO=valGEO5))*\n (rngYEAR=valYEAR-1)*\n (rngMONTH=Q$3)*\n (rngMTDRE=0)*\n rngBP\n )","v":368},696,1009,1105,1754,1962,2522,2261,1807,1283,834,1764,17365]
["DEDUC","D2S2",482,995,1477,1738,2162,3062,4023,3539,2722,2007,1350,2680,26237,null,510,1058,1511,1846,2253,3201,4212,3733,2801,2141,1419,2780,27465]
["DEDUC","D3",{"$f":"SUMPRODUCT(\n (rngTYPE=$A101)*\n (rngSUBTYPE=$B101)*\n ((rngBUS=valBUS1)+(rngBUS=valBUS2)+(rngBUS=valBUS3))*\n ((rngGEO=valGEO1)+(rngGEO=valGEO2)+(rngGEO=valGEO3)+(rngGEO=valGEO4)+(rngGEO=valGEO5))*\n (rngYEAR=valYEAR-1)*\n (rngMONTH=C$3)*\n (rngMTDRE=0)*\n rngACT_RE\n )","v":452},915,1294,1532,2185,2740,3135,3040,2218,1797,1069,2376,22753,null,{"$f":"SUMPRODUCT(\n (rngTYPE=$A101)*\n (rngSUBTYPE=$B101)*\n ((rngBUS=valBUS1)+(rngBUS=valBUS2)+(rngBUS=valBUS3))*\n ((rngGEO=valGEO1)+(rngGEO=valGEO2)+(rngGEO=valGEO3)+(rngGEO=valGEO4)+(rngGEO=valGEO5))*\n (rngYEAR=valYEAR-1)*\n (rngMONTH=Q$3)*\n (rngMTDRE=0)*\n rngBP\n )","v":463},968,1345,1595,2300,2916,3289,3207,2320,1935,1116,2487,23941]
["DEDUC","D3S1",{"$f":"SUMPRODUCT(\n (rngTYPE=$A102)*\n (rngSUBTYPE=LEFT($B102,2))*\n (rngSEG=RIGHT($B102,2))*\n ((rngBUS=valBUS1)+(rngBUS=valBUS2)+(rngBUS=valBUS3))*\n ((rngGEO=valGEO1)+(rngGEO=valGEO2)+(rngGEO=valGEO3)+(rngGEO=valGEO4)+(rngGEO=valGEO5))*\n (rngYEAR=valYEAR-1)*\n (rngMONTH=C$3)*\n (rngMTDRE=0)*\n rngACT_RE\n )","v":187},364,522,606,918,1091,1199,1196,787,728,449,915,8962,null,{"$f":"SUMPRODUCT(\n (rngTYPE=$A102)*\n (rngSUBTYPE=LEFT($B102,2))*\n (rngSEG=RIGHT($B102,2))*\n ((rngBUS=valBUS1)+(rngBUS=valBUS2)+(rngBUS=valBUS3))*\n ((rngGEO=valGEO1)+(rngGEO=valGEO2)+(rngGEO=valGEO3)+(rngGEO=valGEO4)+(rngGEO=valGEO5))*\n (rngYEAR=valYEAR-1)*\n (rngMONTH=Q$3)*\n (rngMTDRE=0)*\n rngBP\n )","v":192},380,536,636,961,1153,1251,1238,824,772,470,963,9376]
["DEDUC","D3S2",265,551,772,926,1267,1649,1936,1844,1431,1069,620,1461,13791,null,271,588,809,959,1339,1763,2038,1969,1496,1163,646,1524,14565]
["DEDUC","D4",{"$f":"SUMPRODUCT(\n (rngTYPE=$A104)*\n (rngSUBTYPE=$B104)*\n ((rngBUS=valBUS1)+(rngBUS=valBUS2)+(rngBUS=valBUS3))*\n ((rngGEO=valGEO1)+(rngGEO=valGEO2)+(rngGEO=valGEO3)+(rngGEO=valGEO4)+(rngGEO=valGEO5))*\n (rngYEAR=valYEAR-1)*\n (rngMONTH=C$3)*\n (rngMTDRE=0)*\n rngACT_RE\n )","v":271},540,814,897,1249,1515,1909,1789,1448,1096,729,1443,13700,null,{"$f":"SUMPRODUCT(\n (rngTYPE=$A104)*\n (rngSUBTYPE=$B104)*\n ((rngBUS=valBUS1)+(rngBUS=valBUS2)+(rngBUS=valBUS3))*\n ((rngGEO=valGEO1)+(rngGEO=valGEO2)+(rngGEO=valGEO3)+(rngGEO=valGEO4)+(rngGEO=valGEO5))*\n (rngYEAR=valYEAR-1)*\n (rngMONTH=Q$3)*\n (rngMTDRE=0)*\n rngBP\n )","v":283},576,841,947,1296,1592,2011,1898,1498,1135,762,1528,14367]
["DEDUC","D4S1",{"$f":"SUMPRODUCT(\n (rngTYPE=$A105)*\n (rngSUBTYPE=LEFT($B105,2))*\n (rngSEG=RIGHT($B105,2))*\n ((rngBUS=valBUS1)+(rngBUS=valBUS2)+(rngBUS=valBUS3))*\n ((rngGEO=valGEO1)+(rngGEO=valGEO2)+(rngGEO=valGEO3)+(rngGEO=valGEO4)+(rngGEO=valGEO5))*\n (rngYEAR=valYEAR-1)*\n (rngMONTH=C$3)*\n (rngMTDRE=0)*\n rngACT_RE\n )","v":104},230,337,385,496,579,767,718,543,458,301,579,5497,null,{"$f":"SUMPRODUCT(\n (rngTYPE=$A105)*\n (rngSUBTYPE=LEFT($B105,2))*\n (rngSEG=RIGHT($B105,2))*\n ((rngBUS=valBUS1)+(rngBUS=valBUS2)+(rngBUS=valBUS3))*\n ((rngGEO=valGEO1)+(rngGEO=valGEO2)+(rngGEO=valGEO3)+(rngGEO=valGEO4)+(rngGEO=valGEO5))*\n (rngYEAR=valYEAR-1)*\n (rngMONTH=Q$3)*\n (rngMTDRE=0)*\n rngBP\n )","v":109},244,353,404,520,611,804,754,563,472,310,614,5758]
["DEDUC","D4S2",167,310,477,512,753,936,1142,1071,905,638,428,864,8203,null,174,332,488,543,776,981,1207,1144,935,663,452,914,8609]
["DEDUC","D5",{"$f":"SUMPRODUCT(\n (rngTYPE=$A107)*\n (rngSUBTYPE=$B107)*\n ((rngBUS=valBUS1)+(rngBUS=valBUS2)+(rngBUS=valBUS3))*\n ((rngGEO=valGEO1)+(rngGEO=valGEO2)+(rngGEO=valGEO3)+(rngGEO=valGEO4)+(rngGEO=valGEO5))*\n (rngYEAR=valYEAR-1)*\n (rngMONTH=C$3)*\n (rngMTDRE=0)*\n rngACT_RE\n )","v":152},273,401,496,618,820,999,931,750,585,367,681,7073,null,{"$f":"SUMPRODUCT(\n (rngTYPE=$A107)*\n (rngSUBTYPE=$B107)*\n ((rngBUS=valBUS1)+(rngBUS=valBUS2)+(rngBUS=valBUS3))*\n ((rngGEO=valGEO1)+(rngGEO=valGEO2)+(rngGEO=valGEO3)+(rngGEO=valGEO4)+(rngGEO=valGEO5))*\n (rngYEAR=valYEAR-1)*\n (rngMONTH=Q$3)*\n (rngMTDRE=0)*\n rngBP\n )","v":157},288,423,511,647,859,1072,965,801,605,383,718,7429]
["DEDUC","D5S1",{"$f":"SUMPRODUCT(\n (rngTYPE=$A108)*\n (rngSUBTYPE=LEFT($B108,2))*\n (rngSEG=RIGHT($B108,2))*\n ((rngBUS=valBUS1)+(rngBUS=valBUS2)+(rngBUS=valBUS3))*\n ((rngGEO=valGEO1)+(rngGEO=valGEO2)+(rngGEO=valGEO3)+(rngGEO=valGEO4)+(rngGEO=valGEO5))*\n (rngYEAR=valYEAR-1)*\n (rngMONTH=C$3)*\n (rngMTDRE=0)*\n rngACT_RE\n )","v":63},107,171,189,262,336,395,336,304,238,153,273,2827,null,{"$f":"SUMPRODUCT(\n (rngTYPE=$A108)*\n (rngSUBTYPE=LEFT($B108,2))*\n (rngSEG=RIGHT($B108,2))*\n ((rngBUS=valBUS1)+(rngBUS=valBUS2)+(rngBUS=valBUS3))*\n ((rngGEO=valGEO1)+(rngGEO=valGEO2)+(rngGEO=valGEO3)+(rngGEO=valGEO4)+(rngGEO=valGEO5))*\n (rngYEAR=valYEAR-1)*\n (rngMONTH=Q$3)*\n (rngMTDRE=0)*\n rngBP\n )","v":65},115,179,197,276,357,421,355,326,251,158,288,2988]
["DEDUC","D5S2",89,166,230,307,356,484,604,595,446,347,214,408,4246,null,92,173,244,314,371,502,651,610,475,354,225,430,4441]
["NREV","ALL",{"$f":"C91-C94","v":18254},{"$f":"D91-D94","v":33090},49309,62330,80266,107469,129881,124125,97457,72436,44977,93266,912860,null,{"$f":"Q91-Q94","v":19309},{"$f":"R91-R94","v":34912},51848,65624,83380,112490,137093,131828,101171,76710,47927,99292,961584]
["NREV","S1",{"$f":"C92-C96-C99-C102-C105-C108","v":7174},{"$f":"D92-D96-D99-D102-D105-D108","v":12933},19240,22942,31164,44361,49369,52043,38106,30539,19884,38111,365866,null,{"$f":"Q92-Q96-Q99-Q102-Q105-Q108","v":7606},{"$f":"R92-R96-R99-R102-R105-R108","v":13853},20296,23802,31739,46124,52441,55775,39594,31741,21152,41338,385461]
["NREV","S2",{"$f":"C93-C97-C100-C103-C106-C109","v":11080},{"$f":"D93-D97-D100-D103-D106-D109","v":20157},30069,39388,49102,63108,80512,72082,59351,41897,25093,55155,546994,null,{"$f":"Q93-Q97-Q100-Q103-Q106-Q109","v":11703},{"$f":"R93-R97-R100-R103-R106-R109","v":21059},31552,41822,51641,66366,84652,76053,61577,44969,26775,57954,576123]
["PRD","ALL",{"$f":"SUMPRODUCT(\n (rngTYPE=$A113)*\n ((rngBUS=valBUS1)+(rngBUS=valBUS2)+(rngBUS=valBUS3))*\n ((rngGEO=valGEO1)+(rngGEO=valGEO2)+(rngGEO=valGEO3)+(rngGEO=valGEO4)+(rngGEO=valGEO5))*\n (rngYEAR=valYEAR-1)*\n (rngMONTH=C$3)*\n (rngMTDRE=0)*\n rngACT_RE\n )","v":8284},17558,24214,27248,36900,51155,67318,61947,43581,33914,20361,40921,433401,null,{"$f":"SUMPRODUCT(\n (rngTYPE=$A113)*\n ((rngBUS=valBUS1)+(rngBUS=valBUS2)+(rngBUS=valBUS3))*\n ((rngGEO=valGEO1)+(rngGEO=valGEO2)+(rngGEO=valGEO3)+(rngGEO=valGEO4)+(rngGEO=valGEO5))*\n (rngYEAR=valYEAR-1)*\n (rngMONTH=Q$3)*\n (rngMTDRE=0)*\n rngBP\n )","v":8637},18643,25423,28497,38820,53702,71062,64072,45501,36145,21291,43432,455225]
["PRD","P1",{"$f":"SUMPRODUCT(\n (rngTYPE=$A114)*\n (rngSUBTYPE=$B114)*\n ((rngBUS=valBUS1)+(rngBUS=valBUS2)+(rngBUS=valBUS3))*\n ((rngGEO=valGEO1)+(rngGEO=valGEO2)+(rngGEO=valGEO3)+(rngGEO=valGEO4)+(rngGEO=valGEO5))*\n (rngYEAR=valYEAR-1)*\n (rngMONTH=C$3)*\n (rngMTDRE=0)*\n rngACT_RE\n )","v":3783},8403,10225,12037,16240,22952,30656,29495,20990,14521,9240,18163,196705,null,{"$f":"SUMPRODUCT(\n (rngTYPE=$A114)*\n (rngSUBTYPE=$B114)*\n ((rngBUS=valBUS1)+(rngBUS=valBUS2)+(rngBUS=valBUS3))*\n ((rngGEO=valGEO1)+(rngGEO=valGEO2)+(rngGEO=valGEO3)+(rngGEO=valGEO4)+(rngGEO=valGEO5))*\n (rngYEAR=valYEAR-1)*\n (rngMONTH=Q$3)*\n (rngMTDRE=0)*\n rngBP\n )","v":3945},8945,10934,12538,16855,24312,31907,30247,21745,15383,9781,19336,205928]
["PRD","P2",2791,5740,8611,9270,13234,19159,24173,20698,13739,12374,6850,14221,150860,null,2896,6071,8940,9768,14045,19913,26081,21679,14376,13337,7108,15116,159330]
["PRD","P3",1710,3415,5378,5941,7426,9044,12489,11754,8852,7019,4271,8537,85836,null,1796,3627,5549,6191,7920,9477,13074,12146,9380,7425,4402,8980,89967]
["GRPRF","ALL",{"$f":"C110-C113","v":9970},{"$f":"D110-D113","v":15532},25095,35082,43366,56314,62563,62178,53876,38522,24616,52345,479459,null,{"$f":"Q110-Q113","v":10672},{"$f":"R110-R113","v":16269},26425,37127,44560,58788,66031,67756,55670,40565,26636,55860,506359]
["OPEX","ALL",{"$f":"SUMPRODUCT(\n (rngTYPE=$A118)*\n ((rngBUS=valBUS1)+(rngBUS=valBUS2)+(rngBUS=valBUS3))*\n ((rngGEO=valGEO1)+(rngGEO=valGEO2)+(rngGEO=valGEO3)+(rngGEO=valGEO4)+(rngGEO=valGEO5))*\n (rngYEAR=valYEAR-1)*\n (rngMONTH=C$3)*\n (rngMTDRE=0)*\n rngACT_RE\n )","v":4234},8403,11936,13972,18146,24317,29622,27808,22885,17253,10262,21663,210501,null,{"$f":"SUMPRODUCT(\n (rngTYPE=$A118)*\n ((rngBUS=valBUS1)+(rngBUS=valBUS2)+(rngBUS=valBUS3))*\n ((rngGEO=valGEO1)+(rngGEO=valGEO2)+(rngGEO=valGEO3)+(rngGEO=valGEO4)+(rngGEO=valGEO5))*\n (rngYEAR=valYEAR-1)*\n (rngMONTH=Q$3)*\n (rngMTDRE=0)*\n rngBP\n )","v":4496},8817,12566,14821,19199,25525,31013,29544,24045,18060,10849,22524,221459]
["OPEX","O1",{"$f":"SUMPRODUCT(\n (rngTYPE=$A119)*\n (rngSUBTYPE=$B119)*\n ((rngBUS=valBUS1)+(rngBUS=valBUS2)+(rngBUS=valBUS3))*\n ((rngGEO=valGEO1)+(rngGEO=valGEO2)+(rngGEO=valGEO3)+(rngGEO=valGEO4)+(rngGEO=valGEO5))*\n (rngYEAR=valYEAR-1)*\n (rngMONTH=C$3)*\n (rngMTDRE=0)*\n rngACT_RE\n )","v":1928},3325,4575,5199,7650,9790,11002,11052,9132,6936,3977,8828,83394,null,{"$f":"SUMPRODUCT(\n (rngTYPE=$A119)*\n (rngSUBTYPE=$B119)*\n ((rngBUS=valBUS1)+(rngBUS=valBUS2)+(rngBUS=valBUS3))*\n ((rngGEO=valGEO1)+(rngGEO=valGEO2)+(rngGEO=valGEO3)+(rngGEO=valGEO4)+(rngGEO=valGEO5))*\n (rngYEAR=valYEAR-1)*\n (rngMONTH=Q$3)*\n (rngMTDRE=0)*\n rngBP\n )","v":2057},3497,4805,5428,8127,10233,11474,12008,9617,7297,4206,9074,87823]
["OPEX","O2",798,1906,2875,3371,3797,5557,6903,5815,5435,4064,2354,5344,48219,null,847,2023,3047,3577,4019,5830,7210,6065,5717,4214,2494,5653,50696]
["OPEX","O3",222,454,616,826,901,1230,1632,1549,1174,847,536,1017,11004,null,237,474,642,861,952,1288,1690,1638,1245,880,566,1059,11532]
["OPEX","O4",248,491,753,828,1004,1458,1882,1654,1211,987,692,1222,12430,null,257,502,783,865,1051,1557,1980,1741,1255,1016,727,1297,13031]
["OPEX","O5",293,592,843,1008,1237,1884,1968,2295,1665,1140,665,1438,15028,null,312,619,883,1096,1278,1971,2052,2377,1741,1196,681,1480,15686]
["OPEX","O6",745,1635,2274,2740,3557,4398,6235,5443,4268,3279,2038,3814,40426,null,786,1702,2406,2994,3772,4646,6607,5715,4470,3457,2175,3961,42691]
["EBIT","ALL",{"$f":"C117-C118","v":5736},{"$f":"D117-D118","v":7129},13159,21110,25220,31997,32941,34370,30991,21269,14354,30682,268958,null,{"$f":"Q117-Q118","v":6176},{"$f":"R117-R118","v":7452},13859,22306,25361,33263,35018,38212,31625,22505,15787,33336,284900]
["DA","ALL",{"$f":"SUMPRODUCT(\n (rngTYPE=$A126)*\n ((rngBUS=valBUS1)+(rngBUS=valBUS2)+(rngBUS=valBUS3))*\n ((rngGEO=valGEO1)+(rngGEO=valGEO2)+(rngGEO=valGEO3)+(rngGEO=valGEO4)+(rngGEO=valGEO5))*\n (rngYEAR=valYEAR-1)*\n (rngMONTH=C$3)*\n (rngMTDRE=0)*\n rngACT_RE\n )","v":2019},4310,6464,7676,9314,11935,16971,15316,11106,9250,5094,11472,110927,null,{"$f":"SUMPRODUCT(\n (rngTYPE=$A126)*\n ((rngBUS=valBUS1)+(rngBUS=valBUS2)+(rngBUS=valBUS3))*\n ((rngGEO=valGEO1)+(rngGEO=valGEO2)+(rngGEO=valGEO3)+(rngGEO=valGEO4)+(rngGEO=valGEO5))*\n (rngYEAR=valYEAR-1)*\n (rngMONTH=Q$3)*\n (rngMTDRE=0)*\n rngBP\n )","v":2108},4552,6882,8041,9901,12598,18102,16080,11604,9798,5297,11941,116904]
["DA","A1",{"$f":"SUMPRODUCT(\n (rngTYPE=$A127)*\n (rngSUBTYPE=$B127)*\n ((rngBUS=valBUS1)+(rngBUS=valBUS2)+(rngBUS=valBUS3))*\n ((rngGEO=valGEO1)+(rngGEO=valGEO2)+(rngGEO=valGEO3)+(rngGEO=valGEO4)+(rngGEO=valGEO5))*\n (rngYEAR=valYEAR-1)*\n (rngMONTH=C$3)*\n (rngMTDRE=0)*\n rngACT_RE\n )","v":1249},2807,4076,4919,6399,7330,10851,9806,7189,6023,3400,7406,71455,null,{"$f":"SUMPRODUCT(\n (rngTYPE=$A127)*\n (rngSUBTYPE=$B127)*\n ((rngBUS=valBUS1)+(rngBUS=valBUS2)+(rngBUS=valBUS3))*\n ((rngGEO=valGEO1)+(rngGEO=valGEO2)+(rngGEO=valGEO3)+(rngGEO=valGEO4)+(rngGEO=valGEO5))*\n (rngYEAR=valYEAR-1)*\n (rngMONTH=Q$3)*\n (rngMTDRE=0)*\n rngBP\n )","v":1294},2930,4361,5094,6765,7737,11543,10435,7573,6454,3564,7687,75437]
["DA","A2",770,1503,2388,2757,2915,4605,6120,5510,3917,3227,1694,4066,39472,null,814,1622,2521,2947,3136,4861,6559,5645,4031,3344,1733,4254,41467]
["EBITDA","ALL",{"$f":"C125+C126","v":7755},{"$f":"D125+D126","v":11439},19623,28786,34534,43932,49912,49686,42097,30519,19448,42154,379885,null,{"$f":"Q125+Q126","v":8284},{"$f":"R125+R126","v":12004},20741,30347,35262,45861,53120,54292,43229,32303,21084,45277,401804]
["GRREV/U","ALL",{"$f":"C91/C$4","v":0.99723464073374202},{"$f":"D91/D$4","v":0.91734684519442411},0.89343244716284143,0.93661864471377387,0.9509655001241003,0.98886050472209319,0.95954382127792537,0.95071530896079448,1.0267190117067377,0.98002643392657751,1.0206081210130258,1.0429872324446114,0.97372845714654654,null,{"$f":"Q91/Q$4","v":1.0078083642138698},{"$f":"R91/R$4","v":0.91616493142347899},0.8989553601182283,0.93033602763053747,0.95602087210083064,0.98606371924032166,0.95609848305845657,0.97216028737767868,1.0177643565692691,0.97847343369731432,1.0220381706877926,1.081830765141029,0.97892818731718012]
["GRREV/U","S1",{"$f":"C92/C$5","v":0.98183699275778824},{"$f":"D92/D$5","v":0.84882842025699168},0.85768859876863734,0.86057677220949569,0.88933368074472374,0.97831744902353623,0.87819100298301633,0.967484393136117,0.97659446190947852,0.96109552438209755,1.1665169660678643,1.0962359238986279,0.95086084232935608,null,{"$f":"Q92/Q$5","v":0.98938846953287385},{"$f":"R92/R$5","v":0.85895006402048657},0.85426236981449666,0.83264674087708535,0.87677638632268073,0.97705706136653092,0.88117702140941789,0.98971467982068162,0.98869394078974915,0.94480248692091895,1.1632672199559244,1.13170833044803,0.95415438764565608]
["GRREV/U","S2",{"$f":"C93/C$6","v":1.0075396214802277},{"$f":"D93/D$6","v":0.9679206184745357},0.91808646712714248,0.98834503810276009,0.9954365215013331,0.99629155503939393,1.0177036671882034,0.93908369871508923,1.061778038825886,0.99410023638783496,0.93013181508756726,1.0090393395747821,0.98963725054892926,null,{"$f":"Q93/Q$6","v":1.0202557847268425},{"$f":"R93/R$6","v":0.95834906729099012},0.9304231889783221,0.99835228544111965,1.0135231316725979,0.9923444497260514,1.0095440514144021,0.95980498717854013,1.037378160757169,1.0034712449573131,0.93400169526203491,1.0489751855005474,0.99622633826842]
["DEDUC/U","ALL",{"$f":"C94/C$4","v":0.15592017329584734},0.15868030080704329,0.14691455217101679,0.14476459079706278,0.15408289898237776,0.1569283170769469,0.14791438837681611,0.15334014274059371,0.16305243661435118,0.15469544014766537,0.1615798922800718,0.16741457003379648,0.15513813700443255,null,{"$f":"Q94/Q$4","v":0.15599082406917239},0.15732388549568543,0.14774192613628132,0.14334540570359533,0.15624340552880464,0.15703557399641829,0.14627734984168991,0.155685618729097,0.1643751265267562,0.1524089509164136,0.15911055095426718,0.17165485695428587,0.15552450043500005]
["DEDUC/U","D1",{"$f":"C95/C$4","v":7.7199612849702726E-2},8.1139948642699924E-2,7.20341549082541E-2,7.2223492644256426E-2,7.5820302804666173E-2,7.9261495587552258E-2,7.0101546633338535E-2,7.996556752555134E-2,8.4667806914153543E-2,7.8094022742292005E-2,7.9090110393827115E-2,8.431280510702216E-2,7.7772626553475235E-2,null,{"$f":"Q95/Q$4","v":7.7421916357861303E-2},7.9379224900558612E-2,7.3429055767252491E-2,7.1342911280070989E-2,7.710975118460682E-2,7.943164147425362E-2,6.885898587023298E-2,8.0967422271770104E-2,8.6544301234901144E-2,7.5962180439792373E-2,7.7835794022326252E-2,8.6615761153532367E-2,7.797204354110579E-2]
["DEDUC/U","D1S1",{"$f":"C96/C$5","v":7.6100701230026435E-2},{"$f":"D96/D$5","v":7.7151495518842456E-2},7.0284103553148874E-2,7.0762858129099063E-2,7.1914157803728354E-2,7.4634411219503066E-2,6.6990451349852348E-2,8.2583053612322363E-2,8.414796951035701E-2,7.3961255845023374E-2,8.9121756487025944E-2,9.4330978273974589E-2,7.7310788451576656E-2,null,{"$f":"Q96/Q$5","v":7.7015643802647415E-2},{"$f":"R96/R$5","v":7.5953905249679904E-2},6.9712802889504502E-2,6.8805329126128495E-2,7.2697826136545088E-2,7.6434606346529863E-2,6.6242923825603331E-2,8.4381606369102052E-2,8.6009798584648883E-2,7.2383551949857211E-2,8.8385614479298547E-2,9.3760819887819397E-2,7.7462486072205849E-2]
["DEDUC/U","D1S2",{"$f":"C97/C$6","v":7.7935066933374361E-2},{"$f":"D97/D$6","v":8.4083844743763445E-2},7.3241238168329489E-2,7.3217068328815083E-2,7.8638818623094284E-2,8.2522798358254254E-2,7.2325696037036244E-2,7.8149989664138914E-2,8.5031401075317398E-2,8.1166444846149266E-2,7.2869608267838351E-2,7.7925871266276189E-2,7.8093923155993214E-2,null,{"$f":"Q97/Q$6","v":7.7696458933983886E-2},{"$f":"R97/R$6","v":8.1904689978098327E-2},7.6045627376425853E-2,7.3109705242173362E-2,8.0311180998096504E-2,8.1521603162292663E-2,7.0725165730479225E-2,7.8564418602197067E-2,8.6904930074869338E-2,7.8619007411577069E-2,7.1259462777306867E-2,8.1909135141710249E-2,7.8327838862462751E-2]
["DEDUC/U","D2",{"$f":"C98/C$4","v":3.8392404479882014E-2},3.7921863536316949E-2,3.6895173499666929E-2,3.5381253652463349E-2,3.8034251675353688E-2,3.8380554265366157E-2,4.0049992188720511E-2,3.6372513120956913E-2,3.9249918026249324E-2,3.6973315406877379E-2,4.1139844913862259E-2,4.0856177243710101E-2,3.8334375036429717E-2,null,{"$f":"Q98/Q$4","v":3.8733015704958532E-2},3.8124633207990088E-2,3.6511685188136599E-2,3.5389633751469071E-2,3.8434976116024325E-2,3.8050247256594123E-2,3.9778365861726762E-2,3.7123745819397994E-2,3.886901950199069E-2,3.6871917468932397E-2,4.0565358300324088E-2,4.1653298622251145E-2,3.8387896723456438E-2]
["DEDUC/U","D2S1",{"$f":"C99/C$5","v":4.0349465455799517E-2},{"$f":"D99/D$5","v":3.5579311089515168E-2},3.5605667235368295E-2,3.2855304860827814E-2,3.9533837079849352E-2,3.5500964293070196E-2,3.5766215466714636E-2,3.3299871380619253E-2,3.6755523017957883E-2,3.3079492317969271E-2,4.0119760479041915E-2,4.0317330182537192E-2,3.6090462212333092E-2,null,{"$f":"Q99/Q$5","v":4.0258177442292965E-2},{"$f":"R99/R$5","v":3.564660691421255E-2},3.5382403478626784E-2,3.2284453793788533E-2,4.0010036725290264E-2,3.519471899833175E-2,3.5781677851396791E-2,3.389957569305966E-2,3.783342406096897E-2,3.242601157530265E-2,3.9105359403572938E-2,4.0717401841977703E-2,3.6165404921327485E-2]
["DEDUC/U","D2S2",{"$f":"C100/C$6","v":3.7082628096630252E-2},{"$f":"D100/D$6","v":3.965091256874153E-2},3.7784599641852136E-2,3.7099494097807759E-2,3.6952211663362274E-2,4.0410172488881263E-2,4.3112501875388475E-2,3.8503802508894278E-2,4.0994593292067651E-2,3.9868099560994019E-2,4.1772386905130271E-2,4.1199710987102033E-2,3.9895444951980101E-2,null,{"$f":"Q100/Q$6","v":3.7702373031714351E-2},{"$f":"R100/R$6","v":3.9951665282078393E-2},3.7306799664214116E-2,3.7551618218434057E-2,3.7292063229330465E-2,4.0041530109329267E-2,4.2629421587976314E-2,3.9393012040564356E-2,3.9567735555869475E-2,4.0172624073552869E-2,4.1475462543477629E-2,4.2269796861695658E-2,3.9939737748687219E-2]
["DEDUC/U","D3",{"$f":"C101/C$4","v":2.083237313914366E-2},2.0978539985326485E-2,1.9590625567734513E-2,1.9462865563940342E-2,2.1692727724000993E-2,2.1210713732775971E-2,1.9590688954850805E-2,1.9528866105211765E-2,1.9655976107974937E-2,2.0474899163685254E-2,2.041712823255281E-2,2.2305670296657906E-2,2.0403331895573824E-2,null,{"$f":"Q101/Q$4","v":2.042526910181754E-2},2.1040276479666137E-2,1.9487387530969732E-2,1.9127911160146786E-2,2.2061503635352121E-2,2.1490319775368673E-2,1.9428429658333728E-2,1.9862504645113341E-2,1.9569471624266144E-2,2.0837371583640241E-2,2.0093626215340294E-2,2.2797481002099166E-2,2.0500661063044177E-2]
["DEDUC/U","D3S1",{"$f":"C102/C$5","v":2.149672376135188E-2},{"$f":"D102/D$5","v":1.9652305366591082E-2},1.936058155923151E-2,1.9016537483917531E-2,2.1744794750929719E-2,2.0428033778343662E-2,1.7973047923131119E-2,1.8759607240330017E-2,1.694586796434262E-2,1.9452237808951237E-2,2.2405189620758482E-2,2.2063610715921968E-2,1.9588343165390577E-2,null,{"$f":"Q102/Q$5","v":2.1004266491631111E-2},{"$f":"R102/R$5","v":1.9462227912932138E-2},1.8795806010449907E-2,1.8581821369094576E-2,2.1921120463514222E-2,2.0682727321649594E-2,1.7748960742306655E-2,1.8561554492705818E-2,1.7252208868975338E-2,1.9511208835645867E-2,2.2037792469639425E-2,2.2228377536181704E-2,1.952702773062865E-2]
["DEDUC/U","D3S2",{"$f":"C103/C$6","v":2.0387751961840284E-2},{"$f":"D103/D$6","v":2.1957440025504104E-2},1.974929649526733E-2,1.9766473840373982E-2,2.1655158268954672E-2,2.1762369181634621E-2,2.0747154767773324E-2,2.0062450360667151E-2,2.1551529390502869E-2,2.1235176099004788E-2,1.9184355467541308E-2,2.2459991698565697E-2,2.0970312205387719E-2,null,{"$f":"Q103/Q$6","v":2.0034006061950174E-2},{"$f":"R103/R$6","v":2.2203761045238274E-2},1.9974322255691079E-2,1.9508126690941638E-2,2.2163370024000661E-2,2.2053488779365041E-2,2.0626486513840393E-2,2.077815181030571E-2,2.1132928379714647E-2,2.1821934515432968E-2,1.8881711630082131E-2,2.317236345943316E-2,2.1180494458752204E-2]
["DEDUC/U","D4",{"$f":"C104/C$4","v":1.2490206019265336E-2},1.2380777696258253E-2,1.2323623811542421E-2,1.1395685646771857E-2,1.2400099280218416E-2,1.1727821644217372E-2,1.1929386033432276E-2,1.1492480744152583E-2,1.2832215240914206E-2,1.2487751521090171E-2,1.3923373696474273E-2,1.3546751783702592E-2,1.2285221595805449E-2,null,{"$f":"Q104/Q$4","v":1.2484559731780483E-2},1.2519833938313735E-2,1.2185050493342413E-2,1.1356822488187465E-2,1.2431177700615803E-2,1.1732712305345311E-2,1.1879164500732479E-2,1.1755233494363929E-2,1.2635805384978743E-2,1.2222437595571924E-2,1.3719841555635577E-2,1.4006654994454172E-2,1.2302451756098563E-2]
["DEDUC/U","D4S1",{"$f":"C105/C$5","v":1.1955397172088746E-2},{"$f":"D105/D$5","v":1.2417665478889969E-2},1.2499072769082412E-2,1.2081463583016915E-2,1.1748821564772485E-2,1.0841275488231879E-2,1.1497354259417487E-2,1.1262038460331901E-2,1.169200292838379E-2,1.2237808951235805E-2,1.5019960079840319E-2,1.3961563502206361E-2,1.201485409285338E-2,null,{"$f":"Q105/Q$5","v":1.1924297122853079E-2},{"$f":"R105/R$5","v":1.2496798975672215E-2},1.2378581197180629E-2,1.1803546907412277E-2,1.1861584433951505E-2,1.0960231043822986E-2,1.1407005944695884E-2,1.1304856290387874E-2,1.178761358402077E-2,1.1929132863244624E-2,1.4535565245932386E-2,1.4172610391708793E-2,1.1991960929283252E-2]
["DEDUC/U","D4S2",{"$f":"C106/C$6","v":1.2848130481612556E-2},{"$f":"D106/D$6","v":1.2353550649557662E-2},1.2202609363008442E-2,1.0929195039170064E-2,1.2870034867026731E-2,1.2352684993335358E-2,1.2238249351651414E-2,1.1652323392773601E-2,1.3629723339206916E-2,1.2673566277984149E-2,1.3243393774367226E-2,1.3282294885394088E-2,1.2473313829366648E-2,null,{"$f":"Q106/Q$6","v":1.2863162563761367E-2},{"$f":"R106/R$6","v":1.2536817460916849E-2},1.2048787714186954E-2,1.1045790191012836E-2,1.28444922618555E-2,1.2271396762652924E-2,1.2215980972622843E-2,1.207222228084801E-2,1.3208080237321656E-2,1.2440191387559809E-2,1.3211352409902668E-2,1.3897336090499939E-2,1.2519250037445777E-2]
["DEDUC/U","D5",{"$f":"C107/C$4","v":7.0055768078536203E-3},6.259170946441673E-3,6.070974383818809E-3,6.3012932896308153E-3,6.1355174981384958E-3,6.3477318470351448E-3,6.2427745664739888E-3,5.9807152447211038E-3,6.6465203250591545E-3,6.6654513137205749E-3,7.0094350433553615E-3,6.3931656027037178E-3,6.3425819231483164E-3,null,{"$f":"Q107/Q$4","v":6.9260631727545438E-3},6.2599169691568675E-3,6.1287471565800722E-3,6.1281270237210084E-3,6.2059968922055751E-3,6.3306531848565471E-3,6.3324039506639576E-3,5.9767124984516293E-3,6.7565287806194748E-3,6.5150438284766639E-3,6.8959308606409793E-3,6.5816611819490148E-3,6.3614473512950669E-3]
["DEDUC/U","D5S1",{"$f":"C108/C$5","v":7.2422117484768362E-3},{"$f":"D108/D$5","v":5.7769139401792459E-3},6.342259476299978E-3,5.9309003043901218E-3,6.2060307459080467E-3,6.2913101278858578E-3,5.9210624934418615E-3,5.2702575524672963E-3,6.5457990611946081E-3,6.3593854375417497E-3,7.6347305389221553E-3,6.5829133611439317E-3,6.1790053702922513E-3,null,{"$f":"Q108/Q$5","v":7.1108193851876162E-3},{"$f":"R108/R$5","v":5.8898847631241999E-3},6.2769576042360697E-3,5.7556899523767786E-3,6.2957640457127215E-3,6.4039320501551649E-3,5.9730715207922478E-3,5.3225782269067578E-3,6.8255098195217955E-3,6.3436702302423738E-3,7.4084493834107E-3,6.6477390762412578E-3,6.222990492653414E-3]
["DEDUC/U","D5S2",{"$f":"C109/C$6","v":6.8472072626557931E-3},{"$f":"D109/D$6","v":6.6151271220212006E-3},5.8838577641340496E-3,6.5532478066898624E-3,6.0846379982224651E-3,6.3874995051007612E-3,6.4727693593672978E-3,6.473512995985334E-3,6.7169686290456179E-3,6.8929898094992155E-3,6.6216968871836129E-3,6.2721948069916524E-3,6.4563806557955371E-3,null,{"$f":"Q109/Q$6","v":6.801212390034745E-3},{"$f":"R109/R$6","v":6.5327392190922132E-3},6.0243938570934772E-3,6.3874366850424132E-3,6.1408590581809152E-3,6.2795526756898755E-3,6.5887353878852284E-3,6.4371115308717534E-3,6.7099872863398786E-3,6.6422741345341964E-3,6.5764475491772133E-3,6.5381340469529252E-3,6.458123988418712E-3]
["NREV/U","ALL",{"$f":"C110/C$4","v":0.84131446743789462},0.75866654438738079,0.74651789499182464,0.79185405391671115,0.79688260114172249,0.83193218764514631,0.81162943290110923,0.79737516622020077,0.86366657509238665,0.82533099377891206,0.85902822873295392,0.87557266241081488,0.81859032014211397,null,{"$f":"Q110/Q$4","v":0.85181754014469735},0.75884104592779356,0.75121343398194695,0.78699062192694214,0.79977746657202597,0.82902814524390334,0.80982113321676674,0.81647466864858165,0.85338923004251299,0.82606448278090072,0.86292761973352539,0.91017590818674321,0.82340368688218002]
["NREV/U","S1",{"$f":"C111/C$5","v":0.8246924933900448},{"$f":"D111/D$5","v":0.69825072886297379},0.7135969141755063,0.71992970784824428,0.7381860387995357,0.83062145411650157,0.74004287149045889,0.81630956489004614,0.82050729942724254,0.81600534402137603,0.99221556886227547,0.91897952786284387,0.7996773890369101,null,{"$f":"Q111/Q$5","v":0.8320752652882617},{"$f":"R111/R$5","v":0.70950064020486558},0.71171581863449873,0.69541589972828466,0.72399005451766696,0.82738084560604153,0.744023381524623,0.83624450874851941,0.82898538587161341,0.80220891146662621,0.99179443897407038,0.95418138171410105,0.80278451749955748]
["NREV/U","S2",{"$f":"C112/C$6","v":0.85243883674411447},{"$f":"D112/D$6","v":0.80325974336494776},0.76922486569455106,0.84077955898990331,0.83923566008067274,0.83285603051218771,0.86280729579698656,0.78424161979262996,0.89385382309974548,0.83226395979420353,0.77644037378550657,0.84789927593045245,0.83174787575040598,null,{"$f":"Q112/Q$6","v":0.86515857174539812},{"$f":"R112/R$6","v":0.7952193943055661},0.7790232581107106,0.85074960841351532,0.85477116610113379,0.83017687823672159,0.85675826122159815,0.80256007091375325,0.86985449922305413,0.84377521343465611,0.78259725835208838,0.88118841990025543,0.83780089317265338]
["PRD/U","ALL",{"$f":"C113/C$4","v":0.38180393602802232},0.40255869405722672,0.36658995942590689,0.34616459587875092,0.3663440059568131,0.39599783248180831,0.42067177003593187,0.39794561467748463,0.38621600304853732,0.38641387325387966,0.38888040032086785,0.38416259857303792,0.38864433028056039,null,{"$f":"Q113/Q$4","v":0.38102170460561141},0.40522094463885933,0.36834784624523681,0.34174801525435927,0.37235981353233449,0.39577268606887811,0.41976985964746466,0.39682893595937074,0.38380626223091979,0.38923348624841164,0.3833453366942744,0.39812633489472093,0.38980883974872754]
["PRD/U","P1",{"$f":"C114/C$4","v":0.1743559017375674},0.19265865737344093,0.1548022769938836,0.15292070025662524,0.16123107470836437,0.17767456262579345,0.19157006717700359,0.18947496900434901,0.18601394883065553,0.16545131372057517,0.17647732915695788,0.17051257979722118,0.17639157036517597,null,{"$f":"Q114/Q$4","v":0.17403388035997883},0.19442693503162561,0.15842014517741493,0.15036097186578082,0.16167245381472173,0.17917443565801208,0.18847762393081613,0.18733432429084604,0.18342162089209799,0.16565441192306865,0.1761073100468131,0.1772465189612342,0.17633599813669276]
["PRD/U","P2",{"$f":"C115/C$4","v":0.12863529520210168},0.13160308143800439,0.1303669835886877,0.11776812257031787,0.13138744105237032,0.1483124322650565,0.15105764724261833,0.13296331271239248,0.12175539032798362,0.14098853770252717,0.13083005462393521,0.13350544498685693,0.1352809145943949,null,{"$f":"Q115/Q$4","v":0.1277571907534851},0.13195818027691439,0.12952954983410364,0.11714196627731274,0.13471905154718283,0.14675471114091784,0.15406289872879353,0.1342685494859408,0.1212632431338147,0.14362171824858391,0.12797983435361901,0.13856321786398512,0.13643416428615468]
["PRD/U","P3",{"$f":"C116/C$4","v":7.8812739088353234E-2},7.8296955245781369E-2,8.1420698843335554E-2,7.5475773051807804E-2,7.3725490196078436E-2,7.0010837590958358E-2,7.8044055616309949E-2,7.550733296074312E-2,7.8446663889898169E-2,7.99740218307773E-2,8.1573016539974785E-2,8.0144573788959825E-2,7.6971845320989524E-2,null,{"$f":"Q116/Q$4","v":7.9230633492147526E-2},7.8835829330319296E-2,8.0398151233718254E-2,7.4245077111265684E-2,7.5968308170429918E-2,6.9843539269948185E-2,7.7229336987855016E-2,7.5226062182583917E-2,7.912139820500709E-2,7.9957356076759065E-2,7.9258192293842275E-2,8.2316598069501604E-2,7.7038677325880101E-2]
["GRPRF/U","ALL",{"$f":"C117/C$4","v":0.45951053140987236},0.35610785033015407,0.37992793556591775,0.44568945803796023,0.43053859518490939,0.43593435516333801,0.3909576628651773,0.3994295515427162,0.47745057204384933,0.43891712052503246,0.47014782841208602,0.49141006383777697,0.42994598986155363,null,{"$f":"Q117/Q$4","v":0.47079583553908594},0.35362010128893429,0.3828655877367102,0.44524260667258292,0.42741765303969154,0.43325545917502523,0.39005127356930203,0.41964573268921096,0.4695829678115932,0.43683099653248908,0.47958228303925099,0.51204957329202228,0.43359484713345253]
["OPEX/U","ALL",{"$f":"C118/C$4","v":0.19514218555560678},0.19265865737344093,0.18070611033730999,0.17750336661839064,0.18015388433854554,0.18824121381018732,0.18510857678487735,0.17863773310977921,0.202807490185305,0.19657954105234374,0.19599679132128806,0.20337025910627113,0.18876287818530238,null,{"$f":"Q118/Q$4","v":0.19834127404270338},0.19164474971200035,0.18206580796592242,0.17773966852948936,0.18415600360657625,0.18811399597609238,0.18319668257643779,0.18298030471943516,0.20282239017477563,0.19448213478064225,0.19533669427439684,0.20646982794181004,0.18963518225473877]
["OPEX/U","O1",{"$f":"C119/C$4","v":8.886021108909066E-2},7.6233492296404984E-2,6.9263610488705871E-2,6.6049241558045577E-2,7.5949367088607597E-2,7.5785725344480567E-2,6.8751757537884706E-2,7.0997706643026459E-2,8.0928031477920256E-2,7.9028325319599843E-2,7.5957828794071577E-2,8.2876455125797971E-2,7.4782026989824793E-2,null,{"$f":"Q119/Q$4","v":9.0744662078701258E-2},7.6010172365074874E-2,6.9618510844839832E-2,6.5094860048449374E-2,7.79538434976116E-2,7.5415103656154878E-2,6.7777987807759552E-2,7.4371361327883065E-2,8.112052095283083E-2,7.8578966638668132E-2,7.5729204177169607E-2,8.3178264018113318E-2,7.5202771669509574E-2]
["OPEX/U","O2",{"$f":"C120/C$4","v":3.6779278241231506E-2},4.3699559794570797E-2,4.352631260219221E-2,4.2825926772873946E-2,3.7696698932737652E-2,4.3017494968261343E-2,4.3137009842212151E-2,3.735538039533106E-2,4.8165117288928673E-2,4.6304947246086185E-2,4.4959700523320219E-2,5.0168982350732257E-2,4.3239496359718466E-2,null,{"$f":"Q120/Q$4","v":3.7365449091229928E-2},4.3971569543765077E-2,4.4147263796925483E-2,4.2896889166047059E-2,3.8550079613252249E-2,4.2965899962414053E-2,4.2590142242805162E-2,3.7563483215657126E-2,4.822356434307308E-2,4.5379164782149858E-2,4.4904573280518542E-2,5.1819123484063763E-2,4.3410948300074671E-2]
["OPEX/U","O3",{"$f":"C121/C$4","v":1.023182928515463E-2},1.0409024211298606E-2,9.3259855871131829E-3,1.0493686002490028E-2,8.9451476793248937E-3,9.5215977705527168E-3,1.0198406498984534E-2,9.9507281568990223E-3,1.0404019815492596E-2,9.6506619875578251E-3,1.0237213033347339E-2,9.5475028163725124E-3,9.8676334627914707E-3,null,{"$f":"Q121/Q$4","v":1.0455267337215458E-2},1.0302780011737345E-2,9.301786464596706E-3,1.0325474300242247E-2,9.131544113415312E-3,9.4922948802039966E-3,9.9829875714758289E-3,1.0144927536231883E-2,1.0501720763884203E-2,9.4764273868751473E-3,1.0190853438962909E-2,9.7074919104234072E-3,9.874843297231756E-3]
["OPEX/U","O4",{"$f":"C122/C$4","v":1.1430151633866433E-2},1.1257336757153338E-2,1.1400109005026342E-2,1.0519094443174023E-2,9.9677339290146442E-3,1.1286576869484441E-2,1.1760662396500548E-2,1.0625244913822454E-2,1.0731914818195513E-2,1.1245812729302919E-2,1.321670040872455E-2,1.1472024033045437E-2,1.1146372586559251E-2,null,{"$f":"Q122/Q$4","v":1.1337568378330687E-2},1.0911383050405373E-2,1.1344702183456729E-2,1.0373443983402489E-2,1.0081147965545687E-2,1.1474769509687595E-2,1.169604461036813E-2,1.0782856435030349E-2,1.0586071934678453E-2,1.0940966164846761E-2,1.3089665106229744E-2,1.1889156759036033E-2,1.115843591798708E-2]
["OPEX/U","O5",{"$f":"C123/C$4","v":1.3504171083559939E-2},1.3573000733675716E-2,1.276267183431236E-2,1.2805854104733592E-2,1.2280963018118639E-2,1.4584300975383187E-2,1.2298078425246056E-2,1.4743009115612172E-2,1.4755275121631321E-2,1.2989084611352916E-2,1.2701019901447725E-2,1.3499812241832519E-2,1.3476081032245568E-2,null,{"$f":"Q123/Q$4","v":1.3763896241397565E-2},1.345447431912535E-2,1.2793578579811357E-2,1.3143693185906507E-2,1.2258522454773917E-2,1.4525864292610307E-2,1.2121355323472426E-2,1.4721912547999505E-2,1.4685538835279033E-2,1.2879326312162133E-2,1.2261433201296364E-2,1.3566655361120533E-2,1.3431910506449646E-2]
["OPEX/U","O6",{"$f":"C124/C$4","v":3.4336544222703602E-2},3.7486243580337489E-2,3.4427420819960031E-2,3.4809563737073453E-2,3.5313973690742122E-2,3.4045517882025082E-2,3.8962662084049367E-2,3.4965663885088039E-2,3.7823131663136625E-2,3.7360709158444041E-2,3.8924328660376636E-2,3.5805482538490425E-2,3.6251267754162854E-2,null,{"$f":"Q124/Q$4","v":3.4674430915828482E-2},3.6994370421892318E-2,3.4859966096292327E-2,3.5905307845441679E-2,3.6180865961977476E-2,3.4240063675021554E-2,3.9028165020556685E-2,3.5395763656633224E-2,3.7704973345030028E-2,3.7227283495940212E-2,3.9160965070219662E-2,3.6309136409052992E-2,3.6556272563486029E-2]
["EBIT/U","ALL",{"$f":"C125/C$4","v":0.26436834585426555},0.16344919295671315,0.19922182522860776,0.26818609141956956,0.25038471084636388,0.24769314135315065,0.20584908608029995,0.22079181843293696,0.2746430818585443,0.24233757947268875,0.27415103709079797,0.28803980473150581,0.24118311167625123,null,{"$f":"Q125/Q$4","v":0.27245456149638259},0.16197535157693393,0.20079977977078775,0.26750293814309356,0.24326164943311526,0.24514146319893285,0.20685459099286424,0.2366654279697758,0.2667605776368176,0.24234886175184683,0.28424558876485417,0.30557974535021221,0.24395966487871376]
["DA/U","ALL",{"$f":"C126/C$4","v":9.3054339309581971E-2},9.8816947909024205E-2,9.7862290316720155E-2,9.7517595345173666E-2,9.2469595433109952E-2,9.2390462919956645E-2,0.10605217934697704,9.8389510943231381E-2,9.8421672973475954E-2,0.10539388829387235,9.729172237289431E-2,0.1076980848666917,9.9471735471380371E-2,null,{"$f":"Q126/Q$4","v":9.2994529733545092E-2},9.8941465429173828E-2,9.9711673597125433E-2,9.6431055572877941E-2,9.4969977171139711E-2,9.2844666848454924E-2,0.106930201786305,9.9591230026012639E-2,9.7881098589648427E-2,0.1055114040188667,9.537270435722002E-2,0.10945907545077045,0.10010481103187488]
["DA/U","A1",{"$f":"C127/C$4","v":5.7565562059270867E-2},6.4357116654438731E-2,6.1708956579664506E-2,6.2492059862286252E-2,6.3529411764705876E-2,5.6742529803375137E-2,6.7808154975785032E-2,6.2993441127535063E-2,6.3709112822467009E-2,6.8625663696647909E-2,6.4937545360785359E-2,6.9526849417949677E-2,6.4075949571407179E-2,null,{"$f":"Q127/Q$4","v":5.7084877360155287E-2},6.3685960832047292E-2,6.3185499645025289E-2,6.1089391504569115E-2,6.4889596562242219E-2,5.702009742867882E-2,6.818557724115118E-2,6.4629010281184188E-2,6.3879141642485995E-2,6.9500979948741146E-2,6.4169967590925456E-2,7.0464107946576718E-2,6.4596648787137695E-2]
["DA/U","A2",{"$f":"C128/C$4","v":3.5488777250311104E-2},3.4459831254585474E-2,3.6153333737055655E-2,3.5025535482887414E-2,2.8940183668404069E-2,3.5647933116581515E-2,3.8244024371192002E-2,3.5396069815696325E-2,3.4712560151008945E-2,3.6768224597224439E-2,3.2354177012108944E-2,3.8171235448742021E-2,3.5395785899973185E-2,null,{"$f":"Q128/Q$4","v":3.5909652373389798E-2},3.5255504597126522E-2,3.6526173952100144E-2,3.5341664068308826E-2,3.0080380608897499E-2,3.5824569419776103E-2,3.8744624545153823E-2,3.4962219744828438E-2,3.4001956947162425E-2,3.6010424070125564E-2,3.1202736766294561E-2,3.8994967504193748E-2,3.5508162244737185E-2]
["EBITDA/U","ALL",{"$f":"C129/C$4","v":0.35742268516384751},0.26226614086573735,0.29708411554532793,0.36570368676474324,0.34285430627947383,0.3400836042731073,0.31190126542727697,0.31918132937616833,0.37306475483202028,0.34773146776656111,0.37144275946369226,0.3957378895981975,0.34065484714763161,null,{"$f":"Q129/Q$4","v":0.36544909122992764},0.26091681700610775,0.30051145336791318,0.36393399371597152,0.33823162660425499,0.33798613004738776,0.31378479277916921,0.33625665799578841,0.36464167622646604,0.34786026577071355,0.37961829312207418,0.41503882080098264,0.34406447591058864]
[]
[null,null,"BUS","GEO","SEG",null,"YEAR",null,"MTD","YTD","YTG","FY"]
[null,null,"B1","G1","FF",null,2014,null,true,true,true,true]
[null,null,"B2","G2","FF"]
[null,null,"B3","G3",null,null,null,null,"ACT","BP","RE","PY"]
[null,null,null,"G4",null,null,null,null,true,true,true,true]
[null,null,null,"G5"]
[null,null,null,null,null,null,null,null,"AMT","AMT/U","DIFF","DIFF/U","DIFF%","DIFF%/U"]
[null,null,null,null,null,null,null,null,true,true,true,true,true,true]

{"sheet":"PnL","index":3,"n_rows":171,"n_cols":66,"rows_kept":171,"cut":false,"hidden":false,"merged":[[7,52,7,65],[8,12,8,17],[8,18,8,23],[8,4,8,5],[8,6,8,11],[8,24,8,25],[8,60,8,65],[8,32,8,37],[8,52,8,53],[8,54,8,59],[7,3,9,3],[8,26,8,31],[7,4,7,23],[7,24,7,37],[7,38,7,51],[8,38,8,39],[8,40,8,45],[8,46,8,51]]}
[0,0,0,1,{"$f":"N(AND(E2,E3,E4))","v":1},{"$f":"N(AND(F2,F3,F4))","v":1},1,1,1,1,1,1,1,1,1,1,1,1,1,1,1,1,1,1,1,1,1,1,1,1,1,1,1,1,1,1,1,1,1,1,1,1,1,1,1,1,1,1,1,1,1,1,1,1,1,1,1,1,1,1,1,1,1,1,1,1]
[0,3.14,null,null,{"$f":"IF(showMTD,1,0)","v":1},1,1,1,1,1,1,1,1,1,1,1,1,1,1,1,1,1,1,1,{"$f":"IF(showYTD,1,0)","v":1},1,1,1,1,1,1,1,1,1,1,1,1,1,{"$f":"IF(showYTG,1,0)","v":1},1,1,1,1,1,1,1,1,1,1,1,1,1,{"$f":"IF(showFY,1,0)","v":1},1,1,1,1,1,1,1,1,1,1,1,1,1]
[0,null,null,null,{"$f":"IF(showACT,1,0)","v":1},{"$f":"IF(showACT,1,0)","v":1},{"$f":"IF(showBP,1,0)","v":1},1,1,1,1,1,{"$f":"IF(showRE,1,0)","v":1},1,1,1,1,1,{"$f":"IF(showPY,1,0)","v":1},1,1,1,1,1,{"$f":"IF(showACT,1,0)","v":1},{"$f":"IF(showACT,1,0)","v":1},{"$f":"IF(showBP,1,0)","v":1},1,1,1,1,1,{"$f":"IF(showPY,1,0)","v":1},1,1,1,1,1,{"$f":"IF(showRE,1,0)","v":1},{"$f":"IF(showRE,1,0)","v":1},{"$f":"IF(showBP,1,0)","v":1},1,1,1,1,1,{"$f":"IF(showPY,1,0)","v":1},1,1,1,1,1,{"$f":"IF(showACT,1,0)","v":1},{"$f":"IF(showACT,1,0)","v":1},{"$f":"IF(showBP,1,0)","v":1},1,1,1,1,1,{"$f":"IF(showPY,1,0)","v":1},1,1,1,1,1]
[0,null,null,null,{"$f":"IF(showAMT,1,0)","v":1},{"$f":"IF(showAMTU,1,0)","v":1},{"$f":"IF(showAMT,1,0)","v":1},{"$f":"IF(showAMTU,1,0)","v":1},{"$f":"IF(showDIFF,1,0)","v":1},{"$f":"IF(showDIFFU,1,0)","v":1},{"$f":"IF(showDIFFp,1,0)","v":1},{"$f":"IF(showDIFFpU,1,0)","v":1},{"$f":"IF(showAMT,1,0)","v":1},{"$f":"IF(showAMTU,1,0)","v":1},{"$f":"IF(showDIFF,1,0)","v":1},{"$f":"IF(showDIFFU,1,0)","v":1},{"$f":"IF(showDIFFp,1,0)","v":1},{"$f":"IF(showDIFFpU,1,0)","v":1},{"$f":"IF(showAMT,1,0)","v":1},{"$f":"IF(showAMTU,1,0)","v":1},{"$f":"IF(showDIFF,1,0)","v":1},{"$f":"IF(showDIFFU,1,0)","v":1},{"$f":"IF(showDIFFp,1,0)","v":1},{"$f":"IF(showDIFFpU,1,0)","v":1},{"$f":"IF(showAMT,1,0)","v":1},{"$f":"IF(showAMTU,1,0)","v":1},{"$f":"IF(showAMT,1,0)","v":1},{"$f":"IF(showAMTU,1,0)","v":1},{"$f":"IF(showDIFF,1,0)","v":1},{"$f":"IF(showDIFFU,1,0)","v":1},{"$f":"IF(showDIFFp,1,0)","v":1},{"$f":"IF(showDIFFpU,1,0)","v":1},{"$f":"IF(showAMT,1,0)","v":1},{"$f":"IF(showAMTU,1,0)","v":1},{"$f":"IF(showDIFF,1,0)","v":1},{"$f":"IF(showDIFFU,1,0)","v":1},{"$f":"IF(showDIFFp,1,0)","v":1},{"$f":"IF(showDIFFpU,1,0)","v":1},{"$f":"IF(showAMT,1,0)","v":1},{"$f":"IF(showAMTU,1,0)","v":1},{"$f":"IF(showAMT,1,0)","v":1},{"$f":"IF(showAMTU,1,0)","v":1},{"$f":"IF(showDIFF,1,0)","v":1},{"$f":"IF(showDIFFU,1,0)","v":1},{"$f":"IF(showDIFFp,1,0)","v":1},{"$f":"IF(showDIFFpU,1,0)","v":1},{"$f":"IF(showAMT,1,0)","v":1},{"$f":"IF(showAMTU,1,0)","v":1},{"$f":"IF(showDIFF,1,0)","v":1},{"$f":"IF(showDIFFU,1,0)","v":1},{"$f":"IF(showDIFFp,1,0)","v":1},{"$f":"IF(showDIFFpU,1,0)","v":1},{"$f":"IF(showAMT,1,0)","v":1},{"$f":"IF(showAMTU,1,0)","v":1},{"$f":"IF(showAMT,1,0)","v":1},{"$f":"IF(showAMTU,1,0)","v":1},{"$f":"IF(showDIFF,1,0)","v":1},{"$f":"IF(showDIFFU,1,0)","v":1},{"$f":"IF(showDIFFpU,1,0)","v":1},{"$f":"IF(showAMTU,1,0)","v":1},{"$f":"IF(showAMT,1,0)","v":1},{"$f":"IF(showAMTU,1,0)","v":1},{"$f":"IF(showDIFF,1,0)","v":1},{"$f":"IF(showDIFFU,1,0)","v":1},{"$f":"IF(showDIFFp,1,0)","v":1},{"$f":"IF(showDIFFpU,1,0)","v":1}]
[0,null,null,null,"MTD","MTD","MTD","MTD","MTD","MTD","MTD","MTD","MTD","MTD","MTD","MTD","MTD","MTD","MTD","MTD","MTD","MTD","MTD","MTD","YTD","YTD","YTD","YTD","YTD","YTD","YTD","YTD","YTD","YTD","YTD","YTD","YTD","YTD","YTG","YTG","YTG","YTG","YTG","YTG","YTG","YTG","YTG","YTG","YTG","YTG","YTG","YTG","FY","FY","FY","FY","FY","FY","FY","FY","FY","FY","FY","FY","FY","YTG"]
[0,null,null,null,"ACT","ACT","BP","BP","BP","BP","BP","BP","RE","RE","RE","RE","RE","RE","PY","PY","PY","PY","PY","PY","ACT","ACT","BP","BP","BP","BP","BP","BP","PY","PY","PY","PY","PY","PY","RE","RE","BP","BP","BP","BP","BP","BP","PY","PY","PY","PY","PY","PY","ACT","ACT","BP","BP","BP","BP","BP","BP","PY","PY","PY","PY","PY","PY"]
[0,null,null,null,"AMT","AMT/U","AMT","AMT/U","DIFF","DIFF/U","DIFF%","DIFF%/U","AMT","AMT/U","DIFF","DIFF/U","DIFF%","DIFF%/U","AMT","AMT/U","DIFF","DIFF/U","DIFF%","DIFF%/U","AMT","AMT/U","AMT","AMT/U","DIFF","DIFF/U","DIFF%","DIFF%/U","AMT","AMT/U","DIFF","DIFF/U","DIFF%","DIFF%/U","AMT","AMT/U","AMT","AMT/U","DIFF","DIFF/U","DIFF%","DIFF%/U","AMT","AMT/U","DIFF","DIFF/U","DIFF%","DIFF%/U","AMT","AMT/U","AMT","AMT/U","DIFF","DIFF/U","DIFF%","DIFF%/U","AMT","AMT/U","DIFF","DIFF/U","DIFF%","DIFF%/U"]
[1,null,null,{"$f":"PI()","v":3.1415926535897931},"MTD",null,null,null,null,null,null,null,null,null,null,null,null,null,null,null,null,null,null,null,"YTD",null,null,null,null,null,null,null,null,null,null,null,null,null,"YTG",null,null,null,null,null,null,null,null,null,null,null,null,null,"FY"]
[1,null,null,null,"ACT",null,"ACT vs. BP",null,null,null,null,null,"ACT vs. RE",null,null,null,null,null,"ACT vs. PY",null,null,null,null,null,"ACT",null,"ACT vs. BP",null,null,null,null,null,"ACT vs. PY",null,null,null,null,null,"RE",null,"RE vs. BP",null,null,null,null,null,"RE vs. PY",null,null,null,null,null,"ACT/RE",null,"ACT/RE vs. BP",null,null,null,null,null,"ACT/RE vs. PY"]
[1,null,null,null,"$","$/U","$","$/U","∆","∆/U","∆ %","∆ %/U","$","$/U","∆","∆/U","∆ %","∆ %/U","$","$/U","∆","∆/U","∆ %","∆ %/U","$","$/U","$","$/U","∆","∆/U","∆ %","∆ %/U","$","$/U","∆","∆/U","∆ %","∆ %/U","$","$/U","$","$/U","∆","∆/U","∆ %","∆ %/U","$","$/U","∆","∆/U","∆ %","∆ %/U","$","$/U","$","$/U","∆","∆/U","∆ %","∆ %/U","$","$/U","∆","∆/U","∆ %","∆ %/U"]
[0,"TYPE","SUBTYPE"]
[1,"VOL","VOL",{"$f":"IF(selLang=\"RUS\",VLOOKUP($C12,tblLabels[],3,0),VLOOKUP($C12,tblLabels[],2,0))","v":"Sales Volume"},{"$f":"SELECT!AG4","v":78714},"-",{"$f":"SELECT!AH4","v":83386},"-",{"$f":"SELECT!AI4","v":-4672},"-",{"$f":"SELECT!AJ4","v":-5.6028589931163504E-2},"-",{"$f":"SELECT!AK4","v":78449},"-",{"$f":"SELECT!AL4","v":265},"-",{"$f":"SELECT!AM4","v":3.3779907965684713E-3},"-",{"$f":"SELECT!AN4","v":74298},"-",{"$f":"SELECT!AO4","v":4416},"-",{"$f":"SELECT!AP4","v":5.9436323992570463E-2},"-",{"$f":"SELECT!AR4","v":210079},"-",{"$f":"SELECT!AS4","v":221080},"-",{"$f":"SELECT!AT4","v":-11001},"-",{"$f":"SELECT!AU4","v":-4.9760267776370541E-2},"-",{"$f":"SELECT!AV4","v":204141},"-",{"$f":"SELECT!AW4","v":5938},"-",{"$f":"SELECT!AX4","v":2.9087738376906157E-2},"-",{"$f":"SELECT!AZ4","v":905082},"-",{"$f":"SELECT!BA4","v":946736},"-",{"$f":"SELECT!BB4","v":-41654},"-",{"$f":"SELECT!BC4","v":-4.3997481874566931E-2},"-",{"$f":"SELECT!BD4","v":902164},"-",{"$f":"SELECT!BE4","v":2918},"-",{"$f":"SELECT!BF4","v":3.2344451784819613E-3},"-",{"$f":"SELECT!BH4","v":1115161},"-",{"$f":"SELECT!BI4","v":1167816},"-",{"$f":"SELECT!BJ4","v":-52655},"-",{"$f":"SELECT!BK4","v":-4.5088438589640831E-2},"-",{"$f":"SELECT!BL4","v":1106305},"-",{"$f":"SELECT!BM4","v":8856},"-",{"$f":"SELECT!BN4","v":8.0050257388333233E-3},"-"]
[{"$f":"N(valSEG1=\"S1\")","v":0},"VOL","S1",{"$f":"IF(selLang=\"RUS\",VLOOKUP($C13,tblLabels[],3,0),VLOOKUP($C13,tblLabels[],2,0))","v":"Local"},{"$f":"SELECT!AG5","v":31867},"-",{"$f":"SELECT!AH5","v":34227},"-",{"$f":"SELECT!AI5","v":-2360},"-",{"$f":"SELECT!AJ5","v":-6.8951412627457853E-2},"-",{"$f":"SELECT!AK5","v":31514},"-",{"$f":"SELECT!AL5","v":353},"-",{"$f":"SELECT!AM5","v":1.1201370819318398E-2},"-",{"$f":"SELECT!AN5","v":28303},"-",{"$f":"SELECT!AO5","v":3564},"-",{"$f":"SELECT!AP5","v":0.12592304702681695},"-",{"$f":"SELECT!AR5","v":86050},"-",{"$f":"SELECT!AS5","v":91410},"-",{"$f":"SELECT!AT5","v":-5360},"-",{"$f":"SELECT!AU5","v":-5.8636910622470187E-2},"-",{"$f":"SELECT!AV5","v":78951},"-",{"$f":"SELECT!AW5","v":7099},"-",{"$f":"SELECT!AX5","v":8.9916530506263373E-2},"-",{"$f":"SELECT!AZ5","v":371467},"-",{"$f":"SELECT!BA5","v":388745},"-",{"$f":"SELECT!BB5","v":-17278},"-",{"$f":"SELECT!BC5","v":-4.4445587724600957E-2},"-",{"$f":"SELECT!BD5","v":353623},"-",{"$f":"SELECT!BE5","v":17844},"-",{"$f":"SELECT!BF5","v":5.0460518687981265E-2},"-",{"$f":"SELECT!BH5","v":457517},"-",{"$f":"SELECT!BI5","v":480155},"-",{"$f":"SELECT!BJ5","v":-22638},"-",{"$f":"SELECT!BK5","v":-4.714727535899866E-2},"-",{"$f":"SELECT!BL5","v":432574},"-",{"$f":"SELECT!BM5","v":24943},"-",{"$f":"SELECT!BN5","v":5.7661810464799089E-2},"-"]
[{"$f":"N(valSEG2=\"S2\")","v":0},"VOL","S2",{"$f":"IF(selLang=\"RUS\",VLOOKUP($C14,tblLabels[],3,0),VLOOKUP($C14,tblLabels[],2,0))","v":"KA"},{"$f":"SELECT!AG6","v":46847},"-",{"$f":"SELECT!AH6","v":49159},"-",{"$f":"SELECT!AI6","v":-2312},"-",{"$f":"SELECT!AJ6","v":-4.7031062470758153E-2},"-",{"$f":"SELECT!AK6","v":46935},"-",{"$f":"SELECT!AL6","v":-88},"-",{"$f":"SELECT!AM6","v":-1.8749334185575797E-3},"-",{"$f":"SELECT!AN6","v":45995},"-",{"$f":"SELECT!AO6","v":852},"-",{"$f":"SELECT!AP6","v":1.8523752581802371E-2},"-",{"$f":"SELECT!AR6","v":124029},"-",{"$f":"SELECT!AS6","v":129670},"-",{"$f":"SELECT!AT6","v":-5641},"-",{"$f":"SELECT!AU6","v":-4.3502737718824708E-2},"-",{"$f":"SELECT!AV6","v":125190},"-",{"$f":"SELECT!AW6","v":-1161},"-",{"$f":"SELECT!AX6","v":-9.2739036664270316E-3},"-",{"$f":"SELECT!AZ6","v":533615},"-",{"$f":"SELECT!BA6","v":557991},"-",{"$f":"SELECT!BB6","v":-24376},"-",{"$f":"SELECT!BC6","v":-4.3685292415110641E-2},"-",{"$f":"SELECT!BD6","v":548541},"-",{"$f":"SELECT!BE6","v":-14926},"-",{"$f":"SELECT!BF6","v":-2.7210363491516586E-2},"-",{"$f":"SELECT!BH6","v":657644},"-",{"$f":"SELECT!BI6","v":687661},"-",{"$f":"SELECT!BJ6","v":-30017},"-",{"$f":"SELECT!BK6","v":-4.3650868669300714E-2},"-",{"$f":"SELECT!BL6","v":673731},"-",{"$f":"SELECT!BM6","v":-16087},"-",{"$f":"SELECT!BN6","v":-2.3877482259239965E-2},"-"]
[1,"GRREV","GRREV",{"$f":"IF(selLang=\"RUS\",VLOOKUP($C15,tblLabels[],3,0),VLOOKUP($C15,tblLabels[],2,0))","v":"Gross Revenue"},{"$f":"SELECT!AG7","v":74850},{"$f":"SELECT!AG46","v":0.95091089259852124},{"$f":"SELECT!AH7","v":78064},{"$f":"SELECT!AH46","v":0.93617633655529708},{"$f":"SELECT!AI7","v":-3214},{"$f":"SELECT!AI46","v":1.4734556043224156E-2},{"$f":"SELECT!AJ7","v":-4.1171346587415454E-2},{"$f":"SELECT!AJ46","v":1.5739081909975014E-2},{"$f":"SELECT!AK7","v":74501},{"$f":"SELECT!AK46","v":0.94967431069867048},{"$f":"SELECT!AL7","v":349},{"$f":"SELECT!AL46","v":1.2365818998507638E-3},{"$f":"SELECT!AM7","v":4.6845008791828301E-3},{"$f":"SELECT!AM46","v":1.3021115617426957E-3},{"$f":"SELECT!AN7","v":73725},{"$f":"SELECT!AN46","v":0.99228781393846399},{"$f":"SELECT!AO7","v":1125},{"$f":"SELECT!AO46","v":-4.1376921339942752E-2},{"$f":"SELECT!AP7","v":1.5259409969481181E-2},{"$f":"SELECT!AP46","v":-4.1698507992066008E-2},{"$f":"SELECT!AR7","v":200274},{"$f":"SELECT!AR46","v":0.95332708171687797},{"$f":"SELECT!AS7","v":210495},{"$f":"SELECT!AS46","v":0.95212140401664558},{"$f":"SELECT!AT7","v":-10221},{"$f":"SELECT!AT46","v":1.2056777002323882E-3},{"$f":"SELECT!AU7","v":-4.8556972849711395E-2},{"$f":"SELECT!AU46","v":1.2663066864646495E-3},{"$f":"SELECT!AV7","v":194386},{"$f":"SELECT!AV46","v":0.95221440083079834},{"$f":"SELECT!AW7","v":5888},{"$f":"SELECT!AW46","v":1.1126808860796311E-3},{"$f":"SELECT!AX7","v":3.0290247240027574E-2},{"$f":"SELECT!AX46","v":1.1685192800159577E-3},{"$f":"SELECT!AZ7","v":918681},{"$f":"SELECT!AZ46","v":1.0150251579414904},{"$f":"SELECT!BA7","v":964115},{"$f":"SELECT!BA46","v":1.018356754153217},{"$f":"SELECT!BB7","v":-45434},{"$f":"SELECT!BB46","v":-3.3315962117266285E-3},{"$f":"SELECT!BC7","v":-4.7125083625915998E-2},{"$f":"SELECT!BC46","v":-3.2715413317967474E-3},{"$f":"SELECT!BD7","v":353623},{"$f":"SELECT!BD46","v":0.39197196961971437},{"$f":"SELECT!BE7","v":565058},{"$f":"SELECT!BE46","v":0.62305318832177603},{"$f":"SELECT!BF7","v":1.5979107693786887},{"$f":"SELECT!BF46","v":1.5895350601887512},{"$f":"SELECT!BH7","v":1118955},{"$f":"SELECT!BH46","v":1.003402199323685},{"$f":"SELECT!BI7","v":1174610},{"$f":"SELECT!BI46","v":1.00581769730848},{"$f":"SELECT!BJ7","v":-55655},{"$f":"SELECT!BJ46","v":-2.415497984795012E-3},{"$f":"SELECT!BK7","v":-4.7381684133457065E-2},{"$f":"SELECT!BK46","v":-2.4015266297846708E-3},{"$f":"SELECT!BL7","v":548009},{"$f":"SELECT!BL46","v":0.4953507396242447},{"$f":"SELECT!BM7","v":570946},{"$f":"SELECT!BM46","v":0.50805145969944032},{"$f":"SELECT!BN7","v":1.0418551520139268},{"$f":"SELECT!BN46","v":1.0256398528542219}]
[{"$f":"N(valSEG1=\"S1\")","v":0},"GRREV","S1",{"$f":"IF(selLang=\"RUS\",VLOOKUP($C16,tblLabels[],3,0),VLOOKUP($C16,tblLabels[],2,0))","v":"Local"},{"$f":"SELECT!AG8","v":30483},{"$f":"SELECT!AG47","v":0.956569491950921},{"$f":"SELECT!AH8","v":31098},{"$f":"SELECT!AH47","v":0.9085809448680866},{"$f":"SELECT!AI8","v":-615},{"$f":"SELECT!AI47","v":4.7988547082834399E-2},{"$f":"SELECT!AJ8","v":-1.9776191394945013E-2},{"$f":"SELECT!AJ47","v":5.2817030066376391E-2},{"$f":"SELECT!AK8","v":30245},{"$f":"SELECT!AK47","v":0.95973218252205372},{"$f":"SELECT!AL8","v":238},{"$f":"SELECT!AL47","v":-3.1626905711327202E-3},{"$f":"SELECT!AM8","v":7.8690692676475459E-3},{"$f":"SELECT!AM47","v":-3.2953886810605567E-3},{"$f":"SELECT!AN8","v":27424},{"$f":"SELECT!AN47","v":0.96894322156661838},{"$f":"SELECT!AO8","v":3059},{"$f":"SELECT!AO47","v":-1.2373729615697382E-2},{"$f":"SELECT!AP8","v":0.11154463243873979},{"$f":"SELECT!AP47","v":-1.2770335082886632E-2},{"$f":"SELECT!AR8","v":81063},{"$f":"SELECT!AR47","v":0.94204532248692618},{"$f":"SELECT!AS8","v":84401},{"$f":"SELECT!AS47","v":0.92332348758341543},{"$f":"SELECT!AT8","v":-3338},{"$f":"SELECT!AT47","v":1.8721834903510759E-2},{"$f":"SELECT!AU8","v":-3.9549294439639338E-2},{"$f":"SELECT!AU47","v":2.0276571705666029E-2},{"$f":"SELECT!AV8","v":74812},{"$f":"SELECT!AV47","v":0.36647219323898678},{"$f":"SELECT!AW8","v":6251},{"$f":"SELECT!AW47","v":0.57557312924793935},{"$f":"SELECT!AX8","v":8.355611399240763E-2},{"$f":"SELECT!AX47","v":1.5705779043175372},{"$f":"SELECT!AZ8","v":375774},{"$f":"SELECT!AZ47","v":1.0115945696387567},{"$f":"SELECT!BA8","v":395574},{"$f":"SELECT!BA47","v":1.0175667854248929},{"$f":"SELECT!BB8","v":-19800},{"$f":"SELECT!BB47","v":-5.9722157861361591E-3},{"$f":"SELECT!BC8","v":-5.0053845803819261E-2},{"$f":"SELECT!BC47","v":-5.8691143143419465E-3},{"$f":"SELECT!BD8","v":360223},{"$f":"SELECT!BD47","v":0.39928771265534868},{"$f":"SELECT!BE8","v":15551},{"$f":"SELECT!BE47","v":0.61230685698340803},{"$f":"SELECT!BF8","v":4.3170480507907602E-2},{"$f":"SELECT!BF47","v":1.5334978702736342},{"$f":"SELECT!BH8","v":456837},{"$f":"SELECT!BH47","v":0.99851371643020914},{"$f":"SELECT!BI8","v":479975},{"$f":"SELECT!BI47","v":0.99962512105465939},{"$f":"SELECT!BJ8","v":-23138},{"$f":"SELECT!BJ47","v":-1.1114046244502518E-3},{"$f":"SELECT!BK8","v":-4.8206677431116202E-2},{"$f":"SELECT!BK47","v":-1.111821422892673E-3},{"$f":"SELECT!BL8","v":435035},{"$f":"SELECT!BL47","v":0.39323242686239329},{"$f":"SELECT!BM8","v":21802},{"$f":"SELECT!BM47","v":0.60528128956781591},{"$f":"SELECT!BN8","v":5.0115507947636397E-2},{"$f":"SELECT!BN47","v":1.5392456171464883}]
[{"$f":"N(valSEG2=\"S2\")","v":0},"GRREV","S2",{"$f":"IF(selLang=\"RUS\",VLOOKUP($C17,tblLabels[],3,0),VLOOKUP($C17,tblLabels[],2,0))","v":"KA"},{"$f":"SELECT!AG9","v":44367},{"$f":"SELECT!AG48","v":0.94706171152901997},{"$f":"SELECT!AH9","v":46966},{"$f":"SELECT!AH48","v":0.95538965397994269},{"$f":"SELECT!AI9","v":-2599},{"$f":"SELECT!AI48","v":-8.3279424509227207E-3},{"$f":"SELECT!AJ9","v":-5.5337904015670909E-2},{"$f":"SELECT!AJ48","v":-8.7168020045332792E-3},{"$f":"SELECT!AK9","v":44256},{"$f":"SELECT!AK48","v":0.94292106104186646},{"$f":"SELECT!AL9","v":111},{"$f":"SELECT!AL48","v":4.1406504871535077E-3},{"$f":"SELECT!AM9","v":2.5081344902386118E-3},{"$f":"SELECT!AM48","v":4.3913013063663657E-3},{"$f":"SELECT!AN9","v":46301},{"$f":"SELECT!AN48","v":1.0066528970540276},{"$f":"SELECT!AO9","v":-1934},{"$f":"SELECT!AO48","v":-5.9591185525007639E-2},{"$f":"SELECT!AP9","v":-4.1770156152134946E-2},{"$f":"SELECT!AP48","v":-5.9197351638684399E-2},{"$f":"SELECT!AR9","v":119211},{"$f":"SELECT!AR48","v":0.96115424618436007},{"$f":"SELECT!AS9","v":126094},{"$f":"SELECT!AS48","v":0.97242230276856634},{"$f":"SELECT!AT9","v":-6883},{"$f":"SELECT!AT48","v":-1.1268056584206265E-2},{"$f":"SELECT!AU9","v":-5.4586261043348613E-2},{"$f":"SELECT!AU48","v":-1.1587616359811145E-2},{"$f":"SELECT!AV9","v":119574},{"$f":"SELECT!AV48","v":0.5857422075918115},{"$f":"SELECT!AW9","v":-363},{"$f":"SELECT!AW48","v":0.37541203859254857},{"$f":"SELECT!AX9","v":-3.0357770083797482E-3},{"$f":"SELECT!AX48","v":0.64091682949739459},{"$f":"SELECT!AZ9","v":542907},{"$f":"SELECT!AZ48","v":1.0174133035990367},{"$f":"SELECT!BA9","v":568541},{"$f":"SELECT!BA48","v":1.0189071149893099},{"$f":"SELECT!BB9","v":-25634},{"$f":"SELECT!BB48","v":-1.4938113902731587E-3},{"$f":"SELECT!BC9","v":-4.5087337588669944E-2},{"$f":"SELECT!BC48","v":-1.4660918235798474E-3},{"$f":"SELECT!BD9","v":531255},{"$f":"SELECT!BD48","v":0.58886743430241062},{"$f":"SELECT!BE9","v":11652},{"$f":"SELECT!BE48","v":0.42854586929662608},{"$f":"SELECT!BF9","v":2.1932970042634892E-2},{"$f":"SELECT!BF48","v":0.72774591416197754},{"$f":"SELECT!BH9","v":662118},{"$f":"SELECT!BH48","v":1.0068030727871007},{"$f":"SELECT!BI9","v":694635},{"$f":"SELECT!BI48","v":1.0101416250158144},{"$f":"SELECT!BJ9","v":-32517},{"$f":"SELECT!BJ48","v":-3.3385522287137093E-3},{"$f":"SELECT!BK9","v":-4.6811634887386898E-2},{"$f":"SELECT!BK48","v":-3.305033815096415E-3},{"$f":"SELECT!BL9","v":650829},{"$f":"SELECT!BL48","v":0.58829075164624589},{"$f":"SELECT!BM9","v":11289},{"$f":"SELECT!BM48","v":0.41851232114085479},{"$f":"SELECT!BN9","v":1.7345570034525196E-2},{"$f":"SELECT!BN48","v":0.71140387634806268}]
[1,"DEDUC","DEDUC",{"$f":"IF(selLang=\"RUS\",VLOOKUP($C18,tblLabels[],3,0),VLOOKUP($C18,tblLabels[],2,0))","v":"Deductions"},{"$f":"SELECT!AG10","v":12448},{"$f":"SELECT!AG49","v":0.15814213481718628},{"$f":"SELECT!AH10","v":13162},{"$f":"SELECT!AH49","v":0.1578442424387787},{"$f":"SELECT!AI10","v":-714},{"$f":"SELECT!AI49","v":2.978923784075771E-4},{"$f":"SELECT!AJ10","v":-5.4247074912627258E-2},{"$f":"SELECT!AJ49","v":1.8872552701636699E-3},{"$f":"SELECT!AK10","v":12542},{"$f":"SELECT!AK49","v":0.15987456819079912},{"$f":"SELECT!AL10","v":-94},{"$f":"SELECT!AL49","v":-1.7324333736128406E-3},{"$f":"SELECT!AM10","v":-7.4948174134906714E-3},{"$f":"SELECT!AM49","v":-1.0836203613981321E-2},{"$f":"SELECT!AN10","v":11395},{"$f":"SELECT!AN49","v":0.15336886591832888},{"$f":"SELECT!AO10","v":1053},{"$f":"SELECT!AO49","v":4.7732688988574024E-3},{"$f":"SELECT!AP10","v":9.2408951294427374E-2},{"$f":"SELECT!AP49","v":3.1122802338508761E-2},{"$f":"SELECT!AR10","v":33370},{"$f":"SELECT!AR49","v":0.15884500592634199},{"$f":"SELECT!AS10","v":35137},{"$f":"SELECT!AS49","v":0.15893341776732406},{"$f":"SELECT!AT10","v":-1767},{"$f":"SELECT!AT49","v":-8.8411840982072221E-5},{"$f":"SELECT!AU10","v":-5.0288869283091897E-2},{"$f":"SELECT!AU49","v":-5.5628226098746402E-4},{"$f":"SELECT!AV10","v":31403},{"$f":"SELECT!AV49","v":0.1538299508672927},{"$f":"SELECT!AW10","v":1967},{"$f":"SELECT!AW49","v":5.0150550590492837E-3},{"$f":"SELECT!AX10","v":6.2637327643855684E-2},{"$f":"SELECT!AX49","v":3.2601291431053718E-2},{"$f":"SELECT!AZ10","v":144859},{"$f":"SELECT!AZ49","v":0.16005069153955112},{"$f":"SELECT!BA10","v":152112},{"$f":"SELECT!BA49","v":0.16066992276621994},{"$f":"SELECT!BB10","v":-7253},{"$f":"SELECT!BB49","v":-6.1923122666882047E-4},{"$f":"SELECT!BC10","v":-4.7681971179131165E-2},{"$f":"SELECT!BC49","v":-3.8540581585380009E-3},{"$f":"SELECT!BD10","v":548541},{"$f":"SELECT!BD49","v":0.60802803038028563},{"$f":"SELECT!BE10","v":-403682},{"$f":"SELECT!BE49","v":-0.44797733884073454},{"$f":"SELECT!BF10","v":-0.73591946636623329},{"$f":"SELECT!BF49","v":-0.73677086656769941},{"$f":"SELECT!BH10","v":178229},{"$f":"SELECT!BH49","v":0.15982355910940213},{"$f":"SELECT!BI10","v":187249},{"$f":"SELECT!BI49","v":0.16034118388513258},{"$f":"SELECT!BJ10","v":-9020},{"$f":"SELECT!BJ49","v":-5.1762477573044641E-4},{"$f":"SELECT!BK10","v":-4.8171151781851974E-2},{"$f":"SELECT!BK49","v":-3.2282708857960633E-3},{"$f":"SELECT!BL10","v":579944},{"$f":"SELECT!BL49","v":0.5242171010706812},{"$f":"SELECT!BM10","v":-401715},{"$f":"SELECT!BM49","v":-0.36439354196127904},{"$f":"SELECT!BN10","v":-0.69267894831225085},{"$f":"SELECT!BN49","v":-0.69511952436696101}]
[1,"DEDUC","D1",{"$f":"IF(selLang=\"RUS\",VLOOKUP($C19,tblLabels[],3,0),VLOOKUP($C19,tblLabels[],2,0))","v":"On invoice"},{"$f":"SELECT!AG11","v":6121},{"$f":"SELECT!AG50","v":7.7762532713367374E-2},{"$f":"SELECT!AH11","v":6519},{"$f":"SELECT!AH50","v":7.8178591130405581E-2},{"$f":"SELECT!AI11","v":-398},{"$f":"SELECT!AI50","v":-4.1605841703820645E-4},{"$f":"SELECT!AJ11","v":-6.1052308636293913E-2},{"$f":"SELECT!AJ50","v":-5.3218970951292967E-3},{"$f":"SELECT!AK11","v":6163},{"$f":"SELECT!AK50","v":7.8560593506609391E-2},{"$f":"SELECT!AL11","v":-42},{"$f":"SELECT!AL50","v":-7.9806079324201695E-4},{"$f":"SELECT!AM11","v":-6.8148628914489699E-3},{"$f":"SELECT!AM50","v":-1.0158538239338469E-2},{"$f":"SELECT!AN11","v":5685},{"$f":"SELECT!AN50","v":7.6516191552935472E-2},{"$f":"SELECT!AO11","v":436},{"$f":"SELECT!AO50","v":1.2463411604319019E-3},{"$f":"SELECT!AP11","v":7.6693051890941069E-2},{"$f":"SELECT!AP50","v":1.6288593762140625E-2},{"$f":"SELECT!AR11","v":16666},{"$f":"SELECT!AR50","v":7.9332060796176676E-2},{"$f":"SELECT!AS11","v":17551},{"$f":"SELECT!AS50","v":7.9387552017369273E-2},{"$f":"SELECT!AT11","v":-885},{"$f":"SELECT!AT50","v":-5.5491221192596751E-5},{"$f":"SELECT!AU11","v":-5.0424477237764227E-2},{"$f":"SELECT!AU50","v":-6.9899146380601057E-4},{"$f":"SELECT!AV11","v":15657},{"$f":"SELECT!AV50","v":7.6696988845944711E-2},{"$f":"SELECT!AW11","v":1009},{"$f":"SELECT!AW50","v":2.6350719502319653E-3},{"$f":"SELECT!AX11","v":6.4444018649805201E-2},{"$f":"SELECT!AX50","v":3.4356915308954697E-2},{"$f":"SELECT!AZ11","v":71411},{"$f":"SELECT!AZ50","v":7.8900033367142422E-2},{"$f":"SELECT!BA11","v":75012},{"$f":"SELECT!BA50","v":7.9232225245474977E-2},{"$f":"SELECT!BB11","v":-3601},{"$f":"SELECT!BB50","v":-3.3219187833255504E-4},{"$f":"SELECT!BC11","v":-4.8005652428944702E-2},{"$f":"SELECT!BC50","v":-4.1926359799105452E-3},{"$f":"SELECT!BD11","v":891478},{"$f":"SELECT!BD50","v":0.9881551469577593},{"$f":"SELECT!BE11","v":-820067},{"$f":"SELECT!BE50","v":-0.90925511359061684},{"$f":"SELECT!BF11","v":-0.91989594807723807},{"$f":"SELECT!BF50","v":-0.92015420492414313},{"$f":"SELECT!BH11","v":88077},{"$f":"SELECT!BH50","v":7.8981420619982229E-2},{"$f":"SELECT!BI11","v":92563},{"$f":"SELECT!BI50","v":7.9261630256821286E-2},{"$f":"SELECT!BJ11","v":-4486},{"$f":"SELECT!BJ50","v":-2.802096368390572E-4},{"$f":"SELECT!BK11","v":-4.8464289186824112E-2},{"$f":"SELECT!BK50","v":-3.5352494760848329E-3},{"$f":"SELECT!BL11","v":907135},{"$f":"SELECT!BL50","v":0.81996827276383999},{"$f":"SELECT!BM11","v":-819058},{"$f":"SELECT!BM50","v":-0.74098685214385773},{"$f":"SELECT!BN11","v":-0.90290640312632631},{"$f":"SELECT!BN50","v":-0.90367746747839139}]
[{"$f":"N(valSEG1=\"S1\")","v":0},"DEDUC","D1S1",{"$f":"IF(selLang=\"RUS\",VLOOKUP($C20,tblLabels[],3,0),VLOOKUP($C20,tblLabels[],2,0))","v":"On invoice (local)"},{"$f":"SELECT!AG12","v":2563},{"$f":"SELECT!AG51","v":8.0428028995512602E-2},{"$f":"SELECT!AH12","v":2743},{"$f":"SELECT!AH51","v":8.0141408829286817E-2},{"$f":"SELECT!AI12","v":-180},{"$f":"SELECT!AI51","v":2.8662016622578446E-4},{"$f":"SELECT!AJ12","v":-6.562158220925994E-2},{"$f":"SELECT!AJ51","v":3.5764303424753647E-3},{"$f":"SELECT!AK12","v":2571},{"$f":"SELECT!AK51","v":8.1582788601891221E-2},{"$f":"SELECT!AL12","v":-8},{"$f":"SELECT!AL51","v":-1.1547596063786192E-3},{"$f":"SELECT!AM12","v":-3.1116297160637884E-3},{"$f":"SELECT!AM51","v":-1.4154451277874682E-2},{"$f":"SELECT!AN12","v":2255},{"$f":"SELECT!AN51","v":7.9673532841041589E-2},{"$f":"SELECT!AO12","v":308},{"$f":"SELECT!AO51","v":7.544961544710127E-4},{"$f":"SELECT!AP12","v":0.13658536585365855},{"$f":"SELECT!AP51","v":9.4698468558727586E-3},{"$f":"SELECT!AR12","v":6884},{"$f":"SELECT!AR51","v":0.08},{"$f":"SELECT!AS12","v":7219},{"$f":"SELECT!AS51","v":7.8973854064106772E-2},{"$f":"SELECT!AT12","v":-335},{"$f":"SELECT!AT51","v":1.0261459358932301E-3},{"$f":"SELECT!AU12","v":-4.6405319296301428E-2},{"$f":"SELECT!AU51","v":1.2993489402964423E-2},{"$f":"SELECT!AV12","v":6241},{"$f":"SELECT!AV51","v":3.0572006603279106E-2},{"$f":"SELECT!AW12","v":643},{"$f":"SELECT!AW51","v":4.9427993396720896E-2},{"$f":"SELECT!AX12","v":0.10302836083960903},{"$f":"SELECT!AX51","v":1.6167729530523955},{"$f":"SELECT!AZ12","v":28723},{"$f":"SELECT!AZ51","v":7.7323153873695372E-2},{"$f":"SELECT!BA12","v":29936},{"$f":"SELECT!BA51","v":7.7006778222227942E-2},{"$f":"SELECT!BB12","v":-1213},{"$f":"SELECT!BB51","v":3.163756514674293E-4},{"$f":"SELECT!BC12","v":-4.0519775521111703E-2},{"$f":"SELECT!BC51","v":4.1084130354658533E-3},{"$f":"SELECT!BD12","v":29130},{"$f":"SELECT!BD51","v":3.2289029489095109E-2},{"$f":"SELECT!BE12","v":-407},{"$f":"SELECT!BE51","v":4.5034124384600263E-2},{"$f":"SELECT!BF12","v":-1.3971850326124271E-2},{"$f":"SELECT!BF51","v":1.394719045359029},{"$f":"SELECT!BH12","v":35607},{"$f":"SELECT!BH51","v":7.7826616278739366E-2},{"$f":"SELECT!BI12","v":37155},{"$f":"SELECT!BI51","v":7.7381262300715389E-2},{"$f":"SELECT!BJ12","v":-1548},{"$f":"SELECT!BJ51","v":4.453539780239768E-4},{"$f":"SELECT!BK12","v":-4.1663302381913604E-2},{"$f":"SELECT!BK51","v":5.7553206652698856E-3},{"$f":"SELECT!BL12","v":35371},{"$f":"SELECT!BL51","v":3.197219573264154E-2},{"$f":"SELECT!BM12","v":236},{"$f":"SELECT!BM51","v":4.5854420546097827E-2},{"$f":"SELECT!BN12","v":6.6721325379548221E-3},{"$f":"SELECT!BN51","v":1.4341967917856651}]
[{"$f":"N(valSEG2=\"S2\")","v":0},"DEDUC","D1S2",{"$f":"IF(selLang=\"RUS\",VLOOKUP($C21,tblLabels[],3,0),VLOOKUP($C21,tblLabels[],2,0))","v":"On invoice (KA)"},{"$f":"SELECT!AG13","v":3558},{"$f":"SELECT!AG52","v":7.5949367088607597E-2},{"$f":"SELECT!AH13","v":3776},{"$f":"SELECT!AH52","v":7.6811977460892203E-2},{"$f":"SELECT!AI13","v":-218},{"$f":"SELECT!AI52","v":-8.6261037228460569E-4},{"$f":"SELECT!AJ13","v":-5.7733050847457626E-2},{"$f":"SELECT!AJ52","v":-1.1230154473288912E-2},{"$f":"SELECT!AK13","v":3592},{"$f":"SELECT!AK52","v":7.653137317566848E-2},{"$f":"SELECT!AL13","v":-34},{"$f":"SELECT!AL52","v":-5.820060870608823E-4},{"$f":"SELECT!AM13","v":-9.4654788418708242E-3},{"$f":"SELECT!AM52","v":-7.6048039243325474E-3},{"$f":"SELECT!AN13","v":3430},{"$f":"SELECT!AN52","v":7.4573323187302962E-2},{"$f":"SELECT!AO13","v":128},{"$f":"SELECT!AO52","v":1.3760439013046355E-3},{"$f":"SELECT!AP13","v":3.7317784256559766E-2},{"$f":"SELECT!AP52","v":1.8452227183821199E-2},{"$f":"SELECT!AR13","v":9782},{"$f":"SELECT!AR52","v":7.8868651686299168E-2},{"$f":"SELECT!AS13","v":10332},{"$f":"SELECT!AS52","v":7.9679185625048193E-2},{"$f":"SELECT!AT13","v":-550},{"$f":"SELECT!AT52","v":-8.1053393874902513E-4},{"$f":"SELECT!AU13","v":-5.3232675183894698E-2},{"$f":"SELECT!AU52","v":-1.0172467657528658E-2},{"$f":"SELECT!AV13","v":9416},{"$f":"SELECT!AV52","v":4.6124982242665612E-2},{"$f":"SELECT!AW13","v":366},{"$f":"SELECT!AW52","v":3.2743669443633557E-2},{"$f":"SELECT!AX13","v":3.8870008496176722E-2},{"$f":"SELECT!AX52","v":0.70989012573203036},{"$f":"SELECT!AZ13","v":42688},{"$f":"SELECT!AZ52","v":7.9997751187654023E-2},{"$f":"SELECT!BA13","v":45076},{"$f":"SELECT!BA52","v":8.0782664953377381E-2},{"$f":"SELECT!BB13","v":-2388},{"$f":"SELECT!BB52","v":-7.8491376572335791E-4},{"$f":"SELECT!BC13","v":-5.2977194072233558E-2},{"$f":"SELECT!BC52","v":-9.7163638532643138E-3},{"$f":"SELECT!BD13","v":41942},{"$f":"SELECT!BD52","v":4.6490438545541607E-2},{"$f":"SELECT!BE13","v":746},{"$f":"SELECT!BE52","v":3.3507312642112416E-2},{"$f":"SELECT!BF13","v":1.7786467025892899E-2},{"$f":"SELECT!BF52","v":0.72073556822418361},{"$f":"SELECT!BH13","v":52470},{"$f":"SELECT!BH52","v":7.9784807585867132E-2},{"$f":"SELECT!BI13","v":55408},{"$f":"SELECT!BI52","v":8.0574585442536373E-2},{"$f":"SELECT!BJ13","v":-2938},{"$f":"SELECT!BJ52","v":-7.8977785666924094E-4},{"$f":"SELECT!BK13","v":-5.3024833958995092E-2},{"$f":"SELECT!BK52","v":-9.8018233954487947E-3},{"$f":"SELECT!BL13","v":51358},{"$f":"SELECT!BL52","v":4.6423002698170936E-2},{"$f":"SELECT!BM13","v":1112},{"$f":"SELECT!BM52","v":3.3361804887696196E-2},{"$f":"SELECT!BN13","v":2.1651933486506483E-2},{"$f":"SELECT!BN52","v":0.71864814744115313}]
[1,"DEDUC","D2",{"$f":"IF(selLang=\"RUS\",VLOOKUP($C22,tblLabels[],3,0),VLOOKUP($C22,tblLabels[],2,0))","v":"Volume"},{"$f":"SELECT!AG14","v":3392},{"$f":"SELECT!AG53","v":4.3092715400055902E-2},{"$f":"SELECT!AH14","v":3574},{"$f":"SELECT!AH53","v":4.2860911903676878E-2},{"$f":"SELECT!AI14","v":-182},{"$f":"SELECT!AI53","v":2.3180349637902387E-4},{"$f":"SELECT!AJ14","v":-5.0923335198656966E-2},{"$f":"SELECT!AJ53","v":5.4082726214497159E-3},{"$f":"SELECT!AK14","v":3400},{"$f":"SELECT!AK53","v":4.3340259276727557E-2},{"$f":"SELECT!AL14","v":-8},{"$f":"SELECT!AL53","v":-2.4754387667165478E-4},{"$f":"SELECT!AM14","v":-2.352941176470588E-3},{"$f":"SELECT!AM53","v":-5.7116381120631311E-3},{"$f":"SELECT!AN14","v":2785},{"$f":"SELECT!AN53","v":3.7484185307814478E-2},{"$f":"SELECT!AO14","v":607},{"$f":"SELECT!AO53","v":5.6085300922414233E-3},{"$f":"SELECT!AP14","v":0.21795332136445242},{"$f":"SELECT!AP53","v":0.14962390261879829},{"$f":"SELECT!AR14","v":8510},{"$f":"SELECT!AR53","v":4.0508570585351227E-2},{"$f":"SELECT!AS14","v":8991},{"$f":"SELECT!AS53","v":4.0668536276461012E-2},{"$f":"SELECT!AT14","v":-481},{"$f":"SELECT!AT53","v":-1.5996569110978548E-4},{"$f":"SELECT!AU14","v":-5.3497942386831275E-2},{"$f":"SELECT!AU53","v":-3.9334017340175035E-3},{"$f":"SELECT!AV14","v":7709},{"$f":"SELECT!AV53","v":3.7763114709930878E-2},{"$f":"SELECT!AW14","v":801},{"$f":"SELECT!AW53","v":2.7454558754203481E-3},{"$f":"SELECT!AX14","v":0.10390452717602802},{"$f":"SELECT!AX53","v":7.2702050572601554E-2},{"$f":"SELECT!AZ14","v":36799},{"$f":"SELECT!AZ53","v":4.0658194506133144E-2},{"$f":"SELECT!BA14","v":38809},{"$f":"SELECT!BA53","v":4.0992420273444762E-2},{"$f":"SELECT!BB14","v":-2010},{"$f":"SELECT!BB53","v":-3.3422576731161752E-4},{"$f":"SELECT!BC14","v":-5.1792110077559329E-2},{"$f":"SELECT!BC53","v":-8.1533553052521718E-3},{"$f":"SELECT!BD14","v":360223},{"$f":"SELECT!BD53","v":0.39928771265534868},{"$f":"SELECT!BE14","v":-323424},{"$f":"SELECT!BE53","v":-0.35862951814921551},{"$f":"SELECT!BF14","v":-0.89784383562404402},{"$f":"SELECT!BF53","v":-0.89817318886236819},{"$f":"SELECT!BH14","v":45309},{"$f":"SELECT!BH53","v":4.0630007684988985E-2},{"$f":"SELECT!BI14","v":47800},{"$f":"SELECT!BI53","v":4.0931105585126422E-2},{"$f":"SELECT!BJ14","v":-2491},{"$f":"SELECT!BJ53","v":-3.0109790013743698E-4},{"$f":"SELECT!BK14","v":-5.2112970711297071E-2},{"$f":"SELECT!BK53","v":-7.3562122457510697E-3},{"$f":"SELECT!BL14","v":367932},{"$f":"SELECT!BL53","v":0.33257736338532323},{"$f":"SELECT!BM14","v":-322623},{"$f":"SELECT!BM53","v":-0.29194735570033425},{"$f":"SELECT!BN14","v":-0.87685496232999571},{"$f":"SELECT!BN53","v":-0.87783291300582245}]
[{"$f":"N(valSEG1=\"S1\")","v":0},"DEDUC","D2S1",{"$f":"IF(selLang=\"RUS\",VLOOKUP($C23,tblLabels[],3,0),VLOOKUP($C23,tblLabels[],2,0))","v":"Volume (local)"},{"$f":"SELECT!AG15","v":1316},{"$f":"SELECT!AG54","v":4.1296639156494182E-2},{"$f":"SELECT!AH15","v":1392},{"$f":"SELECT!AH54","v":4.0669646770093784E-2},{"$f":"SELECT!AI15","v":-76},{"$f":"SELECT!AI54","v":6.2699238640039762E-4},{"$f":"SELECT!AJ15","v":-5.459770114942529E-2},{"$f":"SELECT!AJ54","v":1.5416715811297709E-2},{"$f":"SELECT!AK15","v":1321},{"$f":"SELECT!AK54","v":4.1917877768610778E-2},{"$f":"SELECT!AL15","v":-5},{"$f":"SELECT!AL54","v":-6.2123861211659664E-4},{"$f":"SELECT!AM15","v":-3.7850113550340651E-3},{"$f":"SELECT!AM54","v":-1.4820373673158535E-2},{"$f":"SELECT!AN15","v":1047},{"$f":"SELECT!AN54","v":3.6992544959898246E-2},{"$f":"SELECT!AO15","v":269},{"$f":"SELECT!AO54","v":4.3040941965959353E-3},{"$f":"SELECT!AP15","v":0.25692454632282713},{"$f":"SELECT!AP54","v":0.11635031332020511},{"$f":"SELECT!AR15","v":3331},{"$f":"SELECT!AR54","v":3.8710052295177225E-2},{"$f":"SELECT!AS15","v":3509},{"$f":"SELECT!AS54","v":3.8387484957882072E-2},{"$f":"SELECT!AT15","v":-178},{"$f":"SELECT!AT54","v":3.2256733729515291E-4},{"$f":"SELECT!AU15","v":-5.0726702764320321E-2},{"$f":"SELECT!AU54","v":8.4029296956825098E-3},{"$f":"SELECT!AV15","v":3017},{"$f":"SELECT!AV54","v":1.4779000788670575E-2},{"$f":"SELECT!AW15","v":314},{"$f":"SELECT!AW54","v":2.3931051506506651E-2},{"$f":"SELECT!AX15","v":0.10407689758037786},{"$f":"SELECT!AX54","v":1.6192604526316785},{"$f":"SELECT!AZ15","v":15148},{"$f":"SELECT!AZ54","v":4.0778857879703985E-2},{"$f":"SELECT!BA15","v":15950},{"$f":"SELECT!BA54","v":4.1029466616933977E-2},{"$f":"SELECT!BB15","v":-802},{"$f":"SELECT!BB54","v":-2.5060873722999172E-4},{"$f":"SELECT!BC15","v":-5.0282131661442006E-2},{"$f":"SELECT!BC54","v":-6.1080184046691625E-3},{"$f":"SELECT!BD15","v":13495},{"$f":"SELECT!BD54","v":1.4958477616043202E-2},{"$f":"SELECT!BE15","v":1653},{"$f":"SELECT!BE54","v":2.5820380263660785E-2},{"$f":"SELECT!BF15","v":0.12248981104112634},{"$f":"SELECT!BF54","v":1.7261369055342919},{"$f":"SELECT!BH15","v":18479},{"$f":"SELECT!BH54","v":4.038975600906633E-2},{"$f":"SELECT!BI15","v":19459},{"$f":"SELECT!BI54","v":4.0526496652122754E-2},{"$f":"SELECT!BJ15","v":-980},{"$f":"SELECT!BJ54","v":-1.3674064305642386E-4},{"$f":"SELECT!BK15","v":-5.0362300220977436E-2},{"$f":"SELECT!BK54","v":-3.3741047056250165E-3},{"$f":"SELECT!BL15","v":16512},{"$f":"SELECT!BL54","v":1.4925359643136387E-2},{"$f":"SELECT!BM15","v":1967},{"$f":"SELECT!BM54","v":2.5464396365929943E-2},{"$f":"SELECT!BN15","v":0.11912548449612403},{"$f":"SELECT!BN54","v":1.7061160986924737}]
[{"$f":"N(valSEG2=\"S2\")","v":0},"DEDUC","D2S2",{"$f":"IF(selLang=\"RUS\",VLOOKUP($C24,tblLabels[],3,0),VLOOKUP($C24,tblLabels[],2,0))","v":"Volume (KA)"},{"$f":"SELECT!AG16","v":2076},{"$f":"SELECT!AG55","v":4.4314470510384868E-2},{"$f":"SELECT!AH16","v":2182},{"$f":"SELECT!AH55","v":4.4386582314530403E-2},{"$f":"SELECT!AI16","v":-106},{"$f":"SELECT!AI55","v":-7.2111804145534586E-5},{"$f":"SELECT!AJ16","v":-4.857928505957837E-2},{"$f":"SELECT!AJ55","v":-1.6246306966041864E-3},{"$f":"SELECT!AK16","v":2079},{"$f":"SELECT!AK55","v":4.429530201342282E-2},{"$f":"SELECT!AL16","v":-3},{"$f":"SELECT!AL55","v":1.9168496962047865E-5},{"$f":"SELECT!AM16","v":-1.443001443001443E-3},{"$f":"SELECT!AM55","v":4.3274334050683814E-4},{"$f":"SELECT!AN16","v":1738},{"$f":"SELECT!AN55","v":3.7786715947385585E-2},{"$f":"SELECT!AO16","v":338},{"$f":"SELECT!AO55","v":6.5277545629992828E-3},{"$f":"SELECT!AP16","v":0.19447640966628307},{"$f":"SELECT!AP55","v":0.17275263010653166},{"$f":"SELECT!AR16","v":5179},{"$f":"SELECT!AR55","v":4.1756363431133044E-2},{"$f":"SELECT!AS16","v":5482},{"$f":"SELECT!AS55","v":4.227654816071566E-2},{"$f":"SELECT!AT16","v":-303},{"$f":"SELECT!AT55","v":-5.2018472958261647E-4},{"$f":"SELECT!AU16","v":-5.5271798613644653E-2},{"$f":"SELECT!AU55","v":-1.2304333069131318E-2},{"$f":"SELECT!AV16","v":4692},{"$f":"SELECT!AV55","v":2.2984113921260305E-2},{"$f":"SELECT!AW16","v":487},{"$f":"SELECT!AW55","v":1.8772249509872739E-2},{"$f":"SELECT!AX16","v":0.10379369138959932},{"$f":"SELECT!AX55","v":0.81674888900147713},{"$f":"SELECT!AZ16","v":21651},{"$f":"SELECT!AZ55","v":4.0574196752340169E-2},{"$f":"SELECT!BA16","v":22859},{"$f":"SELECT!BA55","v":4.0966610572571956E-2},{"$f":"SELECT!BB16","v":-1208},{"$f":"SELECT!BB55","v":-3.9241382023178645E-4},{"$f":"SELECT!BC16","v":-5.284570628636423E-2},{"$f":"SELECT!BC55","v":-9.5788695903125578E-3},{"$f":"SELECT!BD16","v":21545},{"$f":"SELECT!BD55","v":2.3881467227688091E-2},{"$f":"SELECT!BE16","v":106},{"$f":"SELECT!BE55","v":1.6692729524652079E-2},{"$f":"SELECT!BF16","v":4.9199350197261542E-3},{"$f":"SELECT!BF55","v":0.69898257780822548},{"$f":"SELECT!BH16","v":26830},{"$f":"SELECT!BH55","v":4.0797148609277967E-2},{"$f":"SELECT!BI16","v":28341},{"$f":"SELECT!BI55","v":4.1213621246515363E-2},{"$f":"SELECT!BJ16","v":-1511},{"$f":"SELECT!BJ55","v":-4.1647263723739586E-4},{"$f":"SELECT!BK16","v":-5.3314985356903426E-2},{"$f":"SELECT!BK55","v":-1.0105218241957054E-2},{"$f":"SELECT!BL16","v":26237},{"$f":"SELECT!BL55","v":2.3715883052142041E-2},{"$f":"SELECT!BM16","v":593},{"$f":"SELECT!BM55","v":1.7081265557135926E-2},{"$f":"SELECT!BN16","v":2.2601669398178145E-2},{"$f":"SELECT!BN55","v":0.72024581667825061}]
[1,"DEDUC","D3",{"$f":"IF(selLang=\"RUS\",VLOOKUP($C25,tblLabels[],3,0),VLOOKUP($C25,tblLabels[],2,0))","v":"Promo"},{"$f":"SELECT!AG17","v":1502},{"$f":"SELECT!AG56","v":1.9081738953680413E-2},{"$f":"SELECT!AH17","v":1574},{"$f":"SELECT!AH56","v":1.8876070323555514E-2},{"$f":"SELECT!AI17","v":-72},{"$f":"SELECT!AI56","v":2.056686301248993E-4},{"$f":"SELECT!AJ17","v":-4.5743329097839895E-2},{"$f":"SELECT!AJ56","v":1.089573341270321E-2},{"$f":"SELECT!AK17","v":1517},{"$f":"SELECT!AK56","v":1.9337403918469324E-2},{"$f":"SELECT!AL17","v":-15},{"$f":"SELECT!AL56","v":-2.5566496478891115E-4},{"$f":"SELECT!AM17","v":-9.8879367172050106E-3},{"$f":"SELECT!AM56","v":-1.3221266198236842E-2},{"$f":"SELECT!AN17","v":1532},{"$f":"SELECT!AN56","v":2.0619666747422542E-2},{"$f":"SELECT!AO17","v":-30},{"$f":"SELECT!AO56","v":-1.537927793742129E-3},{"$f":"SELECT!AP17","v":-1.95822454308094E-2},{"$f":"SELECT!AP56","v":-7.4585482519225005E-2},{"$f":"SELECT!AR17","v":4215},{"$f":"SELECT!AR56","v":2.0063880730582306E-2},{"$f":"SELECT!AS17","v":4439},{"$f":"SELECT!AS56","v":2.0078704541342501E-2},{"$f":"SELECT!AT17","v":-224},{"$f":"SELECT!AT56","v":-1.4823810760195705E-5},{"$f":"SELECT!AU17","v":-5.046181572426222E-2},{"$f":"SELECT!AU56","v":-7.3828521803650962E-4},{"$f":"SELECT!AV17","v":4193},{"$f":"SELECT!AV56","v":2.0539724993999246E-2},{"$f":"SELECT!AW17","v":22},{"$f":"SELECT!AW56","v":-4.7584426341694061E-4},{"$f":"SELECT!AX17","v":5.246839971380873E-3},{"$f":"SELECT!AX56","v":-2.3167022126925275E-2},{"$f":"SELECT!AZ17","v":19087},{"$f":"SELECT!AZ56","v":2.1088696935747258E-2},{"$f":"SELECT!BA17","v":19851},{"$f":"SELECT!BA56","v":2.0967830525088303E-2},{"$f":"SELECT!BB17","v":-764},{"$f":"SELECT!BB56","v":1.2086641065895548E-4},{"$f":"SELECT!BC17","v":-3.8486726109515895E-2},{"$f":"SELECT!BC56","v":5.764373692086891E-3},{"$f":"SELECT!BD17","v":531255},{"$f":"SELECT!BD56","v":0.58886743430241062},{"$f":"SELECT!BE17","v":-512168},{"$f":"SELECT!BE56","v":-0.5677787373666634},{"$f":"SELECT!BF17","v":-0.96407186755889351},{"$f":"SELECT!BF56","v":-0.96418770047841162},{"$f":"SELECT!BH17","v":23302},{"$f":"SELECT!BH56","v":2.0895637490909384E-2},{"$f":"SELECT!BI17","v":24290},{"$f":"SELECT!BI56","v":2.0799509511772403E-2},{"$f":"SELECT!BJ17","v":-988},{"$f":"SELECT!BJ56","v":9.6127979136981234E-5},{"$f":"SELECT!BK17","v":-4.0675174969123096E-2},{"$f":"SELECT!BK56","v":4.6216464423150631E-3},{"$f":"SELECT!BL17","v":535448},{"$f":"SELECT!BL56","v":0.48399672784629916},{"$f":"SELECT!BM17","v":-512146},{"$f":"SELECT!BM56","v":-0.46310109035538977},{"$f":"SELECT!BN17","v":-0.95648130163900136},{"$f":"SELECT!BN56","v":-0.95682690338860077}]
[{"$f":"N(valSEG1=\"S1\")","v":0},"DEDUC","D3S1",{"$f":"IF(selLang=\"RUS\",VLOOKUP($C26,tblLabels[],3,0),VLOOKUP($C26,tblLabels[],2,0))","v":"Promo (local)"},{"$f":"SELECT!AG18","v":590},{"$f":"SELECT!AG57","v":1.8514450685662282E-2},{"$f":"SELECT!AH18","v":615},{"$f":"SELECT!AH57","v":1.7968270663511265E-2},{"$f":"SELECT!AI18","v":-25},{"$f":"SELECT!AI57","v":5.4618002215101741E-4},{"$f":"SELECT!AJ18","v":-4.065040650406504E-2},{"$f":"SELECT!AJ57","v":3.0396916452297352E-2},{"$f":"SELECT!AK18","v":604},{"$f":"SELECT!AK57","v":1.9166084914641113E-2},{"$f":"SELECT!AL18","v":-14},{"$f":"SELECT!AL57","v":-6.5163422897883058E-4},{"$f":"SELECT!AM18","v":-2.3178807947019868E-2},{"$f":"SELECT!AM57","v":-3.3999339556355736E-2},{"$f":"SELECT!AN18","v":606},{"$f":"SELECT!AN57","v":2.1411157827792106E-2},{"$f":"SELECT!AO18","v":-16},{"$f":"SELECT!AO57","v":-2.8967071421298236E-3},{"$f":"SELECT!AP18","v":-2.6402640264026403E-2},{"$f":"SELECT!AP57","v":-0.13528960766287196},{"$f":"SELECT!AR18","v":1709},{"$f":"SELECT!AR57","v":1.9860546194073212E-2},{"$f":"SELECT!AS18","v":1802},{"$f":"SELECT!AS57","v":1.9713379280166282E-2},{"$f":"SELECT!AT18","v":-93},{"$f":"SELECT!AT57","v":1.4716691390692996E-4},{"$f":"SELECT!AU18","v":-5.1609322974472807E-2},{"$f":"SELECT!AU57","v":7.4653316316495386E-3},{"$f":"SELECT!AV18","v":1679},{"$f":"SELECT!AV57","v":8.2247074326078536E-3},{"$f":"SELECT!AW18","v":30},{"$f":"SELECT!AW57","v":1.1635838761465359E-2},{"$f":"SELECT!AX18","v":1.7867778439547351E-2},{"$f":"SELECT!AX57","v":1.4147419658155449},{"$f":"SELECT!AZ18","v":7599},{"$f":"SELECT!AZ57","v":2.0456729669122695E-2},{"$f":"SELECT!BA18","v":7958},{"$f":"SELECT!BA57","v":2.0471002842480289E-2},{"$f":"SELECT!BB18","v":-359},{"$f":"SELECT!BB57","v":-1.4273173357594315E-5},{"$f":"SELECT!BC18","v":-4.511183714501131E-2},{"$f":"SELECT!BC57","v":-6.9723859976099551E-4},{"$f":"SELECT!BD18","v":7283},{"$f":"SELECT!BD57","v":8.0728115952310216E-3},{"$f":"SELECT!BE18","v":316},{"$f":"SELECT!BE57","v":1.2383918073891673E-2},{"$f":"SELECT!BF18","v":4.3388713442262805E-2},{"$f":"SELECT!BF57","v":1.534027882083538},{"$f":"SELECT!BH18","v":9308},{"$f":"SELECT!BH57","v":2.0344599217078273E-2},{"$f":"SELECT!BI18","v":9760},{"$f":"SELECT!BI57","v":2.0326769480688529E-2},{"$f":"SELECT!BJ18","v":-452},{"$f":"SELECT!BJ57","v":1.7829736389744777E-5},{"$f":"SELECT!BK18","v":-4.6311475409836066E-2},{"$f":"SELECT!BK57","v":8.7715543813708023E-4},{"$f":"SELECT!BL18","v":8962},{"$f":"SELECT!BL57","v":8.1008401842168291E-3},{"$f":"SELECT!BM18","v":346},{"$f":"SELECT!BM57","v":1.2243759032861444E-2},{"$f":"SELECT!BN18","v":3.8607453693372012E-2},{"$f":"SELECT!BN57","v":1.5114184151807388}]
[{"$f":"N(valSEG2=\"S2\")","v":0},"DEDUC","D3S2",{"$f":"IF(selLang=\"RUS\",VLOOKUP($C27,tblLabels[],3,0),VLOOKUP($C27,tblLabels[],2,0))","v":"Promo (KA)"},{"$f":"SELECT!AG19","v":912},{"$f":"SELECT!AG58","v":1.9467628663521676E-2},{"$f":"SELECT!AH19","v":959},{"$f":"SELECT!AH58","v":1.9508126690941638E-2},{"$f":"SELECT!AI19","v":-47},{"$f":"SELECT!AI58","v":-4.0498027419962057E-5},{"$f":"SELECT!AJ19","v":-4.9009384775808136E-2},{"$f":"SELECT!AJ58","v":-2.0759567569738424E-3},{"$f":"SELECT!AK19","v":913},{"$f":"SELECT!AK58","v":1.9452434217534887E-2},{"$f":"SELECT!AL19","v":-1},{"$f":"SELECT!AL58","v":1.519444598678879E-5},{"$f":"SELECT!AM19","v":-1.0952902519167579E-3},{"$f":"SELECT!AM58","v":7.8110769155523762E-4},{"$f":"SELECT!AN19","v":926},{"$f":"SELECT!AN58","v":2.013262311120774E-2},{"$f":"SELECT!AO19","v":-14},{"$f":"SELECT!AO58","v":-6.6499444768606392E-4},{"$f":"SELECT!AP19","v":-1.511879049676026E-2},{"$f":"SELECT!AP58","v":-3.3030690735767289E-2},{"$f":"SELECT!AR19","v":2506},{"$f":"SELECT!AR58","v":2.0204952067661597E-2},{"$f":"SELECT!AS19","v":2637},{"$f":"SELECT!AS58","v":2.033623814297833E-2},{"$f":"SELECT!AT19","v":-131},{"$f":"SELECT!AT58","v":-1.3128607531673331E-4},{"$f":"SELECT!AU19","v":-4.9677664012135005E-2},{"$f":"SELECT!AU58","v":-6.4557699606829005E-3},{"$f":"SELECT!AV19","v":2514},{"$f":"SELECT!AV58","v":1.2315017561391391E-2},{"$f":"SELECT!AW19","v":-8},{"$f":"SELECT!AW58","v":7.8899345062702058E-3},{"$f":"SELECT!AX19","v":-3.1821797931583136E-3},{"$f":"SELECT!AX58","v":0.64067586318397218},{"$f":"SELECT!AZ19","v":11488},{"$f":"SELECT!AZ58","v":2.1528630192179755E-2},{"$f":"SELECT!BA19","v":11893},{"$f":"SELECT!BA58","v":2.1313963845294995E-2},{"$f":"SELECT!BB19","v":-405},{"$f":"SELECT!BB58","v":2.1466634688475927E-4},{"$f":"SELECT!BC19","v":-3.4053645001261248E-2},{"$f":"SELECT!BC58","v":1.0071629493363635E-2},{"$f":"SELECT!BD19","v":11277},{"$f":"SELECT!BD58","v":1.2499944577704276E-2},{"$f":"SELECT!BE19","v":211},{"$f":"SELECT!BE58","v":9.028685614475479E-3},{"$f":"SELECT!BF19","v":1.8710649995566198E-2},{"$f":"SELECT!BF58","v":0.72229805167133598},{"$f":"SELECT!BH19","v":13994},{"$f":"SELECT!BH58","v":2.1278989848611103E-2},{"$f":"SELECT!BI19","v":14530},{"$f":"SELECT!BI58","v":2.1129597287035326E-2},{"$f":"SELECT!BJ19","v":-536},{"$f":"SELECT!BJ58","v":1.4939256157577713E-4},{"$f":"SELECT!BK19","v":-3.6889194769442531E-2},{"$f":"SELECT!BK58","v":7.0702985743813134E-3},{"$f":"SELECT!BL19","v":13791},{"$f":"SELECT!BL58","v":1.2465820908339021E-2},{"$f":"SELECT!BM19","v":203},{"$f":"SELECT!BM58","v":8.8131689402720821E-3},{"$f":"SELECT!BN19","v":1.4719744761076065E-2},{"$f":"SELECT!BN58","v":0.7069866481377497}]
[1,"DEDUC","D4",{"$f":"IF(selLang=\"RUS\",VLOOKUP($C28,tblLabels[],3,0),VLOOKUP($C28,tblLabels[],2,0))","v":"CDE"},{"$f":"SELECT!AG20","v":969},{"$f":"SELECT!AG59","v":1.2310389511395686E-2},{"$f":"SELECT!AH20","v":1007},{"$f":"SELECT!AH59","v":1.2076367735591106E-2},{"$f":"SELECT!AI20","v":-38},{"$f":"SELECT!AI59","v":2.3402177580457949E-4},{"$f":"SELECT!AJ20","v":-3.7735849056603772E-2},{"$f":"SELECT!AJ59","v":1.9378490364687851E-2},{"$f":"SELECT!AK20","v":985},{"$f":"SELECT!AK59","v":1.2555928055169601E-2},{"$f":"SELECT!AL20","v":-16},{"$f":"SELECT!AL59","v":-2.4553854377391479E-4},{"$f":"SELECT!AM20","v":-1.6243654822335026E-2},{"$f":"SELECT!AM59","v":-1.9555587025908469E-2},{"$f":"SELECT!AN20","v":897},{"$f":"SELECT!AN59","v":1.2073003310990874E-2},{"$f":"SELECT!AO20","v":72},{"$f":"SELECT!AO59","v":2.3738620040481169E-4},{"$f":"SELECT!AP20","v":8.0267558528428096E-2},{"$f":"SELECT!AP59","v":1.9662564010787847E-2},{"$f":"SELECT!AR20","v":2616},{"$f":"SELECT!AR59","v":1.2452458360902327E-2},{"$f":"SELECT!AS20","v":2735},{"$f":"SELECT!AS59","v":1.2371087389180387E-2},{"$f":"SELECT!AT20","v":-119},{"$f":"SELECT!AT59","v":8.1370971721939772E-5},{"$f":"SELECT!AU20","v":-4.3510054844606946E-2},{"$f":"SELECT!AU59","v":6.5775116739621373E-3},{"$f":"SELECT!AV20","v":2522},{"$f":"SELECT!AV59","v":1.235420616142764E-2},{"$f":"SELECT!AW20","v":94},{"$f":"SELECT!AW59","v":9.825219947468683E-5},{"$f":"SELECT!AX20","v":3.7272006344171292E-2},{"$f":"SELECT!AX59","v":7.9529350725464094E-3},{"$f":"SELECT!AZ20","v":11684},{"$f":"SELECT!AZ59","v":1.2909327552641639E-2},{"$f":"SELECT!BA20","v":12246},{"$f":"SELECT!BA59","v":1.2934968143178247E-2},{"$f":"SELECT!BB20","v":-562},{"$f":"SELECT!BB59","v":-2.5640590536607846E-5},{"$f":"SELECT!BC20","v":-4.5892536338396211E-2},{"$f":"SELECT!BC59","v":-1.9822693224127034E-3},{"$f":"SELECT!BD20","v":141601},{"$f":"SELECT!BD59","v":0.15695704993770535},{"$f":"SELECT!BE20","v":-129917},{"$f":"SELECT!BE59","v":-0.14404772238506369},{"$f":"SELECT!BF20","v":-0.91748645842896592},{"$f":"SELECT!BF59","v":-0.91775248351211214},{"$f":"SELECT!BH20","v":14300},{"$f":"SELECT!BH59","v":1.2823260497811528E-2},{"$f":"SELECT!BI20","v":14981},{"$f":"SELECT!BI59","v":1.2828219514033033E-2},{"$f":"SELECT!BJ20","v":-681},{"$f":"SELECT!BJ59","v":-4.9590162215056022E-6},{"$f":"SELECT!BK20","v":-4.5457579600827712E-2},{"$f":"SELECT!BK59","v":-3.8657088897495401E-4},{"$f":"SELECT!BL20","v":144123},{"$f":"SELECT!BL59","v":0.13027420105667062},{"$f":"SELECT!BM20","v":-129823},{"$f":"SELECT!BM59","v":-0.11745094055885909},{"$f":"SELECT!BN20","v":-0.90077919554824704},{"$f":"SELECT!BN59","v":-0.90156715302185364}]
[{"$f":"N(valSEG1=\"S1\")","v":0},"DEDUC","D4S1",{"$f":"IF(selLang=\"RUS\",VLOOKUP($C29,tblLabels[],3,0),VLOOKUP($C29,tblLabels[],2,0))","v":"CDE (local)"},{"$f":"SELECT!AG21","v":402},{"$f":"SELECT!AG60","v":1.2614930806163115E-2},{"$f":"SELECT!AH21","v":415},{"$f":"SELECT!AH60","v":1.2124930610336869E-2},{"$f":"SELECT!AI21","v":-13},{"$f":"SELECT!AI60","v":4.900001958262467E-4},{"$f":"SELECT!AJ21","v":-3.1325301204819279E-2},{"$f":"SELECT!AJ60","v":4.0412618560349264E-2},{"$f":"SELECT!AK21","v":408},{"$f":"SELECT!AK60","v":1.2946626895982739E-2},{"$f":"SELECT!AL21","v":-6},{"$f":"SELECT!AL60","v":-3.3169608981962334E-4},{"$f":"SELECT!AM21","v":-1.4705882352941176E-2},{"$f":"SELECT!AM60","v":-2.5620271016116688E-2},{"$f":"SELECT!AN21","v":385},{"$f":"SELECT!AN60","v":1.3602798289933929E-2},{"$f":"SELECT!AO21","v":17},{"$f":"SELECT!AO60","v":-9.8786748377081325E-4},{"$f":"SELECT!AP21","v":4.4155844155844157E-2},{"$f":"SELECT!AP60","v":-7.2622372449780079E-2},{"$f":"SELECT!AR21","v":1065},{"$f":"SELECT!AR60","v":1.2376525276002324E-2},{"$f":"SELECT!AS21","v":1114},{"$f":"SELECT!AS60","v":1.2186850453998468E-2},{"$f":"SELECT!AT21","v":-49},{"$f":"SELECT!AT60","v":1.8967482200385639E-4},{"$f":"SELECT!AU21","v":-4.3985637342908439E-2},{"$f":"SELECT!AU60","v":1.5563891812722185E-2},{"$f":"SELECT!AV21","v":1056},{"$f":"SELECT!AV60","v":5.172895204784928E-3},{"$f":"SELECT!AW21","v":9},{"$f":"SELECT!AW60","v":7.2036300712173965E-3},{"$f":"SELECT!AX21","v":8.5227272727272721E-3},{"$f":"SELECT!AX60","v":1.3925722030003698},{"$f":"SELECT!AZ21","v":4705},{"$f":"SELECT!AZ60","v":1.2665997248746187E-2},{"$f":"SELECT!BA21","v":4931},{"$f":"SELECT!BA60","v":1.268440751649539E-2},{"$f":"SELECT!BB21","v":-226},{"$f":"SELECT!BB60","v":-1.8410267749202971E-5},{"$f":"SELECT!BC21","v":-4.5832488339079297E-2},{"$f":"SELECT!BC60","v":-1.4514093563504176E-3},{"$f":"SELECT!BD21","v":4441},{"$f":"SELECT!BD60","v":4.9226083062503048E-3},{"$f":"SELECT!BE21","v":264},{"$f":"SELECT!BE60","v":7.743388942495882E-3},{"$f":"SELECT!BF21","v":5.9446070704796218E-2},{"$f":"SELECT!BF60","v":1.5730256117806474},{"$f":"SELECT!BH21","v":5770},{"$f":"SELECT!BH60","v":1.2611553231901766E-2},{"$f":"SELECT!BI21","v":6045},{"$f":"SELECT!BI60","v":1.2589684581020713E-2},{"$f":"SELECT!BJ21","v":-275},{"$f":"SELECT!BJ60","v":2.1868650881053456E-5},{"$f":"SELECT!BK21","v":-4.5492142266335814E-2},{"$f":"SELECT!BK60","v":1.7370292909499126E-3},{"$f":"SELECT!BL21","v":5497},{"$f":"SELECT!BL60","v":4.9687925120107026E-3},{"$f":"SELECT!BM21","v":273},{"$f":"SELECT!BM60","v":7.6427607198910636E-3},{"$f":"SELECT!BN21","v":4.9663452792432235E-2},{"$f":"SELECT!BN60","v":1.5381525192321417}]
[{"$f":"N(valSEG2=\"S2\")","v":0},"DEDUC","D4S2",{"$f":"IF(selLang=\"RUS\",VLOOKUP($C30,tblLabels[],3,0),VLOOKUP($C30,tblLabels[],2,0))","v":"CDE (KA)"},{"$f":"SELECT!AG22","v":567},{"$f":"SELECT!AG61","v":1.2103229662518412E-2},{"$f":"SELECT!AH22","v":592},{"$f":"SELECT!AH61","v":1.2042555788360219E-2},{"$f":"SELECT!AI22","v":-25},{"$f":"SELECT!AI61","v":6.0673874158192684E-5},{"$f":"SELECT!AJ22","v":-4.2229729729729729E-2},{"$f":"SELECT!AJ61","v":5.03828881713276E-3},{"$f":"SELECT!AK22","v":577},{"$f":"SELECT!AK61","v":1.2293597528496857E-2},{"$f":"SELECT!AL22","v":-10},{"$f":"SELECT!AL61","v":-1.9036786597844552E-4},{"$f":"SELECT!AM22","v":-1.7331022530329289E-2},{"$f":"SELECT!AM61","v":-1.5485122685785686E-2},{"$f":"SELECT!AN22","v":512},{"$f":"SELECT!AN61","v":1.1131644743993913E-2},{"$f":"SELECT!AO22","v":55},{"$f":"SELECT!AO61","v":9.7158491852449881E-4},{"$f":"SELECT!AP22","v":0.107421875},{"$f":"SELECT!AP61","v":8.7281344389715465E-2},{"$f":"SELECT!AR22","v":1551},{"$f":"SELECT!AR61","v":1.2505139926952567E-2},{"$f":"SELECT!AS22","v":1621},{"$f":"SELECT!AS61","v":1.2500963985501658E-2},{"$f":"SELECT!AT22","v":-70},{"$f":"SELECT!AT61","v":4.1759414509089099E-6},{"$f":"SELECT!AU22","v":-4.3183220234423197E-2},{"$f":"SELECT!AU61","v":3.3404955455851841E-4},{"$f":"SELECT!AV22","v":1466},{"$f":"SELECT!AV61","v":7.1813109566427127E-3},{"$f":"SELECT!AW22","v":85},{"$f":"SELECT!AW61","v":5.3238289703098542E-3},{"$f":"SELECT!AX22","v":5.7980900409276941E-2},{"$f":"SELECT!AX61","v":0.74134499988269031},{"$f":"SELECT!AZ22","v":6979},{"$f":"SELECT!AZ61","v":1.3078717802160734E-2},{"$f":"SELECT!BA22","v":7315},{"$f":"SELECT!BA61","v":1.3109530440455134E-2},{"$f":"SELECT!BB22","v":-336},{"$f":"SELECT!BB61","v":-3.0812638294399827E-5},{"$f":"SELECT!BC22","v":-4.5933014354066985E-2},{"$f":"SELECT!BC61","v":-2.3503998434081276E-3},{"$f":"SELECT!BD22","v":6737},{"$f":"SELECT!BD61","v":7.4676001259194559E-3},{"$f":"SELECT!BE22","v":242},{"$f":"SELECT!BE61","v":5.6111176762412779E-3},{"$f":"SELECT!BF22","v":3.5921033100786703E-2},{"$f":"SELECT!BF61","v":0.75139503744523328},{"$f":"SELECT!BH22","v":8530},{"$f":"SELECT!BH61","v":1.2970543333475254E-2},{"$f":"SELECT!BI22","v":8936},{"$f":"SELECT!BI61","v":1.2994775041772036E-2},{"$f":"SELECT!BJ22","v":-406},{"$f":"SELECT!BJ61","v":-2.4231708296781895E-5},{"$f":"SELECT!BK22","v":-4.5434198746642791E-2},{"$f":"SELECT!BK61","v":-1.8647270321254853E-3},{"$f":"SELECT!BL22","v":8203},{"$f":"SELECT!BL61","v":7.4147725988764398E-3},{"$f":"SELECT!BM22","v":327},{"$f":"SELECT!BM61","v":5.5557707345988139E-3},{"$f":"SELECT!BN22","v":3.986346458612703E-2},{"$f":"SELECT!BN61","v":0.74928403541879085}]
[1,"DEDUC","D5",{"$f":"IF(selLang=\"RUS\",VLOOKUP($C31,tblLabels[],3,0),VLOOKUP($C31,tblLabels[],2,0))","v":"Client Stock"},{"$f":"SELECT!AG23","v":464},{"$f":"SELECT!AG62","v":5.8947582386868914E-3},{"$f":"SELECT!AH23","v":488},{"$f":"SELECT!AH62","v":5.8523013455496122E-3},{"$f":"SELECT!AI23","v":-24},{"$f":"SELECT!AI62","v":4.2456893137279156E-5},{"$f":"SELECT!AJ23","v":-4.9180327868852458E-2},{"$f":"SELECT!AJ62","v":7.2547346130023768E-3},{"$f":"SELECT!AK23","v":477},{"$f":"SELECT!AK62","v":6.0803834338232481E-3},{"$f":"SELECT!AL23","v":-13},{"$f":"SELECT!AL62","v":-1.8562519513635675E-4},{"$f":"SELECT!AM23","v":-2.7253668763102725E-2},{"$f":"SELECT!AM62","v":-3.0528534451262163E-2},{"$f":"SELECT!AN23","v":496},{"$f":"SELECT!AN62","v":6.6758189991655229E-3},{"$f":"SELECT!AO23","v":-32},{"$f":"SELECT!AO62","v":-7.8106076047863154E-4},{"$f":"SELECT!AP23","v":-6.4516129032258063E-2},{"$f":"SELECT!AP62","v":-0.11699849270572855},{"$f":"SELECT!AR23","v":1363},{"$f":"SELECT!AR62","v":6.4880354533294621E-3},{"$f":"SELECT!AS23","v":1421},{"$f":"SELECT!AS62","v":6.4275375429708702E-3},{"$f":"SELECT!AT23","v":-58},{"$f":"SELECT!AT62","v":6.0497910358591964E-5},{"$f":"SELECT!AU23","v":-4.0816326530612242E-2},{"$f":"SELECT!AU62","v":9.4122998044176721E-3},{"$f":"SELECT!AV23","v":1322},{"$f":"SELECT!AV62","v":6.4759161559902224E-3},{"$f":"SELECT!AW23","v":41},{"$f":"SELECT!AW62","v":1.2119297339239707E-5},{"$f":"SELECT!AX23","v":3.1013615733736764E-2},{"$f":"SELECT!AX62","v":1.8714413601586483E-3},{"$f":"SELECT!AZ23","v":5878},{"$f":"SELECT!AZ62","v":6.4944391778866449E-3},{"$f":"SELECT!BA23","v":6194},{"$f":"SELECT!BA62","v":6.5424785790336483E-3},{"$f":"SELECT!BB23","v":-316},{"$f":"SELECT!BB62","v":-4.8039401147003356E-5},{"$f":"SELECT!BC23","v":-5.1017113335485954E-2},{"$f":"SELECT!BC62","v":-7.3426913923650902E-3},{"$f":"SELECT!BD23","v":71072},{"$f":"SELECT!BD62","v":7.8779468034636715E-2},{"$f":"SELECT!BE23","v":-65194},{"$f":"SELECT!BE62","v":-7.2285028856750075E-2},{"$f":"SELECT!BF23","v":-0.91729513732552903},{"$f":"SELECT!BF62","v":-0.91756177923121729},{"$f":"SELECT!BH23","v":7241},{"$f":"SELECT!BH62","v":6.4932328157100185E-3},{"$f":"SELECT!BI23","v":7615},{"$f":"SELECT!BI62","v":6.5207190173794498E-3},{"$f":"SELECT!BJ23","v":-374},{"$f":"SELECT!BJ62","v":-2.7486201669431332E-5},{"$f":"SELECT!BK23","v":-4.9113591595535126E-2},{"$f":"SELECT!BK62","v":-4.2152102546012633E-3},{"$f":"SELECT!BL23","v":72394},{"$f":"SELECT!BL62","v":6.5437650557486404E-2},{"$f":"SELECT!BM23","v":-65153},{"$f":"SELECT!BM62","v":-5.8944417741776389E-2},{"$f":"SELECT!BN23","v":-0.89997789872088851},{"$f":"SELECT!BN62","v":-0.90077221965654519}]
[{"$f":"N(valSEG1=\"S1\")","v":0},"DEDUC","D5S1",{"$f":"IF(selLang=\"RUS\",VLOOKUP($C32,tblLabels[],3,0),VLOOKUP($C32,tblLabels[],2,0))","v":"Client Stock (local)"},{"$f":"SELECT!AG24","v":181},{"$f":"SELECT!AG63","v":5.6798569052624974E-3},{"$f":"SELECT!AH24","v":190},{"$f":"SELECT!AH63","v":5.5511730505156745E-3},{"$f":"SELECT!AI24","v":-9},{"$f":"SELECT!AI63","v":1.286838547468229E-4},{"$f":"SELECT!AJ24","v":-4.736842105263158E-2},{"$f":"SELECT!AJ63","v":2.3181380507471091E-2},{"$f":"SELECT!AK24","v":189},{"$f":"SELECT!AK63","v":5.9973345179920035E-3},{"$f":"SELECT!AL24","v":-8},{"$f":"SELECT!AL63","v":-3.1747761272950606E-4},{"$f":"SELECT!AM24","v":-4.2328042328042326E-2},{"$f":"SELECT!AM63","v":-5.2936452315119863E-2},{"$f":"SELECT!AN24","v":189},{"$f":"SELECT!AN63","v":6.677737342331202E-3},{"$f":"SELECT!AO24","v":-8},{"$f":"SELECT!AO63","v":-9.9788043706870461E-4},{"$f":"SELECT!AP24","v":-4.2328042328042326E-2},{"$f":"SELECT!AP63","v":-0.1494339153987066},{"$f":"SELECT!AR24","v":546},{"$f":"SELECT!AR63","v":6.3451481696687973E-3},{"$f":"SELECT!AS24","v":565},{"$f":"SELECT!AS63","v":6.1809430040476974E-3},{"$f":"SELECT!AT24","v":-19},{"$f":"SELECT!AT63","v":1.642051656210999E-4},{"$f":"SELECT!AU24","v":-3.3628318584070796E-2},{"$f":"SELECT!AU63","v":2.656636139721193E-2},{"$f":"SELECT!AV24","v":530},{"$f":"SELECT!AV63","v":2.5962447524015262E-3},{"$f":"SELECT!AW24","v":16},{"$f":"SELECT!AW63","v":3.7489034172672711E-3},{"$f":"SELECT!AX24","v":3.0188679245283019E-2},{"$f":"SELECT!AX63","v":1.4439714952912417},{"$f":"SELECT!AZ24","v":2352},{"$f":"SELECT!AZ63","v":6.3316526097876797E-3},{"$f":"SELECT!BA24","v":2483},{"$f":"SELECT!BA63","v":6.3872204144104746E-3},{"$f":"SELECT!BB24","v":-131},{"$f":"SELECT!BB63","v":-5.5567804622794897E-5},{"$f":"SELECT!BC24","v":-5.2758759565042286E-2},{"$f":"SELECT!BC63","v":-8.6998414047879183E-3},{"$f":"SELECT!BD24","v":2297},{"$f":"SELECT!BD63","v":2.5461002655836409E-3},{"$f":"SELECT!BE24","v":55},{"$f":"SELECT!BE63","v":3.7855523442040387E-3},{"$f":"SELECT!BF24","v":2.3944275141488898E-2},{"$f":"SELECT!BF63","v":1.4868041119096616},{"$f":"SELECT!BH24","v":2898},{"$f":"SELECT!BH63","v":6.3341908606674721E-3},{"$f":"SELECT!BI24","v":3048},{"$f":"SELECT!BI63","v":6.3479501411002701E-3},{"$f":"SELECT!BJ24","v":-150},{"$f":"SELECT!BJ63","v":-1.3759280432797984E-5},{"$f":"SELECT!BK24","v":-4.9212598425196853E-2},{"$f":"SELECT!BK63","v":-2.167515517129303E-3},{"$f":"SELECT!BL24","v":2827},{"$f":"SELECT!BL63","v":2.5553531801808722E-3},{"$f":"SELECT!BM24","v":71},{"$f":"SELECT!BM63","v":3.7788376804866E-3},{"$f":"SELECT!BN24","v":2.5114962858153518E-2},{"$f":"SELECT!BN63","v":1.4787927202372579}]
[{"$f":"N(valSEG2=\"S2\")","v":0},"DEDUC","D5S2",{"$f":"IF(selLang=\"RUS\",VLOOKUP($C33,tblLabels[],3,0),VLOOKUP($C33,tblLabels[],2,0))","v":"Client Stock (KA)"},{"$f":"SELECT!AG25","v":283},{"$f":"SELECT!AG64","v":6.0409417892287659E-3},{"$f":"SELECT!AH25","v":298},{"$f":"SELECT!AH64","v":6.0619622042759206E-3},{"$f":"SELECT!AI25","v":-15},{"$f":"SELECT!AI64","v":-2.1020415047154697E-5},{"$f":"SELECT!AJ25","v":-5.0335570469798654E-2},{"$f":"SELECT!AJ64","v":-3.4675925614197243E-3},{"$f":"SELECT!AK25","v":288},{"$f":"SELECT!AK64","v":6.1361457334611694E-3},{"$f":"SELECT!AL25","v":-5},{"$f":"SELECT!AL64","v":-9.5203944232403505E-5},{"$f":"SELECT!AM25","v":-1.7361111111111112E-2},{"$f":"SELECT!AM64","v":-1.551526778662451E-2},{"$f":"SELECT!AN25","v":307},{"$f":"SELECT!AN64","v":6.6746385476682251E-3},{"$f":"SELECT!AO25","v":-24},{"$f":"SELECT!AO64","v":-6.3369675843945924E-4},{"$f":"SELECT!AP25","v":-7.8175895765472306E-2},{"$f":"SELECT!AP64","v":-9.4940985030693578E-2},{"$f":"SELECT!AR25","v":817},{"$f":"SELECT!AR64","v":6.5871691298002889E-3},{"$f":"SELECT!AS25","v":856},{"$f":"SELECT!AS64","v":6.6013727153543611E-3},{"$f":"SELECT!AT25","v":-39},{"$f":"SELECT!AT64","v":-1.4203585554072203E-5},{"$f":"SELECT!AU25","v":-4.55607476635514E-2},{"$f":"SELECT!AU64","v":-2.1516109098090449E-3},{"$f":"SELECT!AV25","v":792},{"$f":"SELECT!AV64","v":3.8796714035886962E-3},{"$f":"SELECT!AW25","v":25},{"$f":"SELECT!AW64","v":2.7074977262115927E-3},{"$f":"SELECT!AX25","v":3.1565656565656568E-2},{"$f":"SELECT!AX64","v":0.69786779460424331},{"$f":"SELECT!AZ25","v":3526},{"$f":"SELECT!AZ64","v":6.6077602766039184E-3},{"$f":"SELECT!BA25","v":3711},{"$f":"SELECT!BA64","v":6.6506449028747774E-3},{"$f":"SELECT!BB25","v":-185},{"$f":"SELECT!BB64","v":-4.2884626270858935E-5},{"$f":"SELECT!BC25","v":-4.9851791969819453E-2},{"$f":"SELECT!BC64","v":-6.4481906487477364E-3},{"$f":"SELECT!BD25","v":3454},{"$f":"SELECT!BD64","v":3.8285721886486272E-3},{"$f":"SELECT!BE25","v":72},{"$f":"SELECT!BE64","v":2.7791880879552912E-3},{"$f":"SELECT!BF25","v":2.0845396641574986E-2},{"$f":"SELECT!BF64","v":0.72590719229360079},{"$f":"SELECT!BH25","v":4343},{"$f":"SELECT!BH64","v":6.6038768695525236E-3},{"$f":"SELECT!BI25","v":4567},{"$f":"SELECT!BI64","v":6.641353806599473E-3},{"$f":"SELECT!BJ25","v":-224},{"$f":"SELECT!BJ64","v":-3.7476937046949411E-5},{"$f":"SELECT!BK25","v":-4.9047514779943069E-2},{"$f":"SELECT!BK64","v":-5.6429665002501158E-3},{"$f":"SELECT!BL25","v":4246},{"$f":"SELECT!BL64","v":3.8380012745129056E-3},{"$f":"SELECT!BM25","v":97},{"$f":"SELECT!BM64","v":2.7658755950396179E-3},{"$f":"SELECT!BN25","v":2.2845030617051343E-2},{"$f":"SELECT!BN64","v":0.72065520493883761}]
[1,"NREV","NREV",{"$f":"IF(selLang=\"RUS\",VLOOKUP($C34,tblLabels[],3,0),VLOOKUP($C34,tblLabels[],2,0))","v":"Net Revenue"},{"$f":"SELECT!AG26","v":62402},{"$f":"SELECT!AG65","v":0.79276875778133493},{"$f":"SELECT!AH26","v":64902},{"$f":"SELECT!AH65","v":0.77833209411651838},{"$f":"SELECT!AI26","v":-2500},{"$f":"SELECT!AI65","v":1.4436663664816551E-2},{"$f":"SELECT!AJ26","v":-3.85196141875443E-2},{"$f":"SELECT!AJ65","v":1.8548205546121736E-2},{"$f":"SELECT!AK26","v":61959},{"$f":"SELECT!AK65","v":0.78979974250787133},{"$f":"SELECT!AL26","v":443},{"$f":"SELECT!AL65","v":2.9690152734636044E-3},{"$f":"SELECT!AM26","v":7.1498894430187705E-3},{"$f":"SELECT!AM65","v":3.7592001030995708E-3},{"$f":"SELECT!AN26","v":62330},{"$f":"SELECT!AN65","v":0.83891894802013511},{"$f":"SELECT!AO26","v":72},{"$f":"SELECT!AO65","v":-4.6150190238800182E-2},{"$f":"SELECT!AP26","v":1.1551419862024708E-3},{"$f":"SELECT!AP65","v":-5.501150063151574E-2},{"$f":"SELECT!AR26","v":166904},{"$f":"SELECT!AR65","v":0.79448207579053598},{"$f":"SELECT!AS26","v":175358},{"$f":"SELECT!AS65","v":0.79318798624932152},{"$f":"SELECT!AT26","v":-8454},{"$f":"SELECT!AT65","v":1.2940895412144604E-3},{"$f":"SELECT!AU26","v":-4.8209947649950388E-2},{"$f":"SELECT!AU65","v":1.6315042129340714E-3},{"$f":"SELECT!AV26","v":162983},{"$f":"SELECT!AV65","v":0.79838444996350566},{"$f":"SELECT!AW26","v":3921},{"$f":"SELECT!AW65","v":-3.9023741729696804E-3},{"$f":"SELECT!AX26","v":2.4057723811685881E-2},{"$f":"SELECT!AX65","v":-4.8878384005951753E-3},{"$f":"SELECT!AZ26","v":773822},{"$f":"SELECT!AZ65","v":0.8549744664019393},{"$f":"SELECT!BA26","v":812003},{"$f":"SELECT!BA65","v":0.85768683138699697},{"$f":"SELECT!BB26","v":-38181},{"$f":"SELECT!BB65","v":-2.7123649850576692E-3},{"$f":"SELECT!BC26","v":-4.7020762238563156E-2},{"$f":"SELECT!BC65","v":-3.1624188291096925E-3},{"$f":"SELECT!BD26","v":29130},{"$f":"SELECT!BD65","v":3.2289029489095109E-2},{"$f":"SELECT!BE26","v":744692},{"$f":"SELECT!BE65","v":0.82268543691284424},{"$f":"SELECT!BF26","v":25.564435290078958},{"$f":"SELECT!BF65","v":25.478791091899733},{"$f":"SELECT!BH26","v":940726},{"$f":"SELECT!BH65","v":0.84357864021428297},{"$f":"SELECT!BI26","v":987361},{"$f":"SELECT!BI65","v":0.84547651342334751},{"$f":"SELECT!BJ26","v":-46635},{"$f":"SELECT!BJ65","v":-1.8978732090645378E-3},{"$f":"SELECT!BK26","v":-4.7231964803146974E-2},{"$f":"SELECT!BK65","v":-2.2447379423705333E-3},{"$f":"SELECT!BL26","v":192113},{"$f":"SELECT!BL65","v":0.17365283533925996},{"$f":"SELECT!BM26","v":748613},{"$f":"SELECT!BM65","v":0.66992580487502296},{"$f":"SELECT!BN26","v":3.8967326521370236},{"$f":"SELECT!BN65","v":3.8578454740817243}]
[{"$f":"N(valSEG1=\"S1\")","v":0},"NREV","S1",{"$f":"IF(selLang=\"RUS\",VLOOKUP($C35,tblLabels[],3,0),VLOOKUP($C35,tblLabels[],2,0))","v":"Local"},{"$f":"SELECT!AG27","v":25431},{"$f":"SELECT!AG66","v":0.79803558540182629},{"$f":"SELECT!AH27","v":25743},{"$f":"SELECT!AH66","v":0.75212551494434221},{"$f":"SELECT!AI27","v":-312},{"$f":"SELECT!AI66","v":4.5910070457484076E-2},{"$f":"SELECT!AJ27","v":-1.211979955716117E-2},{"$f":"SELECT!AJ66","v":6.104043746060317E-2},{"$f":"SELECT!AK27","v":25152},{"$f":"SELECT!AK66","v":0.79812146982293586},{"$f":"SELECT!AL27","v":279},{"$f":"SELECT!AL66","v":-8.5884421109572173E-5},{"$f":"SELECT!AM27","v":1.1092557251908396E-2},{"$f":"SELECT!AM66","v":-1.0760820796942817E-4},{"$f":"SELECT!AN27","v":22942},{"$f":"SELECT!AN66","v":0.81058545030562135},{"$f":"SELECT!AO27","v":2489},{"$f":"SELECT!AO66","v":-1.254986490379506E-2},{"$f":"SELECT!AP27","v":0.10849097724697063},{"$f":"SELECT!AP66","v":-1.5482469983964414E-2},{"$f":"SELECT!AR27","v":67528},{"$f":"SELECT!AR66","v":0.78475305055200462},{"$f":"SELECT!AS27","v":70192},{"$f":"SELECT!AS66","v":0.76788097582321413},{"$f":"SELECT!AT27","v":-2664},{"$f":"SELECT!AT66","v":1.6872074728790487E-2},{"$f":"SELECT!AU27","v":-3.7953043081832685E-2},{"$f":"SELECT!AU66","v":2.1972252549560325E-2},{"$f":"SELECT!AV27","v":62289},{"$f":"SELECT!AV66","v":0.30512733845724277},{"$f":"SELECT!AW27","v":5239},{"$f":"SELECT!AW66","v":0.47962571209476185},{"$f":"SELECT!AX27","v":8.4107948433912894E-2},{"$f":"SELECT!AX66","v":1.571887050566501},{"$f":"SELECT!AZ27","v":317247},{"$f":"SELECT!AZ66","v":0.85403817835770068},{"$f":"SELECT!BA27","v":334316},{"$f":"SELECT!BA66","v":0.85998790981234485},{"$f":"SELECT!BB27","v":-17069},{"$f":"SELECT!BB66","v":-5.9497314546441693E-3},{"$f":"SELECT!BC27","v":-5.1056485480802591E-2},{"$f":"SELECT!BC66","v":-6.9183896503178062E-3},{"$f":"SELECT!BD27","v":303577},{"$f":"SELECT!BD66","v":0.33649868538314542},{"$f":"SELECT!BE27","v":13670},{"$f":"SELECT!BE66","v":0.51753949297455526},{"$f":"SELECT!BF27","v":4.5029761806724487E-2},{"$f":"SELECT!BF66","v":1.5380134171557682},{"$f":"SELECT!BH27","v":384775},{"$f":"SELECT!BH66","v":0.84100700083275592},{"$f":"SELECT!BI27","v":404508},{"$f":"SELECT!BI66","v":0.84245295789901176},{"$f":"SELECT!BJ27","v":-19733},{"$f":"SELECT!BJ66","v":-1.4459570662558319E-3},{"$f":"SELECT!BK27","v":-4.8782718759579541E-2},{"$f":"SELECT!BK66","v":-1.7163653503714858E-3},{"$f":"SELECT!BL27","v":365866},{"$f":"SELECT!BL66","v":0.33070988561020698},{"$f":"SELECT!BM27","v":18909},{"$f":"SELECT!BM66","v":0.51029711522254895},{"$f":"SELECT!BN27","v":5.1682856564971874E-2},{"$f":"SELECT!BN66","v":1.5430355650874417}]
[{"$f":"N(valSEG2=\"S2\")","v":0},"NREV","S2",{"$f":"IF(selLang=\"RUS\",VLOOKUP($C36,tblLabels[],3,0),VLOOKUP($C36,tblLabels[],2,0))","v":"KA"},{"$f":"SELECT!AG28","v":36971},{"$f":"SELECT!AG67","v":0.78918607381475869},{"$f":"SELECT!AH28","v":39159},{"$f":"SELECT!AH67","v":0.79657844952094226},{"$f":"SELECT!AI28","v":-2188},{"$f":"SELECT!AI67","v":-7.3923757061835627E-3},{"$f":"SELECT!AJ28","v":-5.587476697566332E-2},{"$f":"SELECT!AJ67","v":-9.2801603038963655E-3},{"$f":"SELECT!AK28","v":36807},{"$f":"SELECT!AK67","v":0.7842122083732822},{"$f":"SELECT!AL28","v":164},{"$f":"SELECT!AL67","v":4.9738654414764882E-3},{"$f":"SELECT!AM28","v":4.4556741924090528E-3},{"$f":"SELECT!AM67","v":6.3424993750020101E-3},{"$f":"SELECT!AN28","v":39388},{"$f":"SELECT!AN67","v":0.8563539515164692},{"$f":"SELECT!AO28","v":-2417},{"$f":"SELECT!AO67","v":-6.716787770171051E-2},{"$f":"SELECT!AP28","v":-6.136386716766528E-2},{"$f":"SELECT!AP67","v":-7.843471450416814E-2},{"$f":"SELECT!AR28","v":99376},{"$f":"SELECT!AR67","v":0.80123196994251344},{"$f":"SELECT!AS28","v":105166},{"$f":"SELECT!AS67","v":0.8110279941389682},{"$f":"SELECT!AT28","v":-5790},{"$f":"SELECT!AT67","v":-9.7960241964547556E-3},{"$f":"SELECT!AU28","v":-5.5055816518646709E-2},{"$f":"SELECT!AU67","v":-1.2078527827950936E-2},{"$f":"SELECT!AV28","v":100694},{"$f":"SELECT!AV67","v":0.49325711150626284},{"$f":"SELECT!AW28","v":-1318},{"$f":"SELECT!AW67","v":0.30797485843625061},{"$f":"SELECT!AX28","v":-1.3089161221125389E-2},{"$f":"SELECT!AX67","v":0.62436982914607264},{"$f":"SELECT!AZ28","v":456575},{"$f":"SELECT!AZ67","v":0.85562624738809812},{"$f":"SELECT!BA28","v":477687},{"$f":"SELECT!BA67","v":0.85608370027473557},{"$f":"SELECT!BB28","v":-21112},{"$f":"SELECT!BB67","v":-4.5745288663745498E-4},{"$f":"SELECT!BC28","v":-4.4196304274556349E-2},{"$f":"SELECT!BC67","v":-5.3435532821223975E-4},{"$f":"SELECT!BD28","v":446300},{"$f":"SELECT!BD67","v":0.49469941163690861},{"$f":"SELECT!BE28","v":10275},{"$f":"SELECT!BE67","v":0.3609268357511895},{"$f":"SELECT!BF28","v":2.3022630517589064E-2},{"$f":"SELECT!BF67","v":0.72958816457234177},{"$f":"SELECT!BH28","v":555951},{"$f":"SELECT!BH67","v":0.84536770654031668},{"$f":"SELECT!BI28","v":582853},{"$f":"SELECT!BI67","v":0.84758769219135588},{"$f":"SELECT!BJ28","v":-26902},{"$f":"SELECT!BJ67","v":-2.2199856510392024E-3},{"$f":"SELECT!BK28","v":-4.6155720224481986E-2},{"$f":"SELECT!BK67","v":-2.6191810847319462E-3},{"$f":"SELECT!BL28","v":546994},{"$f":"SELECT!BL67","v":0.49443327111420449},{"$f":"SELECT!BM28","v":8957},{"$f":"SELECT!BM67","v":0.35093443542611219},{"$f":"SELECT!BN28","v":1.6374951096355717E-2},{"$f":"SELECT!BN67","v":0.70977107716736387}]
[1,"PRD","PRD",{"$f":"IF(selLang=\"RUS\",VLOOKUP($C37,tblLabels[],3,0),VLOOKUP($C37,tblLabels[],2,0))","v":"Production Cost"},{"$f":"SELECT!AG29","v":29121},{"$f":"SELECT!AG68","v":0.36995960057931243},{"$f":"SELECT!AH29","v":30519},{"$f":"SELECT!AH68","v":0.36599669009186192},{"$f":"SELECT!AI29","v":-1398},{"$f":"SELECT!AI68","v":3.9629104874505106E-3},{"$f":"SELECT!AJ29","v":-4.5807529735574559E-2},{"$f":"SELECT!AJ68","v":1.0827722202776903E-2},{"$f":"SELECT!AK29","v":29542},{"$f":"SELECT!AK68","v":0.37657586457443687},{"$f":"SELECT!AL29","v":-421},{"$f":"SELECT!AL68","v":-6.6162639951244384E-3},{"$f":"SELECT!AM29","v":-1.4250897027960192E-2},{"$f":"SELECT!AM68","v":-1.7569538086572238E-2},{"$f":"SELECT!AN29","v":27248},{"$f":"SELECT!AN68","v":0.36673934695415761},{"$f":"SELECT!AO29","v":1873},{"$f":"SELECT!AO68","v":3.2202536251548231E-3},{"$f":"SELECT!AP29","v":6.8738990017615978E-2},{"$f":"SELECT!AP68","v":8.7807693717613412E-3},{"$f":"SELECT!AR29","v":82831},{"$f":"SELECT!AR68","v":0.39428500706876934},{"$f":"SELECT!AS29","v":86710},{"$f":"SELECT!AS68","v":0.39221096435679392},{"$f":"SELECT!AT29","v":-3879},{"$f":"SELECT!AT68","v":2.0740427119754212E-3},{"$f":"SELECT!AU29","v":-4.4735324645369626E-2},{"$f":"SELECT!AU68","v":5.2880793768138173E-3},{"$f":"SELECT!AV29","v":77304},{"$f":"SELECT!AV68","v":0.37867944215027849},{"$f":"SELECT!AW29","v":5527},{"$f":"SELECT!AW68","v":1.5605564918490855E-2},{"$f":"SELECT!AX29","v":7.14969471178723E-2},{"$f":"SELECT!AX68","v":4.1210488823678483E-2},{"$f":"SELECT!AZ29","v":367455},{"$f":"SELECT!AZ68","v":0.40599083839917266},{"$f":"SELECT!BA29","v":385602},{"$f":"SELECT!BA68","v":0.40729622619188455},{"$f":"SELECT!BB29","v":-18147},{"$f":"SELECT!BB68","v":-1.3053877927118873E-3},{"$f":"SELECT!BC29","v":-4.7061477896898872E-2},{"$f":"SELECT!BC68","v":-3.2050083176977332E-3},{"$f":"SELECT!BD29","v":41942},{"$f":"SELECT!BD68","v":4.6490438545541607E-2},{"$f":"SELECT!BE29","v":325513},{"$f":"SELECT!BE68","v":0.35950039985363103},{"$f":"SELECT!BF29","v":7.7610271327070715},{"$f":"SELECT!BF68","v":7.7327814299163418},{"$f":"SELECT!BH29","v":450286},{"$f":"SELECT!BH68","v":0.40378564171451475},{"$f":"SELECT!BI29","v":472312},{"$f":"SELECT!BI68","v":0.40444042554649018},{"$f":"SELECT!BJ29","v":-22026},{"$f":"SELECT!BJ68","v":-6.5478383197542511E-4},{"$f":"SELECT!BK29","v":-4.6634428089906671E-2},{"$f":"SELECT!BK68","v":-1.6189871007347115E-3},{"$f":"SELECT!BL29","v":119246},{"$f":"SELECT!BL68","v":0.10778763541699622},{"$f":"SELECT!BM29","v":331040},{"$f":"SELECT!BM68","v":0.29599800629751855},{"$f":"SELECT!BN29","v":2.7761098904785064},{"$f":"SELECT!BN68","v":2.746122086753235}]
[1,"PRD","P1",{"$f":"IF(selLang=\"RUS\",VLOOKUP($C38,tblLabels[],3,0),VLOOKUP($C38,tblLabels[],2,0))","v":"Raw Materials"},{"$f":"SELECT!AG30","v":13214},{"$f":"SELECT!AG69","v":0.16787356759915645},{"$f":"SELECT!AH30","v":13975},{"$f":"SELECT!AH69","v":0.16759408054109803},{"$f":"SELECT!AI30","v":-761},{"$f":"SELECT!AI69","v":2.7948705805841412E-4},{"$f":"SELECT!AJ30","v":-5.4454382826475849E-2},{"$f":"SELECT!AJ69","v":1.6676427780507276E-3},{"$f":"SELECT!AK30","v":13381},{"$f":"SELECT!AK69","v":0.17056941452408572},{"$f":"SELECT!AL30","v":-167},{"$f":"SELECT!AL69","v":-2.6958469249292738E-3},{"$f":"SELECT!AM30","v":-1.2480382632090278E-2},{"$f":"SELECT!AM69","v":-1.5804984337028368E-2},{"$f":"SELECT!AN30","v":12037},{"$f":"SELECT!AN69","v":0.16200974454224878},{"$f":"SELECT!AO30","v":1177},{"$f":"SELECT!AO69","v":5.8638230569076633E-3},{"$f":"SELECT!AP30","v":9.7781839328736395E-2},{"$f":"SELECT!AP69","v":3.6194261483934995E-2},{"$f":"SELECT!AR30","v":38103},{"$f":"SELECT!AR69","v":0.18137462573603264},{"$f":"SELECT!AS30","v":39935},{"$f":"SELECT!AS69","v":0.18063596888004343},{"$f":"SELECT!AT30","v":-1832},{"$f":"SELECT!AT69","v":7.3865685598920039E-4},{"$f":"SELECT!AU30","v":-4.5874546137473396E-2},{"$f":"SELECT!AU69","v":4.0892013953197047E-3},{"$f":"SELECT!AV30","v":34448},{"$f":"SELECT!AV69","v":0.16874611175609017},{"$f":"SELECT!AW30","v":3655},{"$f":"SELECT!AW69","v":1.2628513979942468E-2},{"$f":"SELECT!AX30","v":0.10610195076637251},{"$f":"SELECT!AX69","v":7.4837362760666368E-2},{"$f":"SELECT!AZ30","v":169593},{"$f":"SELECT!AZ69","v":0.18737860215980431},{"$f":"SELECT!BA30","v":178671},{"$f":"SELECT!BA69","v":0.18872314985381353},{"$f":"SELECT!BB30","v":-9078},{"$f":"SELECT!BB69","v":-1.3445476940092127E-3},{"$f":"SELECT!BC30","v":-5.080846919757543E-2},{"$f":"SELECT!BC69","v":-7.124444961048553E-3},{"$f":"SELECT!BD30","v":35040},{"$f":"SELECT!BD69","v":3.8839944843731294E-2},{"$f":"SELECT!BE30","v":134553},{"$f":"SELECT!BE69","v":0.14853865731607302},{"$f":"SELECT!BF30","v":3.839982876712329},{"$f":"SELECT!BF69","v":3.824378688324706},{"$f":"SELECT!BH30","v":207696},{"$f":"SELECT!BH69","v":0.18624754631842397},{"$f":"SELECT!BI30","v":218606},{"$f":"SELECT!BI69","v":0.18719216040883152},{"$f":"SELECT!BJ30","v":-10910},{"$f":"SELECT!BJ69","v":-9.4461409040755284E-4},{"$f":"SELECT!BK30","v":-4.9907138870845268E-2},{"$f":"SELECT!BK69","v":-5.0462267668928886E-3},{"$f":"SELECT!BL30","v":69488},{"$f":"SELECT!BL69","v":6.2810888498198963E-2},{"$f":"SELECT!BM30","v":138208},{"$f":"SELECT!BM69","v":0.123436657820225},{"$f":"SELECT!BN30","v":1.9889477319825006},{"$f":"SELECT!BN69","v":1.9652111404818675}]
[1,"PRD","P2",{"$f":"IF(selLang=\"RUS\",VLOOKUP($C39,tblLabels[],3,0),VLOOKUP($C39,tblLabels[],2,0))","v":"Production"},{"$f":"SELECT!AG31","v":10384},{"$f":"SELECT!AG70","v":0.1319206240313032},{"$f":"SELECT!AH31","v":10762},{"$f":"SELECT!AH70","v":0.12906243254263305},{"$f":"SELECT!AI31","v":-378},{"$f":"SELECT!AI70","v":2.8581914886701421E-3},{"$f":"SELECT!AJ31","v":-3.5123582977141798E-2},{"$f":"SELECT!AJ70","v":2.2145805191809E-2},{"$f":"SELECT!AK31","v":10552},{"$f":"SELECT!AK70","v":0.1345077693788321},{"$f":"SELECT!AL31","v":-168},{"$f":"SELECT!AL70","v":-2.5871453475289075E-3},{"$f":"SELECT!AM31","v":-1.5921152388172859E-2},{"$f":"SELECT!AM70","v":-1.9234170334372181E-2},{"$f":"SELECT!AN31","v":9270},{"$f":"SELECT!AN70","v":0.12476782685940402},{"$f":"SELECT!AO31","v":1114},{"$f":"SELECT!AO70","v":7.1527971718991779E-3},{"$f":"SELECT!AP31","v":0.12017259978425027},{"$f":"SELECT!AP70","v":5.7328859145389981E-2},{"$f":"SELECT!AR31","v":29273},{"$f":"SELECT!AR70","v":0.13934281865393494},{"$f":"SELECT!AS31","v":30469},{"$f":"SELECT!AS70","v":0.13781888908992221},{"$f":"SELECT!AT31","v":-1196},{"$f":"SELECT!AT70","v":1.5239295640127326E-3},{"$f":"SELECT!AU31","v":-3.9253011257343533E-2},{"$f":"SELECT!AU70","v":1.1057479668250842E-2},{"$f":"SELECT!AV31","v":26412},{"$f":"SELECT!AV70","v":0.12938116301967759},{"$f":"SELECT!AW31","v":2861},{"$f":"SELECT!AW70","v":9.9616556342573548E-3},{"$f":"SELECT!AX31","v":0.10832197485991216},{"$f":"SELECT!AX70","v":7.699463663610974E-2},{"$f":"SELECT!AZ31","v":127215},{"$f":"SELECT!AZ70","v":0.140556325283234},{"$f":"SELECT!BA31","v":133166},{"$f":"SELECT!BA70","v":0.14065800814588228},{"$f":"SELECT!BB31","v":-5951},{"$f":"SELECT!BB70","v":-1.0168286264827797E-4},{"$f":"SELECT!BC31","v":-4.4688584173137286E-2},{"$f":"SELECT!BC70","v":-7.229084499960958E-4},{"$f":"SELECT!BD31","v":13495},{"$f":"SELECT!BD70","v":1.4958477616043202E-2},{"$f":"SELECT!BE31","v":113720},{"$f":"SELECT!BE70","v":0.12559784766719079},{"$f":"SELECT!BF31","v":8.4268247499073734},{"$f":"SELECT!BF70","v":8.3964325040995558},{"$f":"SELECT!BH31","v":156488},{"$f":"SELECT!BH70","v":0.14032771949521189},{"$f":"SELECT!BI31","v":163635},{"$f":"SELECT!BI70","v":0.14012053268665611},{"$f":"SELECT!BJ31","v":-7147},{"$f":"SELECT!BJ70","v":2.0718680855577598E-4},{"$f":"SELECT!BK31","v":-4.367647508173679E-2},{"$f":"SELECT!BK70","v":1.4786327498418558E-3},{"$f":"SELECT!BL31","v":39907},{"$f":"SELECT!BL70","v":3.6072330867165929E-2},{"$f":"SELECT!BM31","v":116581},{"$f":"SELECT!BM70","v":0.10425538862804595},{"$f":"SELECT!BN31","v":2.9213170621695443},{"$f":"SELECT!BN70","v":2.8901761023417039}]
[1,"PRD","P3",{"$f":"IF(selLang=\"RUS\",VLOOKUP($C40,tblLabels[],3,0),VLOOKUP($C40,tblLabels[],2,0))","v":"Haulage"},{"$f":"SELECT!AG32","v":5523},{"$f":"SELECT!AG71","v":7.0165408948852814E-2},{"$f":"SELECT!AH32","v":5782},{"$f":"SELECT!AH71","v":6.934017700813086E-2},{"$f":"SELECT!AI32","v":-259},{"$f":"SELECT!AI71","v":8.2523194072195438E-4},{"$f":"SELECT!AJ32","v":-4.4794188861985475E-2},{"$f":"SELECT!AJ71","v":1.1901209029581614E-2},{"$f":"SELECT!AK32","v":5609},{"$f":"SELECT!AK71","v":7.1498680671519071E-2},{"$f":"SELECT!AL32","v":-86},{"$f":"SELECT!AL71","v":-1.3332717226662572E-3},{"$f":"SELECT!AM32","v":-1.5332501337136744E-2},{"$f":"SELECT!AM71","v":-1.864750104679002E-2},{"$f":"SELECT!AN32","v":5941},{"$f":"SELECT!AN71","v":7.9961775552504777E-2},{"$f":"SELECT!AO32","v":-418},{"$f":"SELECT!AO71","v":-9.7963666036519625E-3},{"$f":"SELECT!AP32","v":-7.0358525500757454E-2},{"$f":"SELECT!AP71","v":-0.12251311999968584},{"$f":"SELECT!AR32","v":15455},{"$f":"SELECT!AR71","v":7.3567562678801782E-2},{"$f":"SELECT!AS32","v":16306},{"$f":"SELECT!AS71","v":7.3756106386828293E-2},{"$f":"SELECT!AT32","v":-851},{"$f":"SELECT!AT71","v":-1.8854370802651177E-4},{"$f":"SELECT!AU32","v":-5.2189378143014845E-2},{"$f":"SELECT!AU71","v":-2.556313195786902E-3},{"$f":"SELECT!AV32","v":16444},{"$f":"SELECT!AV71","v":8.055216737451075E-2},{"$f":"SELECT!AW32","v":-989},{"$f":"SELECT!AW71","v":-6.984604695708968E-3},{"$f":"SELECT!AX32","v":-6.0143517392361956E-2},{"$f":"SELECT!AX71","v":-8.6709084601479233E-2},{"$f":"SELECT!AZ32","v":70647},{"$f":"SELECT!AZ71","v":7.8055910956134358E-2},{"$f":"SELECT!BA32","v":73765},{"$f":"SELECT!BA71","v":7.7915068192188741E-2},{"$f":"SELECT!BB32","v":-3118},{"$f":"SELECT!BB71","v":1.4084276394561723E-4},{"$f":"SELECT!BC32","v":-4.2269368941910121E-2},{"$f":"SELECT!BC71","v":1.8076447497704586E-3},{"$f":"SELECT!BD32","v":21545},{"$f":"SELECT!BD71","v":2.3881467227688091E-2},{"$f":"SELECT!BE32","v":49102},{"$f":"SELECT!BE71","v":5.4174443728446264E-2},{"$f":"SELECT!BF32","v":2.2790438616848459},{"$f":"SELECT!BF71","v":2.2684721676412161},{"$f":"SELECT!BH32","v":86102},{"$f":"SELECT!BH71","v":7.7210375900878883E-2},{"$f":"SELECT!BI32","v":90071},{"$f":"SELECT!BI71","v":7.7127732451002559E-2},{"$f":"SELECT!BJ32","v":-3969},{"$f":"SELECT!BJ71","v":8.2643449876323993E-5},{"$f":"SELECT!BK32","v":-4.4065237423810105E-2},{"$f":"SELECT!BK71","v":1.0715140618042342E-3},{"$f":"SELECT!BL32","v":37989},{"$f":"SELECT!BL71","v":3.4338631751641729E-2},{"$f":"SELECT!BM32","v":48113},{"$f":"SELECT!BM71","v":4.2871744149237154E-2},{"$f":"SELECT!BN32","v":1.2664981968464555},{"$f":"SELECT!BN71","v":1.2484989052363}]
[1,"GRPRF","GRPRF",{"$f":"IF(selLang=\"RUS\",VLOOKUP($C41,tblLabels[],3,0),VLOOKUP($C41,tblLabels[],2,0))","v":"Gross Profit"},{"$f":"SELECT!AG33","v":33281},{"$f":"SELECT!AG72","v":0.4228091572020225},{"$f":"SELECT!AH33","v":34383},{"$f":"SELECT!AH72","v":0.4123354040246564},{"$f":"SELECT!AI33","v":-1102},{"$f":"SELECT!AI72","v":1.0473753177366096E-2},{"$f":"SELECT!AJ33","v":-3.2050722740889395E-2},{"$f":"SELECT!AJ72","v":2.5401052335393925E-2},{"$f":"SELECT!AK33","v":32417},{"$f":"SELECT!AK72","v":0.41322387793343446},{"$f":"SELECT!AL33","v":864},{"$f":"SELECT!AL72","v":9.5852792685880428E-3},{"$f":"SELECT!AM33","v":2.6652682234629979E-2},{"$f":"SELECT!AM72","v":2.3196334433829884E-2},{"$f":"SELECT!AN33","v":35082},{"$f":"SELECT!AN72","v":0.47217960106597756},{"$f":"SELECT!AO33","v":-1801},{"$f":"SELECT!AO72","v":-4.937044386395506E-2},{"$f":"SELECT!AP33","v":-5.1336867909469244E-2},{"$f":"SELECT!AP72","v":-0.10455861234262964},{"$f":"SELECT!AR33","v":84073},{"$f":"SELECT!AR72","v":0.40019706872176658},{"$f":"SELECT!AS33","v":88648},{"$f":"SELECT!AS72","v":0.4009770218925276},{"$f":"SELECT!AT33","v":-4575},{"$f":"SELECT!AT72","v":-7.7995317076101633E-4},{"$f":"SELECT!AU33","v":-5.1608609331287789E-2},{"$f":"SELECT!AU72","v":-1.9451318359336419E-3},{"$f":"SELECT!AV33","v":85679},{"$f":"SELECT!AV72","v":0.41970500781322712},{"$f":"SELECT!AW33","v":-1606},{"$f":"SELECT!AW72","v":-1.9507939091460536E-2},{"$f":"SELECT!AX33","v":-1.8744383104377968E-2},{"$f":"SELECT!AX72","v":-4.6480119913512592E-2},{"$f":"SELECT!AZ33","v":406367},{"$f":"SELECT!AZ72","v":0.44898362800276659},{"$f":"SELECT!BA33","v":426401},{"$f":"SELECT!BA72","v":0.45039060519511248},{"$f":"SELECT!BB33","v":-20034},{"$f":"SELECT!BB72","v":-1.4069771923458929E-3},{"$f":"SELECT!BC33","v":-4.6983942345350971E-2},{"$f":"SELECT!BC72","v":-3.1239043979089665E-3},{"$f":"SELECT!BD33","v":18560},{"$f":"SELECT!BD72","v":2.0572756172935299E-2},{"$f":"SELECT!BE33","v":387807},{"$f":"SELECT!BE72","v":0.42841087182983129},{"$f":"SELECT!BF33","v":20.894773706896551},{"$f":"SELECT!BF72","v":20.824184578312924},{"$f":"SELECT!BH33","v":490440},{"$f":"SELECT!BH72","v":0.43979299849976822},{"$f":"SELECT!BI33","v":515049},{"$f":"SELECT!BI72","v":0.44103608787685733},{"$f":"SELECT!BJ33","v":-24609},{"$f":"SELECT!BJ72","v":-1.2430893770891127E-3},{"$f":"SELECT!BK33","v":-4.7779919968779672E-2},{"$f":"SELECT!BK72","v":-2.8185661247661859E-3},{"$f":"SELECT!BL33","v":104239},{"$f":"SELECT!BL72","v":9.4222660116333193E-2},{"$f":"SELECT!BM33","v":386201},{"$f":"SELECT!BM72","v":0.34557033838343504},{"$f":"SELECT!BN33","v":3.7049568779439559},{"$f":"SELECT!BN72","v":3.6675926784148554}]
[1,"OPEX","OPEX",{"$f":"IF(selLang=\"RUS\",VLOOKUP($C42,tblLabels[],3,0),VLOOKUP($C42,tblLabels[],2,0))","v":"OPEX"},{"$f":"SELECT!AG34","v":14148},{"$f":"SELECT!AG73","v":0.17973930939858221},{"$f":"SELECT!AH34","v":14949},{"$f":"SELECT!AH73","v":0.17927469839061713},{"$f":"SELECT!AI34","v":-801},{"$f":"SELECT!AI73","v":4.6461100796507671E-4},{"$f":"SELECT!AJ34","v":-5.3582179409993977E-2},{"$f":"SELECT!AJ73","v":2.591615058544109E-3},{"$f":"SELECT!AK34","v":14256},{"$f":"SELECT!AK73","v":0.18172315772030237},{"$f":"SELECT!AL34","v":-108},{"$f":"SELECT!AL73","v":-1.9838483217201608E-3},{"$f":"SELECT!AM34","v":-7.575757575757576E-3},{"$f":"SELECT!AM73","v":-1.0916871281609489E-2},{"$f":"SELECT!AN34","v":13972},{"$f":"SELECT!AN73","v":0.1880535142264933},{"$f":"SELECT!AO34","v":176},{"$f":"SELECT!AO73","v":-8.3142048279110925E-3},{"$f":"SELECT!AP34","v":1.2596621815058689E-2},{"$f":"SELECT!AP73","v":-4.4211908839402979E-2},{"$f":"SELECT!AR34","v":39366},{"$f":"SELECT!AR73","v":0.18738664978412883},{"$f":"SELECT!AS34","v":41239},{"$f":"SELECT!AS73","v":0.1865342862312285},{"$f":"SELECT!AT34","v":-1873},{"$f":"SELECT!AT73","v":8.523635529003315E-4},{"$f":"SELECT!AU34","v":-4.5418172118625574E-2},{"$f":"SELECT!AU73","v":4.5694739027426785E-3},{"$f":"SELECT!AV34","v":38545},{"$f":"SELECT!AV73","v":0.18881557354965439},{"$f":"SELECT!AW34","v":821},{"$f":"SELECT!AW73","v":-1.4289237655255582E-3},{"$f":"SELECT!AX34","v":2.1299779478531587E-2},{"$f":"SELECT!AX73","v":-7.567827900328266E-3},{"$f":"SELECT!AZ34","v":179474},{"$f":"SELECT!AZ73","v":0.19829584501735753},{"$f":"SELECT!BA34","v":188358},{"$f":"SELECT!BA73","v":0.19895514694698416},{"$f":"SELECT!BB34","v":-8884},{"$f":"SELECT!BB73","v":-6.593019296266267E-4},{"$f":"SELECT!BC34","v":-4.7165503987088415E-2},{"$f":"SELECT!BC73","v":-3.3138219329521129E-3},{"$f":"SELECT!BD34","v":7283},{"$f":"SELECT!BD73","v":8.0728115952310216E-3},{"$f":"SELECT!BE34","v":172191},{"$f":"SELECT!BE73","v":0.19022303342212651},{"$f":"SELECT!BF34","v":23.642866950432513},{"$f":"SELECT!BF73","v":23.563417921768416},{"$f":"SELECT!BH34","v":218840},{"$f":"SELECT!BH73","v":0.19624072219168354},{"$f":"SELECT!BI34","v":229597},{"$f":"SELECT!BI73","v":0.19660374579557052},{"$f":"SELECT!BJ34","v":-10757},{"$f":"SELECT!BJ73","v":-3.6302360388698607E-4},{"$f":"SELECT!BK34","v":-4.6851657469392023E-2},{"$f":"SELECT!BK73","v":-1.8464734861382533E-3},{"$f":"SELECT!BL34","v":45828},{"$f":"SELECT!BL73","v":4.1424381160710656E-2},{"$f":"SELECT!BM34","v":173012},{"$f":"SELECT!BM73","v":0.15481634103097289},{"$f":"SELECT!BN34","v":3.7752465741468098},{"$f":"SELECT!BN73","v":3.7373241722150312}]
[1,"OPEX","O1",{"$f":"IF(selLang=\"RUS\",VLOOKUP($C43,tblLabels[],3,0),VLOOKUP($C43,tblLabels[],2,0))","v":"Marketing"},{"$f":"SELECT!AG35","v":5749},{"$f":"SELECT!AG74","v":7.3036562746144271E-2},{"$f":"SELECT!AH35","v":6131},{"$f":"SELECT!AH74","v":7.3525531863862043E-2},{"$f":"SELECT!AI35","v":-382},{"$f":"SELECT!AI74","v":-4.8896911771777185E-4},{"$f":"SELECT!AJ35","v":-6.230631218398304E-2},{"$f":"SELECT!AJ74","v":-6.6503309166553778E-3},{"$f":"SELECT!AK35","v":5873},{"$f":"SELECT!AK74","v":7.4863924333006163E-2},{"$f":"SELECT!AL35","v":-124},{"$f":"SELECT!AL74","v":-1.827361586861892E-3},{"$f":"SELECT!AM35","v":-2.1113570577217775E-2},{"$f":"SELECT!AM74","v":-2.4409107632850084E-2},{"$f":"SELECT!AN35","v":5199},{"$f":"SELECT!AN74","v":6.9974965678753123E-2},{"$f":"SELECT!AO35","v":550},{"$f":"SELECT!AO74","v":3.0615970673911475E-3},{"$f":"SELECT!AP35","v":0.10578957491825351},{"$f":"SELECT!AP74","v":4.3752748396427676E-2},{"$f":"SELECT!AR35","v":15943},{"$f":"SELECT!AR74","v":7.5890498336340137E-2},{"$f":"SELECT!AS35","v":16732},{"$f":"SELECT!AS74","v":7.5683010674868822E-2},{"$f":"SELECT!AT35","v":-789},{"$f":"SELECT!AT74","v":2.0748766147131448E-4},{"$f":"SELECT!AU35","v":-4.7155151804924696E-2},{"$f":"SELECT!AU74","v":2.7415355126750064E-3},{"$f":"SELECT!AV35","v":15027},{"$f":"SELECT!AV74","v":7.3610886593090064E-2},{"$f":"SELECT!AW35","v":916},{"$f":"SELECT!AW74","v":2.2796117432500734E-3},{"$f":"SELECT!AX35","v":6.0956944167165766E-2},{"$f":"SELECT!AX74","v":3.0968404929714068E-2},{"$f":"SELECT!AZ35","v":70883},{"$f":"SELECT!AZ74","v":7.8316660810843652E-2},{"$f":"SELECT!BA35","v":75091},{"$f":"SELECT!BA74","v":7.9315669838265365E-2},{"$f":"SELECT!BB35","v":-4208},{"$f":"SELECT!BB74","v":-9.9900902742171283E-4},{"$f":"SELECT!BC35","v":-5.6038673076666976E-2},{"$f":"SELECT!BC74","v":-1.2595355110267844E-2},{"$f":"SELECT!BD35","v":11277},{"$f":"SELECT!BD74","v":1.2499944577704276E-2},{"$f":"SELECT!BE35","v":59606},{"$f":"SELECT!BE74","v":6.581671623313938E-2},{"$f":"SELECT!BF35","v":5.2856256096479557},{"$f":"SELECT!BF74","v":5.2653606441211274},{"$f":"SELECT!BH35","v":86826},{"$f":"SELECT!BH74","v":7.7859609509299557E-2},{"$f":"SELECT!BI35","v":91823},{"$f":"SELECT!BI74","v":7.8627968789603847E-2},{"$f":"SELECT!BJ35","v":-4997},{"$f":"SELECT!BJ74","v":-7.683592803042899E-4},{"$f":"SELECT!BK35","v":-5.4419916578634986E-2},{"$f":"SELECT!BK74","v":-9.7720860926765029E-3},{"$f":"SELECT!BL35","v":26304},{"$f":"SELECT!BL74","v":2.3776445012903314E-2},{"$f":"SELECT!BM35","v":60522},{"$f":"SELECT!BM74","v":5.4083164496396247E-2},{"$f":"SELECT!BN35","v":2.300866788321168},{"$f":"SELECT!BN74","v":2.2746531059225079}]
[1,"OPEX","O2",{"$f":"IF(selLang=\"RUS\",VLOOKUP($C44,tblLabels[],3,0),VLOOKUP($C44,tblLabels[],2,0))","v":"Sales"},{"$f":"SELECT!AG36","v":2910},{"$f":"SELECT!AG75","v":3.6969281195213047E-2},{"$f":"SELECT!AH36","v":3024},{"$f":"SELECT!AH75","v":3.62650804691435E-2},{"$f":"SELECT!AI36","v":-114},{"$f":"SELECT!AI75","v":7.0420072606954681E-4},{"$f":"SELECT!AJ36","v":-3.7698412698412696E-2},{"$f":"SELECT!AJ75","v":1.9418148724879375E-2},{"$f":"SELECT!AK36","v":2897},{"$f":"SELECT!AK75","v":3.6928450330788155E-2},{"$f":"SELECT!AL36","v":13},{"$f":"SELECT!AL75","v":4.0830864424891422E-5},{"$f":"SELECT!AM36","v":4.4874007594062825E-3},{"$f":"SELECT!AM75","v":1.105675002854093E-3},{"$f":"SELECT!AN36","v":3371},{"$f":"SELECT!AN75","v":4.5371342431828582E-2},{"$f":"SELECT!AO36","v":-461},{"$f":"SELECT!AO75","v":-8.4020612366155351E-3},{"$f":"SELECT!AP36","v":-0.13675467220409374},{"$f":"SELECT!AP75","v":-0.18518432090123435},{"$f":"SELECT!AR36","v":8651},{"$f":"SELECT!AR75","v":4.1179746666730133E-2},{"$f":"SELECT!AS36","v":8995},{"$f":"SELECT!AS75","v":4.0686629274470781E-2},{"$f":"SELECT!AT36","v":-344},{"$f":"SELECT!AT75","v":4.9311739225935125E-4},{"$f":"SELECT!AU36","v":-3.8243468593663149E-2},{"$f":"SELECT!AU75","v":1.2119888057887423E-2},{"$f":"SELECT!AV36","v":8950},{"$f":"SELECT!AV75","v":4.3842246290554075E-2},{"$f":"SELECT!AW36","v":-299},{"$f":"SELECT!AW75","v":-2.6624996238239426E-3},{"$f":"SELECT!AX36","v":-3.3407821229050276E-2},{"$f":"SELECT!AX75","v":-6.0729087788496477E-2},{"$f":"SELECT!AZ36","v":42712},{"$f":"SELECT!AZ75","v":4.71913042133199E-2},{"$f":"SELECT!BA36","v":44432},{"$f":"SELECT!BA75","v":4.6931774010917512E-2},{"$f":"SELECT!BB36","v":-1720},{"$f":"SELECT!BB75","v":2.5953020240238739E-4},{"$f":"SELECT!BC36","v":-3.8710839034929778E-2},{"$f":"SELECT!BC75","v":5.5299465633243299E-3},{"$f":"SELECT!BD36","v":11178},{"$f":"SELECT!BD75","v":1.2390208432169762E-2},{"$f":"SELECT!BE36","v":31534},{"$f":"SELECT!BE75","v":3.4801095781150135E-2},{"$f":"SELECT!BF36","v":2.821077115763106},{"$f":"SELECT!BF75","v":2.8087578971466747},{"$f":"SELECT!BH36","v":51363},{"$f":"SELECT!BH75","v":4.6058820206230311E-2},{"$f":"SELECT!BI36","v":53427},{"$f":"SELECT!BI75","v":4.5749501633819023E-2},{"$f":"SELECT!BJ36","v":-2064},{"$f":"SELECT!BJ75","v":3.0931857241128791E-4},{"$f":"SELECT!BK36","v":-3.8632152282553768E-2},{"$f":"SELECT!BK75","v":6.7611353427866174E-3},{"$f":"SELECT!BL36","v":20128},{"$f":"SELECT!BL75","v":1.8193897704520904E-2},{"$f":"SELECT!BM36","v":31235},{"$f":"SELECT!BM75","v":2.7864922501709407E-2},{"$f":"SELECT!BN36","v":1.5518183624801272},{"$f":"SELECT!BN75","v":1.5315532138440793}]
[1,"OPEX","O3",{"$f":"IF(selLang=\"RUS\",VLOOKUP($C45,tblLabels[],3,0),VLOOKUP($C45,tblLabels[],2,0))","v":"Warehouse"},{"$f":"SELECT!AG37","v":645},{"$f":"SELECT!AG76","v":8.1942221205884586E-3},{"$f":"SELECT!AH37","v":685},{"$f":"SELECT!AH76","v":8.2148082411915672E-3},{"$f":"SELECT!AI37","v":-40},{"$f":"SELECT!AI76","v":-2.0586120603108618E-5},{"$f":"SELECT!AJ37","v":-5.8394160583941604E-2},{"$f":"SELECT!AJ76","v":-2.5059770111106792E-3},{"$f":"SELECT!AK37","v":645},{"$f":"SELECT!AK76","v":8.2219021274968444E-3},{"$f":"SELECT!AL37","v":0},{"$f":"SELECT!AL76","v":-2.7680006908385735E-5},{"$f":"SELECT!AM37","v":0},{"$f":"SELECT!AM76","v":-3.3666183906293839E-3},{"$f":"SELECT!AN37","v":826},{"$f":"SELECT!AN76","v":1.1117392123610325E-2},{"$f":"SELECT!AO37","v":-181},{"$f":"SELECT!AO76","v":-2.9231700030218667E-3},{"$f":"SELECT!AP37","v":-0.21912832929782083},{"$f":"SELECT!AP76","v":-0.26293666450910252},{"$f":"SELECT!AR37","v":1873},{"$f":"SELECT!AR76","v":8.9156936200191356E-3},{"$f":"SELECT!AS37","v":1974},{"$f":"SELECT!AS76","v":8.928894517821603E-3},{"$f":"SELECT!AT37","v":-101},{"$f":"SELECT!AT76","v":-1.3200897802467457E-5},{"$f":"SELECT!AU37","v":-5.1165146909827763E-2},{"$f":"SELECT!AU76","v":-1.4784470547971151E-3},{"$f":"SELECT!AV37","v":2118},{"$f":"SELECT!AV76","v":1.0375181859597044E-2},{"$f":"SELECT!AW37","v":-245},{"$f":"SELECT!AW76","v":-1.459488239577908E-3},{"$f":"SELECT!AX37","v":-0.11567516525023608},{"$f":"SELECT!AX76","v":-0.14067109948804235},{"$f":"SELECT!AZ37","v":8581},{"$f":"SELECT!AZ76","v":9.4809089121206704E-3},{"$f":"SELECT!BA37","v":9094},{"$f":"SELECT!BA76","v":9.6056345169086201E-3},{"$f":"SELECT!BB37","v":-513},{"$f":"SELECT!BB76","v":-1.2472560478794976E-4},{"$f":"SELECT!BC37","v":-5.6410820321090828E-2},{"$f":"SELECT!BC76","v":-1.2984629445186323E-2},{"$f":"SELECT!BD37","v":4441},{"$f":"SELECT!BD76","v":4.9226083062503048E-3},{"$f":"SELECT!BE37","v":4140},{"$f":"SELECT!BE76","v":4.5583006058703655E-3},{"$f":"SELECT!BF37","v":0.93222247241612255},{"$f":"SELECT!BF76","v":0.92599295379293678},{"$f":"SELECT!BH37","v":10454},{"$f":"SELECT!BH76","v":9.374431135952566E-3},{"$f":"SELECT!BI37","v":11068},{"$f":"SELECT!BI76","v":9.4775204313008211E-3},{"$f":"SELECT!BJ37","v":-614},{"$f":"SELECT!BJ76","v":-1.0308929534825519E-4},{"$f":"SELECT!BK37","v":-5.5475243946512466E-2},{"$f":"SELECT!BK76","v":-1.0877243272173652E-2},{"$f":"SELECT!BL37","v":6559},{"$f":"SELECT!BL76","v":5.9287447855699829E-3},{"$f":"SELECT!BM37","v":3895},{"$f":"SELECT!BM76","v":3.4456863503825831E-3},{"$f":"SELECT!BN37","v":0.59384052447019364},{"$f":"SELECT!BN76","v":0.58118311295319469}]
[1,"OPEX","O4",{"$f":"IF(selLang=\"RUS\",VLOOKUP($C46,tblLabels[],3,0),VLOOKUP($C46,tblLabels[],2,0))","v":"Distribution"},{"$f":"SELECT!AG38","v":841},{"$f":"SELECT!AG77","v":1.0684249307619992E-2},{"$f":"SELECT!AH38","v":879},{"$f":"SELECT!AH77","v":1.054133787446334E-2},{"$f":"SELECT!AI38","v":-38},{"$f":"SELECT!AI77","v":1.4291143315665195E-4},{"$f":"SELECT!AJ38","v":-4.3230944254835042E-2},{"$f":"SELECT!AJ77","v":1.3557238640728757E-2},{"$f":"SELECT!AK38","v":858},{"$f":"SELECT!AK77","v":1.0937041899833012E-2},{"$f":"SELECT!AL38","v":-17},{"$f":"SELECT!AL77","v":-2.5279259221301989E-4},{"$f":"SELECT!AM38","v":-1.9813519813519812E-2},{"$f":"SELECT!AM77","v":-2.3113433643961769E-2},{"$f":"SELECT!AN38","v":828},{"$f":"SELECT!AN77","v":1.114431074860696E-2},{"$f":"SELECT!AO38","v":13},{"$f":"SELECT!AO77","v":-4.6006144098696862E-4},{"$f":"SELECT!AP38","v":1.570048309178744E-2},{"$f":"SELECT!AP77","v":-4.1282179882185743E-2},{"$f":"SELECT!AR38","v":2345},{"$f":"SELECT!AR77","v":1.1162467452720167E-2},{"$f":"SELECT!AS38","v":2443},{"$f":"SELECT!AS77","v":1.1050298534467162E-2},{"$f":"SELECT!AT38","v":-98},{"$f":"SELECT!AT77","v":1.1216891825300591E-4},{"$f":"SELECT!AU38","v":-4.0114613180515762E-2},{"$f":"SELECT!AU77","v":1.01507590861132E-2},{"$f":"SELECT!AV38","v":2320},{"$f":"SELECT!AV77","v":1.1364694010512343E-2},{"$f":"SELECT!AW38","v":25},{"$f":"SELECT!AW77","v":-2.0222655779217509E-4},{"$f":"SELECT!AX38","v":1.0775862068965518E-2},{"$f":"SELECT!AX77","v":-1.7794280919936387E-2},{"$f":"SELECT!AZ38","v":10267},{"$f":"SELECT!AZ77","v":1.134372355212014E-2},{"$f":"SELECT!BA38","v":10780},{"$f":"SELECT!BA77","v":1.1386490003549035E-2},{"$f":"SELECT!BB38","v":-513},{"$f":"SELECT!BB77","v":-4.2766451428895638E-5},{"$f":"SELECT!BC38","v":-4.7588126159554732E-2},{"$f":"SELECT!BC77","v":-3.7558941706852451E-3},{"$f":"SELECT!BD38","v":6737},{"$f":"SELECT!BD77","v":7.4676001259194559E-3},{"$f":"SELECT!BE38","v":3530},{"$f":"SELECT!BE77","v":3.8761234262006837E-3},{"$f":"SELECT!BF38","v":0.52397209440403736},{"$f":"SELECT!BF77","v":0.51905878205060318},{"$f":"SELECT!BH38","v":12612},{"$f":"SELECT!BH77","v":1.130957772016776E-2},{"$f":"SELECT!BI38","v":13223},{"$f":"SELECT!BI77","v":1.1322845379751605E-2},{"$f":"SELECT!BJ38","v":-611},{"$f":"SELECT!BJ77","v":-1.3267659583844973E-5},{"$f":"SELECT!BK38","v":-4.6207365953263253E-2},{"$f":"SELECT!BK77","v":-1.1717602015100584E-3},{"$f":"SELECT!BL38","v":9057},{"$f":"SELECT!BL77","v":8.1867116211171414E-3},{"$f":"SELECT!BM38","v":3555},{"$f":"SELECT!BM77","v":3.1228660990506186E-3},{"$f":"SELECT!BN38","v":0.39251407750910899},{"$f":"SELECT!BN77","v":0.38145549074861379}]
[1,"OPEX","O5",{"$f":"IF(selLang=\"RUS\",VLOOKUP($C47,tblLabels[],3,0),VLOOKUP($C47,tblLabels[],2,0))","v":"Administration"},{"$f":"SELECT!AG39","v":1128},{"$f":"SELECT!AG78","v":1.4330360545773305E-2},{"$f":"SELECT!AH39","v":1185},{"$f":"SELECT!AH78","v":1.4211018636221907E-2},{"$f":"SELECT!AI39","v":-57},{"$f":"SELECT!AI78","v":1.1934190955139798E-4},{"$f":"SELECT!AJ39","v":-4.810126582278481E-2},{"$f":"SELECT!AJ78","v":8.397843434474998E-3},{"$f":"SELECT!AK39","v":1132},{"$f":"SELECT!AK78","v":1.4429756912133999E-2},{"$f":"SELECT!AL39","v":-4},{"$f":"SELECT!AL78","v":-9.9396366360693378E-5},{"$f":"SELECT!AM39","v":-3.5335689045936395E-3},{"$f":"SELECT!AM78","v":-6.8882911171643411E-3},{"$f":"SELECT!AN39","v":1008},{"$f":"SELECT!AN78","v":1.3566986998304126E-2},{"$f":"SELECT!AO39","v":120},{"$f":"SELECT!AO78","v":7.6337354746917885E-4},{"$f":"SELECT!AP39","v":0.11904761904761904},{"$f":"SELECT!AP78","v":5.6266991894707394E-2},{"$f":"SELECT!AR39","v":2925},{"$f":"SELECT!AR78","v":1.3923333603073129E-2},{"$f":"SELECT!AS39","v":3088},{"$f":"SELECT!AS78","v":1.3967794463542609E-2},{"$f":"SELECT!AT39","v":-163},{"$f":"SELECT!AT78","v":-4.4460860469480029E-5},{"$f":"SELECT!AU39","v":-5.2784974093264249E-2},{"$f":"SELECT!AU78","v":-3.1830981323162709E-3},{"$f":"SELECT!AV39","v":2736},{"$f":"SELECT!AV78","v":1.3402501212397314E-2},{"$f":"SELECT!AW39","v":189},{"$f":"SELECT!AW78","v":5.208323906758152E-4},{"$f":"SELECT!AX39","v":6.9078947368421059E-2},{"$f":"SELECT!AX78","v":3.886083518455833E-2},{"$f":"SELECT!AZ39","v":12754},{"$f":"SELECT!AZ78","v":1.4091540876959215E-2},{"$f":"SELECT!BA39","v":13284},{"$f":"SELECT!BA78","v":1.403136671680384E-2},{"$f":"SELECT!BB39","v":-530},{"$f":"SELECT!BB78","v":6.0174160155374717E-5},{"$f":"SELECT!BC39","v":-3.9897621198434208E-2},{"$f":"SELECT!BC78","v":4.2885458964813938E-3},{"$f":"SELECT!BD39","v":5751},{"$f":"SELECT!BD78","v":6.3746724542322686E-3},{"$f":"SELECT!BE39","v":7003},{"$f":"SELECT!BE78","v":7.7168684227269463E-3},{"$f":"SELECT!BF39","v":1.2177012693444618},{"$f":"SELECT!BF78","v":1.2105513621493709},{"$f":"SELECT!BH39","v":15679},{"$f":"SELECT!BH78","v":1.4059853240922163E-2},{"$f":"SELECT!BI39","v":16372},{"$f":"SELECT!BI78","v":1.4019331812545811E-2},{"$f":"SELECT!BJ39","v":-693},{"$f":"SELECT!BJ78","v":4.0521428376351712E-5},{"$f":"SELECT!BK39","v":-4.2328365502076713E-2},{"$f":"SELECT!BK78","v":2.8903965551403342E-3},{"$f":"SELECT!BL39","v":8487},{"$f":"SELECT!BL78","v":7.6714829997152683E-3},{"$f":"SELECT!BM39","v":7192},{"$f":"SELECT!BM78","v":6.3883702412068947E-3},{"$f":"SELECT!BN39","v":0.84741369152821966},{"$f":"SELECT!BN78","v":0.83274254032030093}]
[1,"OPEX","O6",{"$f":"IF(selLang=\"RUS\",VLOOKUP($C48,tblLabels[],3,0),VLOOKUP($C48,tblLabels[],2,0))","v":"Other"},{"$f":"SELECT!AG40","v":2875},{"$f":"SELECT!AG79","v":3.6524633483243134E-2},{"$f":"SELECT!AH40","v":3045},{"$f":"SELECT!AH79","v":3.6516921305734779E-2},{"$f":"SELECT!AI40","v":-170},{"$f":"SELECT!AI79","v":7.7121775083552335E-6},{"$f":"SELECT!AJ40","v":-5.5829228243021348E-2},{"$f":"SELECT!AJ79","v":2.1119462519267963E-4},{"$f":"SELECT!AK40","v":2851},{"$f":"SELECT!AK79","v":3.6342082117044192E-2},{"$f":"SELECT!AL40","v":24},{"$f":"SELECT!AL79","v":1.8255136619894224E-4},{"$f":"SELECT!AM40","v":8.4180989126622242E-3},{"$f":"SELECT!AM79","v":5.023139995419439E-3},{"$f":"SELECT!AN40","v":2740},{"$f":"SELECT!AN79","v":3.6878516245390187E-2},{"$f":"SELECT!AO40","v":135},{"$f":"SELECT!AO79","v":-3.5388276214705361E-4},{"$f":"SELECT!AP40","v":4.9270072992700732E-2},{"$f":"SELECT!AP79","v":-9.595905643066345E-3},{"$f":"SELECT!AR40","v":7629},{"$f":"SELECT!AR79","v":3.6314910105246123E-2},{"$f":"SELECT!AS40","v":8007},{"$f":"SELECT!AS79","v":3.6217658766057537E-2},{"$f":"SELECT!AT40","v":-378},{"$f":"SELECT!AT79","v":9.7251339188586527E-5},{"$f":"SELECT!AU40","v":-4.7208692394155115E-2},{"$f":"SELECT!AU79","v":2.6851912161624464E-3},{"$f":"SELECT!AV40","v":7394},{"$f":"SELECT!AV79","v":3.6220063583503562E-2},{"$f":"SELECT!AW40","v":235},{"$f":"SELECT!AW79","v":9.4846521742561474E-5},{"$f":"SELECT!AX40","v":3.1782526372734647E-2},{"$f":"SELECT!AX79","v":2.6186183114752827E-3},{"$f":"SELECT!AZ40","v":34277},{"$f":"SELECT!AZ79","v":3.7871706651993964E-2},{"$f":"SELECT!BA40","v":35677},{"$f":"SELECT!BA79","v":3.7684211860539794E-2},{"$f":"SELECT!BB40","v":-1400},{"$f":"SELECT!BB79","v":1.8749479145416942E-4},{"$f":"SELECT!BC40","v":-3.9240967570143233E-2},{"$f":"SELECT!BC79","v":4.9754202674595549E-3},{"$f":"SELECT!BD40","v":2297},{"$f":"SELECT!BD79","v":2.5461002655836409E-3},{"$f":"SELECT!BE40","v":31980},{"$f":"SELECT!BE79","v":3.5325606386410323E-2},{"$f":"SELECT!BF40","v":13.922507618633},{"$f":"SELECT!BF79","v":13.874397196338478},{"$f":"SELECT!BH40","v":41906},{"$f":"SELECT!BH79","v":3.7578430379111176E-2},{"$f":"SELECT!BI40","v":43684},{"$f":"SELECT!BI79","v":3.7406577748549427E-2},{"$f":"SELECT!BJ40","v":-1778},{"$f":"SELECT!BJ79","v":1.7185263056174876E-4},{"$f":"SELECT!BK40","v":-4.0701400970607086E-2},{"$f":"SELECT!BK79","v":4.594182117299222E-3},{"$f":"SELECT!BL40","v":9691},{"$f":"SELECT!BL79","v":8.7597904736939625E-3},{"$f":"SELECT!BM40","v":32215},{"$f":"SELECT!BM79","v":2.8818639905417213E-2},{"$f":"SELECT!BN40","v":3.3242183469198223},{"$f":"SELECT!BN79","v":3.2898777649945923}]
[1,"EBIT","EBIT",{"$f":"IF(selLang=\"RUS\",VLOOKUP($C49,tblLabels[],3,0),VLOOKUP($C49,tblLabels[],2,0))","v":"EBIT"},{"$f":"SELECT!AG41","v":19133},{"$f":"SELECT!AG80","v":0.24306984780344029},{"$f":"SELECT!AH41","v":19434},{"$f":"SELECT!AH80","v":0.2330607056340393},{"$f":"SELECT!AI41","v":-301},{"$f":"SELECT!AI80","v":1.0009142169400992E-2},{"$f":"SELECT!AJ41","v":-1.5488319440156427E-2},{"$f":"SELECT!AJ80","v":4.2946502466690906E-2},{"$f":"SELECT!AK41","v":18161},{"$f":"SELECT!AK80","v":0.23150072021313209},{"$f":"SELECT!AL41","v":972},{"$f":"SELECT!AL80","v":1.1569127590308204E-2},{"$f":"SELECT!AM41","v":5.3521281867738559E-2},{"$f":"SELECT!AM80","v":4.9974477745283206E-2},{"$f":"SELECT!AN41","v":21110},{"$f":"SELECT!AN80","v":0.28412608683948426},{"$f":"SELECT!AO41","v":-1977},{"$f":"SELECT!AO80","v":-4.1056239036043968E-2},{"$f":"SELECT!AP41","v":-9.3652297489341549E-2},{"$f":"SELECT!AP80","v":-0.14450006858834649},{"$f":"SELECT!AR41","v":44707},{"$f":"SELECT!AR80","v":0.21281041893763775},{"$f":"SELECT!AS41","v":47409},{"$f":"SELECT!AS80","v":0.21444273566129907},{"$f":"SELECT!AT41","v":-2702},{"$f":"SELECT!AT80","v":-1.6323167236613201E-3},{"$f":"SELECT!AU41","v":-5.6993397878040038E-2},{"$f":"SELECT!AU80","v":-7.6119002988260598E-3},{"$f":"SELECT!AV41","v":47134},{"$f":"SELECT!AV80","v":0.23088943426357272},{"$f":"SELECT!AW41","v":-2427},{"$f":"SELECT!AW80","v":-1.8079015325934977E-2},{"$f":"SELECT!AX41","v":-5.1491492340985275E-2},{"$f":"SELECT!AX80","v":-7.8301613859457983E-2},{"$f":"SELECT!AZ41","v":226893},{"$f":"SELECT!AZ80","v":0.25068778298540906},{"$f":"SELECT!BA41","v":238043},{"$f":"SELECT!BA80","v":0.2514354582481283},{"$f":"SELECT!BB41","v":-11150},{"$f":"SELECT!BB80","v":-7.4767526271923845E-4},{"$f":"SELECT!BC41","v":-4.6840276756720423E-2},{"$f":"SELECT!BC80","v":-2.973626981367908E-3},{"$f":"SELECT!BD41","v":3454},{"$f":"SELECT!BD80","v":3.8285721886486272E-3},{"$f":"SELECT!BE41","v":223439},{"$f":"SELECT!BE80","v":0.24685921079676043},{"$f":"SELECT!BF41","v":64.689924724956569},{"$f":"SELECT!BF80","v":64.478139273088757},{"$f":"SELECT!BH41","v":271600},{"$f":"SELECT!BH80","v":0.24355227630808465},{"$f":"SELECT!BI41","v":285452},{"$f":"SELECT!BI80","v":0.24443234208128678},{"$f":"SELECT!BJ41","v":-13852},{"$f":"SELECT!BJ80","v":-8.8006577320212664E-4},{"$f":"SELECT!BK41","v":-4.8526547370486103E-2},{"$f":"SELECT!BK80","v":-3.6004473291405027E-3},{"$f":"SELECT!BL41","v":50588},{"$f":"SELECT!BL80","v":4.5726992104347351E-2},{"$f":"SELECT!BM41","v":221012},{"$f":"SELECT!BM80","v":0.19782528420373729},{"$f":"SELECT!BN41","v":4.3688621807543289},{"$f":"SELECT!BN80","v":4.3262256076740648}]
[1,"DA","DA",{"$f":"IF(selLang=\"RUS\",VLOOKUP($C50,tblLabels[],3,0),VLOOKUP($C50,tblLabels[],2,0))","v":"Depreciation"},{"$f":"SELECT!AG42","v":7482},{"$f":"SELECT!AG81","v":9.5052976598826125E-2},{"$f":"SELECT!AH42","v":7724},{"$f":"SELECT!AH81","v":9.2629458182428709E-2},{"$f":"SELECT!AI42","v":-242},{"$f":"SELECT!AI81","v":2.4235184163974161E-3},{"$f":"SELECT!AJ42","v":-3.1330916623511132E-2},{"$f":"SELECT!AJ81","v":2.6163581909595408E-2},{"$f":"SELECT!AK42","v":7429},{"$f":"SELECT!AK81","v":9.4698466519649707E-2},{"$f":"SELECT!AL42","v":53},{"$f":"SELECT!AL81","v":3.5451007917641775E-4},{"$f":"SELECT!AM42","v":7.1342037959348497E-3},{"$f":"SELECT!AM81","v":3.7435672636035532E-3},{"$f":"SELECT!AN42","v":7676},{"$f":"SELECT!AN81","v":0.10331368273708579},{"$f":"SELECT!AO42","v":-194},{"$f":"SELECT!AO81","v":-8.2607061382596603E-3},{"$f":"SELECT!AP42","v":-2.5273579989577907E-2},{"$f":"SELECT!AP81","v":-7.9957522754092791E-2},{"$f":"SELECT!AR42","v":20224},{"$f":"SELECT!AR81","v":9.6268546594376406E-2},{"$f":"SELECT!AS42","v":21019},{"$f":"SELECT!AS81","v":9.507418129184006E-2},{"$f":"SELECT!AT42","v":-795},{"$f":"SELECT!AT81","v":1.194365302536346E-3},{"$f":"SELECT!AU42","v":-3.7822922118083642E-2},{"$f":"SELECT!AU81","v":1.2562456876384956E-2},{"$f":"SELECT!AV42","v":20469},{"$f":"SELECT!AV81","v":0.10026893176774876},{"$f":"SELECT!AW42","v":-245},{"$f":"SELECT!AW81","v":-4.0003851733723533E-3},{"$f":"SELECT!AX42","v":-1.1969319458693634E-2},{"$f":"SELECT!AX81","v":-3.9896557217128613E-2},{"$f":"SELECT!AZ42","v":87523},{"$f":"SELECT!AZ81","v":9.6701735312380535E-2},{"$f":"SELECT!BA42","v":92482},{"$f":"SELECT!BA81","v":9.7685099119501101E-2},{"$f":"SELECT!BB42","v":-4959},{"$f":"SELECT!BB81","v":-9.8336380712056581E-4},{"$f":"SELECT!BC42","v":-5.3621245215285135E-2},{"$f":"SELECT!BC81","v":-1.0066671539305985E-2},{"$f":"SELECT!BD42","v":749877},{"$f":"SELECT!BD81","v":0.83119809702005398},{"$f":"SELECT!BE42","v":-662354},{"$f":"SELECT!BE81","v":-0.73449636170767341},{"$f":"SELECT!BF42","v":-0.88328352516479369},{"$f":"SELECT!BF81","v":-0.883659821095515},{"$f":"SELECT!BH42","v":107747},{"$f":"SELECT!BH81","v":9.6620129290748147E-2},{"$f":"SELECT!BI42","v":113501},{"$f":"SELECT!BI81","v":9.7190824581954688E-2},{"$f":"SELECT!BJ42","v":-5754},{"$f":"SELECT!BJ81","v":-5.7069529120654106E-4},{"$f":"SELECT!BK42","v":-5.0695588585122596E-2},{"$f":"SELECT!BK81","v":-5.8719050245870782E-3},{"$f":"SELECT!BL42","v":770346},{"$f":"SELECT!BL81","v":0.69632334663587347},{"$f":"SELECT!BM42","v":-662599},{"$f":"SELECT!BM81","v":-0.59970321734512533},{"$f":"SELECT!BN42","v":-0.86013168108875748},{"$f":"SELECT!BN81","v":-0.86124243893652841}]
[1,"DA","A1",{"$f":"IF(selLang=\"RUS\",VLOOKUP($C51,tblLabels[],3,0),VLOOKUP($C51,tblLabels[],2,0))","v":"Amortization"},{"$f":"SELECT!AG43","v":5045},{"$f":"SELECT!AG82","v":6.4092791625377954E-2},{"$f":"SELECT!AH43","v":5183},{"$f":"SELECT!AH82","v":6.2156716954884512E-2},{"$f":"SELECT!AI43","v":-138},{"$f":"SELECT!AI82","v":1.9360746704934415E-3},{"$f":"SELECT!AJ43","v":-2.6625506463438163E-2},{"$f":"SELECT!AJ82","v":3.1148277536902587E-2},{"$f":"SELECT!AK43","v":5008},{"$f":"SELECT!AK82","v":6.3837652487603411E-2},{"$f":"SELECT!AL43","v":37},{"$f":"SELECT!AL82","v":2.5513913777454322E-4},{"$f":"SELECT!AM43","v":7.3881789137380189E-3},{"$f":"SELECT!AM82","v":3.9966873441044616E-3},{"$f":"SELECT!AN43","v":4919},{"$f":"SELECT!AN82","v":6.6206358179224212E-2},{"$f":"SELECT!AO43","v":126},{"$f":"SELECT!AO82","v":-2.1135665538462578E-3},{"$f":"SELECT!AP43","v":2.5614962390729822E-2},{"$f":"SELECT!AP82","v":-3.1923921085112675E-2},{"$f":"SELECT!AR43","v":13164},{"$f":"SELECT!AR82","v":6.2662141384907583E-2},{"$f":"SELECT!AS43","v":13631},{"$f":"SELECT!AS82","v":6.1656413967794463E-2},{"$f":"SELECT!AT43","v":-467},{"$f":"SELECT!AT82","v":1.0057274171131197E-3},{"$f":"SELECT!AU43","v":-3.426014232264691E-2},{"$f":"SELECT!AU82","v":1.6311805250925723E-2},{"$f":"SELECT!AV43","v":13051},{"$f":"SELECT!AV82","v":6.3931302384136454E-2},{"$f":"SELECT!AW43","v":113},{"$f":"SELECT!AW82","v":-1.2691609992288716E-3},{"$f":"SELECT!AX43","v":8.6583403570607616E-3},{"$f":"SELECT!AX82","v":-1.985194970068049E-2},{"$f":"SELECT!AZ43","v":57230},{"$f":"SELECT!AZ82","v":6.3231839767004541E-2},{"$f":"SELECT!BA43","v":60701},{"$f":"SELECT!BA82","v":6.4116078822396103E-2},{"$f":"SELECT!BB43","v":-3471},{"$f":"SELECT!BB82","v":-8.8423905539156133E-4},{"$f":"SELECT!BC43","v":-5.7181924515246868E-2},{"$f":"SELECT!BC82","v":-1.3791221665955837E-2},{"$f":"SELECT!BD43","v":303577},{"$f":"SELECT!BD82","v":0.33649868538314542},{"$f":"SELECT!BE43","v":-246347},{"$f":"SELECT!BE82","v":-0.2732668456161409},{"$f":"SELECT!BF43","v":-0.81148110693497866},{"$f":"SELECT!BF82","v":-0.8120888951021985},{"$f":"SELECT!BH43","v":70394},{"$f":"SELECT!BH82","v":6.312451744635976E-2},{"$f":"SELECT!BI43","v":74332},{"$f":"SELECT!BI82","v":6.3650438082711661E-2},{"$f":"SELECT!BJ43","v":-3938},{"$f":"SELECT!BJ82","v":-5.2592063635190089E-4},{"$f":"SELECT!BK43","v":-5.2978528762847761E-2},{"$f":"SELECT!BK82","v":-8.2626396957155932E-3},{"$f":"SELECT!BL43","v":316628},{"$f":"SELECT!BL82","v":0.28620317181970611},{"$f":"SELECT!BM43","v":-246234},{"$f":"SELECT!BM82","v":-0.22307865437334634},{"$f":"SELECT!BN43","v":-0.7776760109655495},{"$f":"SELECT!BN82","v":-0.77944158674060715}]
[1,"DA","A2",{"$f":"IF(selLang=\"RUS\",VLOOKUP($C52,tblLabels[],3,0),VLOOKUP($C52,tblLabels[],2,0))","v":"Depreciation"},{"$f":"SELECT!AG44","v":2437},{"$f":"SELECT!AG83","v":3.0960184973448178E-2},{"$f":"SELECT!AH44","v":2541},{"$f":"SELECT!AH83","v":3.0472741227544193E-2},{"$f":"SELECT!AI44","v":-104},{"$f":"SELECT!AI83","v":4.8744374590398501E-4},{"$f":"SELECT!AJ44","v":-4.0928768201495477E-2},{"$f":"SELECT!AJ83","v":1.5996058321900705E-2},{"$f":"SELECT!AK44","v":2421},{"$f":"SELECT!AK83","v":3.0860814032046296E-2},{"$f":"SELECT!AL44","v":16},{"$f":"SELECT!AL83","v":9.9370941401881463E-5},{"$f":"SELECT!AM44","v":6.6088393225939698E-3},{"$f":"SELECT!AM83","v":3.2199714919604293E-3},{"$f":"SELECT!AN44","v":2757},{"$f":"SELECT!AN83","v":3.7107324557861587E-2},{"$f":"SELECT!AO44","v":-320},{"$f":"SELECT!AO83","v":-6.1471395844134094E-3},{"$f":"SELECT!AP44","v":-0.11606819006166122},{"$f":"SELECT!AP83","v":-0.16565838840868605},{"$f":"SELECT!AR44","v":7060},{"$f":"SELECT!AR83","v":3.3606405209468816E-2},{"$f":"SELECT!AS44","v":7388},{"$f":"SELECT!AS83","v":3.3417767324045597E-2},{"$f":"SELECT!AT44","v":-328},{"$f":"SELECT!AT83","v":1.886378854232193E-4},{"$f":"SELECT!AU44","v":-4.4396318354087708E-2},{"$f":"SELECT!AU83","v":5.6448380765248135E-3},{"$f":"SELECT!AV44","v":7418},{"$f":"SELECT!AV83","v":3.6337629383612305E-2},{"$f":"SELECT!AW44","v":-358},{"$f":"SELECT!AW83","v":-2.7312241741434887E-3},{"$f":"SELECT!AX44","v":-4.8260986788891881E-2},{"$f":"SELECT!AX83","v":-7.5162420346970335E-2},{"$f":"SELECT!AZ44","v":30293},{"$f":"SELECT!AZ83","v":3.3469895545376001E-2},{"$f":"SELECT!BA44","v":31781},{"$f":"SELECT!BA83","v":3.3569020297104998E-2},{"$f":"SELECT!BB44","v":-1488},{"$f":"SELECT!BB83","v":-9.912475172899754E-5},{"$f":"SELECT!BC44","v":-4.6820427299329788E-2},{"$f":"SELECT!BC83","v":-2.9528640053146289E-3},{"$f":"SELECT!BD44","v":446300},{"$f":"SELECT!BD83","v":0.49469941163690861},{"$f":"SELECT!BE44","v":-416007},{"$f":"SELECT!BE83","v":-0.46122951609153262},{"$f":"SELECT!BF44","v":-0.93212413174994402},{"$f":"SELECT!BF83","v":-0.93234296472149092},{"$f":"SELECT!BH44","v":37353},{"$f":"SELECT!BH83","v":3.3495611844388387E-2},{"$f":"SELECT!BI44","v":39169},{"$f":"SELECT!BI83","v":3.3540386499243034E-2},{"$f":"SELECT!BJ44","v":-1816},{"$f":"SELECT!BJ83","v":-4.47746548546471E-5},{"$f":"SELECT!BK44","v":-4.6363195384104779E-2},{"$f":"SELECT!BK83","v":-1.3349474925000524E-3},{"$f":"SELECT!BL44","v":453718},{"$f":"SELECT!BL83","v":0.4101201748161673},{"$f":"SELECT!BM44","v":-416365},{"$f":"SELECT!BM83","v":-0.37662456297177893},{"$f":"SELECT!BN44","v":-0.91767353289928988},{"$f":"SELECT!BN83","v":-0.91832732476669188}]
[1,"EBITDA","EBITDA",{"$f":"IF(selLang=\"RUS\",VLOOKUP($C53,tblLabels[],3,0),VLOOKUP($C53,tblLabels[],2,0))","v":"EBITDA"},{"$f":"SELECT!AG45","v":26615},{"$f":"SELECT!AG84","v":0.33812282440226643},{"$f":"SELECT!AH45","v":27158},{"$f":"SELECT!AH84","v":0.32569016381646798},{"$f":"SELECT!AI45","v":-543},{"$f":"SELECT!AI84","v":1.243266058579845E-2},{"$f":"SELECT!AJ45","v":-1.999410854996686E-2},{"$f":"SELECT!AJ84","v":3.8173276220906896E-2},{"$f":"SELECT!AK45","v":25590},{"$f":"SELECT!AK84","v":0.32619918673278181},{"$f":"SELECT!AL45","v":1025},{"$f":"SELECT!AL84","v":1.1923637669484621E-2},{"$f":"SELECT!AM45","v":4.00547088706526E-2},{"$f":"SELECT!AM84","v":3.6553241560507974E-2},{"$f":"SELECT!AN45","v":28786},{"$f":"SELECT!AN84","v":0.38743976957657},{"$f":"SELECT!AO45","v":-2171},{"$f":"SELECT!AO84","v":-4.9316945174303572E-2},{"$f":"SELECT!AP45","v":-7.541860626693532E-2},{"$f":"SELECT!AP84","v":-0.12728932093935966},{"$f":"SELECT!AR45","v":64931},{"$f":"SELECT!AR84","v":0.30907896553201414},{"$f":"SELECT!AS45","v":68428},{"$f":"SELECT!AS84","v":0.30951691695313915},{"$f":"SELECT!AT45","v":-3497},{"$f":"SELECT!AT84","v":-4.3795142112501573E-4},{"$f":"SELECT!AU45","v":-5.110481089612439E-2},{"$f":"SELECT!AU84","v":-1.4149514845139192E-3},{"$f":"SELECT!AV45","v":67603},{"$f":"SELECT!AV84","v":0.33115836603132148},{"$f":"SELECT!AW45","v":-2672},{"$f":"SELECT!AW84","v":-2.2079400499307344E-2},{"$f":"SELECT!AX45","v":-3.9524873156516725E-2},{"$f":"SELECT!AX84","v":-6.6673237834550259E-2},{"$f":"SELECT!AZ45","v":314416},{"$f":"SELECT!AZ84","v":0.34738951829778958},{"$f":"SELECT!BA45","v":330525},{"$f":"SELECT!BA84","v":0.34912055736762942},{"$f":"SELECT!BB45","v":-16109},{"$f":"SELECT!BB84","v":-1.7310390698398459E-3},{"$f":"SELECT!BC45","v":-4.8737614401331217E-2},{"$f":"SELECT!BC84","v":-4.9582845619057445E-3},{"$f":"SELECT!BD45","v":356097},{"$f":"SELECT!BD84","v":0.39471426481216276},{"$f":"SELECT!BE45","v":-41681},{"$f":"SELECT!BE84","v":-4.7324746514373184E-2},{"$f":"SELECT!BF45","v":-0.11704956795479883},{"$f":"SELECT!BF84","v":-0.11989621539747027},{"$f":"SELECT!BH45","v":379347},{"$f":"SELECT!BH84","v":0.34017240559883283},{"$f":"SELECT!BI45","v":398953},{"$f":"SELECT!BI84","v":0.3416231666632415},{"$f":"SELECT!BJ45","v":-19606},{"$f":"SELECT!BJ84","v":-1.4507610644086677E-3},{"$f":"SELECT!BK45","v":-4.9143633460583078E-2},{"$f":"SELECT!BK84","v":-4.2466706183271526E-3},{"$f":"SELECT!BL45","v":423700},{"$f":"SELECT!BL84","v":0.38298660857539285},{"$f":"SELECT!BM45","v":-44353},{"$f":"SELECT!BM84","v":-4.2814202976560023E-2},{"$f":"SELECT!BN45","v":-0.10468019825348124},{"$f":"SELECT!BN84","v":-0.11179033944768288}]
[]
[]
[]
[]
[]
[]
[]
[]
[]
[]
[]
[]
[]
[]
[]
[]
[]
[]
[]
[]
[]
[]
[]
[]
[]
[]
[]
[]
[]
[]
[]
[]
[]
[]
[]
[]
[]
[]
[]
[]
[]
[]
[]
[]
[]
[]
[]
[]
[]
[]
[]
[]
[]
[]
[]
[]
[]
[]
[]
[]
[]
[]
[]
[]
[]
[]
[]
[]
[]
[]
[]
[]
[]
[]
[]
[]
[]
[]
[]
[]
[]
[]
[]
[]
[]
[]
[]
[]
[]
[]
[]
[]
[]
[]
[]
[]
[]
[]
[]
[]
[]
[]
[]
[]
[]
[]
[]
[]
[]
[]
[]
[]
[]
[]
[]
[]
[]
[null,null,null,null,null,null,null,null,null,null,true]

{"sheet":"Charts","index":4,"n_rows":0,"n_cols":0,"rows_kept":0,"cut":false,"hidden":false,"merged":[]}